Workbook

Sheet Directory
A1: Workpaper 013
A2: Pacific Gas and Electric Company
A3: Electrical Undergrounding Program
A4: Core Capability 6: Supporting Formulas
A5: Directory
B7: Sheet | C7: Section of Core Capability 4 Section Addressed
B8: 6.3 - Baseline Risk | C8: To establish an initial Baseline, the Large Electrical Corporation must model the risk landscape assuming that no EUP Undergrounding Projects are constructed. This Baseline modeling must include any non-EUP wildfire mitigation activity in Tier 2 or 3 HFTDs. In subsequent Baselines, the Large Electrical Corporation must include activity outside of the EUP program that the Large Electrical Corporation has initiated or completed since the establishment of the previous Baseline.
B9: 6.5 - Project Timelines | C9: To establish an initial Baseline, the Large Electrical Corporation must model the risk landscape assuming that no EUP Undergrounding Projects are constructed. This Baseline modeling must include any non-EUP wildfire mitigation activity in Tier 2 or 3 HFTDs. In subsequent Baselines, the Large Electrical Corporation must include activity outside of the EUP program that the Large Electrical Corporation has initiated or completed since the establishment of the previous Baseline. This modeling will attempt to account for climate change. Baselines must be measured and reported at the same cadence as other risk model landscape components at 0, 1, 2, 3, 4, 5, 6, 7, 8, 9, 10, 15, 20, 25, 30, 35, 40, 45, 50, and 55 years. Each Baseline must indicate the version of the modeling system and the model calibration(s) that were used to evaluate it. The Baselines must also indicate the date the Baseline was created, and the naming scheme of the Baselines must be consistent across the lifetime of the EUP. Any comparison of an Undergrounding Project or Alternative Mitigation to a Baseline must indicate what Baseline the comparison is being made to. For Project-Level comparisons, such as the evaluation of the Project-Level Standard, the Baseline also establishes the pre-mitigation Circuit Segment length and alignment on which to make the future comparisons.

Sheet Core Capability 6.3
A1: Workpaper 013 | T1: Workpaper 013 | AL1: Workpaper 013
A2: Pacific Gas and Electric Company | T2: Pacific Gas and Electric Company | AL2: Pacific Gas and Electric Company
A3: Electrical Undergrounding Program | T3: Electrical Undergrounding Program | AL3: Electrical Undergrounding Program
A4: Core Capability 6: Supporting Formulas | T4: Core Capability 6: Supporting Formulas | AL4: Core Capability 6: Supporting Formulas
A5: Core Capability 6.3 | T5: Core Capability 6.3 | AL5: Core Capability 6.3
B8: Core Capability 6.3: Develop a system to record Baselines and historical model calibrations. A new Baseline must be recorded at least once per calendar year. This new Baseline must account for all physical changes to the electrical distribution infrastructure performed during that year, through the EUP or any other mechanism
B10: Electric Undergrounding Plan
B11: Core Capability 6.3 Supporting Formulas
B13: Wildfire Risk Example Calculations | E13: Year 1 | Q13: Year 2* | T13: EPSS Formulas | W13: Year 1 | AI13: Year 2* | AL13: PSPS Formulas | AO13: Year 1 | BA13: Year 2*
B14: Portfolio Project # (B) | C14: Circuit Segment (C) | D14: Circuit Segment Miles (D) | E14: Baseline Wildfire Risk (E) | F14: Mileage Addressed by UG (F) | G14: Mileage Addressed by OH (G) | H14: Mileage Addressed by Line Removal (H) | I14: UG Wildfire Mitigation Effectiveness Values (I) | J14: OH Wildfire Mitigation Effectiveness Values (J) | K14: Line Removal Wildfire Mitigation Effectiveness (K) | L14: Wildfire Risk Addressed by UG (L) | M14: Wildfire Risk Addressed by OH (M) | N14: Wildfire Risk Addressed by LR (N) | O14: Total Wildfire Risk Addressed (O) | P14: Total Residual Wildfire Risk (P) | Q14: Year 2 Wildfire Climate Factor (Q) | R14: Year 2: New Baseline Wildfire Risk (R) | T14: Portfolio Project # (V) | U14: Circuit Segment (W) | V14: Circuit Segment Miles (X) | W14: Baseline EPSS Risk (Y) | X14: Mileage Addressed by UG (Z) | Y14: Mileage Addressed by OH (AA) | Z14: Mileage Addressed by Line Removal (AB) | AA14: UG EPSS Mitigation Effectiveness Values (AC) | AB14: OH EPSS Mitigation Effectiveness Values (AD) | AC14: Line Removal EPSS Mitigation Effectiveness (AE) | AD14: EPSS Risk Addressed by UG (AF) | AE14: EPSS Risk Addressed by OH (AG) | AF14: EPSS Risk Addressed by LR (AH) | AG14: Total EPSS Risk Addressed (AI) | AH14: Total Residual EPSS Risk (AJ) | AI14: Year 2 EPSS Climate Factor (AK) | AJ14: Year 2: New Baseline EPSS Risk (AL) | AL14: Portfolio Project # (AO) | AM14: Circuit Segment (AP) | AN14: Circuit Segment Miles (AQ) | AO14: Baseline PSPS Risk (AR) | AP14: Mileage Addressed by UG (AS) | AQ14: Mileage Addressed by OH (AT) | AR14: Mileage Addressed by Line Removal (AU) | AS14: UG PSPS Mitigation Effectiveness Values (AV) | AT14: OH PSPS Mitigation Effectiveness Values (AW) | AU14: Line Removal PSPS Mitigation Effectiveness (AX) | AV14: PSPS Risk Addressed by UG (AY) | AW14: PSPS Risk Addressed by OH (AZ) | AX14: PSPS Risk Addressed by LR (BA) | AY14: Total PSPS Risk Addressed (BB) | AZ14: Total Residual PSPS Risk (BC) | BA14: Year 2 PSPS Climate Factor (BD) | BB14: Year 2: New Baseline PSPS Risk (BE)
B15: Low Risk | C15: ALDER GLEN 1 | D15: 10 | E15: 1 | F15: 6 | G15: 3 | H15: 1 | I15: 0.95 | J15: 0.7 | K15: 0.95 | L15: =($E15/$D15) * F15 * I15 -> 0.57 | M15: =($E15/$D15) * G15 * J15 -> 0.21 | N15: =($E15/$D15) * H15 * K15 -> 0.095 | O15: =L15 + M15 + N15 -> 0.875 | P15: =E15 - O15 -> 0.125 | Q15: 1.1 | R15: =P15 * Q15 -> 0.1375 | T15: Low Risk | U15: ALDER GLEN 1 | V15: 10 | W15: 0.02 | X15: 6 | Y15: 3 | Z15: 1 | AA15: 1 | AB15: 0.52 | AC15: 1 | AD15: =($W15/$V15) * X15 * AA15 -> 0.012 | AE15: =($W15/$V15) * Y15 * AB15 -> 0.00312 | AF15: =($W15/$V15) * Z15 * AC15 -> 0.002 | AG15: =AD15 + AE15 + AF15 -> 0.01712 | AH15: =W15 - AG15 -> 0.00288 | AI15: 1.12 | AJ15: =AH15 * AI15 -> 0.0032256 | AL15: Low Risk | AM15: ALDER GLEN 1 | AN15: 10 | AO15: 0.07 | AP15: 6 | AQ15: 3 | AR15: 1 | AS15: 1 | AT15: 0 | AU15: 1 | AV15: =($AO15/$AN15) * AP15 * AS15 -> 0.042 | AW15: =($AO15/$AN15) * AQ15 * AT15 -> 0 | AX15: =($AO15/$AN15) * AR15 * AU15 -> 0.007 | AY15: =AV15 + AW15 + AX15 -> 0.049 | AZ15: =AO15 - AY15 -> 0.021 | BA15: 1.11 | BB15: =AZ15 * BA15 -> 0.02331
B16: Medium Risk | C16: BIRCH RIDGE 2 | D16: 10 | E16: 2 | F16: 6 | G16: 3 | H16: 1 | I16: 0.95 | J16: 0.7 | K16: 0.95 | L16: =($E16/$D16) * F16 * I16 -> 1.14 | M16: =($E16/$D16) * G16 * J16 -> 0.42 | N16: =($E16/$D16) * H16 * K16 -> 0.19 | O16: =L16 + M16 + N16 -> 1.75 | P16: =E16 - O16 -> 0.25 | Q16: 1.1 | R16: =P16 * Q16 -> 0.275 | T16: Medium Risk | U16: BIRCH RIDGE 2 | V16: 10 | W16: 3.78 | X16: 6 | Y16: 3 | Z16: 1 | AA16: 1 | AB16: 0.52 | AC16: 1 | AD16: =($W16/$V16) * X16 * AA16 -> 2.268 | AE16: =($W16/$V16) * Y16 * AB16 -> 0.58968 | AF16: =($W16/$V16) * Z16 * AC16 -> 0.378 | AG16: =AD16 + AE16 + AF16 -> 3.23568 | AH16: =W16 - AG16 -> 0.54432 | AI16: 1.12 | AJ16: =AH16 * AI16 -> 0.6096384 | AL16: Medium Risk | AM16: BIRCH RIDGE 2 | AN16: 10 | AO16: 2.82 | AP16: 6 | AQ16: 3 | AR16: 1 | AS16: 1 | AT16: 0 | AU16: 1 | AV16: =($AO16/$AN16) * AP16 * AS16 -> 1.692 | AW16: =($AO16/$AN16) * AQ16 * AT16 -> 0 | AX16: =($AO16/$AN16) * AR16 * AU16 -> 0.282 | AY16: =AV16 + AW16 + AX16 -> 1.974 | AZ16: =AO16 - AY16 -> 0.846 | BA16: 1.11 | BB16: =AZ16 * BA16 -> 0.93906
B17: High Risk | C17: CEDAR FALLS 3 | D17: 10 | E17: 4 | F17: 6 | G17: 3 | H17: 1 | I17: 0.95 | J17: 0.7 | K17: 0.95 | L17: =($E17/$D17) * F17 * I17 -> 2.28 | M17: =($E17/$D17) * G17 * J17 -> 0.84 | N17: =($E17/$D17) * H17 * K17 -> 0.38 | O17: =L17 + M17 + N17 -> 3.5 | P17: =E17 - O17 -> 0.5 | Q17: 1.1 | R17: =P17 * Q17 -> 0.55 | T17: High Risk | U17: CEDAR FALLS 3 | V17: 10 | W17: 16.08 | X17: 6 | Y17: 3 | Z17: 1 | AA17: 1 | AB17: 0.52 | AC17: 1 | AD17: =($W17/$V17) * X17 * AA17 -> 9.648 | AE17: =($W17/$V17) * Y17 * AB17 -> 2.50848 | AF17: =($W17/$V17) * Z17 * AC17 -> 1.608 | AG17: =AD17 + AE17 + AF17 -> 13.76448 | AH17: =W17 - AG17 -> 2.31552 | AI17: 1.12 | AJ17: =AH17 * AI17 -> 2.5933824 | AL17: High Risk | AM17: CEDAR FALLS 3 | AN17: 10 | AO17: 6.51 | AP17: 6 | AQ17: 3 | AR17: 1 | AS17: 1 | AT17: 0 | AU17: 1 | AV17: =($AO17/$AN17) * AP17 * AS17 -> 3.906 | AW17: =($AO17/$AN17) * AQ17 * AT17 -> 0 | AX17: =($AO17/$AN17) * AR17 * AU17 -> 0.651 | AY17: =AV17 + AW17 + AX17 -> 4.557 | AZ17: =AO17 - AY17 -> 1.953 | BA17: 1.11 | BB17: =AZ17 * BA17 -> 2.16783
B18: a Baseline Wildfire Risk examples used in this core capabilitity reflect Wildfire Risk with PSPS and EPSS active. For more information on how this calculation occurs, please refer to WP010 (Core Capability 3).
B20: Wildfire Risk Formulas | E20: Year 1 | Q20: Year 2* | T20: EPSS Formulas | W20: Year 1 | AI20: Year 2* | AL20: PSPS Formulas | AO20: Year 1 | BA20: Year 2*
B21: Portfolio Project # (B) | C21: Circuit Segment (C) | D21: Circuit Segment Miles (D) | E21: Baseline Wildfire Risk (E) | F21: Mileage Addressed by UG (F) | G21: Mileage Addressed by OH (G) | H21: Mileage Addressed by Line Removal (H) | I21: UG Wildfire Mitigation Effectiveness Values (I) | J21: OH Wildfire Mitigation Effectiveness Values (J) | K21: Line Removal Wildfire Mitigation Effectiveness (K) | L21: Wildfire Risk Addressed by UG (L) | M21: Wildfire Risk Addressed by OH (M) | N21: Wildfire Risk Addressed by LR (N) | O21: Total Wildfire Risk Addressed (O) | P21: Total Residual Wildfire Risk (P) | Q21: Year 2 Wildfire Climate Factor (Q) | R21: Year 2: New Baseline Wildfire Risk (R) | T21: Portfolio Project # (V) | U21: Circuit Segment (W) | V21: Circuit Segment Miles (X) | W21: Baseline EPSS Risk (Y) | X21: Mileage Addressed by UG (Z) | Y21: Mileage Addressed by OH (AA) | Z21: Mileage Addressed by Line Removal (AB) | AA21: UG EPSS Mitigation Effectiveness Values (AC) | AB21: OH EPSS Mitigation Effectiveness Values (AD) | AC21: Line Removal EPSS Mitigation Effectiveness (AE) | AD21: EPSS Risk Addressed by UG (AF) | AE21: EPSS Risk Addressed by OH (AG) | AF21: EPSS Risk Addressed by LR (AH) | AG21: Total EPSS Risk Addressed (AI) | AH21: Total Residual EPSS Risk (AJ) | AI21: Year 2 EPSS Climate Factor (AK) | AJ21: Year 2: New Baseline EPSS Risk (AL) | AL21: Portfolio Project # (AO) | AM21: Circuit Segment (AP) | AN21: Circuit Segment Miles (AQ) | AO21: Baseline PSPS Risk (AR) | AP21: Mileage Addressed by UG (AS) | AQ21: Mileage Addressed by OH (AT) | AR21: Mileage Addressed by Line Removal (AU) | AS21: UG PSPS Mitigation Effectiveness Values (AV) | AT21: OH PSPS Mitigation Effectiveness Values (AW) | AU21: Line Removal PSPS Mitigation Effectiveness (AX) | AV21: PSPS Risk Addressed by UG (AY) | AW21: PSPS Risk Addressed by OH (AZ) | AX21: PSPS Risk Addressed by LR (BA) | AY21: Total PSPS Risk Addressed (BB) | AZ21: Total Residual PSPS Risk (BC) | BA21: Year 2 PSPS Climate Factor (BD) | BB21: Year 2: New Baseline PSPS Risk (BE)
B22: 1 | C22: ALDER GLEN 1 | D22: D1 | E22: E1 | F22: F1 | G22: G1 | H22: H1 | I22: I1 | J22: J1 | K22: K1 | L22: L1 = (E1 / D1) * F1 * I1 | M22: M1 = (E1 / D1) * G1 * J1 | N22: N1 = (E1 / D1) * H1 * K1 | O22: O1 = L1 + M1 + N1 | P22: P1 = E1 - O1 | Q22: Q1 | R22: R1 = P1 * Q1 | T22: 1 | U22: ALDER GLEN 1 | V22: X1 | W22: Y1 | X22: Z1 | Y22: AA1 | Z22: AB1 | AA22: AC1 | AB22: AD1 | AC22: AE1 | AD22: AF1 = (Y1 / X1) * Z1 * AC1 | AE22: AG1 = (Y1 / X1) * AA1 * AD1 | AF22: AH1 = (Y1 / X1) * AB1 * AE1 | AG22: AI1 = AF1 + AG1 + AH1 | AH22: AJ1 = Y1 - AI1 | AI22: AK1 | AJ22: AL1 = AJ1 * AK1 | AL22: 1 | AM22: ALDER GLEN 1 | AN22: AQ1 | AO22: AR1 | AP22: AS1 | AQ22: AT1 | AR22: AU1 | AS22: AV1 | AT22: AW1 | AU22: AX1 | AV22: AY1 = (AR1 / AQ1) * AS1 * AV1 | AW22: AZ1 = (AR1 / AQ1) * AT1 * AW1 | AX22: BA1 = (AR1 / AQ1) * AU1 * AX1 | AY22: BB1 = AY1 + AZ1 + BA1 | AZ22: BC1 = AR1 - BB1 | BA22: BD1 | BB22: BE1 = BC1 * BD1
B23: 2 | C23: BIRCH RIDGE 2 | D23: D2 | E23: E2 | F23: F2 | G23: G2 | H23: H2 | I23: I2 | J23: J2 | K23: K2 | L23: L2 = (E2 / D2) * F2 * I2 | M23: M2 = (E2 / D2) * G2 * J2 | N23: N2 = (E2 / D2) * H2 * K2 | O23: O2 = L2 + M2 + N2 | P23: P2 = E2 - O2 | Q23: Q2 | R23: R2 = P2 * Q2 | T23: 2 | U23: BIRCH RIDGE 2 | V23: X2 | W23: Y2 | X23: Z2 | Y23: AA2 | Z23: AB2 | AA23: AC2 | AB23: AD2 | AC23: AE2 | AD23: AF2 = (Y2 / X2) * Z2 * AC2 | AE23: AG2 = (Y2 / X2) * AA2 * AD2 | AF23: AH2 = (Y2 / X2) * AB2 * AE2 | AG23: AI2 = AF2 + AG2 + AH2 | AH23: AJ2 = Y2 - AI2 | AI23: AK2 | AJ23: AL2 = AJ2 * AK2 | AL23: 2 | AM23: BIRCH RIDGE 2 | AN23: AQ2 | AO23: AR2 | AP23: AS2 | AQ23: AT2 | AR23: AU2 | AS23: AV2 | AT23: AW2 | AU23: AX2 | AV23: AY2 = (AR2 / AQ2) * AS2 * AV2 | AW23: AZ2 = (AR2 / AQ2) * AT2 * AW2 | AX23: BA2 = (AR2 / AQ2) * AU2 * AX2 | AY23: BB2 = AY2 + AZ2 + BA2 | AZ23: BC2 = AR2 - BB2 | BA23: BD2 | BB23: BE2 = BC2 * BD2
B24: 3 | C24: CEDAR FALLS 3 | D24: D3 | E24: E3 | F24: F3 | G24: G3 | H24: H3 | I24: I3 | J24: J3 | K24: K3 | L24: L3 = (E3 / D3) * F3 * I3 | M24: M3 = (E3 / D3) * G3 * J3 | N24: N3 = (E3 / D3) * H3 * K3 | O24: O3 = L3 + M3 + N3 | P24: P3 = E3 - O3 | Q24: Q3 | R24: R3 = P3 * Q3 | T24: 3 | U24: CEDAR FALLS 3 | V24: X3 | W24: Y3 | X24: Z3 | Y24: AA3 | Z24: AB3 | AA24: AC3 | AB24: AD3 | AC24: AE3 | AD24: AF3 = (Y3 / X3) * Z3 * AC3 | AE24: AG3 = (Y3 / X3) * AA3 * AD3 | AF24: AH3 = (Y3 / X3) * AB3 * AE3 | AG24: AI3 = AF3 + AG3 + AH3 | AH24: AJ3 = Y3 - AI3 | AI24: AK3 | AJ24: AL3 = AJ3 * AK3 | AL24: 3 | AM24: CEDAR FALLS 3 | AN24: AQ3 | AO24: AR3 | AP24: AS3 | AQ24: AT3 | AR24: AU3 | AS24: AV3 | AT24: AW3 | AU24: AX3 | AV24: AY3 = (AR3 / AQ3) * AS3 * AV3 | AW24: AZ3 = (AR3 / AQ3) * AT3 * AW3 | AX24: BA3 = (AR3 / AQ3) * AU3 * AX3 | AY24: BB3 = AY3 + AZ3 + BA3 | AZ24: BC3 = AR3 - BB3 | BA24: BD3 | BB24: BE3 = BC3 * BD3
B25: 4 | C25: DOGWOOD PASS 4 | D25: D4 | E25: E4 | F25: F4 | G25: G4 | H25: H4 | I25: I4 | J25: J4 | K25: K4 | L25: L4 = (E4 / D4) * F4 * I4 | M25: M4 = (E4 / D4) * G4 * J4 | N25: N4 = (E4 / D4) * H4 * K4 | O25: O4 = L4 + M4 + N4 | P25: P4 = E4 - O4 | Q25: Q4 | R25: R4 = P4 * Q4 | T25: 4 | U25: DOGWOOD PASS 4 | V25: X4 | W25: Y4 | X25: Z4 | Y25: AA4 | Z25: AB4 | AA25: AC4 | AB25: AD4 | AC25: AE4 | AD25: AF4 = (Y4 / X4) * Z4 * AC4 | AE25: AG4 = (Y4 / X4) * AA4 * AD4 | AF25: AH4 = (Y4 / X4) * AB4 * AE4 | AG25: AI4 = AF4 + AG4 + AH4 | AH25: AJ4 = Y4 - AI4 | AI25: AK4 | AJ25: AL4 = AJ4 * AK4 | AL25: 4 | AM25: DOGWOOD PASS 4 | AN25: AQ4 | AO25: AR4 | AP25: AS4 | AQ25: AT4 | AR25: AU4 | AS25: AV4 | AT25: AW4 | AU25: AX4 | AV25: AY4 = (AR4 / AQ4) * AS4 * AV4 | AW25: AZ4 = (AR4 / AQ4) * AT4 * AW4 | AX25: BA4 = (AR4 / AQ4) * AU4 * AX4 | AY25: BB4 = AY4 + AZ4 + BA4 | AZ25: BC4 = AR4 - BB4 | BA25: BD4 | BB25: BE4 = BC4 * BD4
B26: 5 | C26: ELDER CREEK 5 | D26: D5 | E26: E5 | F26: F5 | G26: G5 | H26: H5 | I26: I5 | J26: J5 | K26: K5 | L26: L5 = (E5 / D5) * F5 * I5 | M26: M5 = (E5 / D5) * G5 * J5 | N26: N5 = (E5 / D5) * H5 * K5 | O26: O5 = L5 + M5 + N5 | P26: P5 = E5 - O5 | Q26: Q5 | R26: R5 = P5 * Q5 | T26: 5 | U26: ELDER CREEK 5 | V26: X5 | W26: Y5 | X26: Z5 | Y26: AA5 | Z26: AB5 | AA26: AC5 | AB26: AD5 | AC26: AE5 | AD26: AF5 = (Y5 / X5) * Z5 * AC5 | AE26: AG5 = (Y5 / X5) * AA5 * AD5 | AF26: AH5 = (Y5 / X5) * AB5 * AE5 | AG26: AI5 = AF5 + AG5 + AH5 | AH26: AJ5 = Y5 - AI5 | AI26: AK5 | AJ26: AL5 = AJ5 * AK5 | AL26: 5 | AM26: ELDER CREEK 5 | AN26: AQ5 | AO26: AR5 | AP26: AS5 | AQ26: AT5 | AR26: AU5 | AS26: AV5 | AT26: AW5 | AU26: AX5 | AV26: AY5 = (AR5 / AQ5) * AS5 * AV5 | AW26: AZ5 = (AR5 / AQ5) * AT5 * AW5 | AX26: BA5 = (AR5 / AQ5) * AU5 * AX5 | AY26: BB5 = AY5 + AZ5 + BA5 | AZ26: BC5 = AR5 - BB5 | BA26: BD5 | BB26: BE5 = BC5 * BD5
B27: 6 | C27: FOX HOLLOW 6 | D27: D6 | E27: E6 | F27: F6 | G27: G6 | H27: H6 | I27: I6 | J27: J6 | K27: K6 | L27: L6 = (E6 / D6) * F6 * I6 | M27: M6 = (E6 / D6) * G6 * J6 | N27: N6 = (E6 / D6) * H6 * K6 | O27: O6 = L6 + M6 + N6 | P27: P6 = E6 - O6 | Q27: Q6 | R27: R6 = P6 * Q6 | T27: 6 | U27: FOX HOLLOW 6 | V27: X6 | W27: Y6 | X27: Z6 | Y27: AA6 | Z27: AB6 | AA27: AC6 | AB27: AD6 | AC27: AE6 | AD27: AF6 = (Y6 / X6) * Z6 * AC6 | AE27: AG6 = (Y6 / X6) * AA6 * AD6 | AF27: AH6 = (Y6 / X6) * AB6 * AE6 | AG27: AI6 = AF6 + AG6 + AH6 | AH27: AJ6 = Y6 - AI6 | AI27: AK6 | AJ27: AL6 = AJ6 * AK6 | AL27: 6 | AM27: FOX HOLLOW 6 | AN27: AQ6 | AO27: AR6 | AP27: AS6 | AQ27: AT6 | AR27: AU6 | AS27: AV6 | AT27: AW6 | AU27: AX6 | AV27: AY6 = (AR6 / AQ6) * AS6 * AV6 | AW27: AZ6 = (AR6 / AQ6) * AT6 * AW6 | AX27: BA6 = (AR6 / AQ6) * AU6 * AX6 | AY27: BB6 = AY6 + AZ6 + BA6 | AZ27: BC6 = AR6 - BB6 | BA27: BD6 | BB27: BE6 = BC6 * BD6
B28: 7 | C28: GRANITE PEAK 7 | D28: D7 | E28: E7 | F28: F7 | G28: G7 | H28: H7 | I28: I7 | J28: J7 | K28: K7 | L28: L7 = (E7 / D7) * F7 * I7 | M28: M7 = (E7 / D7) * G7 * J7 | N28: N7 = (E7 / D7) * H7 * K7 | O28: O7 = L7 + M7 + N7 | P28: P7 = E7 - O7 | Q28: Q7 | R28: R7 = P7 * Q7 | T28: 7 | U28: GRANITE PEAK 7 | V28: X7 | W28: Y7 | X28: Z7 | Y28: AA7 | Z28: AB7 | AA28: AC7 | AB28: AD7 | AC28: AE7 | AD28: AF7 = (Y7 / X7) * Z7 * AC7 | AE28: AG7 = (Y7 / X7) * AA7 * AD7 | AF28: AH7 = (Y7 / X7) * AB7 * AE7 | AG28: AI7 = AF7 + AG7 + AH7 | AH28: AJ7 = Y7 - AI7 | AI28: AK7 | AJ28: AL7 = AJ7 * AK7 | AL28: 7 | AM28: GRANITE PEAK 7 | AN28: AQ7 | AO28: AR7 | AP28: AS7 | AQ28: AT7 | AR28: AU7 | AS28: AV7 | AT28: AW7 | AU28: AX7 | AV28: AY7 = (AR7 / AQ7) * AS7 * AV7 | AW28: AZ7 = (AR7 / AQ7) * AT7 * AW7 | AX28: BA7 = (AR7 / AQ7) * AU7 * AX7 | AY28: BB7 = AY7 + AZ7 + BA7 | AZ28: BC7 = AR7 - BB7 | BA28: BD7 | BB28: BE7 = BC7 * BD7
B29: 8 | C29: HAWTHORN FLAT 8 | D29: D8 | E29: E8 | F29: F8 | G29: G8 | H29: H8 | I29: I8 | J29: J8 | K29: K8 | L29: L8 = (E8 / D8) * F8 * I8 | M29: M8 = (E8 / D8) * G8 * J8 | N29: N8 = (E8 / D8) * H8 * K8 | O29: O8 = L8 + M8 + N8 | P29: P8 = E8 - O8 | Q29: Q8 | R29: R8 = P8 * Q8 | T29: 8 | U29: HAWTHORN FLAT 8 | V29: X8 | W29: Y8 | X29: Z8 | Y29: AA8 | Z29: AB8 | AA29: AC8 | AB29: AD8 | AC29: AE8 | AD29: AF8 = (Y8 / X8) * Z8 * AC8 | AE29: AG8 = (Y8 / X8) * AA8 * AD8 | AF29: AH8 = (Y8 / X8) * AB8 * AE8 | AG29: AI8 = AF8 + AG8 + AH8 | AH29: AJ8 = Y8 - AI8 | AI29: AK8 | AJ29: AL8 = AJ8 * AK8 | AL29: 8 | AM29: HAWTHORN FLAT 8 | AN29: AQ8 | AO29: AR8 | AP29: AS8 | AQ29: AT8 | AR29: AU8 | AS29: AV8 | AT29: AW8 | AU29: AX8 | AV29: AY8 = (AR8 / AQ8) * AS8 * AV8 | AW29: AZ8 = (AR8 / AQ8) * AT8 * AW8 | AX29: BA8 = (AR8 / AQ8) * AU8 * AX8 | AY29: BB8 = AY8 + AZ8 + BA8 | AZ29: BC8 = AR8 - BB8 | BA29: BD8 | BB29: BE8 = BC8 * BD8
B30: 9 | C30: INDIGO RIDGE 9 | D30: D9 | E30: E9 | F30: F9 | G30: G9 | H30: H9 | I30: I9 | J30: J9 | K30: K9 | L30: L9 = (E9 / D9) * F9 * I9 | M30: M9 = (E9 / D9) * G9 * J9 | N30: N9 = (E9 / D9) * H9 * K9 | O30: O9 = L9 + M9 + N9 | P30: P9 = E9 - O9 | Q30: Q9 | R30: R9 = P9 * Q9 | T30: 9 | U30: INDIGO RIDGE 9 | V30: X9 | W30: Y9 | X30: Z9 | Y30: AA9 | Z30: AB9 | AA30: AC9 | AB30: AD9 | AC30: AE9 | AD30: AF9 = (Y9 / X9) * Z9 * AC9 | AE30: AG9 = (Y9 / X9) * AA9 * AD9 | AF30: AH9 = (Y9 / X9) * AB9 * AE9 | AG30: AI9 = AF9 + AG9 + AH9 | AH30: AJ9 = Y9 - AI9 | AI30: AK9 | AJ30: AL9 = AJ9 * AK9 | AL30: 9 | AM30: INDIGO RIDGE 9 | AN30: AQ9 | AO30: AR9 | AP30: AS9 | AQ30: AT9 | AR30: AU9 | AS30: AV9 | AT30: AW9 | AU30: AX9 | AV30: AY9 = (AR9 / AQ9) * AS9 * AV9 | AW30: AZ9 = (AR9 / AQ9) * AT9 * AW9 | AX30: BA9 = (AR9 / AQ9) * AU9 * AX9 | AY30: BB9 = AY9 + AZ9 + BA9 | AZ30: BC9 = AR9 - BB9 | BA30: BD9 | BB30: BE9 = BC9 * BD9
B31: 10 | C31: JUNIPER POINT 1 | D31: D10 | E31: E10 | F31: F10 | G31: G10 | H31: H10 | I31: I10 | J31: J10 | K31: K10 | L31: L10 = (E10 / D10) * F10 * I10 | M31: M10 = (E10 / D10) * G10 * J10 | N31: N10 = (E10 / D10) * H10 * K10 | O31: O10 = L10 + M10 + N10 | P31: P10 = E10 - O10 | Q31: Q10 | R31: R10 = P10 * Q10 | T31: 10 | U31: JUNIPER POINT 1 | V31: X10 | W31: Y10 | X31: Z10 | Y31: AA10 | Z31: AB10 | AA31: AC10 | AB31: AD10 | AC31: AE10 | AD31: AF10 = (Y10 / X10) * Z10 * AC10 | AE31: AG10 = (Y10 / X10) * AA10 * AD10 | AF31: AH10 = (Y10 / X10) * AB10 * AE10 | AG31: AI10 = AF10 + AG10 + AH10 | AH31: AJ10 = Y10 - AI10 | AI31: AK10 | AJ31: AL10 = AJ10 * AK10 | AL31: 10 | AM31: JUNIPER POINT 1 | AN31: AQ10 | AO31: AR10 | AP31: AS10 | AQ31: AT10 | AR31: AU10 | AS31: AV10 | AT31: AW10 | AU31: AX10 | AV31: AY10 = (AR10 / AQ10) * AS10 * AV10 | AW31: AZ10 = (AR10 / AQ10) * AT10 * AW10 | AX31: BA10 = (AR10 / AQ10) * AU10 * AX10 | AY31: BB10 = AY10 + AZ10 + BA10 | AZ31: BC10 = AR10 - BB10 | BA31: BD10 | BB31: BE10 = BC10 * BD10
B32: 11 | C32: KELSEY BASIN 2 | D32: D11 | E32: E11 | F32: F11 | G32: G11 | H32: H11 | I32: I11 | J32: J11 | K32: K11 | L32: L11 = (E11 / D11) * F11 * I11 | M32: M11 = (E11 / D11) * G11 * J11 | N32: N11 = (E11 / D11) * H11 * K11 | O32: O11 = L11 + M11 + N11 | P32: P11 = E11 - O11 | Q32: Q11 | R32: R11 = P11 * Q11 | T32: 11 | U32: KELSEY BASIN 2 | V32: X11 | W32: Y11 | X32: Z11 | Y32: AA11 | Z32: AB11 | AA32: AC11 | AB32: AD11 | AC32: AE11 | AD32: AF11 = (Y11 / X11) * Z11 * AC11 | AE32: AG11 = (Y11 / X11) * AA11 * AD11 | AF32: AH11 = (Y11 / X11) * AB11 * AE11 | AG32: AI11 = AF11 + AG11 + AH11 | AH32: AJ11 = Y11 - AI11 | AI32: AK11 | AJ32: AL11 = AJ11 * AK11 | AL32: 11 | AM32: KELSEY BASIN 2 | AN32: AQ11 | AO32: AR11 | AP32: AS11 | AQ32: AT11 | AR32: AU11 | AS32: AV11 | AT32: AW11 | AU32: AX11 | AV32: AY11 = (AR11 / AQ11) * AS11 * AV11 | AW32: AZ11 = (AR11 / AQ11) * AT11 * AW11 | AX32: BA11 = (AR11 / AQ11) * AU11 * AX11 | AY32: BB11 = AY11 + AZ11 + BA11 | AZ32: BC11 = AR11 - BB11 | BA32: BD11 | BB32: BE11 = BC11 * BD11
B33: 12 | C33: LARCH MEADOW 3 | D33: D12 | E33: E12 | F33: F12 | G33: G12 | H33: H12 | I33: I12 | J33: J12 | K33: K12 | L33: L12 = (E12 / D12) * F12 * I12 | M33: M12 = (E12 / D12) * G12 * J12 | N33: N12 = (E12 / D12) * H12 * K12 | O33: O12 = L12 + M12 + N12 | P33: P12 = E12 - O12 | Q33: Q12 | R33: R12 = P12 * Q12 | T33: 12 | U33: LARCH MEADOW 3 | V33: X12 | W33: Y12 | X33: Z12 | Y33: AA12 | Z33: AB12 | AA33: AC12 | AB33: AD12 | AC33: AE12 | AD33: AF12 = (Y12 / X12) * Z12 * AC12 | AE33: AG12 = (Y12 / X12) * AA12 * AD12 | AF33: AH12 = (Y12 / X12) * AB12 * AE12 | AG33: AI12 = AF12 + AG12 + AH12 | AH33: AJ12 = Y12 - AI12 | AI33: AK12 | AJ33: AL12 = AJ12 * AK12 | AL33: 12 | AM33: LARCH MEADOW 3 | AN33: AQ12 | AO33: AR12 | AP33: AS12 | AQ33: AT12 | AR33: AU12 | AS33: AV12 | AT33: AW12 | AU33: AX12 | AV33: AY12 = (AR12 / AQ12) * AS12 * AV12 | AW33: AZ12 = (AR12 / AQ12) * AT12 * AW12 | AX33: BA12 = (AR12 / AQ12) * AU12 * AX12 | AY33: BB12 = AY12 + AZ12 + BA12 | AZ33: BC12 = AR12 - BB12 | BA33: BD12 | BB33: BE12 = BC12 * BD12
... B46: 25 | C46: ZION RIDGE 7 | D46: D25 | E46: E25 | F46: F25 | G46: G25 | H46: H25 | I46: I25 | J46: J25 | K46: K25 | L46: L25 = (E25 / D25) * F25 * I25 | M46: M25 = (E25 / D25) * G25 * J25 | N46: N25 = (E25 / D25) * H25 * K25 | O46: O25 = L25 + M25 + N25 | P46: P25 = E25 - O25 | Q46: Q25 | R46: R25 = P25 * Q25 | T46: 25 | U46: ZION RIDGE 7 | V46: X25 | W46: Y25 | X46: Z25 | Y46: AA25 | Z46: AB25 | AA46: AC25 | AB46: AD25 | AC46: AE25 | AD46: AF25 = (Y25 / X25) * Z25 * AC25 | AE46: AG25 = (Y25 / X25) * AA25 * AD25 | AF46: AH25 = (Y25 / X25) * AB25 * AE25 | AG46: AI25 = AF25 + AG25 + AH25 | AH46: AJ25 = Y25 - AI25 | AI46: AK25 | AJ46: AL25 = AJ25 * AK25 | AL46: 25 | AM46: ZION RIDGE 7 | AN46: AQ25 | AO46: AR25 | AP46: AS25 | AQ46: AT25 | AR46: AU25 | AS46: AV25 | AT46: AW25 | AU46: AX25 | AV46: AY25 = (AR25 / AQ25) * AS25 * AV25 | AW46: AZ25 = (AR25 / AQ25) * AT25 * AW25 | AX46: BA25 = (AR25 / AQ25) * AU25 * AX25 | AY46: BB25 = AY25 + AZ25 + BA25 | AZ46: BC25 = AR25 - BB25 | BA46: BD25 | BB46: BE25 = BC25 * BD25
B47: *The baselining of risk occurs annually and follows the same process from year-to-year, where the new baseline Circuit Segment Risk of Year N is the residual risk of the prior year. | AL47: *The baselining of risk occurs annually and follows the same process from year-to-year, where the new baseline Circuit Segment Risk of Year N is the residual risk of the prior year.

Sheet Core Capability 6.5
B1: Workpaper 013
B2: Pacific Gas and Electric Company
B3: Electrical Undergrounding Program
B4: Core Capability 6: Supporting Formulas
B5: Core Capability 6.5
B9: Overview | D9: Actual Project Completion / Segment Energization Year | G9: Instantaneous and Cumulative Ignition Risk and Outage Program Risk by Model Year | X9: Instantaneous and Cumulative Ignition Risk and Outage Program Risk by Model Year Numerical Examples - Low Risk Scenario | AR9: Instantaneous and Cumulative Ignition Risk and Outage Program Risk by Model Year Numerical Examples - Medium Risk Scenario | BL9: Instantaneous and Cumulative Ignition Risk and Outage Program Risk by Model Year Numerical Examples - High Risk Scenario
B11: Core Capability 6 of the EUP Guidelines requires that: | D11: Act. Completion / Energization Year | E11: EY | G11: Year (YRx) | H11: Model Year (MYx) | I11: Climate Factor Dividend (CDx) | J11: 2028-Normalized Climate Factor (CNx = CDx / CD0) | K11: Instantaneous Ignition Risk Multiplicand (IRMx = if (YRx < EY) then (IRAx) else (IRPx)) | L11: Instantaneous Ignition Risk (IRIx = IRMx * Cx) | M11: Cumulative Ignition Risk (IRCx = ∑IRIx; x: {0, …, MYx}) | N11: Instantaneous EPSS Risk Multiplicand (ERMx = if (YRx ≤ EY) then (ERAx) else (ERPx)) | O11: Instantaneous EPSS Risk (ERIx = ERMx * Cx) | P11: Cumulative EPSS Risk (ERUx = ∑ERIx; x: {0, …, MYx}) | Q11: Instantaneous PSPS Risk Multiplicand (PRMx = if (YRx ≤ EY) then (PRAx) else (PRPx)) | R11: Instantaneous PSPS Risk (PRIx = PRMx * Cx) | S11: Cumulative PSPS Risk (PRUx = ∑PRIx; x: {0, …, MYx}) | T11: Instantaneous Outage Program Risk Multiplicand (ORMx = if (YRx ≤ EY) then (ORAx) else (ORPx)) | U11: Instantaneous Outage Program Risk (ORIx = ORMx * Cx) | V11: Cumulative Outage Program Risk (ORCx = ∑ORIx; x: {0, …, MYx}) | X11: Low Risk Scenario | AA11: Year (YRx) | AB11: Model Year (MYx) | AC11: Climate Factor Dividend (CDx) | AD11: 2028-Normalized Climate Factor (CNx = CDx / CD0) | AE11: Instantaneous Ignition Risk Multiplicand (IRMx = if (YRx < EY) then (IRAx) else (IRPx)) | AF11: Instantaneous Ignition Risk (IRIx = IRMx * Cx) | AG11: Cumulative Ignition Risk (IRCx = ∑IRIx; x: {0, …, MYx}) | AH11: Instantaneous EPSS Risk Multiplicand (ERMx = if (YRx ≤ EY) then (ERAx) else (ERPx)) | AI11: Instantaneous EPSS Risk (ERIx = ERMx * Cx) | AJ11: Cumulative EPSS Risk (ERUx = ∑ERIx; x: {0, …, MYx}) | AK11: Instantaneous PSPS Risk Multiplicand (PRMx = if (YRx ≤ EY) then (PRAx) else (PRPx)) | AL11: Instantaneous PSPS Risk (PRIx = PRMx * Cx) | AM11: Cumulative PSPS Risk (PRUx = ∑PRIx; x: {0, …, MYx}) | AN11: Instantaneous Outage Program Risk Multiplicand (ORMx = if (YRx ≤ EY) then (ORAx) else (ORPx)) | AO11: Instantaneous Outage Program Risk (ORIx = ORMx * Cx) | AP11: Cumulative Outage Program Risk (ORCx = ∑ORIx; x: {0, …, MYx}) | AR11: Medium Risk Scenario | AU11: Year (YRx) | AV11: Model Year (MYx) | AW11: Climate Factor Dividend (CDx) | AX11: 2028-Normalized Climate Factor (CNx = CDx / CD0) | AY11: Instantaneous Ignition Risk Multiplicand (IRMx = if (YRx < EY) then (IRAx) else (IRPx)) | AZ11: Instantaneous Ignition Risk (IRIx = IRMx * Cx) | BA11: Cumulative Ignition Risk (IRCx = ∑IRIx; x: {0, …, MYx}) | BB11: Instantaneous EPSS Risk Multiplicand (ERMx = if (YRx ≤ EY) then (ERAx) else (ERPx)) | BC11: Instantaneous EPSS Risk (ERIx = ERMx * Cx) | BD11: Cumulative EPSS Risk (ERUx = ∑ERIx; x: {0, …, MYx}) | BE11: Instantaneous PSPS Risk Multiplicand (PRMx = if (YRx ≤ EY) then (PRAx) else (PRPx)) | BF11: Instantaneous PSPS Risk (PRIx = PRMx * Cx) | BG11: Cumulative PSPS Risk (PRUx = ∑PRIx; x: {0, …, MYx}) | BH11: Instantaneous Outage Program Risk Multiplicand (ORMx = if (YRx ≤ EY) then (ORAx) else (ORPx)) | BI11: Instantaneous Outage Program Risk (ORIx = ORMx * Cx) | BJ11: Cumulative Outage Program Risk (ORCx = ∑ORIx; x: {0, …, MYx}) | BL11: High Risk Scenario | BO11: Year (YRx) | BP11: Model Year (MYx) | BQ11: Climate Factor Dividend (CDx) | BR11: 2028-Normalized Climate Factor (CNx = CDx / CD0) | BS11: Instantaneous Ignition Risk Multiplicand (IRMx = if (YRx < EY) then (IRAx) else (IRPx)) | BT11: Instantaneous Ignition Risk (IRIx = IRMx * Cx) | BU11: Cumulative Ignition Risk (IRCx = ∑IRIx; x: {0, …, MYx}) | BV11: Instantaneous EPSS Risk Multiplicand (ERMx = if (YRx ≤ EY) then (ERAx) else (ERPx)) | BW11: Instantaneous EPSS Risk (ERIx = ERMx * Cx) | BX11: Cumulative EPSS Risk (ERUx = ∑ERIx; x: {0, …, MYx}) | BY11: Instantaneous PSPS Risk Multiplicand (PRMx = if (YRx ≤ EY) then (PRAx) else (PRPx)) | BZ11: Instantaneous PSPS Risk (PRIx = PRMx * Cx) | CA11: Cumulative PSPS Risk (PRUx = ∑PRIx; x: {0, …, MYx}) | CB11: Instantaneous Outage Program Risk Multiplicand (ORMx = if (YRx ≤ EY) then (ORAx) else (ORPx)) | CC11: Instantaneous Outage Program Risk (ORIx = ORMx * Cx) | CD11: Cumulative Outage Program Risk (ORCx = ∑ORIx; x: {0, …, MYx})
B13: ...[T]he Large Electrical Corporation must develop a system to record Baselines and historical model calibrations. A new Baseline must be recorded by the Large Electrical Corporation at least once per calendar year. This new Baseline must account for all physical changes to the electrical distribution infrastructure performed during that year, through the EUP or any other mechanism. | D13: 2028 Ignition Risk for Circuit Segment | X13: Actual Project Completion / Segment Energization Year | AR13: Actual Project Completion / Segment Energization Year | BL13: Actual Project Completion / Segment Energization Year
G14: {="YR" & (ROW(14:14) - ROW($14:$14)) & " = " & (2028 + (ROW(14:14) - ROW($14:$14)))} -> YR0 = 2028 | H14: {="MY" & (ROW(14:14) - ROW($14:$14)) & " = " & (ROW(14:14) - ROW($14:$14))} -> MY0 = 0 | I14: {="CD" & (ROW(14:14) - ROW($14:$14))} -> CD0 | J14: {="CN" & (ROW(14:14) - ROW($14:$14)) & " = CD" & (ROW(14:14) - ROW($14:$14)) & " / CD0" & IF(ROW(14:14) - ROW($14:$14) = 0, " = 1", "")} -> CN0 = CD0 / CD0 = 1 | K14: {="IRM" & (ROW(14:14) - ROW($14:$14)) & " = if (YR" & (ROW(14:14) - ROW($14:$14)) & " ≤ EY) then (IRA0) else (IRP0)"} -> IRM0 = if (YR0 ≤ EY) then (IRA0) else (IRP0) | L14: {="IRI" & (ROW(14:14) - ROW($14:$14)) & " = IRM" & (ROW(14:14) - ROW($14:$14)) & " * C" & (ROW(14:14) - ROW($14:$14))} -> IRI0 = IRM0 * C0 | M14: {="IRC" & (ROW(14:14) - ROW($14:$14)) & " = ∑IRIx; x: {0, …, MY" & (ROW(14:14) - ROW($14:$14)) & "}"} -> IRC0 = ∑IRIx; x: {0, …, MY0} | N14: {="ERM" & (ROW(14:14) - ROW($14:$14)) & " = if (YR" & (ROW(14:14) - ROW($14:$14)) & " ≤ EY) then (ERA0) else (ERP0)"} -> ERM0 = if (YR0 ≤ EY) then (ERA0) else (ERP0) | O14: {="ERI" & (ROW(14:14) - ROW($14:$14)) & " = ERM" & (ROW(14:14) - ROW($14:$14)) & " * C" & (ROW(14:14) - ROW($14:$14))} -> ERI0 = ERM0 * C0 | P14: {="ERU" & (ROW(14:14) - ROW($14:$14)) & " = ∑ERIx; x: {0, …, MY" & (ROW(14:14) - ROW($14:$14)) & "}"} -> ERU0 = ∑ERIx; x: {0, …, MY0} | Q14: {="PRM" & (ROW(14:14) - ROW($14:$14)) & " = if (YR" & (ROW(14:14) - ROW($14:$14)) & " ≤ EY) then (PRA0) else (PRP0)"} -> PRM0 = if (YR0 ≤ EY) then (PRA0) else (PRP0) | R14: {="PRI" & (ROW(14:14) - ROW($14:$14)) & " = PRM" & (ROW(14:14) - ROW($14:$14)) & " * C" & (ROW(14:14) - ROW($14:$14))} -> PRI0 = PRM0 * C0 | S14: {="PRU" & (ROW(14:14) - ROW($14:$14)) & " = ∑PRIx; x: {0, …, MY" & (ROW(14:14) - ROW($14:$14)) & "}"} -> PRU0 = ∑PRIx; x: {0, …, MY0} | T14: {="ORM" & (ROW(14:14) - ROW($14:$14)) & " = if (YR" & (ROW(14:14) - ROW($14:$14)) & " ≤ EY) then (ORA0) else (ORP0)"} -> ORM0 = if (YR0 ≤ EY) then (ORA0) else (ORP0) | U14: {="ORI" & (ROW(14:14) - ROW($14:$14)) & " = ORM" & (ROW(14:14) - ROW($14:$14)) & " * C" & (ROW(14:14) - ROW($14:$14))} -> ORI0 = ORM0 * C0 | V14: {="ORC" & (ROW(14:14) - ROW($14:$14)) & " = ∑ORIx; x: {0, …, MY" & (ROW(14:14) - ROW($14:$14)) & "}"} -> ORC0 = ∑ORIx; x: {0, …, MY0} | AA14: 2028 | AB14: 0 | AC14: 1 | AD14: =AC14 / AC$14 -> 1 | AE14: =IF(AA14 < Y$15, Y$19, Y$20) -> 1 | AF14: =AE14 * AD14 -> 1 | AG14: =SUM(AF$14:AF14) -> 1 | AH14: =IF(AA14 < Y$15, Y$29, Y$30) -> 0.02 | AI14: =AH14 * AD14 -> 0.02 | AJ14: =SUM(AI$14:AI14) -> 0.02 | AK14: =IF(AA14 < Y$15, Y$34, Y$35) -> 0.07 | AL14: =AK14 * AD14 -> 0.07 | AM14: =SUM(AL$14:AL14) -> 0.07 | AN14: =IF(AA14 < Y$15, Y$24, Y$25) -> 0.09 | AO14: =AN14 * AD14 -> 0.09 | AP14: =SUM(AO$14:AO14) -> 0.09 | AU14: 2028 | AV14: 0 | AW14: 1 | AX14: =AW14 / AW$14 -> 1 | AY14: =IF(AU14 < AS$15, AS$19, AS$20) -> 2 | AZ14: =AY14 * AX14 -> 2 | BA14: =SUM(AZ$14:AZ14) -> 2 | BB14: =IF(AU14 < AS$15, AS$29, AS$30) -> 3.78 | BC14: =BB14 * AX14 -> 3.78 | BD14: =SUM(BC$14:BC14) -> 3.78 | BE14: =IF(AU14 < AS$15, AS$34, AS$35) -> 2.82 | BF14: =BE14 * AX14 -> 2.82 | BG14: =SUM(BF$14:BF14) -> 2.82 | BH14: =IF(AU14 < AS$15, AS$24, AS$25) -> 6.6 | BI14: =BH14 * AX14 -> 6.6 | BJ14: =SUM(BI$14:BI14) -> 6.6 | BO14: 2028 | BP14: 0 | BQ14: 1 | BR14: =BQ14 / BQ$14 -> 1 | BS14: =IF(BO14 < BM$15, BM$19, BM$20) -> 0.5 | BT14: =BS14 * BR14 -> 0.5 | BU14: =SUM(BT$14:BT14) -> 0.5 | BV14: =IF(BO14 < BM$15, BM$29, BM$30) -> 16.08 | BW14: =BV14 * BR14 -> 16.08 | BX14: =SUM(BW$14:BW14) -> 16.08 | BY14: =IF(BO14 < BM$15, BM$34, BM$35) -> 0 | BZ14: =BY14 * BR14 -> 0 | CA14: =SUM(BZ$14:BZ14) -> 0 | CB14: =IF(BO14 < BM$15, BM$24, BM$25) -> 16.08 | CC14: =CB14 * BR14 -> 16.08 | CD14: =SUM(CC$14:CC14) -> 16.08
D15: Pre-Mitigation Risk (IRA0), A : 'ante' | E15: IRA0 | G15: {="YR" & (ROW(15:15) - ROW($14:$14)) & " = " & (2028 + (ROW(15:15) - ROW($14:$14)))} -> YR1 = 2029 | H15: {="MY" & (ROW(15:15) - ROW($14:$14)) & " = " & (ROW(15:15) - ROW($14:$14))} -> MY1 = 1 | I15: {="CD" & (ROW(15:15) - ROW($14:$14))} -> CD1 | J15: {="CN" & (ROW(15:15) - ROW($14:$14)) & " = CD" & (ROW(15:15) - ROW($14:$14)) & " / CD0" & IF(ROW(15:15) - ROW($14:$14) = 0, " = 1", "")} -> CN1 = CD1 / CD0 | K15: {="IRM" & (ROW(15:15) - ROW($14:$14)) & " = if (YR" & (ROW(15:15) - ROW($14:$14)) & " ≤ EY) then (IRA0) else (IRP0)"} -> IRM1 = if (YR1 ≤ EY) then (IRA0) else (IRP0) | L15: {="IRI" & (ROW(15:15) - ROW($14:$14)) & " = IRM" & (ROW(15:15) - ROW($14:$14)) & " * C" & (ROW(15:15) - ROW($14:$14))} -> IRI1 = IRM1 * C1 | M15: {="IRC" & (ROW(15:15) - ROW($14:$14)) & " = ∑IRIx; x: {0, …, MY" & (ROW(15:15) - ROW($14:$14)) & "}"} -> IRC1 = ∑IRIx; x: {0, …, MY1} | N15: {="ERM" & (ROW(15:15) - ROW($14:$14)) & " = if (YR" & (ROW(15:15) - ROW($14:$14)) & " ≤ EY) then (ERA0) else (ERP0)"} -> ERM1 = if (YR1 ≤ EY) then (ERA0) else (ERP0) | O15: {="ERI" & (ROW(15:15) - ROW($14:$14)) & " = ERM" & (ROW(15:15) - ROW($14:$14)) & " * C" & (ROW(15:15) - ROW($14:$14))} -> ERI1 = ERM1 * C1 | P15: {="ERU" & (ROW(15:15) - ROW($14:$14)) & " = ∑ERIx; x: {0, …, MY" & (ROW(15:15) - ROW($14:$14)) & "}"} -> ERU1 = ∑ERIx; x: {0, …, MY1} | Q15: {="PRM" & (ROW(15:15) - ROW($14:$14)) & " = if (YR" & (ROW(15:15) - ROW($14:$14)) & " ≤ EY) then (PRA0) else (PRP0)"} -> PRM1 = if (YR1 ≤ EY) then (PRA0) else (PRP0) | R15: {="PRI" & (ROW(15:15) - ROW($14:$14)) & " = PRM" & (ROW(15:15) - ROW($14:$14)) & " * C" & (ROW(15:15) - ROW($14:$14))} -> PRI1 = PRM1 * C1 | S15: {="PRU" & (ROW(15:15) - ROW($14:$14)) & " = ∑PRIx; x: {0, …, MY" & (ROW(15:15) - ROW($14:$14)) & "}"} -> PRU1 = ∑PRIx; x: {0, …, MY1} | T15: {="ORM" & (ROW(15:15) - ROW($14:$14)) & " = if (YR" & (ROW(15:15) - ROW($14:$14)) & " ≤ EY) then (ORA0) else (ORP0)"} -> ORM1 = if (YR1 ≤ EY) then (ORA0) else (ORP0) | U15: {="ORI" & (ROW(15:15) - ROW($14:$14)) & " = ORM" & (ROW(15:15) - ROW($14:$14)) & " * C" & (ROW(15:15) - ROW($14:$14))} -> ORI1 = ORM1 * C1 | V15: {="ORC" & (ROW(15:15) - ROW($14:$14)) & " = ∑ORIx; x: {0, …, MY" & (ROW(15:15) - ROW($14:$14)) & "}"} -> ORC1 = ∑ORIx; x: {0, …, MY1} | X15: Act. Completion / Energization Year | Y15: 2030 | AA15: 2029 | AB15: 1 | AC15: 1.007 | AD15: =AC15 / AC$14 -> 1.007 | AE15: =IF(AA15 < Y$15, Y$19, Y$20) -> 1 | AF15: =AE15 * AD15 -> 1.007 | AG15: =SUM(AF$14:AF15) -> 2.007 | AH15: =IF(AA15 < Y$15, Y$29, Y$30) -> 0.02 | AI15: =AH15 * AD15 -> 0.02014 | AJ15: =SUM(AI$14:AI15) -> 0.04014 | AK15: =IF(AA15 < Y$15, Y$34, Y$35) -> 0.07 | AL15: =AK15 * AD15 -> 0.07049 | AM15: =SUM(AL$14:AL15) -> 0.14049 | AN15: =IF(AA15 < Y$15, Y$24, Y$25) -> 0.09 | AO15: =AN15 * AD15 -> 0.09063 | AP15: =SUM(AO$14:AO15) -> 0.18063 | AR15: Act. Completion / Energization Year | AS15: 2029 | AU15: 2029 | AV15: 1 | AW15: 1.007 | AX15: =AW15 / AW$14 -> 1.007 | AY15: =IF(AU15 < AS$15, AS$19, AS$20) -> 0.25 | AZ15: =AY15 * AX15 -> 0.25175 | BA15: =SUM(AZ$14:AZ15) -> 2.25175 | BB15: =IF(AU15 < AS$15, AS$29, AS$30) -> 3.78 | BC15: =BB15 * AX15 -> 3.80646 | BD15: =SUM(BC$14:BC15) -> 7.58646 | BE15: =IF(AU15 < AS$15, AS$34, AS$35) -> 0 | BF15: =BE15 * AX15 -> 0 | BG15: =SUM(BF$14:BF15) -> 2.82 | BH15: =IF(AU15 < AS$15, AS$24, AS$25) -> 3.78 | BI15: =BH15 * AX15 -> 3.80646 | BJ15: =SUM(BI$14:BI15) -> 10.40646 | BL15: Act. Completion / Energization Year | BM15: 2028 | BO15: 2029 | BP15: 1 | BQ15: 1.007 | BR15: =BQ15 / BQ$14 -> 1.007 | BS15: =IF(BO15 < BM$15, BM$19, BM$20) -> 0.5 | BT15: =BS15 * BR15 -> 0.5035 | BU15: =SUM(BT$14:BT15) -> 1.0035 | BV15: =IF(BO15 < BM$15, BM$29, BM$30) -> 16.08 | BW15: =BV15 * BR15 -> 16.19256 | BX15: =SUM(BW$14:BW15) -> 32.27256 | BY15: =IF(BO15 < BM$15, BM$34, BM$35) -> 0 | BZ15: =BY15 * BR15 -> 0 | CA15: =SUM(BZ$14:BZ15) -> 0 | CB15: =IF(BO15 < BM$15, BM$24, BM$25) -> 16.08 | CC15: =CB15 * BR15 -> 16.19256 | CD15: =SUM(CC$14:CC15) -> 32.27256
D16: Residual Risk (IRP0), P : 'post' | E16: IRP0 = IRP1 + IRP2 + IRP3 + IRP4 | G16: {="YR" & (ROW(16:16) - ROW($14:$14)) & " = " & (2028 + (ROW(16:16) - ROW($14:$14)))} -> YR2 = 2030 | H16: {="MY" & (ROW(16:16) - ROW($14:$14)) & " = " & (ROW(16:16) - ROW($14:$14))} -> MY2 = 2 | I16: {="CD" & (ROW(16:16) - ROW($14:$14))} -> CD2 | J16: {="CN" & (ROW(16:16) - ROW($14:$14)) & " = CD" & (ROW(16:16) - ROW($14:$14)) & " / CD0" & IF(ROW(16:16) - ROW($14:$14) = 0, " = 1", "")} -> CN2 = CD2 / CD0 | K16: {="IRM" & (ROW(16:16) - ROW($14:$14)) & " = if (YR" & (ROW(16:16) - ROW($14:$14)) & " ≤ EY) then (IRA0) else (IRP0)"} -> IRM2 = if (YR2 ≤ EY) then (IRA0) else (IRP0) | L16: {="IRI" & (ROW(16:16) - ROW($14:$14)) & " = IRM" & (ROW(16:16) - ROW($14:$14)) & " * C" & (ROW(16:16) - ROW($14:$14))} -> IRI2 = IRM2 * C2 | M16: {="IRC" & (ROW(16:16) - ROW($14:$14)) & " = ∑IRIx; x: {0, …, MY" & (ROW(16:16) - ROW($14:$14)) & "}"} -> IRC2 = ∑IRIx; x: {0, …, MY2} | N16: {="ERM" & (ROW(16:16) - ROW($14:$14)) & " = if (YR" & (ROW(16:16) - ROW($14:$14)) & " ≤ EY) then (ERA0) else (ERP0)"} -> ERM2 = if (YR2 ≤ EY) then (ERA0) else (ERP0) | O16: {="ERI" & (ROW(16:16) - ROW($14:$14)) & " = ERM" & (ROW(16:16) - ROW($14:$14)) & " * C" & (ROW(16:16) - ROW($14:$14))} -> ERI2 = ERM2 * C2 | P16: {="ERU" & (ROW(16:16) - ROW($14:$14)) & " = ∑ERIx; x: {0, …, MY" & (ROW(16:16) - ROW($14:$14)) & "}"} -> ERU2 = ∑ERIx; x: {0, …, MY2} | Q16: {="PRM" & (ROW(16:16) - ROW($14:$14)) & " = if (YR" & (ROW(16:16) - ROW($14:$14)) & " ≤ EY) then (PRA0) else (PRP0)"} -> PRM2 = if (YR2 ≤ EY) then (PRA0) else (PRP0) | R16: {="PRI" & (ROW(16:16) - ROW($14:$14)) & " = PRM" & (ROW(16:16) - ROW($14:$14)) & " * C" & (ROW(16:16) - ROW($14:$14))} -> PRI2 = PRM2 * C2 | S16: {="PRU" & (ROW(16:16) - ROW($14:$14)) & " = ∑PRIx; x: {0, …, MY" & (ROW(16:16) - ROW($14:$14)) & "}"} -> PRU2 = ∑PRIx; x: {0, …, MY2} | T16: {="ORM" & (ROW(16:16) - ROW($14:$14)) & " = if (YR" & (ROW(16:16) - ROW($14:$14)) & " ≤ EY) then (ORA0) else (ORP0)"} -> ORM2 = if (YR2 ≤ EY) then (ORA0) else (ORP0) | U16: {="ORI" & (ROW(16:16) - ROW($14:$14)) & " = ORM" & (ROW(16:16) - ROW($14:$14)) & " * C" & (ROW(16:16) - ROW($14:$14))} -> ORI2 = ORM2 * C2 | V16: {="ORC" & (ROW(16:16) - ROW($14:$14)) & " = ∑ORIx; x: {0, …, MY" & (ROW(16:16) - ROW($14:$14)) & "}"} -> ORC2 = ∑ORIx; x: {0, …, MY2} | AA16: 2030 | AB16: 2 | AC16: 1.014 | AD16: =AC16 / AC$14 -> 1.014 | AE16: =IF(AA16 < Y$15, Y$19, Y$20) -> 0.125 | AF16: =AE16 * AD16 -> 0.12675 | AG16: =SUM(AF$14:AF16) -> 2.13375 | AH16: =IF(AA16 < Y$15, Y$29, Y$30) -> 0.02 | AI16: =AH16 * AD16 -> 0.02028 | AJ16: =SUM(AI$14:AI16) -> 0.06042 | AK16: =IF(AA16 < Y$15, Y$34, Y$35) -> 0 | AL16: =AK16 * AD16 -> 0 | AM16: =SUM(AL$14:AL16) -> 0.14049 | AN16: =IF(AA16 < Y$15, Y$24, Y$25) -> 0.02 | AO16: =AN16 * AD16 -> 0.02028 | AP16: =SUM(AO$14:AO16) -> 0.20091 | AU16: 2030 | AV16: 2 | AW16: 1.014 | AX16: =AW16 / AW$14 -> 1.014 | AY16: =IF(AU16 < AS$15, AS$19, AS$20) -> 0.25 | AZ16: =AY16 * AX16 -> 0.2535 | BA16: =SUM(AZ$14:AZ16) -> 2.50525 | BB16: =IF(AU16 < AS$15, AS$29, AS$30) -> 3.78 | BC16: =BB16 * AX16 -> 3.83292 | BD16: =SUM(BC$14:BC16) -> 11.41938 | BE16: =IF(AU16 < AS$15, AS$34, AS$35) -> 0 | BF16: =BE16 * AX16 -> 0 | BG16: =SUM(BF$14:BF16) -> 2.82 | BH16: =IF(AU16 < AS$15, AS$24, AS$25) -> 3.78 | BI16: =BH16 * AX16 -> 3.83292 | BJ16: =SUM(BI$14:BI16) -> 14.23938 | BO16: 2030 | BP16: 2 | BQ16: 1.014 | BR16: =BQ16 / BQ$14 -> 1.014 | BS16: =IF(BO16 < BM$15, BM$19, BM$20) -> 0.5 | BT16: =BS16 * BR16 -> 0.507 | BU16: =SUM(BT$14:BT16) -> 1.5105 | BV16: =IF(BO16 < BM$15, BM$29, BM$30) -> 16.08 | BW16: =BV16 * BR16 -> 16.30512 | BX16: =SUM(BW$14:BW16) -> 48.57768 | BY16: =IF(BO16 < BM$15, BM$34, BM$35) -> 0 | BZ16: =BY16 * BR16 -> 0 | CA16: =SUM(BZ$14:BZ16) -> 0 | CB16: =IF(BO16 < BM$15, BM$24, BM$25) -> 16.08 | CC16: =CB16 * BR16 -> 16.30512 | CD16: =SUM(CC$14:CC16) -> 48.57768
D17: Residual Risk, Mitigation 1 (IRP1) | E17: IRP1 | G17: {="YR" & (ROW(17:17) - ROW($14:$14)) & " = " & (2028 + (ROW(17:17) - ROW($14:$14)))} -> YR3 = 2031 | H17: {="MY" & (ROW(17:17) - ROW($14:$14)) & " = " & (ROW(17:17) - ROW($14:$14))} -> MY3 = 3 | I17: {="CD" & (ROW(17:17) - ROW($14:$14))} -> CD3 | J17: {="CN" & (ROW(17:17) - ROW($14:$14)) & " = CD" & (ROW(17:17) - ROW($14:$14)) & " / CD0" & IF(ROW(17:17) - ROW($14:$14) = 0, " = 1", "")} -> CN3 = CD3 / CD0 | K17: {="IRM" & (ROW(17:17) - ROW($14:$14)) & " = if (YR" & (ROW(17:17) - ROW($14:$14)) & " ≤ EY) then (IRA0) else (IRP0)"} -> IRM3 = if (YR3 ≤ EY) then (IRA0) else (IRP0) | L17: {="IRI" & (ROW(17:17) - ROW($14:$14)) & " = IRM" & (ROW(17:17) - ROW($14:$14)) & " * C" & (ROW(17:17) - ROW($14:$14))} -> IRI3 = IRM3 * C3 | M17: {="IRC" & (ROW(17:17) - ROW($14:$14)) & " = ∑IRIx; x: {0, …, MY" & (ROW(17:17) - ROW($14:$14)) & "}"} -> IRC3 = ∑IRIx; x: {0, …, MY3} | N17: {="ERM" & (ROW(17:17) - ROW($14:$14)) & " = if (YR" & (ROW(17:17) - ROW($14:$14)) & " ≤ EY) then (ERA0) else (ERP0)"} -> ERM3 = if (YR3 ≤ EY) then (ERA0) else (ERP0) | O17: {="ERI" & (ROW(17:17) - ROW($14:$14)) & " = ERM" & (ROW(17:17) - ROW($14:$14)) & " * C" & (ROW(17:17) - ROW($14:$14))} -> ERI3 = ERM3 * C3 | P17: {="ERU" & (ROW(17:17) - ROW($14:$14)) & " = ∑ERIx; x: {0, …, MY" & (ROW(17:17) - ROW($14:$14)) & "}"} -> ERU3 = ∑ERIx; x: {0, …, MY3} | Q17: {="PRM" & (ROW(17:17) - ROW($14:$14)) & " = if (YR" & (ROW(17:17) - ROW($14:$14)) & " ≤ EY) then (PRA0) else (PRP0)"} -> PRM3 = if (YR3 ≤ EY) then (PRA0) else (PRP0) | R17: {="PRI" & (ROW(17:17) - ROW($14:$14)) & " = PRM" & (ROW(17:17) - ROW($14:$14)) & " * C" & (ROW(17:17) - ROW($14:$14))} -> PRI3 = PRM3 * C3 | S17: {="PRU" & (ROW(17:17) - ROW($14:$14)) & " = ∑PRIx; x: {0, …, MY" & (ROW(17:17) - ROW($14:$14)) & "}"} -> PRU3 = ∑PRIx; x: {0, …, MY3} | T17: {="ORM" & (ROW(17:17) - ROW($14:$14)) & " = if (YR" & (ROW(17:17) - ROW($14:$14)) & " ≤ EY) then (ORA0) else (ORP0)"} -> ORM3 = if (YR3 ≤ EY) then (ORA0) else (ORP0) | U17: {="ORI" & (ROW(17:17) - ROW($14:$14)) & " = ORM" & (ROW(17:17) - ROW($14:$14)) & " * C" & (ROW(17:17) - ROW($14:$14))} -> ORI3 = ORM3 * C3 | V17: {="ORC" & (ROW(17:17) - ROW($14:$14)) & " = ∑ORIx; x: {0, …, MY" & (ROW(17:17) - ROW($14:$14)) & "}"} -> ORC3 = ∑ORIx; x: {0, …, MY3} | X17: 2028 Ignition Risk for Circuit Segment | AA17: 2031 | AB17: 3 | AC17: 1.021 | AD17: =AC17 / AC$14 -> 1.021 | AE17: =IF(AA17 < Y$15, Y$19, Y$20) -> 0.125 | AF17: =AE17 * AD17 -> 0.127625 | AG17: =SUM(AF$14:AF17) -> 2.261375 | AH17: =IF(AA17 < Y$15, Y$29, Y$30) -> 0.02 | AI17: =AH17 * AD17 -> 0.02042 | AJ17: =SUM(AI$14:AI17) -> 0.08084 | AK17: =IF(AA17 < Y$15, Y$34, Y$35) -> 0 | AL17: =AK17 * AD17 -> 0 | AM17: =SUM(AL$14:AL17) -> 0.14049 | AN17: =IF(AA17 < Y$15, Y$24, Y$25) -> 0.02 | AO17: =AN17 * AD17 -> 0.02042 | AP17: =SUM(AO$14:AO17) -> 0.22133 | AR17: 2028 Ignition Risk for Circuit Segment | AU17: 2031 | AV17: 3 | AW17: 1.021 | AX17: =AW17 / AW$14 -> 1.021 | AY17: =IF(AU17 < AS$15, AS$19, AS$20) -> 0.25 | AZ17: =AY17 * AX17 -> 0.25525 | BA17: =SUM(AZ$14:AZ17) -> 2.7605 | BB17: =IF(AU17 < AS$15, AS$29, AS$30) -> 3.78 | BC17: =BB17 * AX17 -> 3.85938 | BD17: =SUM(BC$14:BC17) -> 15.27876 | BE17: =IF(AU17 < AS$15, AS$34, AS$35) -> 0 | BF17: =BE17 * AX17 -> 0 | BG17: =SUM(BF$14:BF17) -> 2.82 | BH17: =IF(AU17 < AS$15, AS$24, AS$25) -> 3.78 | BI17: =BH17 * AX17 -> 3.85938 | BJ17: =SUM(BI$14:BI17) -> 18.09876 | BL17: 2028 Ignition Risk for Circuit Segment | BO17: 2031 | BP17: 3 | BQ17: 1.021 | BR17: =BQ17 / BQ$14 -> 1.021 | BS17: =IF(BO17 < BM$15, BM$19, BM$20) -> 0.5 | BT17: =BS17 * BR17 -> 0.5105 | BU17: =SUM(BT$14:BT17) -> 2.021 | BV17: =IF(BO17 < BM$15, BM$29, BM$30) -> 16.08 | BW17: =BV17 * BR17 -> 16.41768 | BX17: =SUM(BW$14:BW17) -> 64.99536 | BY17: =IF(BO17 < BM$15, BM$34, BM$35) -> 0 | BZ17: =BY17 * BR17 -> 0 | CA17: =SUM(BZ$14:BZ17) -> 0 | CB17: =IF(BO17 < BM$15, BM$24, BM$25) -> 16.08 | CC17: =CB17 * BR17 -> 16.41768 | CD17: =SUM(CC$14:CC17) -> 64.99536
D18: Residual Risk, Mitigation 2 (IRP2) | E18: IRP2 | G18: {="YR" & (ROW(18:18) - ROW($14:$14)) & " = " & (2028 + (ROW(18:18) - ROW($14:$14)))} -> YR4 = 2032 | H18: {="MY" & (ROW(18:18) - ROW($14:$14)) & " = " & (ROW(18:18) - ROW($14:$14))} -> MY4 = 4 | I18: {="CD" & (ROW(18:18) - ROW($14:$14))} -> CD4 | J18: {="CN" & (ROW(18:18) - ROW($14:$14)) & " = CD" & (ROW(18:18) - ROW($14:$14)) & " / CD0" & IF(ROW(18:18) - ROW($14:$14) = 0, " = 1", "")} -> CN4 = CD4 / CD0 | K18: {="IRM" & (ROW(18:18) - ROW($14:$14)) & " = if (YR" & (ROW(18:18) - ROW($14:$14)) & " ≤ EY) then (IRA0) else (IRP0)"} -> IRM4 = if (YR4 ≤ EY) then (IRA0) else (IRP0) | L18: {="IRI" & (ROW(18:18) - ROW($14:$14)) & " = IRM" & (ROW(18:18) - ROW($14:$14)) & " * C" & (ROW(18:18) - ROW($14:$14))} -> IRI4 = IRM4 * C4 | M18: {="IRC" & (ROW(18:18) - ROW($14:$14)) & " = ∑IRIx; x: {0, …, MY" & (ROW(18:18) - ROW($14:$14)) & "}"} -> IRC4 = ∑IRIx; x: {0, …, MY4} | N18: {="ERM" & (ROW(18:18) - ROW($14:$14)) & " = if (YR" & (ROW(18:18) - ROW($14:$14)) & " ≤ EY) then (ERA0) else (ERP0)"} -> ERM4 = if (YR4 ≤ EY) then (ERA0) else (ERP0) | O18: {="ERI" & (ROW(18:18) - ROW($14:$14)) & " = ERM" & (ROW(18:18) - ROW($14:$14)) & " * C" & (ROW(18:18) - ROW($14:$14))} -> ERI4 = ERM4 * C4 | P18: {="ERU" & (ROW(18:18) - ROW($14:$14)) & " = ∑ERIx; x: {0, …, MY" & (ROW(18:18) - ROW($14:$14)) & "}"} -> ERU4 = ∑ERIx; x: {0, …, MY4} | Q18: {="PRM" & (ROW(18:18) - ROW($14:$14)) & " = if (YR" & (ROW(18:18) - ROW($14:$14)) & " ≤ EY) then (PRA0) else (PRP0)"} -> PRM4 = if (YR4 ≤ EY) then (PRA0) else (PRP0) | R18: {="PRI" & (ROW(18:18) - ROW($14:$14)) & " = PRM" & (ROW(18:18) - ROW($14:$14)) & " * C" & (ROW(18:18) - ROW($14:$14))} -> PRI4 = PRM4 * C4 | S18: {="PRU" & (ROW(18:18) - ROW($14:$14)) & " = ∑PRIx; x: {0, …, MY" & (ROW(18:18) - ROW($14:$14)) & "}"} -> PRU4 = ∑PRIx; x: {0, …, MY4} | T18: {="ORM" & (ROW(18:18) - ROW($14:$14)) & " = if (YR" & (ROW(18:18) - ROW($14:$14)) & " ≤ EY) then (ORA0) else (ORP0)"} -> ORM4 = if (YR4 ≤ EY) then (ORA0) else (ORP0) | U18: {="ORI" & (ROW(18:18) - ROW($14:$14)) & " = ORM" & (ROW(18:18) - ROW($14:$14)) & " * C" & (ROW(18:18) - ROW($14:$14))} -> ORI4 = ORM4 * C4 | V18: {="ORC" & (ROW(18:18) - ROW($14:$14)) & " = ∑ORIx; x: {0, …, MY" & (ROW(18:18) - ROW($14:$14)) & "}"} -> ORC4 = ∑ORIx; x: {0, …, MY4} | AA18: 2032 | AB18: 4 | AC18: 1.027 | AD18: =AC18 / AC$14 -> 1.027 | AE18: =IF(AA18 < Y$15, Y$19, Y$20) -> 0.125 | AF18: =AE18 * AD18 -> 0.128375 | AG18: =SUM(AF$14:AF18) -> 2.38975 | AH18: =IF(AA18 < Y$15, Y$29, Y$30) -> 0.02 | AI18: =AH18 * AD18 -> 0.02054 | AJ18: =SUM(AI$14:AI18) -> 0.10138 | AK18: =IF(AA18 < Y$15, Y$34, Y$35) -> 0 | AL18: =AK18 * AD18 -> 0 | AM18: =SUM(AL$14:AL18) -> 0.14049 | AN18: =IF(AA18 < Y$15, Y$24, Y$25) -> 0.02 | AO18: =AN18 * AD18 -> 0.02054 | AP18: =SUM(AO$14:AO18) -> 0.24187 | AU18: 2032 | AV18: 4 | AW18: 1.027 | AX18: =AW18 / AW$14 -> 1.027 | AY18: =IF(AU18 < AS$15, AS$19, AS$20) -> 0.25 | AZ18: =AY18 * AX18 -> 0.25675 | BA18: =SUM(AZ$14:AZ18) -> 3.01725 | BB18: =IF(AU18 < AS$15, AS$29, AS$30) -> 3.78 | BC18: =BB18 * AX18 -> 3.88206 | BD18: =SUM(BC$14:BC18) -> 19.16082 | BE18: =IF(AU18 < AS$15, AS$34, AS$35) -> 0 | BF18: =BE18 * AX18 -> 0 | BG18: =SUM(BF$14:BF18) -> 2.82 | BH18: =IF(AU18 < AS$15, AS$24, AS$25) -> 3.78 | BI18: =BH18 * AX18 -> 3.88206 | BJ18: =SUM(BI$14:BI18) -> 21.98082 | BO18: 2032 | BP18: 4 | BQ18: 1.027 | BR18: =BQ18 / BQ$14 -> 1.027 | BS18: =IF(BO18 < BM$15, BM$19, BM$20) -> 0.5 | BT18: =BS18 * BR18 -> 0.5135 | BU18: =SUM(BT$14:BT18) -> 2.5345 | BV18: =IF(BO18 < BM$15, BM$29, BM$30) -> 16.08 | BW18: =BV18 * BR18 -> 16.51416 | BX18: =SUM(BW$14:BW18) -> 81.50952 | BY18: =IF(BO18 < BM$15, BM$34, BM$35) -> 0 | BZ18: =BY18 * BR18 -> 0 | CA18: =SUM(BZ$14:BZ18) -> 0 | CB18: =IF(BO18 < BM$15, BM$24, BM$25) -> 16.08 | CC18: =CB18 * BR18 -> 16.51416 | CD18: =SUM(CC$14:CC18) -> 81.50952
D19: Residual Risk, Mitigation 3 (IRP3) | E19: IRP3 | G19: {="YR" & (ROW(19:19) - ROW($14:$14)) & " = " & (2028 + (ROW(19:19) - ROW($14:$14)))} -> YR5 = 2033 | H19: {="MY" & (ROW(19:19) - ROW($14:$14)) & " = " & (ROW(19:19) - ROW($14:$14))} -> MY5 = 5 | I19: {="CD" & (ROW(19:19) - ROW($14:$14))} -> CD5 | J19: {="CN" & (ROW(19:19) - ROW($14:$14)) & " = CD" & (ROW(19:19) - ROW($14:$14)) & " / CD0" & IF(ROW(19:19) - ROW($14:$14) = 0, " = 1", "")} -> CN5 = CD5 / CD0 | K19: {="IRM" & (ROW(19:19) - ROW($14:$14)) & " = if (YR" & (ROW(19:19) - ROW($14:$14)) & " ≤ EY) then (IRA0) else (IRP0)"} -> IRM5 = if (YR5 ≤ EY) then (IRA0) else (IRP0) | L19: {="IRI" & (ROW(19:19) - ROW($14:$14)) & " = IRM" & (ROW(19:19) - ROW($14:$14)) & " * C" & (ROW(19:19) - ROW($14:$14))} -> IRI5 = IRM5 * C5 | M19: {="IRC" & (ROW(19:19) - ROW($14:$14)) & " = ∑IRIx; x: {0, …, MY" & (ROW(19:19) - ROW($14:$14)) & "}"} -> IRC5 = ∑IRIx; x: {0, …, MY5} | N19: {="ERM" & (ROW(19:19) - ROW($14:$14)) & " = if (YR" & (ROW(19:19) - ROW($14:$14)) & " ≤ EY) then (ERA0) else (ERP0)"} -> ERM5 = if (YR5 ≤ EY) then (ERA0) else (ERP0) | O19: {="ERI" & (ROW(19:19) - ROW($14:$14)) & " = ERM" & (ROW(19:19) - ROW($14:$14)) & " * C" & (ROW(19:19) - ROW($14:$14))} -> ERI5 = ERM5 * C5 | P19: {="ERU" & (ROW(19:19) - ROW($14:$14)) & " = ∑ERIx; x: {0, …, MY" & (ROW(19:19) - ROW($14:$14)) & "}"} -> ERU5 = ∑ERIx; x: {0, …, MY5} | Q19: {="PRM" & (ROW(19:19) - ROW($14:$14)) & " = if (YR" & (ROW(19:19) - ROW($14:$14)) & " ≤ EY) then (PRA0) else (PRP0)"} -> PRM5 = if (YR5 ≤ EY) then (PRA0) else (PRP0) | R19: {="PRI" & (ROW(19:19) - ROW($14:$14)) & " = PRM" & (ROW(19:19) - ROW($14:$14)) & " * C" & (ROW(19:19) - ROW($14:$14))} -> PRI5 = PRM5 * C5 | S19: {="PRU" & (ROW(19:19) - ROW($14:$14)) & " = ∑PRIx; x: {0, …, MY" & (ROW(19:19) - ROW($14:$14)) & "}"} -> PRU5 = ∑PRIx; x: {0, …, MY5} | T19: {="ORM" & (ROW(19:19) - ROW($14:$14)) & " = if (YR" & (ROW(19:19) - ROW($14:$14)) & " ≤ EY) then (ORA0) else (ORP0)"} -> ORM5 = if (YR5 ≤ EY) then (ORA0) else (ORP0) | U19: {="ORI" & (ROW(19:19) - ROW($14:$14)) & " = ORM" & (ROW(19:19) - ROW($14:$14)) & " * C" & (ROW(19:19) - ROW($14:$14))} -> ORI5 = ORM5 * C5 | V19: {="ORC" & (ROW(19:19) - ROW($14:$14)) & " = ∑ORIx; x: {0, …, MY" & (ROW(19:19) - ROW($14:$14)) & "}"} -> ORC5 = ∑ORIx; x: {0, …, MY5} | X19: Pre-Mitigation Risk (IRA0), A : 'ante' | Y19: ='Core Capability 6.3'!$E$15 -> 1 | AA19: 2033 | AB19: 5 | AC19: 1.034 | AD19: =AC19 / AC$14 -> 1.034 | AE19: =IF(AA19 < Y$15, Y$19, Y$20) -> 0.125 | AF19: =AE19 * AD19 -> 0.12925 | AG19: =SUM(AF$14:AF19) -> 2.519 | AH19: =IF(AA19 < Y$15, Y$29, Y$30) -> 0.02 | AI19: =AH19 * AD19 -> 0.02068 | AJ19: =SUM(AI$14:AI19) -> 0.12206 | AK19: =IF(AA19 < Y$15, Y$34, Y$35) -> 0 | AL19: =AK19 * AD19 -> 0 | AM19: =SUM(AL$14:AL19) -> 0.14049 | AN19: =IF(AA19 < Y$15, Y$24, Y$25) -> 0.02 | AO19: =AN19 * AD19 -> 0.02068 | AP19: =SUM(AO$14:AO19) -> 0.26255 | AR19: Pre-Mitigation Risk (IRA0), A : 'ante' | AS19: ='Core Capability 6.3'!$E$16 -> 2 | AU19: 2033 | AV19: 5 | AW19: 1.034 | AX19: =AW19 / AW$14 -> 1.034 | AY19: =IF(AU19 < AS$15, AS$19, AS$20) -> 0.25 | AZ19: =AY19 * AX19 -> 0.2585 | BA19: =SUM(AZ$14:AZ19) -> 3.27575 | BB19: =IF(AU19 < AS$15, AS$29, AS$30) -> 3.78 | BC19: =BB19 * AX19 -> 3.90852 | BD19: =SUM(BC$14:BC19) -> 23.06934 | BE19: =IF(AU19 < AS$15, AS$34, AS$35) -> 0 | BF19: =BE19 * AX19 -> 0 | BG19: =SUM(BF$14:BF19) -> 2.82 | BH19: =IF(AU19 < AS$15, AS$24, AS$25) -> 3.78 | BI19: =BH19 * AX19 -> 3.90852 | BJ19: =SUM(BI$14:BI19) -> 25.88934 | BL19: Pre-Mitigation Risk (IRA0), A : 'ante' | BM19: ='Core Capability 6.3'!$E$17 -> 4 | BO19: 2033 | BP19: 5 | BQ19: 1.034 | BR19: =BQ19 / BQ$14 -> 1.034 | BS19: =IF(BO19 < BM$15, BM$19, BM$20) -> 0.5 | BT19: =BS19 * BR19 -> 0.517 | BU19: =SUM(BT$14:BT19) -> 3.0515 | BV19: =IF(BO19 < BM$15, BM$29, BM$30) -> 16.08 | BW19: =BV19 * BR19 -> 16.62672 | BX19: =SUM(BW$14:BW19) -> 98.13624 | BY19: =IF(BO19 < BM$15, BM$34, BM$35) -> 0 | BZ19: =BY19 * BR19 -> 0 | CA19: =SUM(BZ$14:BZ19) -> 0 | CB19: =IF(BO19 < BM$15, BM$24, BM$25) -> 16.08 | CC19: =CB19 * BR19 -> 16.62672 | CD19: =SUM(CC$14:CC19) -> 98.13624
D20: Residual Risk, No Mitigation (IRP4) | E20: IRP4 | G20: {="YR" & (ROW(20:20) - ROW($14:$14)) & " = " & (2028 + (ROW(20:20) - ROW($14:$14)))} -> YR6 = 2034 | H20: {="MY" & (ROW(20:20) - ROW($14:$14)) & " = " & (ROW(20:20) - ROW($14:$14))} -> MY6 = 6 | I20: {="CD" & (ROW(20:20) - ROW($14:$14))} -> CD6 | J20: {="CN" & (ROW(20:20) - ROW($14:$14)) & " = CD" & (ROW(20:20) - ROW($14:$14)) & " / CD0" & IF(ROW(20:20) - ROW($14:$14) = 0, " = 1", "")} -> CN6 = CD6 / CD0 | K20: {="IRM" & (ROW(20:20) - ROW($14:$14)) & " = if (YR" & (ROW(20:20) - ROW($14:$14)) & " ≤ EY) then (IRA0) else (IRP0)"} -> IRM6 = if (YR6 ≤ EY) then (IRA0) else (IRP0) | L20: {="IRI" & (ROW(20:20) - ROW($14:$14)) & " = IRM" & (ROW(20:20) - ROW($14:$14)) & " * C" & (ROW(20:20) - ROW($14:$14))} -> IRI6 = IRM6 * C6 | M20: {="IRC" & (ROW(20:20) - ROW($14:$14)) & " = ∑IRIx; x: {0, …, MY" & (ROW(20:20) - ROW($14:$14)) & "}"} -> IRC6 = ∑IRIx; x: {0, …, MY6} | N20: {="ERM" & (ROW(20:20) - ROW($14:$14)) & " = if (YR" & (ROW(20:20) - ROW($14:$14)) & " ≤ EY) then (ERA0) else (ERP0)"} -> ERM6 = if (YR6 ≤ EY) then (ERA0) else (ERP0) | O20: {="ERI" & (ROW(20:20) - ROW($14:$14)) & " = ERM" & (ROW(20:20) - ROW($14:$14)) & " * C" & (ROW(20:20) - ROW($14:$14))} -> ERI6 = ERM6 * C6 | P20: {="ERU" & (ROW(20:20) - ROW($14:$14)) & " = ∑ERIx; x: {0, …, MY" & (ROW(20:20) - ROW($14:$14)) & "}"} -> ERU6 = ∑ERIx; x: {0, …, MY6} | Q20: {="PRM" & (ROW(20:20) - ROW($14:$14)) & " = if (YR" & (ROW(20:20) - ROW($14:$14)) & " ≤ EY) then (PRA0) else (PRP0)"} -> PRM6 = if (YR6 ≤ EY) then (PRA0) else (PRP0) | R20: {="PRI" & (ROW(20:20) - ROW($14:$14)) & " = PRM" & (ROW(20:20) - ROW($14:$14)) & " * C" & (ROW(20:20) - ROW($14:$14))} -> PRI6 = PRM6 * C6 | S20: {="PRU" & (ROW(20:20) - ROW($14:$14)) & " = ∑PRIx; x: {0, …, MY" & (ROW(20:20) - ROW($14:$14)) & "}"} -> PRU6 = ∑PRIx; x: {0, …, MY6} | T20: {="ORM" & (ROW(20:20) - ROW($14:$14)) & " = if (YR" & (ROW(20:20) - ROW($14:$14)) & " ≤ EY) then (ORA0) else (ORP0)"} -> ORM6 = if (YR6 ≤ EY) then (ORA0) else (ORP0) | U20: {="ORI" & (ROW(20:20) - ROW($14:$14)) & " = ORM" & (ROW(20:20) - ROW($14:$14)) & " * C" & (ROW(20:20) - ROW($14:$14))} -> ORI6 = ORM6 * C6 | V20: {="ORC" & (ROW(20:20) - ROW($14:$14)) & " = ∑ORIx; x: {0, …, MY" & (ROW(20:20) - ROW($14:$14)) & "}"} -> ORC6 = ∑ORIx; x: {0, …, MY6} | X20: Residual Risk (IRP0), P : 'post' | Y20: ='Core Capability 6.3'!$P$15 -> 0.125 | AA20: 2034 | AB20: 6 | AC20: 1.039 | AD20: =AC20 / AC$14 -> 1.039 | AE20: =IF(AA20 < Y$15, Y$19, Y$20) -> 0.125 | AF20: =AE20 * AD20 -> 0.129875 | AG20: =SUM(AF$14:AF20) -> 2.648875 | AH20: =IF(AA20 < Y$15, Y$29, Y$30) -> 0.02 | AI20: =AH20 * AD20 -> 0.02078 | AJ20: =SUM(AI$14:AI20) -> 0.14284 | AK20: =IF(AA20 < Y$15, Y$34, Y$35) -> 0 | AL20: =AK20 * AD20 -> 0 | AM20: =SUM(AL$14:AL20) -> 0.14049 | AN20: =IF(AA20 < Y$15, Y$24, Y$25) -> 0.02 | AO20: =AN20 * AD20 -> 0.02078 | AP20: =SUM(AO$14:AO20) -> 0.28333 | AR20: Residual Risk (IRP0), P : 'post' | AS20: ='Core Capability 6.3'!$P$16 -> 0.25 | AU20: 2034 | AV20: 6 | AW20: 1.039 | AX20: =AW20 / AW$14 -> 1.039 | AY20: =IF(AU20 < AS$15, AS$19, AS$20) -> 0.25 | AZ20: =AY20 * AX20 -> 0.25975 | BA20: =SUM(AZ$14:AZ20) -> 3.5355 | BB20: =IF(AU20 < AS$15, AS$29, AS$30) -> 3.78 | BC20: =BB20 * AX20 -> 3.92742 | BD20: =SUM(BC$14:BC20) -> 26.99676 | BE20: =IF(AU20 < AS$15, AS$34, AS$35) -> 0 | BF20: =BE20 * AX20 -> 0 | BG20: =SUM(BF$14:BF20) -> 2.82 | BH20: =IF(AU20 < AS$15, AS$24, AS$25) -> 3.78 | BI20: =BH20 * AX20 -> 3.92742 | BJ20: =SUM(BI$14:BI20) -> 29.81676 | BL20: Residual Risk (IRP0), P : 'post' | BM20: ='Core Capability 6.3'!$P$17 -> 0.5 | BO20: 2034 | BP20: 6 | BQ20: 1.039 | BR20: =BQ20 / BQ$14 -> 1.039 | BS20: =IF(BO20 < BM$15, BM$19, BM$20) -> 0.5 | BT20: =BS20 * BR20 -> 0.5195 | BU20: =SUM(BT$14:BT20) -> 3.571 | BV20: =IF(BO20 < BM$15, BM$29, BM$30) -> 16.08 | BW20: =BV20 * BR20 -> 16.70712 | BX20: =SUM(BW$14:BW20) -> 114.84336 | BY20: =IF(BO20 < BM$15, BM$34, BM$35) -> 0 | BZ20: =BY20 * BR20 -> 0 | CA20: =SUM(BZ$14:BZ20) -> 0 | CB20: =IF(BO20 < BM$15, BM$24, BM$25) -> 16.08 | CC20: =CB20 * BR20 -> 16.70712 | CD20: =SUM(CC$14:CC20) -> 114.84336
