Workbook

Sheet Directory
A1: Workpaper 013
A2: Pacific Gas and Electric Company
A3: Electrical Undergrounding Program
A4: Core Capability 6: Supporting Formulas
A5: Directory
B7: Sheet | C7: Section of Core Capability 4 Section Addressed
B8: 6.3 - Baseline Risk | C8: To establish an initial Baseline, the Large Electrical Corporation must model the risk landscape assuming that no EUP Undergrounding Projects are constructed. This Baseline modeling must include any non-EUP wildfire mitigation activity in Tier 2 or 3 HFTDs. In subsequent Baselines, the Large Electrical Corporation must include activity outside of the EUP program that the Large Electrical Corporation has initiated or completed since the establishment of the previous Baseline.
B9: 6.5 - Project Timelines | C9: To establish an initial Baseline, the Large Electrical Corporation must model the risk landscape assuming that no EUP Undergrounding Projects are constructed. This Baseline modeling must include any non-EUP wildfire mitigation activity in Tier 2 or 3 HFTDs. In subsequent Baselines, the Large Electrical Corporation must include activity outside of the EUP program that the Large Electrical Corporation has initiated or completed since the establishment of the previous Baseline. This modeling will attempt to account for climate change. Baselines must be measured and reported at the same cadence as other risk model landscape components at 0, 1, 2, 3, 4, 5, 6, 7, 8, 9, 10, 15, 20, 25, 30, 35, 40, 45, 50, and 55 years. Each Baseline must indicate the version of the modeling system and the model calibration(s) that were used to evaluate it. The Baselines must also indicate the date the Baseline was created, and the naming scheme of the Baselines must be consistent across the lifetime of the EUP. Any comparison of an Undergrounding Project or Alternative Mitigation to a Baseline must indicate what Baseline the comparison is being made to. For Project-Level comparisons, such as the evaluation of the Project-Level Standard, the Baseline also establishes the pre-mitigation Circuit Segment length and alignment on which to make the future comparisons.

Sheet Core Capability 6.3
A1: Workpaper 013 | T1: Workpaper 013 | AL1: Workpaper 013
A2: Pacific Gas and Electric Company | T2: Pacific Gas and Electric Company | AL2: Pacific Gas and Electric Company
A3: Electrical Undergrounding Program | T3: Electrical Undergrounding Program | AL3: Electrical Undergrounding Program
A4: Core Capability 6: Supporting Formulas | T4: Core Capability 6: Supporting Formulas | AL4: Core Capability 6: Supporting Formulas
A5: Core Capability 6.3 | T5: Core Capability 6.3 | AL5: Core Capability 6.3
B8: Core Capability 6.3: Develop a system to record Baselines and historical model calibrations. A new Baseline must be recorded at least once per calendar year. This new Baseline must account for all physical changes to the electrical distribution infrastructure performed during that year, through the EUP or any other mechanism
B10: Electric Undergrounding Plan
B11: Core Capability 6.3 Supporting Formulas
B13: Wildfire Risk Example Calculations | E13: Year 1 | Q13: Year 2* | T13: EPSS Formulas | W13: Year 1 | AI13: Year 2* | AL13: PSPS Formulas | AO13: Year 1 | BA13: Year 2*
B14: Portfolio Project # (B) | C14: Circuit Segment (C) | D14: Circuit Segment Miles (D) | E14: Baseline Wildfire Risk (E) | F14: Mileage Addressed by UG (F) | G14: Mileage Addressed by OH (G) | H14: Mileage Addressed by Line Removal (H) | I14: UG Wildfire Mitigation Effectiveness Values (I) | J14: OH Wildfire Mitigation Effectiveness Values (J) | K14: Line Removal Wildfire Mitigation Effectiveness (K) | L14: Wildfire Risk Addressed by UG (L) | M14: Wildfire Risk Addressed by OH (M) | N14: Wildfire Risk Addressed by LR (N) | O14: Total Wildfire Risk Addressed (O) | P14: Total Residual Wildfire Risk (P) | Q14: Year 2 Wildfire Climate Factor (Q) | R14: Year 2: New Baseline Wildfire Risk (R) | T14: Portfolio Project # (V) | U14: Circuit Segment (W) | V14: Circuit Segment Miles (X) | W14: Baseline EPSS Risk (Y) | X14: Mileage Addressed by UG (Z) | Y14: Mileage Addressed by OH (AA) | Z14: Mileage Addressed by Line Removal (AB) | AA14: UG EPSS Mitigation Effectiveness Values (AC) | AB14: OH EPSS Mitigation Effectiveness Values (AD) | AC14: Line Removal EPSS Mitigation Effectiveness (AE) | AD14: EPSS Risk Addressed by UG (AF) | AE14: EPSS Risk Addressed by OH (AG) | AF14: EPSS Risk Addressed by LR (AH) | AG14: Total EPSS Risk Addressed (AI) | AH14: Total Residual EPSS Risk (AJ) | AI14: Year 2 EPSS Climate Factor (AK) | AJ14: Year 2: New Baseline EPSS Risk (AL) | AL14: Portfolio Project # (AO) | AM14: Circuit Segment (AP) | AN14: Circuit Segment Miles (AQ) | AO14: Baseline PSPS Risk (AR) | AP14: Mileage Addressed by UG (AS) | AQ14: Mileage Addressed by OH (AT) | AR14: Mileage Addressed by Line Removal (AU) | AS14: UG PSPS Mitigation Effectiveness Values (AV) | AT14: OH PSPS Mitigation Effectiveness Values (AW) | AU14: Line Removal PSPS Mitigation Effectiveness (AX) | AV14: PSPS Risk Addressed by UG (AY) | AW14: PSPS Risk Addressed by OH (AZ) | AX14: PSPS Risk Addressed by LR (BA) | AY14: Total PSPS Risk Addressed (BB) | AZ14: Total Residual PSPS Risk (BC) | BA14: Year 2 PSPS Climate Factor (BD) | BB14: Year 2: New Baseline PSPS Risk (BE)
B15: Low Risk | C15: ALDER GLEN 1 | D15: 10 | E15: 1 | F15: 6 | G15: 3 | H15: 1 | I15: 0.95 | J15: 0.7 | K15: 0.95 | L15: =($E15/$D15) * F15 * I15 -> 0.57 | M15: =($E15/$D15) * G15 * J15 -> 0.21 | N15: =($E15/$D15) * H15 * K15 -> 0.095 | O15: =L15 + M15 + N15 -> 0.875 | P15: =E15 - O15 -> 0.125 | Q15: 1.1 | R15: =P15 * Q15 -> 0.1375 | T15: Low Risk | U15: ALDER GLEN 1 | V15: 10 | W15: 0.02 | X15: 6 | Y15: 3 | Z15: 1 | AA15: 1 | AB15: 0.52 | AC15: 1 | AD15: =($W15/$V15) * X15 * AA15 -> 0.012 | AE15: =($W15/$V15) * Y15 * AB15 -> 0.00312 | AF15: =($W15/$V15) * Z15 * AC15 -> 0.002 | AG15: =AD15 + AE15 + AF15 -> 0.01712 | AH15: =W15 - AG15 -> 0.00288 | AI15: 1.12 | AJ15: =AH15 * AI15 -> 0.0032256 | AL15: Low Risk | AM15: ALDER GLEN 1 | AN15: 10 | AO15: 0.07 | AP15: 6 | AQ15: 3 | AR15: 1 | AS15: 1 | AT15: 0 | AU15: 1 | AV15: =($AO15/$AN15) * AP15 * AS15 -> 0.042 | AW15: =($AO15/$AN15) * AQ15 * AT15 -> 0 | AX15: =($AO15/$AN15) * AR15 * AU15 -> 0.007 | AY15: =AV15 + AW15 + AX15 -> 0.049 | AZ15: =AO15 - AY15 -> 0.021 | BA15: 1.11 | BB15: =AZ15 * BA15 -> 0.02331
B16: Medium Risk | C16: BIRCH RIDGE 2 | D16: 10 | E16: 2 | F16: 6 | G16: 3 | H16: 1 | I16: 0.95 | J16: 0.7 | K16: 0.95 | L16: =($E16/$D16) * F16 * I16 -> 1.14 | M16: =($E16/$D16) * G16 * J16 -> 0.42 | N16: =($E16/$D16) * H16 * K16 -> 0.19 | O16: =L16 + M16 + N16 -> 1.75 | P16: =E16 - O16 -> 0.25 | Q16: 1.1 | R16: =P16 * Q16 -> 0.275 | T16: Medium Risk | U16: BIRCH RIDGE 2 | V16: 10 | W16: 3.78 | X16: 6 | Y16: 3 | Z16: 1 | AA16: 1 | AB16: 0.52 | AC16: 1 | AD16: =($W16/$V16) * X16 * AA16 -> 2.268 | AE16: =($W16/$V16) * Y16 * AB16 -> 0.58968 | AF16: =($W16/$V16) * Z16 * AC16 -> 0.378 | AG16: =AD16 + AE16 + AF16 -> 3.23568 | AH16: =W16 - AG16 -> 0.54432 | AI16: 1.12 | AJ16: =AH16 * AI16 -> 0.6096384 | AL16: Medium Risk | AM16: BIRCH RIDGE 2 | AN16: 10 | AO16: 2.82 | AP16: 6 | AQ16: 3 | AR16: 1 | AS16: 1 | AT16: 0 | AU16: 1 | AV16: =($AO16/$AN16) * AP16 * AS16 -> 1.692 | AW16: =($AO16/$AN16) * AQ16 * AT16 -> 0 | AX16: =($AO16/$AN16) * AR16 * AU16 -> 0.282 | AY16: =AV16 + AW16 + AX16 -> 1.974 | AZ16: =AO16 - AY16 -> 0.846 | BA16: 1.11 | BB16: =AZ16 * BA16 -> 0.93906
B17: High Risk | C17: CEDAR FALLS 3 | D17: 10 | E17: 4 | F17: 6 | G17: 3 | H17: 1 | I17: 0.95 | J17: 0.7 | K17: 0.95 | L17: =($E17/$D17) * F17 * I17 -> 2.28 | M17: =($E17/$D17) * G17 * J17 -> 0.84 | N17: =($E17/$D17) * H17 * K17 -> 0.38 | O17: =L17 + M17 + N17 -> 3.5 | P17: =E17 - O17 -> 0.5 | Q17: 1.1 | R17: =P17 * Q17 -> 0.55 | T17: High Risk | U17: CEDAR FALLS 3 | V17: 10 | W17: 16.08 | X17: 6 | Y17: 3 | Z17: 1 | AA17: 1 | AB17: 0.52 | AC17: 1 | AD17: =($W17/$V17) * X17 * AA17 -> 9.648 | AE17: =($W17/$V17) * Y17 * AB17 -> 2.50848 | AF17: =($W17/$V17) * Z17 * AC17 -> 1.608 | AG17: =AD17 + AE17 + AF17 -> 13.76448 | AH17: =W17 - AG17 -> 2.31552 | AI17: 1.12 | AJ17: =AH17 * AI17 -> 2.5933824 | AL17: High Risk | AM17: CEDAR FALLS 3 | AN17: 10 | AO17: 6.51 | AP17: 6 | AQ17: 3 | AR17: 1 | AS17: 1 | AT17: 0 | AU17: 1 | AV17: =($AO17/$AN17) * AP17 * AS17 -> 3.906 | AW17: =($AO17/$AN17) * AQ17 * AT17 -> 0 | AX17: =($AO17/$AN17) * AR17 * AU17 -> 0.651 | AY17: =AV17 + AW17 + AX17 -> 4.557 | AZ17: =AO17 - AY17 -> 1.953 | BA17: 1.11 | BB17: =AZ17 * BA17 -> 2.16783
B18: a Baseline Wildfire Risk examples used in this core capabilitity reflect Wildfire Risk with PSPS and EPSS active. For more information on how this calculation occurs, please refer to WP010 (Core Capability 3).
B20: Wildfire Risk Formulas | E20: Year 1 | Q20: Year 2* | T20: EPSS Formulas | W20: Year 1 | AI20: Year 2* | AL20: PSPS Formulas | AO20: Year 1 | BA20: Year 2*
B21: Portfolio Project # (B) | C21: Circuit Segment (C) | D21: Circuit Segment Miles (D) | E21: Baseline Wildfire Risk (E) | F21: Mileage Addressed by UG (F) | G21: Mileage Addressed by OH (G) | H21: Mileage Addressed by Line Removal (H) | I21: UG Wildfire Mitigation Effectiveness Values (I) | J21: OH Wildfire Mitigation Effectiveness Values (J) | K21: Line Removal Wildfire Mitigation Effectiveness (K) | L21: Wildfire Risk Addressed by UG (L) | M21: Wildfire Risk Addressed by OH (M) | N21: Wildfire Risk Addressed by LR (N) | O21: Total Wildfire Risk Addressed (O) | P21: Total Residual Wildfire Risk (P) | Q21: Year 2 Wildfire Climate Factor (Q) | R21: Year 2: New Baseline Wildfire Risk (R) | T21: Portfolio Project # (V) | U21: Circuit Segment (W) | V21: Circuit Segment Miles (X) | W21: Baseline EPSS Risk (Y) | X21: Mileage Addressed by UG (Z) | Y21: Mileage Addressed by OH (AA) | Z21: Mileage Addressed by Line Removal (AB) | AA21: UG EPSS Mitigation Effectiveness Values (AC) | AB21: OH EPSS Mitigation Effectiveness Values (AD) | AC21: Line Removal EPSS Mitigation Effectiveness (AE) | AD21: EPSS Risk Addressed by UG (AF) | AE21: EPSS Risk Addressed by OH (AG) | AF21: EPSS Risk Addressed by LR (AH) | AG21: Total EPSS Risk Addressed (AI) | AH21: Total Residual EPSS Risk (AJ) | AI21: Year 2 EPSS Climate Factor (AK) | AJ21: Year 2: New Baseline EPSS Risk (AL) | AL21: Portfolio Project # (AO) | AM21: Circuit Segment (AP) | AN21: Circuit Segment Miles (AQ) | AO21: Baseline PSPS Risk (AR) | AP21: Mileage Addressed by UG (AS) | AQ21: Mileage Addressed by OH (AT) | AR21: Mileage Addressed by Line Removal (AU) | AS21: UG PSPS Mitigation Effectiveness Values (AV) | AT21: OH PSPS Mitigation Effectiveness Values (AW) | AU21: Line Removal PSPS Mitigation Effectiveness (AX) | AV21: PSPS Risk Addressed by UG (AY) | AW21: PSPS Risk Addressed by OH (AZ) | AX21: PSPS Risk Addressed by LR (BA) | AY21: Total PSPS Risk Addressed (BB) | AZ21: Total Residual PSPS Risk (BC) | BA21: Year 2 PSPS Climate Factor (BD) | BB21: Year 2: New Baseline PSPS Risk (BE)
B22: 1 | C22: ALDER GLEN 1 | D22: D1 | E22: E1 | F22: F1 | G22: G1 | H22: H1 | I22: I1 | J22: J1 | K22: K1 | L22: L1 = (E1 / D1) * F1 * I1 | M22: M1 = (E1 / D1) * G1 * J1 | N22: N1 = (E1 / D1) * H1 * K1 | O22: O1 = L1 + M1 + N1 | P22: P1 = E1 - O1 | Q22: Q1 | R22: R1 = P1 * Q1 | T22: 1 | U22: ALDER GLEN 1 | V22: X1 | W22: Y1 | X22: Z1 | Y22: AA1 | Z22: AB1 | AA22: AC1 | AB22: AD1 | AC22: AE1 | AD22: AF1 = (Y1 / X1) * Z1 * AC1 | AE22: AG1 = (Y1 / X1) * AA1 * AD1 | AF22: AH1 = (Y1 / X1) * AB1 * AE1 | AG22: AI1 = AF1 + AG1 + AH1 | AH22: AJ1 = Y1 - AI1 | AI22: AK1 | AJ22: AL1 = AJ1 * AK1 | AL22: 1 | AM22: ALDER GLEN 1 | AN22: AQ1 | AO22: AR1 | AP22: AS1 | AQ22: AT1 | AR22: AU1 | AS22: AV1 | AT22: AW1 | AU22: AX1 | AV22: AY1 = (AR1 / AQ1) * AS1 * AV1 | AW22: AZ1 = (AR1 / AQ1) * AT1 * AW1 | AX22: BA1 = (AR1 / AQ1) * AU1 * AX1 | AY22: BB1 = AY1 + AZ1 + BA1 | AZ22: BC1 = AR1 - BB1 | BA22: BD1 | BB22: BE1 = BC1 * BD1
B23: 2 | C23: BIRCH RIDGE 2 | D23: D2 | E23: E2 | F23: F2 | G23: G2 | H23: H2 | I23: I2 | J23: J2 | K23: K2 | L23: L2 = (E2 / D2) * F2 * I2 | M23: M2 = (E2 / D2) * G2 * J2 | N23: N2 = (E2 / D2) * H2 * K2 | O23: O2 = L2 + M2 + N2 | P23: P2 = E2 - O2 | Q23: Q2 | R23: R2 = P2 * Q2 | T23: 2 | U23: BIRCH RIDGE 2 | V23: X2 | W23: Y2 | X23: Z2 | Y23: AA2 | Z23: AB2 | AA23: AC2 | AB23: AD2 | AC23: AE2 | AD23: AF2 = (Y2 / X2) * Z2 * AC2 | AE23: AG2 = (Y2 / X2) * AA2 * AD2 | AF23: AH2 = (Y2 / X2) * AB2 * AE2 | AG23: AI2 = AF2 + AG2 + AH2 | AH23: AJ2 = Y2 - AI2 | AI23: AK2 | AJ23: AL2 = AJ2 * AK2 | AL23: 2 | AM23: BIRCH RIDGE 2 | AN23: AQ2 | AO23: AR2 | AP23: AS2 | AQ23: AT2 | AR23: AU2 | AS23: AV2 | AT23: AW2 | AU23: AX2 | AV23: AY2 = (AR2 / AQ2) * AS2 * AV2 | AW23: AZ2 = (AR2 / AQ2) * AT2 * AW2 | AX23: BA2 = (AR2 / AQ2) * AU2 * AX2 | AY23: BB2 = AY2 + AZ2 + BA2 | AZ23: BC2 = AR2 - BB2 | BA23: BD2 | BB23: BE2 = BC2 * BD2
B24: 3 | C24: CEDAR FALLS 3 | D24: D3 | E24: E3 | F24: F3 | G24: G3 | H24: H3 | I24: I3 | J24: J3 | K24: K3 | L24: L3 = (E3 / D3) * F3 * I3 | M24: M3 = (E3 / D3) * G3 * J3 | N24: N3 = (E3 / D3) * H3 * K3 | O24: O3 = L3 + M3 + N3 | P24: P3 = E3 - O3 | Q24: Q3 | R24: R3 = P3 * Q3 | T24: 3 | U24: CEDAR FALLS 3 | V24: X3 | W24: Y3 | X24: Z3 | Y24: AA3 | Z24: AB3 | AA24: AC3 | AB24: AD3 | AC24: AE3 | AD24: AF3 = (Y3 / X3) * Z3 * AC3 | AE24: AG3 = (Y3 / X3) * AA3 * AD3 | AF24: AH3 = (Y3 / X3) * AB3 * AE3 | AG24: AI3 = AF3 + AG3 + AH3 | AH24: AJ3 = Y3 - AI3 | AI24: AK3 | AJ24: AL3 = AJ3 * AK3 | AL24: 3 | AM24: CEDAR FALLS 3 | AN24: AQ3 | AO24: AR3 | AP24: AS3 | AQ24: AT3 | AR24: AU3 | AS24: AV3 | AT24: AW3 | AU24: AX3 | AV24: AY3 = (AR3 / AQ3) * AS3 * AV3 | AW24: AZ3 = (AR3 / AQ3) * AT3 * AW3 | AX24: BA3 = (AR3 / AQ3) * AU3 * AX3 | AY24: BB3 = AY3 + AZ3 + BA3 | AZ24: BC3 = AR3 - BB3 | BA24: BD3 | BB24: BE3 = BC3 * BD3
B25: 4 | C25: DOGWOOD PASS 4 | D25: D4 | E25: E4 | F25: F4 | G25: G4 | H25: H4 | I25: I4 | J25: J4 | K25: K4 | L25: L4 = (E4 / D4) * F4 * I4 | M25: M4 = (E4 / D4) * G4 * J4 | N25: N4 = (E4 / D4) * H4 * K4 | O25: O4 = L4 + M4 + N4 | P25: P4 = E4 - O4 | Q25: Q4 | R25: R4 = P4 * Q4 | T25: 4 | U25: DOGWOOD PASS 4 | V25: X4 | W25: Y4 | X25: Z4 | Y25: AA4 | Z25: AB4 | AA25: AC4 | AB25: AD4 | AC25: AE4 | AD25: AF4 = (Y4 / X4) * Z4 * AC4 | AE25: AG4 = (Y4 / X4) * AA4 * AD4 | AF25: AH4 = (Y4 / X4) * AB4 * AE4 | AG25: AI4 = AF4 + AG4 + AH4 | AH25: AJ4 = Y4 - AI4 | AI25: AK4 | AJ25: AL4 = AJ4 * AK4 | AL25: 4 | AM25: DOGWOOD PASS 4 | AN25: AQ4 | AO25: AR4 | AP25: AS4 | AQ25: AT4 | AR25: AU4 | AS25: AV4 | AT25: AW4 | AU25: AX4 | AV25: AY4 = (AR4 / AQ4) * AS4 * AV4 | AW25: AZ4 = (AR4 / AQ4) * AT4 * AW4 | AX25: BA4 = (AR4 / AQ4) * AU4 * AX4 | AY25: BB4 = AY4 + AZ4 + BA4 | AZ25: BC4 = AR4 - BB4 | BA25: BD4 | BB25: BE4 = BC4 * BD4
B26: 5 | C26: ELDER CREEK 5 | D26: D5 | E26: E5 | F26: F5 | G26: G5 | H26: H5 | I26: I5 | J26: J5 | K26: K5 | L26: L5 = (E5 / D5) * F5 * I5 | M26: M5 = (E5 / D5) * G5 * J5 | N26: N5 = (E5 / D5) * H5 * K5 | O26: O5 = L5 + M5 + N5 | P26: P5 = E5 - O5 | Q26: Q5 | R26: R5 = P5 * Q5 | T26: 5 | U26: ELDER CREEK 5 | V26: X5 | W26: Y5 | X26: Z5 | Y26: AA5 | Z26: AB5 | AA26: AC5 | AB26: AD5 | AC26: AE5 | AD26: AF5 = (Y5 / X5) * Z5 * AC5 | AE26: AG5 = (Y5 / X5) * AA5 * AD5 | AF26: AH5 = (Y5 / X5) * AB5 * AE5 | AG26: AI5 = AF5 + AG5 + AH5 | AH26: AJ5 = Y5 - AI5 | AI26: AK5 | AJ26: AL5 = AJ5 * AK5 | AL26: 5 | AM26: ELDER CREEK 5 | AN26: AQ5 | AO26: AR5 | AP26: AS5 | AQ26: AT5 | AR26: AU5 | AS26: AV5 | AT26: AW5 | AU26: AX5 | AV26: AY5 = (AR5 / AQ5) * AS5 * AV5 | AW26: AZ5 = (AR5 / AQ5) * AT5 * AW5 | AX26: BA5 = (AR5 / AQ5) * AU5 * AX5 | AY26: BB5 = AY5 + AZ5 + BA5 | AZ26: BC5 = AR5 - BB5 | BA26: BD5 | BB26: BE5 = BC5 * BD5
B27: 6 | C27: FOX HOLLOW 6 | D27: D6 | E27: E6 | F27: F6 | G27: G6 | H27: H6 | I27: I6 | J27: J6 | K27: K6 | L27: L6 = (E6 / D6) * F6 * I6 | M27: M6 = (E6 / D6) * G6 * J6 | N27: N6 = (E6 / D6) * H6 * K6 | O27: O6 = L6 + M6 + N6 | P27: P6 = E6 - O6 | Q27: Q6 | R27: R6 = P6 * Q6 | T27: 6 | U27: FOX HOLLOW 6 | V27: X6 | W27: Y6 | X27: Z6 | Y27: AA6 | Z27: AB6 | AA27: AC6 | AB27: AD6 | AC27: AE6 | AD27: AF6 = (Y6 / X6) * Z6 * AC6 | AE27: AG6 = (Y6 / X6) * AA6 * AD6 | AF27: AH6 = (Y6 / X6) * AB6 * AE6 | AG27: AI6 = AF6 + AG6 + AH6 | AH27: AJ6 = Y6 - AI6 | AI27: AK6 | AJ27: AL6 = AJ6 * AK6 | AL27: 6 | AM27: FOX HOLLOW 6 | AN27: AQ6 | AO27: AR6 | AP27: AS6 | AQ27: AT6 | AR27: AU6 | AS27: AV6 | AT27: AW6 | AU27: AX6 | AV27: AY6 = (AR6 / AQ6) * AS6 * AV6 | AW27: AZ6 = (AR6 / AQ6) * AT6 * AW6 | AX27: BA6 = (AR6 / AQ6) * AU6 * AX6 | AY27: BB6 = AY6 + AZ6 + BA6 | AZ27: BC6 = AR6 - BB6 | BA27: BD6 | BB27: BE6 = BC6 * BD6
B28: 7 | C28: GRANITE PEAK 7 | D28: D7 | E28: E7 | F28: F7 | G28: G7 | H28: H7 | I28: I7 | J28: J7 | K28: K7 | L28: L7 = (E7 / D7) * F7 * I7 | M28: M7 = (E7 / D7) * G7 * J7 | N28: N7 = (E7 / D7) * H7 * K7 | O28: O7 = L7 + M7 + N7 | P28: P7 = E7 - O7 | Q28: Q7 | R28: R7 = P7 * Q7 | T28: 7 | U28: GRANITE PEAK 7 | V28: X7 | W28: Y7 | X28: Z7 | Y28: AA7 | Z28: AB7 | AA28: AC7 | AB28: AD7 | AC28: AE7 | AD28: AF7 = (Y7 / X7) * Z7 * AC7 | AE28: AG7 = (Y7 / X7) * AA7 * AD7 | AF28: AH7 = (Y7 / X7) * AB7 * AE7 | AG28: AI7 = AF7 + AG7 + AH7 | AH28: AJ7 = Y7 - AI7 | AI28: AK7 | AJ28: AL7 = AJ7 * AK7 | AL28: 7 | AM28: GRANITE PEAK 7 | AN28: AQ7 | AO28: AR7 | AP28: AS7 | AQ28: AT7 | AR28: AU7 | AS28: AV7 | AT28: AW7 | AU28: AX7 | AV28: AY7 = (AR7 / AQ7) * AS7 * AV7 | AW28: AZ7 = (AR7 / AQ7) * AT7 * AW7 | AX28: BA7 = (AR7 / AQ7) * AU7 * AX7 | AY28: BB7 = AY7 + AZ7 + BA7 | AZ28: BC7 = AR7 - BB7 | BA28: BD7 | BB28: BE7 = BC7 * BD7
B29: 8 | C29: HAWTHORN FLAT 8 | D29: D8 | E29: E8 | F29: F8 | G29: G8 | H29: H8 | I29: I8 | J29: J8 | K29: K8 | L29: L8 = (E8 / D8) * F8 * I8 | M29: M8 = (E8 / D8) * G8 * J8 | N29: N8 = (E8 / D8) * H8 * K8 | O29: O8 = L8 + M8 + N8 | P29: P8 = E8 - O8 | Q29: Q8 | R29: R8 = P8 * Q8 | T29: 8 | U29: HAWTHORN FLAT 8 | V29: X8 | W29: Y8 | X29: Z8 | Y29: AA8 | Z29: AB8 | AA29: AC8 | AB29: AD8 | AC29: AE8 | AD29: AF8 = (Y8 / X8) * Z8 * AC8 | AE29: AG8 = (Y8 / X8) * AA8 * AD8 | AF29: AH8 = (Y8 / X8) * AB8 * AE8 | AG29: AI8 = AF8 + AG8 + AH8 | AH29: AJ8 = Y8 - AI8 | AI29: AK8 | AJ29: AL8 = AJ8 * AK8 | AL29: 8 | AM29: HAWTHORN FLAT 8 | AN29: AQ8 | AO29: AR8 | AP29: AS8 | AQ29: AT8 | AR29: AU8 | AS29: AV8 | AT29: AW8 | AU29: AX8 | AV29: AY8 = (AR8 / AQ8) * AS8 * AV8 | AW29: AZ8 = (AR8 / AQ8) * AT8 * AW8 | AX29: BA8 = (AR8 / AQ8) * AU8 * AX8 | AY29: BB8 = AY8 + AZ8 + BA8 | AZ29: BC8 = AR8 - BB8 | BA29: BD8 | BB29: BE8 = BC8 * BD8
B30: 9 | C30: INDIGO RIDGE 9 | D30: D9 | E30: E9 | F30: F9 | G30: G9 | H30: H9 | I30: I9 | J30: J9 | K30: K9 | L30: L9 = (E9 / D9) * F9 * I9 | M30: M9 = (E9 / D9) * G9 * J9 | N30: N9 = (E9 / D9) * H9 * K9 | O30: O9 = L9 + M9 + N9 | P30: P9 = E9 - O9 | Q30: Q9 | R30: R9 = P9 * Q9 | T30: 9 | U30: INDIGO RIDGE 9 | V30: X9 | W30: Y9 | X30: Z9 | Y30: AA9 | Z30: AB9 | AA30: AC9 | AB30: AD9 | AC30: AE9 | AD30: AF9 = (Y9 / X9) * Z9 * AC9 | AE30: AG9 = (Y9 / X9) * AA9 * AD9 | AF30: AH9 = (Y9 / X9) * AB9 * AE9 | AG30: AI9 = AF9 + AG9 + AH9 | AH30: AJ9 = Y9 - AI9 | AI30: AK9 | AJ30: AL9 = AJ9 * AK9 | AL30: 9 | AM30: INDIGO RIDGE 9 | AN30: AQ9 | AO30: AR9 | AP30: AS9 | AQ30: AT9 | AR30: AU9 | AS30: AV9 | AT30: AW9 | AU30: AX9 | AV30: AY9 = (AR9 / AQ9) * AS9 * AV9 | AW30: AZ9 = (AR9 / AQ9) * AT9 * AW9 | AX30: BA9 = (AR9 / AQ9) * AU9 * AX9 | AY30: BB9 = AY9 + AZ9 + BA9 | AZ30: BC9 = AR9 - BB9 | BA30: BD9 | BB30: BE9 = BC9 * BD9
B31: 10 | C31: JUNIPER POINT 1 | D31: D10 | E31: E10 | F31: F10 | G31: G10 | H31: H10 | I31: I10 | J31: J10 | K31: K10 | L31: L10 = (E10 / D10) * F10 * I10 | M31: M10 = (E10 / D10) * G10 * J10 | N31: N10 = (E10 / D10) * H10 * K10 | O31: O10 = L10 + M10 + N10 | P31: P10 = E10 - O10 | Q31: Q10 | R31: R10 = P10 * Q10 | T31: 10 | U31: JUNIPER POINT 1 | V31: X10 | W31: Y10 | X31: Z10 | Y31: AA10 | Z31: AB10 | AA31: AC10 | AB31: AD10 | AC31: AE10 | AD31: AF10 = (Y10 / X10) * Z10 * AC10 | AE31: AG10 = (Y10 / X10) * AA10 * AD10 | AF31: AH10 = (Y10 / X10) * AB10 * AE10 | AG31: AI10 = AF10 + AG10 + AH10 | AH31: AJ10 = Y10 - AI10 | AI31: AK10 | AJ31: AL10 = AJ10 * AK10 | AL31: 10 | AM31: JUNIPER POINT 1 | AN31: AQ10 | AO31: AR10 | AP31: AS10 | AQ31: AT10 | AR31: AU10 | AS31: AV10 | AT31: AW10 | AU31: AX10 | AV31: AY10 = (AR10 / AQ10) * AS10 * AV10 | AW31: AZ10 = (AR10 / AQ10) * AT10 * AW10 | AX31: BA10 = (AR10 / AQ10) * AU10 * AX10 | AY31: BB10 = AY10 + AZ10 + BA10 | AZ31: BC10 = AR10 - BB10 | BA31: BD10 | BB31: BE10 = BC10 * BD10
B32: 11 | C32: KELSEY BASIN 2 | D32: D11 | E32: E11 | F32: F11 | G32: G11 | H32: H11 | I32: I11 | J32: J11 | K32: K11 | L32: L11 = (E11 / D11) * F11 * I11 | M32: M11 = (E11 / D11) * G11 * J11 | N32: N11 = (E11 / D11) * H11 * K11 | O32: O11 = L11 + M11 + N11 | P32: P11 = E11 - O11 | Q32: Q11 | R32: R11 = P11 * Q11 | T32: 11 | U32: KELSEY BASIN 2 | V32: X11 | W32: Y11 | X32: Z11 | Y32: AA11 | Z32: AB11 | AA32: AC11 | AB32: AD11 | AC32: AE11 | AD32: AF11 = (Y11 / X11) * Z11 * AC11 | AE32: AG11 = (Y11 / X11) * AA11 * AD11 | AF32: AH11 = (Y11 / X11) * AB11 * AE11 | AG32: AI11 = AF11 + AG11 + AH11 | AH32: AJ11 = Y11 - AI11 | AI32: AK11 | AJ32: AL11 = AJ11 * AK11 | AL32: 11 | AM32: KELSEY BASIN 2 | AN32: AQ11 | AO32: AR11 | AP32: AS11 | AQ32: AT11 | AR32: AU11 | AS32: AV11 | AT32: AW11 | AU32: AX11 | AV32: AY11 = (AR11 / AQ11) * AS11 * AV11 | AW32: AZ11 = (AR11 / AQ11) * AT11 * AW11 | AX32: BA11 = (AR11 / AQ11) * AU11 * AX11 | AY32: BB11 = AY11 + AZ11 + BA11 | AZ32: BC11 = AR11 - BB11 | BA32: BD11 | BB32: BE11 = BC11 * BD11
B33: 12 | C33: LARCH MEADOW 3 | D33: D12 | E33: E12 | F33: F12 | G33: G12 | H33: H12 | I33: I12 | J33: J12 | K33: K12 | L33: L12 = (E12 / D12) * F12 * I12 | M33: M12 = (E12 / D12) * G12 * J12 | N33: N12 = (E12 / D12) * H12 * K12 | O33: O12 = L12 + M12 + N12 | P33: P12 = E12 - O12 | Q33: Q12 | R33: R12 = P12 * Q12 | T33: 12 | U33: LARCH MEADOW 3 | V33: X12 | W33: Y12 | X33: Z12 | Y33: AA12 | Z33: AB12 | AA33: AC12 | AB33: AD12 | AC33: AE12 | AD33: AF12 = (Y12 / X12) * Z12 * AC12 | AE33: AG12 = (Y12 / X12) * AA12 * AD12 | AF33: AH12 = (Y12 / X12) * AB12 * AE12 | AG33: AI12 = AF12 + AG12 + AH12 | AH33: AJ12 = Y12 - AI12 | AI33: AK12 | AJ33: AL12 = AJ12 * AK12 | AL33: 12 | AM33: LARCH MEADOW 3 | AN33: AQ12 | AO33: AR12 | AP33: AS12 | AQ33: AT12 | AR33: AU12 | AS33: AV12 | AT33: AW12 | AU33: AX12 | AV33: AY12 = (AR12 / AQ12) * AS12 * AV12 | AW33: AZ12 = (AR12 / AQ12) * AT12 * AW12 | AX33: BA12 = (AR12 / AQ12) * AU12 * AX12 | AY33: BB12 = AY12 + AZ12 + BA12 | AZ33: BC12 = AR12 - BB12 | BA33: BD12 | BB33: BE12 = BC12 * BD12
... B46: 25 | C46: ZION RIDGE 7 | D46: D25 | E46: E25 | F46: F25 | G46: G25 | H46: H25 | I46: I25 | J46: J25 | K46: K25 | L46: L25 = (E25 / D25) * F25 * I25 | M46: M25 = (E25 / D25) * G25 * J25 | N46: N25 = (E25 / D25) * H25 * K25 | O46: O25 = L25 + M25 + N25 | P46: P25 = E25 - O25 | Q46: Q25 | R46: R25 = P25 * Q25 | T46: 25 | U46: ZION RIDGE 7 | V46: X25 | W46: Y25 | X46: Z25 | Y46: AA25 | Z46: AB25 | AA46: AC25 | AB46: AD25 | AC46: AE25 | AD46: AF25 = (Y25 / X25) * Z25 * AC25 | AE46: AG25 = (Y25 / X25) * AA25 * AD25 | AF46: AH25 = (Y25 / X25) * AB25 * AE25 | AG46: AI25 = AF25 + AG25 + AH25 | AH46: AJ25 = Y25 - AI25 | AI46: AK25 | AJ46: AL25 = AJ25 * AK25 | AL46: 25 | AM46: ZION RIDGE 7 | AN46: AQ25 | AO46: AR25 | AP46: AS25 | AQ46: AT25 | AR46: AU25 | AS46: AV25 | AT46: AW25 | AU46: AX25 | AV46: AY25 = (AR25 / AQ25) * AS25 * AV25 | AW46: AZ25 = (AR25 / AQ25) * AT25 * AW25 | AX46: BA25 = (AR25 / AQ25) * AU25 * AX25 | AY46: BB25 = AY25 + AZ25 + BA25 | AZ46: BC25 = AR25 - BB25 | BA46: BD25 | BB46: BE25 = BC25 * BD25
B47: *The baselining of risk occurs annually and follows the same process from year-to-year, where the new baseline Circuit Segment Risk of Year N is the residual risk of the prior year. | AL47: *The baselining of risk occurs annually and follows the same process from year-to-year, where the new baseline Circuit Segment Risk of Year N is the residual risk of the prior year.

Sheet Core Capability 6.5
B1: Workpaper 013
B2: Pacific Gas and Electric Company
B3: Electrical Undergrounding Program
B4: Core Capability 6: Supporting Formulas
B5: Core Capability 6.5
B9: Overview | D9: Actual Project Completion / Segment Energization Year | G9: Instantaneous and Cumulative Ignition Risk and Outage Program Risk by Model Year | X9: Instantaneous and Cumulative Ignition Risk and Outage Program Risk by Model Year Numerical Examples - Low Risk Scenario | AR9: Instantaneous and Cumulative Ignition Risk and Outage Program Risk by Model Year Numerical Examples - Medium Risk Scenario | BL9: Instantaneous and Cumulative Ignition Risk and Outage Program Risk by Model Year Numerical Examples - High Risk Scenario
B11: Core Capability 6 of the EUP Guidelines requires that: | D11: Act. Completion / Energization Year | E11: EY | G11: Year (YRx) | H11: Model Year (MYx) | I11: Climate Factor Dividend (CDx) | J11: 2028-Normalized Climate Factor (CNx = CDx / CD0) | K11: Instantaneous Ignition Risk Multiplicand (IRMx = if (YRx < EY) then (IRAx) else (IRPx)) | L11: Instantaneous Ignition Risk (IRIx = IRMx * Cx) | M11: Cumulative Ignition Risk (IRCx = ∑IRIx; x: {0, …, MYx}) | N11: Instantaneous EPSS Risk Multiplicand (ERMx = if (YRx ≤ EY) then (ERAx) else (ERPx)) | O11: Instantaneous EPSS Risk (ERIx = ERMx * Cx) | P11: Cumulative EPSS Risk (ERUx = ∑ERIx; x: {0, …, MYx}) | Q11: Instantaneous PSPS Risk Multiplicand (PRMx = if (YRx ≤ EY) then (PRAx) else (PRPx)) | R11: Instantaneous PSPS Risk (PRIx = PRMx * Cx) | S11: Cumulative PSPS Risk (PRUx = ∑PRIx; x: {0, …, MYx}) | T11: Instantaneous Outage Program Risk Multiplicand (ORMx = if (YRx ≤ EY) then (ORAx) else (ORPx)) | U11: Instantaneous Outage Program Risk (ORIx = ORMx * Cx) | V11: Cumulative Outage Program Risk (ORCx = ∑ORIx; x: {0, …, MYx}) | X11: Low Risk Scenario | AA11: Year (YRx) | AB11: Model Year (MYx) | AC11: Climate Factor Dividend (CDx) | AD11: 2028-Normalized Climate Factor (CNx = CDx / CD0) | AE11: Instantaneous Ignition Risk Multiplicand (IRMx = if (YRx < EY) then (IRAx) else (IRPx)) | AF11: Instantaneous Ignition Risk (IRIx = IRMx * Cx) | AG11: Cumulative Ignition Risk (IRCx = ∑IRIx; x: {0, …, MYx}) | AH11: Instantaneous EPSS Risk Multiplicand (ERMx = if (YRx ≤ EY) then (ERAx) else (ERPx)) | AI11: Instantaneous EPSS Risk (ERIx = ERMx * Cx) | AJ11: Cumulative EPSS Risk (ERUx = ∑ERIx; x: {0, …, MYx}) | AK11: Instantaneous PSPS Risk Multiplicand (PRMx = if (YRx ≤ EY) then (PRAx) else (PRPx)) | AL11: Instantaneous PSPS Risk (PRIx = PRMx * Cx) | AM11: Cumulative PSPS Risk (PRUx = ∑PRIx; x: {0, …, MYx}) | AN11: Instantaneous Outage Program Risk Multiplicand (ORMx = if (YRx ≤ EY) then (ORAx) else (ORPx)) | AO11: Instantaneous Outage Program Risk (ORIx = ORMx * Cx) | AP11: Cumulative Outage Program Risk (ORCx = ∑ORIx; x: {0, …, MYx}) | AR11: Medium Risk Scenario | AU11: Year (YRx) | AV11: Model Year (MYx) | AW11: Climate Factor Dividend (CDx) | AX11: 2028-Normalized Climate Factor (CNx = CDx / CD0) | AY11: Instantaneous Ignition Risk Multiplicand (IRMx = if (YRx < EY) then (IRAx) else (IRPx)) | AZ11: Instantaneous Ignition Risk (IRIx = IRMx * Cx) | BA11: Cumulative Ignition Risk (IRCx = ∑IRIx; x: {0, …, MYx}) | BB11: Instantaneous EPSS Risk Multiplicand (ERMx = if (YRx ≤ EY) then (ERAx) else (ERPx)) | BC11: Instantaneous EPSS Risk (ERIx = ERMx * Cx) | BD11: Cumulative EPSS Risk (ERUx = ∑ERIx; x: {0, …, MYx}) | BE11: Instantaneous PSPS Risk Multiplicand (PRMx = if (YRx ≤ EY) then (PRAx) else (PRPx)) | BF11: Instantaneous PSPS Risk (PRIx = PRMx * Cx) | BG11: Cumulative PSPS Risk (PRUx = ∑PRIx; x: {0, …, MYx}) | BH11: Instantaneous Outage Program Risk Multiplicand (ORMx = if (YRx ≤ EY) then (ORAx) else (ORPx)) | BI11: Instantaneous Outage Program Risk (ORIx = ORMx * Cx) | BJ11: Cumulative Outage Program Risk (ORCx = ∑ORIx; x: {0, …, MYx}) | BL11: High Risk Scenario | BO11: Year (YRx) | BP11: Model Year (MYx) | BQ11: Climate Factor Dividend (CDx) | BR11: 2028-Normalized Climate Factor (CNx = CDx / CD0) | BS11: Instantaneous Ignition Risk Multiplicand (IRMx = if (YRx < EY) then (IRAx) else (IRPx)) | BT11: Instantaneous Ignition Risk (IRIx = IRMx * Cx) | BU11: Cumulative Ignition Risk (IRCx = ∑IRIx; x: {0, …, MYx}) | BV11: Instantaneous EPSS Risk Multiplicand (ERMx = if (YRx ≤ EY) then (ERAx) else (ERPx)) | BW11: Instantaneous EPSS Risk (ERIx = ERMx * Cx) | BX11: Cumulative EPSS Risk (ERUx = ∑ERIx; x: {0, …, MYx}) | BY11: Instantaneous PSPS Risk Multiplicand (PRMx = if (YRx ≤ EY) then (PRAx) else (PRPx)) | BZ11: Instantaneous PSPS Risk (PRIx = PRMx * Cx) | CA11: Cumulative PSPS Risk (PRUx = ∑PRIx; x: {0, …, MYx}) | CB11: Instantaneous Outage Program Risk Multiplicand (ORMx = if (YRx ≤ EY) then (ORAx) else (ORPx)) | CC11: Instantaneous Outage Program Risk (ORIx = ORMx * Cx) | CD11: Cumulative Outage Program Risk (ORCx = ∑ORIx; x: {0, …, MYx})
B13: ...[T]he Large Electrical Corporation must develop a system to record Baselines and historical model calibrations. A new Baseline must be recorded by the Large Electrical Corporation at least once per calendar year. This new Baseline must account for all physical changes to the electrical distribution infrastructure performed during that year, through the EUP or any other mechanism. | D13: 2028 Ignition Risk for Circuit Segment | X13: Actual Project Completion / Segment Energization Year | AR13: Actual Project Completion / Segment Energization Year | BL13: Actual Project Completion / Segment Energization Year
G14: {="YR" & (ROW(14:14) - ROW($14:$14)) & " = " & (2028 + (ROW(14:14) - ROW($14:$14)))} -> YR0 = 2028 | H14: {="MY" & (ROW(14:14) - ROW($14:$14)) & " = " & (ROW(14:14) - ROW($14:$14))} -> MY0 = 0 | I14: {="CD" & (ROW(14:14) - ROW($14:$14))} -> CD0 | J14: {="CN" & (ROW(14:14) - ROW($14:$14)) & " = CD" & (ROW(14:14) - ROW($14:$14)) & " / CD0" & IF(ROW(14:14) - ROW($14:$14) = 0, " = 1", "")} -> CN0 = CD0 / CD0 = 1 | K14: {="IRM" & (ROW(14:14) - ROW($14:$14)) & " = if (YR" & (ROW(14:14) - ROW($14:$14)) & " ≤ EY) then (IRA0) else (IRP0)"} -> IRM0 = if (YR0 ≤ EY) then (IRA0) else (IRP0) | L14: {="IRI" & (ROW(14:14) - ROW($14:$14)) & " = IRM" & (ROW(14:14) - ROW($14:$14)) & " * C" & (ROW(14:14) - ROW($14:$14))} -> IRI0 = IRM0 * C0 | M14: {="IRC" & (ROW(14:14) - ROW($14:$14)) & " = ∑IRIx; x: {0, …, MY" & (ROW(14:14) - ROW($14:$14)) & "}"} -> IRC0 = ∑IRIx; x: {0, …, MY0} | N14: {="ERM" & (ROW(14:14) - ROW($14:$14)) & " = if (YR" & (ROW(14:14) - ROW($14:$14)) & " ≤ EY) then (ERA0) else (ERP0)"} -> ERM0 = if (YR0 ≤ EY) then (ERA0) else (ERP0) | O14: {="ERI" & (ROW(14:14) - ROW($14:$14)) & " = ERM" & (ROW(14:14) - ROW($14:$14)) & " * C" & (ROW(14:14) - ROW($14:$14))} -> ERI0 = ERM0 * C0 | P14: {="ERU" & (ROW(14:14) - ROW($14:$14)) & " = ∑ERIx; x: {0, …, MY" & (ROW(14:14) - ROW($14:$14)) & "}"} -> ERU0 = ∑ERIx; x: {0, …, MY0} | Q14: {="PRM" & (ROW(14:14) - ROW($14:$14)) & " = if (YR" & (ROW(14:14) - ROW($14:$14)) & " ≤ EY) then (PRA0) else (PRP0)"} -> PRM0 = if (YR0 ≤ EY) then (PRA0) else (PRP0) | R14: {="PRI" & (ROW(14:14) - ROW($14:$14)) & " = PRM" & (ROW(14:14) - ROW($14:$14)) & " * C" & (ROW(14:14) - ROW($14:$14))} -> PRI0 = PRM0 * C0 | S14: {="PRU" & (ROW(14:14) - ROW($14:$14)) & " = ∑PRIx; x: {0, …, MY" & (ROW(14:14) - ROW($14:$14)) & "}"} -> PRU0 = ∑PRIx; x: {0, …, MY0} | T14: {="ORM" & (ROW(14:14) - ROW($14:$14)) & " = if (YR" & (ROW(14:14) - ROW($14:$14)) & " ≤ EY) then (ORA0) else (ORP0)"} -> ORM0 = if (YR0 ≤ EY) then (ORA0) else (ORP0) | U14: {="ORI" & (ROW(14:14) - ROW($14:$14)) & " = ORM" & (ROW(14:14) - ROW($14:$14)) & " * C" & (ROW(14:14) - ROW($14:$14))} -> ORI0 = ORM0 * C0 | V14: {="ORC" & (ROW(14:14) - ROW($14:$14)) & " = ∑ORIx; x: {0, …, MY" & (ROW(14:14) - ROW($14:$14)) & "}"} -> ORC0 = ∑ORIx; x: {0, …, MY0} | AA14: 2028 | AB14: 0 | AC14: 1 | AD14: =AC14 / AC$14 -> 1 | AE14: =IF(AA14 < Y$15, Y$19, Y$20) -> 1 | AF14: =AE14 * AD14 -> 1 | AG14: =SUM(AF$14:AF14) -> 1 | AH14: =IF(AA14 < Y$15, Y$29, Y$30) -> 0.02 | AI14: =AH14 * AD14 -> 0.02 | AJ14: =SUM(AI$14:AI14) -> 0.02 | AK14: =IF(AA14 < Y$15, Y$34, Y$35) -> 0.07 | AL14: =AK14 * AD14 -> 0.07 | AM14: =SUM(AL$14:AL14) -> 0.07 | AN14: =IF(AA14 < Y$15, Y$24, Y$25) -> 0.09 | AO14: =AN14 * AD14 -> 0.09 | AP14: =SUM(AO$14:AO14) -> 0.09 | AU14: 2028 | AV14: 0 | AW14: 1 | AX14: =AW14 / AW$14 -> 1 | AY14: =IF(AU14 < AS$15, AS$19, AS$20) -> 2 | AZ14: =AY14 * AX14 -> 2 | BA14: =SUM(AZ$14:AZ14) -> 2 | BB14: =IF(AU14 < AS$15, AS$29, AS$30) -> 3.78 | BC14: =BB14 * AX14 -> 3.78 | BD14: =SUM(BC$14:BC14) -> 3.78 | BE14: =IF(AU14 < AS$15, AS$34, AS$35) -> 2.82 | BF14: =BE14 * AX14 -> 2.82 | BG14: =SUM(BF$14:BF14) -> 2.82 | BH14: =IF(AU14 < AS$15, AS$24, AS$25) -> 6.6 | BI14: =BH14 * AX14 -> 6.6 | BJ14: =SUM(BI$14:BI14) -> 6.6 | BO14: 2028 | BP14: 0 | BQ14: 1 | BR14: =BQ14 / BQ$14 -> 1 | BS14: =IF(BO14 < BM$15, BM$19, BM$20) -> 0.5 | BT14: =BS14 * BR14 -> 0.5 | BU14: =SUM(BT$14:BT14) -> 0.5 | BV14: =IF(BO14 < BM$15, BM$29, BM$30) -> 16.08 | BW14: =BV14 * BR14 -> 16.08 | BX14: =SUM(BW$14:BW14) -> 16.08 | BY14: =IF(BO14 < BM$15, BM$34, BM$35) -> 0 | BZ14: =BY14 * BR14 -> 0 | CA14: =SUM(BZ$14:BZ14) -> 0 | CB14: =IF(BO14 < BM$15, BM$24, BM$25) -> 16.08 | CC14: =CB14 * BR14 -> 16.08 | CD14: =SUM(CC$14:CC14) -> 16.08
D15: Pre-Mitigation Risk (IRA0), A : 'ante' | E15: IRA0 | G15: {="YR" & (ROW(15:15) - ROW($14:$14)) & " = " & (2028 + (ROW(15:15) - ROW($14:$14)))} -> YR1 = 2029 | H15: {="MY" & (ROW(15:15) - ROW($14:$14)) & " = " & (ROW(15:15) - ROW($14:$14))} -> MY1 = 1 | I15: {="CD" & (ROW(15:15) - ROW($14:$14))} -> CD1 | J15: {="CN" & (ROW(15:15) - ROW($14:$14)) & " = CD" & (ROW(15:15) - ROW($14:$14)) & " / CD0" & IF(ROW(15:15) - ROW($14:$14) = 0, " = 1", "")} -> CN1 = CD1 / CD0 | K15: {="IRM" & (ROW(15:15) - ROW($14:$14)) & " = if (YR" & (ROW(15:15) - ROW($14:$14)) & " ≤ EY) then (IRA0) else (IRP0)"} -> IRM1 = if (YR1 ≤ EY) then (IRA0) else (IRP0) | L15: {="IRI" & (ROW(15:15) - ROW($14:$14)) & " = IRM" & (ROW(15:15) - ROW($14:$14)) & " * C" & (ROW(15:15) - ROW($14:$14))} -> IRI1 = IRM1 * C1 | M15: {="IRC" & (ROW(15:15) - ROW($14:$14)) & " = ∑IRIx; x: {0, …, MY" & (ROW(15:15) - ROW($14:$14)) & "}"} -> IRC1 = ∑IRIx; x: {0, …, MY1} | N15: {="ERM" & (ROW(15:15) - ROW($14:$14)) & " = if (YR" & (ROW(15:15) - ROW($14:$14)) & " ≤ EY) then (ERA0) else (ERP0)"} -> ERM1 = if (YR1 ≤ EY) then (ERA0) else (ERP0) | O15: {="ERI" & (ROW(15:15) - ROW($14:$14)) & " = ERM" & (ROW(15:15) - ROW($14:$14)) & " * C" & (ROW(15:15) - ROW($14:$14))} -> ERI1 = ERM1 * C1 | P15: {="ERU" & (ROW(15:15) - ROW($14:$14)) & " = ∑ERIx; x: {0, …, MY" & (ROW(15:15) - ROW($14:$14)) & "}"} -> ERU1 = ∑ERIx; x: {0, …, MY1} | Q15: {="PRM" & (ROW(15:15) - ROW($14:$14)) & " = if (YR" & (ROW(15:15) - ROW($14:$14)) & " ≤ EY) then (PRA0) else (PRP0)"} -> PRM1 = if (YR1 ≤ EY) then (PRA0) else (PRP0) | R15: {="PRI" & (ROW(15:15) - ROW($14:$14)) & " = PRM" & (ROW(15:15) - ROW($14:$14)) & " * C" & (ROW(15:15) - ROW($14:$14))} -> PRI1 = PRM1 * C1 | S15: {="PRU" & (ROW(15:15) - ROW($14:$14)) & " = ∑PRIx; x: {0, …, MY" & (ROW(15:15) - ROW($14:$14)) & "}"} -> PRU1 = ∑PRIx; x: {0, …, MY1} | T15: {="ORM" & (ROW(15:15) - ROW($14:$14)) & " = if (YR" & (ROW(15:15) - ROW($14:$14)) & " ≤ EY) then (ORA0) else (ORP0)"} -> ORM1 = if (YR1 ≤ EY) then (ORA0) else (ORP0) | U15: {="ORI" & (ROW(15:15) - ROW($14:$14)) & " = ORM" & (ROW(15:15) - ROW($14:$14)) & " * C" & (ROW(15:15) - ROW($14:$14))} -> ORI1 = ORM1 * C1 | V15: {="ORC" & (ROW(15:15) - ROW($14:$14)) & " = ∑ORIx; x: {0, …, MY" & (ROW(15:15) - ROW($14:$14)) & "}"} -> ORC1 = ∑ORIx; x: {0, …, MY1} | X15: Act. Completion / Energization Year | Y15: 2030 | AA15: 2029 | AB15: 1 | AC15: 1.007 | AD15: =AC15 / AC$14 -> 1.007 | AE15: =IF(AA15 < Y$15, Y$19, Y$20) -> 1 | AF15: =AE15 * AD15 -> 1.007 | AG15: =SUM(AF$14:AF15) -> 2.007 | AH15: =IF(AA15 < Y$15, Y$29, Y$30) -> 0.02 | AI15: =AH15 * AD15 -> 0.02014 | AJ15: =SUM(AI$14:AI15) -> 0.04014 | AK15: =IF(AA15 < Y$15, Y$34, Y$35) -> 0.07 | AL15: =AK15 * AD15 -> 0.07049 | AM15: =SUM(AL$14:AL15) -> 0.14049 | AN15: =IF(AA15 < Y$15, Y$24, Y$25) -> 0.09 | AO15: =AN15 * AD15 -> 0.09063 | AP15: =SUM(AO$14:AO15) -> 0.18063 | AR15: Act. Completion / Energization Year | AS15: 2029 | AU15: 2029 | AV15: 1 | AW15: 1.007 | AX15: =AW15 / AW$14 -> 1.007 | AY15: =IF(AU15 < AS$15, AS$19, AS$20) -> 0.25 | AZ15: =AY15 * AX15 -> 0.25175 | BA15: =SUM(AZ$14:AZ15) -> 2.25175 | BB15: =IF(AU15 < AS$15, AS$29, AS$30) -> 3.78 | BC15: =BB15 * AX15 -> 3.80646 | BD15: =SUM(BC$14:BC15) -> 7.58646 | BE15: =IF(AU15 < AS$15, AS$34, AS$35) -> 0 | BF15: =BE15 * AX15 -> 0 | BG15: =SUM(BF$14:BF15) -> 2.82 | BH15: =IF(AU15 < AS$15, AS$24, AS$25) -> 3.78 | BI15: =BH15 * AX15 -> 3.80646 | BJ15: =SUM(BI$14:BI15) -> 10.40646 | BL15: Act. Completion / Energization Year | BM15: 2028 | BO15: 2029 | BP15: 1 | BQ15: 1.007 | BR15: =BQ15 / BQ$14 -> 1.007 | BS15: =IF(BO15 < BM$15, BM$19, BM$20) -> 0.5 | BT15: =BS15 * BR15 -> 0.5035 | BU15: =SUM(BT$14:BT15) -> 1.0035 | BV15: =IF(BO15 < BM$15, BM$29, BM$30) -> 16.08 | BW15: =BV15 * BR15 -> 16.19256 | BX15: =SUM(BW$14:BW15) -> 32.27256 | BY15: =IF(BO15 < BM$15, BM$34, BM$35) -> 0 | BZ15: =BY15 * BR15 -> 0 | CA15: =SUM(BZ$14:BZ15) -> 0 | CB15: =IF(BO15 < BM$15, BM$24, BM$25) -> 16.08 | CC15: =CB15 * BR15 -> 16.19256 | CD15: =SUM(CC$14:CC15) -> 32.27256
D16: Residual Risk (IRP0), P : 'post' | E16: IRP0 = IRP1 + IRP2 + IRP3 + IRP4 | G16: {="YR" & (ROW(16:16) - ROW($14:$14)) & " = " & (2028 + (ROW(16:16) - ROW($14:$14)))} -> YR2 = 2030 | H16: {="MY" & (ROW(16:16) - ROW($14:$14)) & " = " & (ROW(16:16) - ROW($14:$14))} -> MY2 = 2 | I16: {="CD" & (ROW(16:16) - ROW($14:$14))} -> CD2 | J16: {="CN" & (ROW(16:16) - ROW($14:$14)) & " = CD" & (ROW(16:16) - ROW($14:$14)) & " / CD0" & IF(ROW(16:16) - ROW($14:$14) = 0, " = 1", "")} -> CN2 = CD2 / CD0 | K16: {="IRM" & (ROW(16:16) - ROW($14:$14)) & " = if (YR" & (ROW(16:16) - ROW($14:$14)) & " ≤ EY) then (IRA0) else (IRP0)"} -> IRM2 = if (YR2 ≤ EY) then (IRA0) else (IRP0) | L16: {="IRI" & (ROW(16:16) - ROW($14:$14)) & " = IRM" & (ROW(16:16) - ROW($14:$14)) & " * C" & (ROW(16:16) - ROW($14:$14))} -> IRI2 = IRM2 * C2 | M16: {="IRC" & (ROW(16:16) - ROW($14:$14)) & " = ∑IRIx; x: {0, …, MY" & (ROW(16:16) - ROW($14:$14)) & "}"} -> IRC2 = ∑IRIx; x: {0, …, MY2} | N16: {="ERM" & (ROW(16:16) - ROW($14:$14)) & " = if (YR" & (ROW(16:16) - ROW($14:$14)) & " ≤ EY) then (ERA0) else (ERP0)"} -> ERM2 = if (YR2 ≤ EY) then (ERA0) else (ERP0) | O16: {="ERI" & (ROW(16:16) - ROW($14:$14)) & " = ERM" & (ROW(16:16) - ROW($14:$14)) & " * C" & (ROW(16:16) - ROW($14:$14))} -> ERI2 = ERM2 * C2 | P16: {="ERU" & (ROW(16:16) - ROW($14:$14)) & " = ∑ERIx; x: {0, …, MY" & (ROW(16:16) - ROW($14:$14)) & "}"} -> ERU2 = ∑ERIx; x: {0, …, MY2} | Q16: {="PRM" & (ROW(16:16) - ROW($14:$14)) & " = if (YR" & (ROW(16:16) - ROW($14:$14)) & " ≤ EY) then (PRA0) else (PRP0)"} -> PRM2 = if (YR2 ≤ EY) then (PRA0) else (PRP0) | R16: {="PRI" & (ROW(16:16) - ROW($14:$14)) & " = PRM" & (ROW(16:16) - ROW($14:$14)) & " * C" & (ROW(16:16) - ROW($14:$14))} -> PRI2 = PRM2 * C2 | S16: {="PRU" & (ROW(16:16) - ROW($14:$14)) & " = ∑PRIx; x: {0, …, MY" & (ROW(16:16) - ROW($14:$14)) & "}"} -> PRU2 = ∑PRIx; x: {0, …, MY2} | T16: {="ORM" & (ROW(16:16) - ROW($14:$14)) & " = if (YR" & (ROW(16:16) - ROW($14:$14)) & " ≤ EY) then (ORA0) else (ORP0)"} -> ORM2 = if (YR2 ≤ EY) then (ORA0) else (ORP0) | U16: {="ORI" & (ROW(16:16) - ROW($14:$14)) & " = ORM" & (ROW(16:16) - ROW($14:$14)) & " * C" & (ROW(16:16) - ROW($14:$14))} -> ORI2 = ORM2 * C2 | V16: {="ORC" & (ROW(16:16) - ROW($14:$14)) & " = ∑ORIx; x: {0, …, MY" & (ROW(16:16) - ROW($14:$14)) & "}"} -> ORC2 = ∑ORIx; x: {0, …, MY2} | AA16: 2030 | AB16: 2 | AC16: 1.014 | AD16: =AC16 / AC$14 -> 1.014 | AE16: =IF(AA16 < Y$15, Y$19, Y$20) -> 0.125 | AF16: =AE16 * AD16 -> 0.12675 | AG16: =SUM(AF$14:AF16) -> 2.13375 | AH16: =IF(AA16 < Y$15, Y$29, Y$30) -> 0.02 | AI16: =AH16 * AD16 -> 0.02028 | AJ16: =SUM(AI$14:AI16) -> 0.06042 | AK16: =IF(AA16 < Y$15, Y$34, Y$35) -> 0 | AL16: =AK16 * AD16 -> 0 | AM16: =SUM(AL$14:AL16) -> 0.14049 | AN16: =IF(AA16 < Y$15, Y$24, Y$25) -> 0.02 | AO16: =AN16 * AD16 -> 0.02028 | AP16: =SUM(AO$14:AO16) -> 0.20091 | AU16: 2030 | AV16: 2 | AW16: 1.014 | AX16: =AW16 / AW$14 -> 1.014 | AY16: =IF(AU16 < AS$15, AS$19, AS$20) -> 0.25 | AZ16: =AY16 * AX16 -> 0.2535 | BA16: =SUM(AZ$14:AZ16) -> 2.50525 | BB16: =IF(AU16 < AS$15, AS$29, AS$30) -> 3.78 | BC16: =BB16 * AX16 -> 3.83292 | BD16: =SUM(BC$14:BC16) -> 11.41938 | BE16: =IF(AU16 < AS$15, AS$34, AS$35) -> 0 | BF16: =BE16 * AX16 -> 0 | BG16: =SUM(BF$14:BF16) -> 2.82 | BH16: =IF(AU16 < AS$15, AS$24, AS$25) -> 3.78 | BI16: =BH16 * AX16 -> 3.83292 | BJ16: =SUM(BI$14:BI16) -> 14.23938 | BO16: 2030 | BP16: 2 | BQ16: 1.014 | BR16: =BQ16 / BQ$14 -> 1.014 | BS16: =IF(BO16 < BM$15, BM$19, BM$20) -> 0.5 | BT16: =BS16 * BR16 -> 0.507 | BU16: =SUM(BT$14:BT16) -> 1.5105 | BV16: =IF(BO16 < BM$15, BM$29, BM$30) -> 16.08 | BW16: =BV16 * BR16 -> 16.30512 | BX16: =SUM(BW$14:BW16) -> 48.57768 | BY16: =IF(BO16 < BM$15, BM$34, BM$35) -> 0 | BZ16: =BY16 * BR16 -> 0 | CA16: =SUM(BZ$14:BZ16) -> 0 | CB16: =IF(BO16 < BM$15, BM$24, BM$25) -> 16.08 | CC16: =CB16 * BR16 -> 16.30512 | CD16: =SUM(CC$14:CC16) -> 48.57768
D17: Residual Risk, Mitigation 1 (IRP1) | E17: IRP1 | G17: {="YR" & (ROW(17:17) - ROW($14:$14)) & " = " & (2028 + (ROW(17:17) - ROW($14:$14)))} -> YR3 = 2031 | H17: {="MY" & (ROW(17:17) - ROW($14:$14)) & " = " & (ROW(17:17) - ROW($14:$14))} -> MY3 = 3 | I17: {="CD" & (ROW(17:17) - ROW($14:$14))} -> CD3 | J17: {="CN" & (ROW(17:17) - ROW($14:$14)) & " = CD" & (ROW(17:17) - ROW($14:$14)) & " / CD0" & IF(ROW(17:17) - ROW($14:$14) = 0, " = 1", "")} -> CN3 = CD3 / CD0 | K17: {="IRM" & (ROW(17:17) - ROW($14:$14)) & " = if (YR" & (ROW(17:17) - ROW($14:$14)) & " ≤ EY) then (IRA0) else (IRP0)"} -> IRM3 = if (YR3 ≤ EY) then (IRA0) else (IRP0) | L17: {="IRI" & (ROW(17:17) - ROW($14:$14)) & " = IRM" & (ROW(17:17) - ROW($14:$14)) & " * C" & (ROW(17:17) - ROW($14:$14))} -> IRI3 = IRM3 * C3 | M17: {="IRC" & (ROW(17:17) - ROW($14:$14)) & " = ∑IRIx; x: {0, …, MY" & (ROW(17:17) - ROW($14:$14)) & "}"} -> IRC3 = ∑IRIx; x: {0, …, MY3} | N17: {="ERM" & (ROW(17:17) - ROW($14:$14)) & " = if (YR" & (ROW(17:17) - ROW($14:$14)) & " ≤ EY) then (ERA0) else (ERP0)"} -> ERM3 = if (YR3 ≤ EY) then (ERA0) else (ERP0) | O17: {="ERI" & (ROW(17:17) - ROW($14:$14)) & " = ERM" & (ROW(17:17) - ROW($14:$14)) & " * C" & (ROW(17:17) - ROW($14:$14))} -> ERI3 = ERM3 * C3 | P17: {="ERU" & (ROW(17:17) - ROW($14:$14)) & " = ∑ERIx; x: {0, …, MY" & (ROW(17:17) - ROW($14:$14)) & "}"} -> ERU3 = ∑ERIx; x: {0, …, MY3} | Q17: {="PRM" & (ROW(17:17) - ROW($14:$14)) & " = if (YR" & (ROW(17:17) - ROW($14:$14)) & " ≤ EY) then (PRA0) else (PRP0)"} -> PRM3 = if (YR3 ≤ EY) then (PRA0) else (PRP0) | R17: {="PRI" & (ROW(17:17) - ROW($14:$14)) & " = PRM" & (ROW(17:17) - ROW($14:$14)) & " * C" & (ROW(17:17) - ROW($14:$14))} -> PRI3 = PRM3 * C3 | S17: {="PRU" & (ROW(17:17) - ROW($14:$14)) & " = ∑PRIx; x: {0, …, MY" & (ROW(17:17) - ROW($14:$14)) & "}"} -> PRU3 = ∑PRIx; x: {0, …, MY3} | T17: {="ORM" & (ROW(17:17) - ROW($14:$14)) & " = if (YR" & (ROW(17:17) - ROW($14:$14)) & " ≤ EY) then (ORA0) else (ORP0)"} -> ORM3 = if (YR3 ≤ EY) then (ORA0) else (ORP0) | U17: {="ORI" & (ROW(17:17) - ROW($14:$14)) & " = ORM" & (ROW(17:17) - ROW($14:$14)) & " * C" & (ROW(17:17) - ROW($14:$14))} -> ORI3 = ORM3 * C3 | V17: {="ORC" & (ROW(17:17) - ROW($14:$14)) & " = ∑ORIx; x: {0, …, MY" & (ROW(17:17) - ROW($14:$14)) & "}"} -> ORC3 = ∑ORIx; x: {0, …, MY3} | X17: 2028 Ignition Risk for Circuit Segment | AA17: 2031 | AB17: 3 | AC17: 1.021 | AD17: =AC17 / AC$14 -> 1.021 | AE17: =IF(AA17 < Y$15, Y$19, Y$20) -> 0.125 | AF17: =AE17 * AD17 -> 0.127625 | AG17: =SUM(AF$14:AF17) -> 2.261375 | AH17: =IF(AA17 < Y$15, Y$29, Y$30) -> 0.02 | AI17: =AH17 * AD17 -> 0.02042 | AJ17: =SUM(AI$14:AI17) -> 0.08084 | AK17: =IF(AA17 < Y$15, Y$34, Y$35) -> 0 | AL17: =AK17 * AD17 -> 0 | AM17: =SUM(AL$14:AL17) -> 0.14049 | AN17: =IF(AA17 < Y$15, Y$24, Y$25) -> 0.02 | AO17: =AN17 * AD17 -> 0.02042 | AP17: =SUM(AO$14:AO17) -> 0.22133 | AR17: 2028 Ignition Risk for Circuit Segment | AU17: 2031 | AV17: 3 | AW17: 1.021 | AX17: =AW17 / AW$14 -> 1.021 | AY17: =IF(AU17 < AS$15, AS$19, AS$20) -> 0.25 | AZ17: =AY17 * AX17 -> 0.25525 | BA17: =SUM(AZ$14:AZ17) -> 2.7605 | BB17: =IF(AU17 < AS$15, AS$29, AS$30) -> 3.78 | BC17: =BB17 * AX17 -> 3.85938 | BD17: =SUM(BC$14:BC17) -> 15.27876 | BE17: =IF(AU17 < AS$15, AS$34, AS$35) -> 0 | BF17: =BE17 * AX17 -> 0 | BG17: =SUM(BF$14:BF17) -> 2.82 | BH17: =IF(AU17 < AS$15, AS$24, AS$25) -> 3.78 | BI17: =BH17 * AX17 -> 3.85938 | BJ17: =SUM(BI$14:BI17) -> 18.09876 | BL17: 2028 Ignition Risk for Circuit Segment | BO17: 2031 | BP17: 3 | BQ17: 1.021 | BR17: =BQ17 / BQ$14 -> 1.021 | BS17: =IF(BO17 < BM$15, BM$19, BM$20) -> 0.5 | BT17: =BS17 * BR17 -> 0.5105 | BU17: =SUM(BT$14:BT17) -> 2.021 | BV17: =IF(BO17 < BM$15, BM$29, BM$30) -> 16.08 | BW17: =BV17 * BR17 -> 16.41768 | BX17: =SUM(BW$14:BW17) -> 64.99536 | BY17: =IF(BO17 < BM$15, BM$34, BM$35) -> 0 | BZ17: =BY17 * BR17 -> 0 | CA17: =SUM(BZ$14:BZ17) -> 0 | CB17: =IF(BO17 < BM$15, BM$24, BM$25) -> 16.08 | CC17: =CB17 * BR17 -> 16.41768 | CD17: =SUM(CC$14:CC17) -> 64.99536
D18: Residual Risk, Mitigation 2 (IRP2) | E18: IRP2 | G18: {="YR" & (ROW(18:18) - ROW($14:$14)) & " = " & (2028 + (ROW(18:18) - ROW($14:$14)))} -> YR4 = 2032 | H18: {="MY" & (ROW(18:18) - ROW($14:$14)) & " = " & (ROW(18:18) - ROW($14:$14))} -> MY4 = 4 | I18: {="CD" & (ROW(18:18) - ROW($14:$14))} -> CD4 | J18: {="CN" & (ROW(18:18) - ROW($14:$14)) & " = CD" & (ROW(18:18) - ROW($14:$14)) & " / CD0" & IF(ROW(18:18) - ROW($14:$14) = 0, " = 1", "")} -> CN4 = CD4 / CD0 | K18: {="IRM" & (ROW(18:18) - ROW($14:$14)) & " = if (YR" & (ROW(18:18) - ROW($14:$14)) & " ≤ EY) then (IRA0) else (IRP0)"} -> IRM4 = if (YR4 ≤ EY) then (IRA0) else (IRP0) | L18: {="IRI" & (ROW(18:18) - ROW($14:$14)) & " = IRM" & (ROW(18:18) - ROW($14:$14)) & " * C" & (ROW(18:18) - ROW($14:$14))} -> IRI4 = IRM4 * C4 | M18: {="IRC" & (ROW(18:18) - ROW($14:$14)) & " = ∑IRIx; x: {0, …, MY" & (ROW(18:18) - ROW($14:$14)) & "}"} -> IRC4 = ∑IRIx; x: {0, …, MY4} | N18: {="ERM" & (ROW(18:18) - ROW($14:$14)) & " = if (YR" & (ROW(18:18) - ROW($14:$14)) & " ≤ EY) then (ERA0) else (ERP0)"} -> ERM4 = if (YR4 ≤ EY) then (ERA0) else (ERP0) | O18: {="ERI" & (ROW(18:18) - ROW($14:$14)) & " = ERM" & (ROW(18:18) - ROW($14:$14)) & " * C" & (ROW(18:18) - ROW($14:$14))} -> ERI4 = ERM4 * C4 | P18: {="ERU" & (ROW(18:18) - ROW($14:$14)) & " = ∑ERIx; x: {0, …, MY" & (ROW(18:18) - ROW($14:$14)) & "}"} -> ERU4 = ∑ERIx; x: {0, …, MY4} | Q18: {="PRM" & (ROW(18:18) - ROW($14:$14)) & " = if (YR" & (ROW(18:18) - ROW($14:$14)) & " ≤ EY) then (PRA0) else (PRP0)"} -> PRM4 = if (YR4 ≤ EY) then (PRA0) else (PRP0) | R18: {="PRI" & (ROW(18:18) - ROW($14:$14)) & " = PRM" & (ROW(18:18) - ROW($14:$14)) & " * C" & (ROW(18:18) - ROW($14:$14))} -> PRI4 = PRM4 * C4 | S18: {="PRU" & (ROW(18:18) - ROW($14:$14)) & " = ∑PRIx; x: {0, …, MY" & (ROW(18:18) - ROW($14:$14)) & "}"} -> PRU4 = ∑PRIx; x: {0, …, MY4} | T18: {="ORM" & (ROW(18:18) - ROW($14:$14)) & " = if (YR" & (ROW(18:18) - ROW($14:$14)) & " ≤ EY) then (ORA0) else (ORP0)"} -> ORM4 = if (YR4 ≤ EY) then (ORA0) else (ORP0) | U18: {="ORI" & (ROW(18:18) - ROW($14:$14)) & " = ORM" & (ROW(18:18) - ROW($14:$14)) & " * C" & (ROW(18:18) - ROW($14:$14))} -> ORI4 = ORM4 * C4 | V18: {="ORC" & (ROW(18:18) - ROW($14:$14)) & " = ∑ORIx; x: {0, …, MY" & (ROW(18:18) - ROW($14:$14)) & "}"} -> ORC4 = ∑ORIx; x: {0, …, MY4} | AA18: 2032 | AB18: 4 | AC18: 1.027 | AD18: =AC18 / AC$14 -> 1.027 | AE18: =IF(AA18 < Y$15, Y$19, Y$20) -> 0.125 | AF18: =AE18 * AD18 -> 0.128375 | AG18: =SUM(AF$14:AF18) -> 2.38975 | AH18: =IF(AA18 < Y$15, Y$29, Y$30) -> 0.02 | AI18: =AH18 * AD18 -> 0.02054 | AJ18: =SUM(AI$14:AI18) -> 0.10138 | AK18: =IF(AA18 < Y$15, Y$34, Y$35) -> 0 | AL18: =AK18 * AD18 -> 0 | AM18: =SUM(AL$14:AL18) -> 0.14049 | AN18: =IF(AA18 < Y$15, Y$24, Y$25) -> 0.02 | AO18: =AN18 * AD18 -> 0.02054 | AP18: =SUM(AO$14:AO18) -> 0.24187 | AU18: 2032 | AV18: 4 | AW18: 1.027 | AX18: =AW18 / AW$14 -> 1.027 | AY18: =IF(AU18 < AS$15, AS$19, AS$20) -> 0.25 | AZ18: =AY18 * AX18 -> 0.25675 | BA18: =SUM(AZ$14:AZ18) -> 3.01725 | BB18: =IF(AU18 < AS$15, AS$29, AS$30) -> 3.78 | BC18: =BB18 * AX18 -> 3.88206 | BD18: =SUM(BC$14:BC18) -> 19.16082 | BE18: =IF(AU18 < AS$15, AS$34, AS$35) -> 0 | BF18: =BE18 * AX18 -> 0 | BG18: =SUM(BF$14:BF18) -> 2.82 | BH18: =IF(AU18 < AS$15, AS$24, AS$25) -> 3.78 | BI18: =BH18 * AX18 -> 3.88206 | BJ18: =SUM(BI$14:BI18) -> 21.98082 | BO18: 2032 | BP18: 4 | BQ18: 1.027 | BR18: =BQ18 / BQ$14 -> 1.027 | BS18: =IF(BO18 < BM$15, BM$19, BM$20) -> 0.5 | BT18: =BS18 * BR18 -> 0.5135 | BU18: =SUM(BT$14:BT18) -> 2.5345 | BV18: =IF(BO18 < BM$15, BM$29, BM$30) -> 16.08 | BW18: =BV18 * BR18 -> 16.51416 | BX18: =SUM(BW$14:BW18) -> 81.50952 | BY18: =IF(BO18 < BM$15, BM$34, BM$35) -> 0 | BZ18: =BY18 * BR18 -> 0 | CA18: =SUM(BZ$14:BZ18) -> 0 | CB18: =IF(BO18 < BM$15, BM$24, BM$25) -> 16.08 | CC18: =CB18 * BR18 -> 16.51416 | CD18: =SUM(CC$14:CC18) -> 81.50952
D19: Residual Risk, Mitigation 3 (IRP3) | E19: IRP3 | G19: {="YR" & (ROW(19:19) - ROW($14:$14)) & " = " & (2028 + (ROW(19:19) - ROW($14:$14)))} -> YR5 = 2033 | H19: {="MY" & (ROW(19:19) - ROW($14:$14)) & " = " & (ROW(19:19) - ROW($14:$14))} -> MY5 = 5 | I19: {="CD" & (ROW(19:19) - ROW($14:$14))} -> CD5 | J19: {="CN" & (ROW(19:19) - ROW($14:$14)) & " = CD" & (ROW(19:19) - ROW($14:$14)) & " / CD0" & IF(ROW(19:19) - ROW($14:$14) = 0, " = 1", "")} -> CN5 = CD5 / CD0 | K19: {="IRM" & (ROW(19:19) - ROW($14:$14)) & " = if (YR" & (ROW(19:19) - ROW($14:$14)) & " ≤ EY) then (IRA0) else (IRP0)"} -> IRM5 = if (YR5 ≤ EY) then (IRA0) else (IRP0) | L19: {="IRI" & (ROW(19:19) - ROW($14:$14)) & " = IRM" & (ROW(19:19) - ROW($14:$14)) & " * C" & (ROW(19:19) - ROW($14:$14))} -> IRI5 = IRM5 * C5 | M19: {="IRC" & (ROW(19:19) - ROW($14:$14)) & " = ∑IRIx; x: {0, …, MY" & (ROW(19:19) - ROW($14:$14)) & "}"} -> IRC5 = ∑IRIx; x: {0, …, MY5} | N19: {="ERM" & (ROW(19:19) - ROW($14:$14)) & " = if (YR" & (ROW(19:19) - ROW($14:$14)) & " ≤ EY) then (ERA0) else (ERP0)"} -> ERM5 = if (YR5 ≤ EY) then (ERA0) else (ERP0) | O19: {="ERI" & (ROW(19:19) - ROW($14:$14)) & " = ERM" & (ROW(19:19) - ROW($14:$14)) & " * C" & (ROW(19:19) - ROW($14:$14))} -> ERI5 = ERM5 * C5 | P19: {="ERU" & (ROW(19:19) - ROW($14:$14)) & " = ∑ERIx; x: {0, …, MY" & (ROW(19:19) - ROW($14:$14)) & "}"} -> ERU5 = ∑ERIx; x: {0, …, MY5} | Q19: {="PRM" & (ROW(19:19) - ROW($14:$14)) & " = if (YR" & (ROW(19:19) - ROW($14:$14)) & " ≤ EY) then (PRA0) else (PRP0)"} -> PRM5 = if (YR5 ≤ EY) then (PRA0) else (PRP0) | R19: {="PRI" & (ROW(19:19) - ROW($14:$14)) & " = PRM" & (ROW(19:19) - ROW($14:$14)) & " * C" & (ROW(19:19) - ROW($14:$14))} -> PRI5 = PRM5 * C5 | S19: {="PRU" & (ROW(19:19) - ROW($14:$14)) & " = ∑PRIx; x: {0, …, MY" & (ROW(19:19) - ROW($14:$14)) & "}"} -> PRU5 = ∑PRIx; x: {0, …, MY5} | T19: {="ORM" & (ROW(19:19) - ROW($14:$14)) & " = if (YR" & (ROW(19:19) - ROW($14:$14)) & " ≤ EY) then (ORA0) else (ORP0)"} -> ORM5 = if (YR5 ≤ EY) then (ORA0) else (ORP0) | U19: {="ORI" & (ROW(19:19) - ROW($14:$14)) & " = ORM" & (ROW(19:19) - ROW($14:$14)) & " * C" & (ROW(19:19) - ROW($14:$14))} -> ORI5 = ORM5 * C5 | V19: {="ORC" & (ROW(19:19) - ROW($14:$14)) & " = ∑ORIx; x: {0, …, MY" & (ROW(19:19) - ROW($14:$14)) & "}"} -> ORC5 = ∑ORIx; x: {0, …, MY5} | X19: Pre-Mitigation Risk (IRA0), A : 'ante' | Y19: ='Core Capability 6.3'!$E$15 -> 1 | AA19: 2033 | AB19: 5 | AC19: 1.034 | AD19: =AC19 / AC$14 -> 1.034 | AE19: =IF(AA19 < Y$15, Y$19, Y$20) -> 0.125 | AF19: =AE19 * AD19 -> 0.12925 | AG19: =SUM(AF$14:AF19) -> 2.519 | AH19: =IF(AA19 < Y$15, Y$29, Y$30) -> 0.02 | AI19: =AH19 * AD19 -> 0.02068 | AJ19: =SUM(AI$14:AI19) -> 0.12206 | AK19: =IF(AA19 < Y$15, Y$34, Y$35) -> 0 | AL19: =AK19 * AD19 -> 0 | AM19: =SUM(AL$14:AL19) -> 0.14049 | AN19: =IF(AA19 < Y$15, Y$24, Y$25) -> 0.02 | AO19: =AN19 * AD19 -> 0.02068 | AP19: =SUM(AO$14:AO19) -> 0.26255 | AR19: Pre-Mitigation Risk (IRA0), A : 'ante' | AS19: ='Core Capability 6.3'!$E$16 -> 2 | AU19: 2033 | AV19: 5 | AW19: 1.034 | AX19: =AW19 / AW$14 -> 1.034 | AY19: =IF(AU19 < AS$15, AS$19, AS$20) -> 0.25 | AZ19: =AY19 * AX19 -> 0.2585 | BA19: =SUM(AZ$14:AZ19) -> 3.27575 | BB19: =IF(AU19 < AS$15, AS$29, AS$30) -> 3.78 | BC19: =BB19 * AX19 -> 3.90852 | BD19: =SUM(BC$14:BC19) -> 23.06934 | BE19: =IF(AU19 < AS$15, AS$34, AS$35) -> 0 | BF19: =BE19 * AX19 -> 0 | BG19: =SUM(BF$14:BF19) -> 2.82 | BH19: =IF(AU19 < AS$15, AS$24, AS$25) -> 3.78 | BI19: =BH19 * AX19 -> 3.90852 | BJ19: =SUM(BI$14:BI19) -> 25.88934 | BL19: Pre-Mitigation Risk (IRA0), A : 'ante' | BM19: ='Core Capability 6.3'!$E$17 -> 4 | BO19: 2033 | BP19: 5 | BQ19: 1.034 | BR19: =BQ19 / BQ$14 -> 1.034 | BS19: =IF(BO19 < BM$15, BM$19, BM$20) -> 0.5 | BT19: =BS19 * BR19 -> 0.517 | BU19: =SUM(BT$14:BT19) -> 3.0515 | BV19: =IF(BO19 < BM$15, BM$29, BM$30) -> 16.08 | BW19: =BV19 * BR19 -> 16.62672 | BX19: =SUM(BW$14:BW19) -> 98.13624 | BY19: =IF(BO19 < BM$15, BM$34, BM$35) -> 0 | BZ19: =BY19 * BR19 -> 0 | CA19: =SUM(BZ$14:BZ19) -> 0 | CB19: =IF(BO19 < BM$15, BM$24, BM$25) -> 16.08 | CC19: =CB19 * BR19 -> 16.62672 | CD19: =SUM(CC$14:CC19) -> 98.13624
D20: Residual Risk, No Mitigation (IRP4) | E20: IRP4 | G20: {="YR" & (ROW(20:20) - ROW($14:$14)) & " = " & (2028 + (ROW(20:20) - ROW($14:$14)))} -> YR6 = 2034 | H20: {="MY" & (ROW(20:20) - ROW($14:$14)) & " = " & (ROW(20:20) - ROW($14:$14))} -> MY6 = 6 | I20: {="CD" & (ROW(20:20) - ROW($14:$14))} -> CD6 | J20: {="CN" & (ROW(20:20) - ROW($14:$14)) & " = CD" & (ROW(20:20) - ROW($14:$14)) & " / CD0" & IF(ROW(20:20) - ROW($14:$14) = 0, " = 1", "")} -> CN6 = CD6 / CD0 | K20: {="IRM" & (ROW(20:20) - ROW($14:$14)) & " = if (YR" & (ROW(20:20) - ROW($14:$14)) & " ≤ EY) then (IRA0) else (IRP0)"} -> IRM6 = if (YR6 ≤ EY) then (IRA0) else (IRP0) | L20: {="IRI" & (ROW(20:20) - ROW($14:$14)) & " = IRM" & (ROW(20:20) - ROW($14:$14)) & " * C" & (ROW(20:20) - ROW($14:$14))} -> IRI6 = IRM6 * C6 | M20: {="IRC" & (ROW(20:20) - ROW($14:$14)) & " = ∑IRIx; x: {0, …, MY" & (ROW(20:20) - ROW($14:$14)) & "}"} -> IRC6 = ∑IRIx; x: {0, …, MY6} | N20: {="ERM" & (ROW(20:20) - ROW($14:$14)) & " = if (YR" & (ROW(20:20) - ROW($14:$14)) & " ≤ EY) then (ERA0) else (ERP0)"} -> ERM6 = if (YR6 ≤ EY) then (ERA0) else (ERP0) | O20: {="ERI" & (ROW(20:20) - ROW($14:$14)) & " = ERM" & (ROW(20:20) - ROW($14:$14)) & " * C" & (ROW(20:20) - ROW($14:$14))} -> ERI6 = ERM6 * C6 | P20: {="ERU" & (ROW(20:20) - ROW($14:$14)) & " = ∑ERIx; x: {0, …, MY" & (ROW(20:20) - ROW($14:$14)) & "}"} -> ERU6 = ∑ERIx; x: {0, …, MY6} | Q20: {="PRM" & (ROW(20:20) - ROW($14:$14)) & " = if (YR" & (ROW(20:20) - ROW($14:$14)) & " ≤ EY) then (PRA0) else (PRP0)"} -> PRM6 = if (YR6 ≤ EY) then (PRA0) else (PRP0) | R20: {="PRI" & (ROW(20:20) - ROW($14:$14)) & " = PRM" & (ROW(20:20) - ROW($14:$14)) & " * C" & (ROW(20:20) - ROW($14:$14))} -> PRI6 = PRM6 * C6 | S20: {="PRU" & (ROW(20:20) - ROW($14:$14)) & " = ∑PRIx; x: {0, …, MY" & (ROW(20:20) - ROW($14:$14)) & "}"} -> PRU6 = ∑PRIx; x: {0, …, MY6} | T20: {="ORM" & (ROW(20:20) - ROW($14:$14)) & " = if (YR" & (ROW(20:20) - ROW($14:$14)) & " ≤ EY) then (ORA0) else (ORP0)"} -> ORM6 = if (YR6 ≤ EY) then (ORA0) else (ORP0) | U20: {="ORI" & (ROW(20:20) - ROW($14:$14)) & " = ORM" & (ROW(20:20) - ROW($14:$14)) & " * C" & (ROW(20:20) - ROW($14:$14))} -> ORI6 = ORM6 * C6 | V20: {="ORC" & (ROW(20:20) - ROW($14:$14)) & " = ∑ORIx; x: {0, …, MY" & (ROW(20:20) - ROW($14:$14)) & "}"} -> ORC6 = ∑ORIx; x: {0, …, MY6} | X20: Residual Risk (IRP0), P : 'post' | Y20: ='Core Capability 6.3'!$P$15 -> 0.125 | AA20: 2034 | AB20: 6 | AC20: 1.039 | AD20: =AC20 / AC$14 -> 1.039 | AE20: =IF(AA20 < Y$15, Y$19, Y$20) -> 0.125 | AF20: =AE20 * AD20 -> 0.129875 | AG20: =SUM(AF$14:AF20) -> 2.648875 | AH20: =IF(AA20 < Y$15, Y$29, Y$30) -> 0.02 | AI20: =AH20 * AD20 -> 0.02078 | AJ20: =SUM(AI$14:AI20) -> 0.14284 | AK20: =IF(AA20 < Y$15, Y$34, Y$35) -> 0 | AL20: =AK20 * AD20 -> 0 | AM20: =SUM(AL$14:AL20) -> 0.14049 | AN20: =IF(AA20 < Y$15, Y$24, Y$25) -> 0.02 | AO20: =AN20 * AD20 -> 0.02078 | AP20: =SUM(AO$14:AO20) -> 0.28333 | AR20: Residual Risk (IRP0), P : 'post' | AS20: ='Core Capability 6.3'!$P$16 -> 0.25 | AU20: 2034 | AV20: 6 | AW20: 1.039 | AX20: =AW20 / AW$14 -> 1.039 | AY20: =IF(AU20 < AS$15, AS$19, AS$20) -> 0.25 | AZ20: =AY20 * AX20 -> 0.25975 | BA20: =SUM(AZ$14:AZ20) -> 3.5355 | BB20: =IF(AU20 < AS$15, AS$29, AS$30) -> 3.78 | BC20: =BB20 * AX20 -> 3.92742 | BD20: =SUM(BC$14:BC20) -> 26.99676 | BE20: =IF(AU20 < AS$15, AS$34, AS$35) -> 0 | BF20: =BE20 * AX20 -> 0 | BG20: =SUM(BF$14:BF20) -> 2.82 | BH20: =IF(AU20 < AS$15, AS$24, AS$25) -> 3.78 | BI20: =BH20 * AX20 -> 3.92742 | BJ20: =SUM(BI$14:BI20) -> 29.81676 | BL20: Residual Risk (IRP0), P : 'post' | BM20: ='Core Capability 6.3'!$P$17 -> 0.5 | BO20: 2034 | BP20: 6 | BQ20: 1.039 | BR20: =BQ20 / BQ$14 -> 1.039 | BS20: =IF(BO20 < BM$15, BM$19, BM$20) -> 0.5 | BT20: =BS20 * BR20 -> 0.5195 | BU20: =SUM(BT$14:BT20) -> 3.571 | BV20: =IF(BO20 < BM$15, BM$29, BM$30) -> 16.08 | BW20: =BV20 * BR20 -> 16.70712 | BX20: =SUM(BW$14:BW20) -> 114.84336 | BY20: =IF(BO20 < BM$15, BM$34, BM$35) -> 0 | BZ20: =BY20 * BR20 -> 0 | CA20: =SUM(BZ$14:BZ20) -> 0 | CB20: =IF(BO20 < BM$15, BM$24, BM$25) -> 16.08 | CC20: =CB20 * BR20 -> 16.70712 | CD20: =SUM(CC$14:CC20) -> 114.84336
B21: To establish an initial Baseline, the Large Electrical Corporation must model the risk landscape assuming that no EUP Undergrounding Projects are constructed. This Baseline modeling must include any non-EUP wildfire mitigation activity in Tier 2 or 3 HFTDs. In subsequent Baselines, the Large Electrical Corporation must include activity outside of the EUP program that the Large Electrical Corporation has initiated or completed since the establishment of the previous Baseline. | G21: {="YR" & (ROW(21:21) - ROW($14:$14)) & " = " & (2028 + (ROW(21:21) - ROW($14:$14)))} -> YR7 = 2035 | H21: {="MY" & (ROW(21:21) - ROW($14:$14)) & " = " & (ROW(21:21) - ROW($14:$14))} -> MY7 = 7 | I21: {="CD" & (ROW(21:21) - ROW($14:$14))} -> CD7 | J21: {="CN" & (ROW(21:21) - ROW($14:$14)) & " = CD" & (ROW(21:21) - ROW($14:$14)) & " / CD0" & IF(ROW(21:21) - ROW($14:$14) = 0, " = 1", "")} -> CN7 = CD7 / CD0 | K21: {="IRM" & (ROW(21:21) - ROW($14:$14)) & " = if (YR" & (ROW(21:21) - ROW($14:$14)) & " ≤ EY) then (IRA0) else (IRP0)"} -> IRM7 = if (YR7 ≤ EY) then (IRA0) else (IRP0) | L21: {="IRI" & (ROW(21:21) - ROW($14:$14)) & " = IRM" & (ROW(21:21) - ROW($14:$14)) & " * C" & (ROW(21:21) - ROW($14:$14))} -> IRI7 = IRM7 * C7 | M21: {="IRC" & (ROW(21:21) - ROW($14:$14)) & " = ∑IRIx; x: {0, …, MY" & (ROW(21:21) - ROW($14:$14)) & "}"} -> IRC7 = ∑IRIx; x: {0, …, MY7} | N21: {="ERM" & (ROW(21:21) - ROW($14:$14)) & " = if (YR" & (ROW(21:21) - ROW($14:$14)) & " ≤ EY) then (ERA0) else (ERP0)"} -> ERM7 = if (YR7 ≤ EY) then (ERA0) else (ERP0) | O21: {="ERI" & (ROW(21:21) - ROW($14:$14)) & " = ERM" & (ROW(21:21) - ROW($14:$14)) & " * C" & (ROW(21:21) - ROW($14:$14))} -> ERI7 = ERM7 * C7 | P21: {="ERU" & (ROW(21:21) - ROW($14:$14)) & " = ∑ERIx; x: {0, …, MY" & (ROW(21:21) - ROW($14:$14)) & "}"} -> ERU7 = ∑ERIx; x: {0, …, MY7} | Q21: {="PRM" & (ROW(21:21) - ROW($14:$14)) & " = if (YR" & (ROW(21:21) - ROW($14:$14)) & " ≤ EY) then (PRA0) else (PRP0)"} -> PRM7 = if (YR7 ≤ EY) then (PRA0) else (PRP0) | R21: {="PRI" & (ROW(21:21) - ROW($14:$14)) & " = PRM" & (ROW(21:21) - ROW($14:$14)) & " * C" & (ROW(21:21) - ROW($14:$14))} -> PRI7 = PRM7 * C7 | S21: {="PRU" & (ROW(21:21) - ROW($14:$14)) & " = ∑PRIx; x: {0, …, MY" & (ROW(21:21) - ROW($14:$14)) & "}"} -> PRU7 = ∑PRIx; x: {0, …, MY7} | T21: {="ORM" & (ROW(21:21) - ROW($14:$14)) & " = if (YR" & (ROW(21:21) - ROW($14:$14)) & " ≤ EY) then (ORA0) else (ORP0)"} -> ORM7 = if (YR7 ≤ EY) then (ORA0) else (ORP0) | U21: {="ORI" & (ROW(21:21) - ROW($14:$14)) & " = ORM" & (ROW(21:21) - ROW($14:$14)) & " * C" & (ROW(21:21) - ROW($14:$14))} -> ORI7 = ORM7 * C7 | V21: {="ORC" & (ROW(21:21) - ROW($14:$14)) & " = ∑ORIx; x: {0, …, MY" & (ROW(21:21) - ROW($14:$14)) & "}"} -> ORC7 = ∑ORIx; x: {0, …, MY7} | AA21: 2035 | AB21: 7 | AC21: 1.044 | AD21: =AC21 / AC$14 -> 1.044 | AE21: =IF(AA21 < Y$15, Y$19, Y$20) -> 0.125 | AF21: =AE21 * AD21 -> 0.1305 | AG21: =SUM(AF$14:AF21) -> 2.779375 | AH21: =IF(AA21 < Y$15, Y$29, Y$30) -> 0.02 | AI21: =AH21 * AD21 -> 0.02088 | AJ21: =SUM(AI$14:AI21) -> 0.16372 | AK21: =IF(AA21 < Y$15, Y$34, Y$35) -> 0 | AL21: =AK21 * AD21 -> 0 | AM21: =SUM(AL$14:AL21) -> 0.14049 | AN21: =IF(AA21 < Y$15, Y$24, Y$25) -> 0.02 | AO21: =AN21 * AD21 -> 0.02088 | AP21: =SUM(AO$14:AO21) -> 0.30421 | AU21: 2035 | AV21: 7 | AW21: 1.044 | AX21: =AW21 / AW$14 -> 1.044 | AY21: =IF(AU21 < AS$15, AS$19, AS$20) -> 0.25 | AZ21: =AY21 * AX21 -> 0.261 | BA21: =SUM(AZ$14:AZ21) -> 3.7965 | BB21: =IF(AU21 < AS$15, AS$29, AS$30) -> 3.78 | BC21: =BB21 * AX21 -> 3.94632 | BD21: =SUM(BC$14:BC21) -> 30.94308 | BE21: =IF(AU21 < AS$15, AS$34, AS$35) -> 0 | BF21: =BE21 * AX21 -> 0 | BG21: =SUM(BF$14:BF21) -> 2.82 | BH21: =IF(AU21 < AS$15, AS$24, AS$25) -> 3.78 | BI21: =BH21 * AX21 -> 3.94632 | BJ21: =SUM(BI$14:BI21) -> 33.76308 | BO21: 2035 | BP21: 7 | BQ21: 1.044 | BR21: =BQ21 / BQ$14 -> 1.044 | BS21: =IF(BO21 < BM$15, BM$19, BM$20) -> 0.5 | BT21: =BS21 * BR21 -> 0.522 | BU21: =SUM(BT$14:BT21) -> 4.093 | BV21: =IF(BO21 < BM$15, BM$29, BM$30) -> 16.08 | BW21: =BV21 * BR21 -> 16.78752 | BX21: =SUM(BW$14:BW21) -> 131.63088 | BY21: =IF(BO21 < BM$15, BM$34, BM$35) -> 0 | BZ21: =BY21 * BR21 -> 0 | CA21: =SUM(BZ$14:BZ21) -> 0 | CB21: =IF(BO21 < BM$15, BM$24, BM$25) -> 16.08 | CC21: =CB21 * BR21 -> 16.78752 | CD21: =SUM(CC$14:CC21) -> 131.63088
D22: 2028 Outage Program Risk for Circuit Segment | G22: {="YR" & (ROW(22:22) - ROW($14:$14)) & " = " & (2028 + (ROW(22:22) - ROW($14:$14)))} -> YR8 = 2036 | H22: {="MY" & (ROW(22:22) - ROW($14:$14)) & " = " & (ROW(22:22) - ROW($14:$14))} -> MY8 = 8 | I22: {="CD" & (ROW(22:22) - ROW($14:$14))} -> CD8 | J22: {="CN" & (ROW(22:22) - ROW($14:$14)) & " = CD" & (ROW(22:22) - ROW($14:$14)) & " / CD0" & IF(ROW(22:22) - ROW($14:$14) = 0, " = 1", "")} -> CN8 = CD8 / CD0 | K22: {="IRM" & (ROW(22:22) - ROW($14:$14)) & " = if (YR" & (ROW(22:22) - ROW($14:$14)) & " ≤ EY) then (IRA0) else (IRP0)"} -> IRM8 = if (YR8 ≤ EY) then (IRA0) else (IRP0) | L22: {="IRI" & (ROW(22:22) - ROW($14:$14)) & " = IRM" & (ROW(22:22) - ROW($14:$14)) & " * C" & (ROW(22:22) - ROW($14:$14))} -> IRI8 = IRM8 * C8 | M22: {="IRC" & (ROW(22:22) - ROW($14:$14)) & " = ∑IRIx; x: {0, …, MY" & (ROW(22:22) - ROW($14:$14)) & "}"} -> IRC8 = ∑IRIx; x: {0, …, MY8} | N22: {="ERM" & (ROW(22:22) - ROW($14:$14)) & " = if (YR" & (ROW(22:22) - ROW($14:$14)) & " ≤ EY) then (ERA0) else (ERP0)"} -> ERM8 = if (YR8 ≤ EY) then (ERA0) else (ERP0) | O22: {="ERI" & (ROW(22:22) - ROW($14:$14)) & " = ERM" & (ROW(22:22) - ROW($14:$14)) & " * C" & (ROW(22:22) - ROW($14:$14))} -> ERI8 = ERM8 * C8 | P22: {="ERU" & (ROW(22:22) - ROW($14:$14)) & " = ∑ERIx; x: {0, …, MY" & (ROW(22:22) - ROW($14:$14)) & "}"} -> ERU8 = ∑ERIx; x: {0, …, MY8} | Q22: {="PRM" & (ROW(22:22) - ROW($14:$14)) & " = if (YR" & (ROW(22:22) - ROW($14:$14)) & " ≤ EY) then (PRA0) else (PRP0)"} -> PRM8 = if (YR8 ≤ EY) then (PRA0) else (PRP0) | R22: {="PRI" & (ROW(22:22) - ROW($14:$14)) & " = PRM" & (ROW(22:22) - ROW($14:$14)) & " * C" & (ROW(22:22) - ROW($14:$14))} -> PRI8 = PRM8 * C8 | S22: {="PRU" & (ROW(22:22) - ROW($14:$14)) & " = ∑PRIx; x: {0, …, MY" & (ROW(22:22) - ROW($14:$14)) & "}"} -> PRU8 = ∑PRIx; x: {0, …, MY8} | T22: {="ORM" & (ROW(22:22) - ROW($14:$14)) & " = if (YR" & (ROW(22:22) - ROW($14:$14)) & " ≤ EY) then (ORA0) else (ORP0)"} -> ORM8 = if (YR8 ≤ EY) then (ORA0) else (ORP0) | U22: {="ORI" & (ROW(22:22) - ROW($14:$14)) & " = ORM" & (ROW(22:22) - ROW($14:$14)) & " * C" & (ROW(22:22) - ROW($14:$14))} -> ORI8 = ORM8 * C8 | V22: {="ORC" & (ROW(22:22) - ROW($14:$14)) & " = ∑ORIx; x: {0, …, MY" & (ROW(22:22) - ROW($14:$14)) & "}"} -> ORC8 = ∑ORIx; x: {0, …, MY8} | X22: 2028 Outage Program Risk for Circuit Segment | AA22: 2036 | AB22: 8 | AC22: 1.05 | AD22: =AC22 / AC$14 -> 1.05 | AE22: =IF(AA22 < Y$15, Y$19, Y$20) -> 0.125 | AF22: =AE22 * AD22 -> 0.13125 | AG22: =SUM(AF$14:AF22) -> 2.910625 | AH22: =IF(AA22 < Y$15, Y$29, Y$30) -> 0.02 | AI22: =AH22 * AD22 -> 0.021 | AJ22: =SUM(AI$14:AI22) -> 0.18472 | AK22: =IF(AA22 < Y$15, Y$34, Y$35) -> 0 | AL22: =AK22 * AD22 -> 0 | AM22: =SUM(AL$14:AL22) -> 0.14049 | AN22: =IF(AA22 < Y$15, Y$24, Y$25) -> 0.02 | AO22: =AN22 * AD22 -> 0.021 | AP22: =SUM(AO$14:AO22) -> 0.32521 | AR22: 2028 Outage Program Risk for Circuit Segment | AU22: 2036 | AV22: 8 | AW22: 1.05 | AX22: =AW22 / AW$14 -> 1.05 | AY22: =IF(AU22 < AS$15, AS$19, AS$20) -> 0.25 | AZ22: =AY22 * AX22 -> 0.2625 | BA22: =SUM(AZ$14:AZ22) -> 4.059 | BB22: =IF(AU22 < AS$15, AS$29, AS$30) -> 3.78 | BC22: =BB22 * AX22 -> 3.969 | BD22: =SUM(BC$14:BC22) -> 34.91208 | BE22: =IF(AU22 < AS$15, AS$34, AS$35) -> 0 | BF22: =BE22 * AX22 -> 0 | BG22: =SUM(BF$14:BF22) -> 2.82 | BH22: =IF(AU22 < AS$15, AS$24, AS$25) -> 3.78 | BI22: =BH22 * AX22 -> 3.969 | BJ22: =SUM(BI$14:BI22) -> 37.73208 | BL22: 2028 Outage Program Risk for Circuit Segment | BO22: 2036 | BP22: 8 | BQ22: 1.05 | BR22: =BQ22 / BQ$14 -> 1.05 | BS22: =IF(BO22 < BM$15, BM$19, BM$20) -> 0.5 | BT22: =BS22 * BR22 -> 0.525 | BU22: =SUM(BT$14:BT22) -> 4.618 | BV22: =IF(BO22 < BM$15, BM$29, BM$30) -> 16.08 | BW22: =BV22 * BR22 -> 16.884 | BX22: =SUM(BW$14:BW22) -> 148.51488 | BY22: =IF(BO22 < BM$15, BM$34, BM$35) -> 0 | BZ22: =BY22 * BR22 -> 0 | CA22: =SUM(BZ$14:BZ22) -> 0 | CB22: =IF(BO22 < BM$15, BM$24, BM$25) -> 16.08 | CC22: =CB22 * BR22 -> 16.884 | CD22: =SUM(CC$14:CC22) -> 148.51488
G23: {="YR" & (ROW(23:23) - ROW($14:$14)) & " = " & (2028 + (ROW(23:23) - ROW($14:$14)))} -> YR9 = 2037 | H23: {="MY" & (ROW(23:23) - ROW($14:$14)) & " = " & (ROW(23:23) - ROW($14:$14))} -> MY9 = 9 | I23: {="CD" & (ROW(23:23) - ROW($14:$14))} -> CD9 | J23: {="CN" & (ROW(23:23) - ROW($14:$14)) & " = CD" & (ROW(23:23) - ROW($14:$14)) & " / CD0" & IF(ROW(23:23) - ROW($14:$14) = 0, " = 1", "")} -> CN9 = CD9 / CD0 | K23: {="IRM" & (ROW(23:23) - ROW($14:$14)) & " = if (YR" & (ROW(23:23) - ROW($14:$14)) & " ≤ EY) then (IRA0) else (IRP0)"} -> IRM9 = if (YR9 ≤ EY) then (IRA0) else (IRP0) | L23: {="IRI" & (ROW(23:23) - ROW($14:$14)) & " = IRM" & (ROW(23:23) - ROW($14:$14)) & " * C" & (ROW(23:23) - ROW($14:$14))} -> IRI9 = IRM9 * C9 | M23: {="IRC" & (ROW(23:23) - ROW($14:$14)) & " = ∑IRIx; x: {0, …, MY" & (ROW(23:23) - ROW($14:$14)) & "}"} -> IRC9 = ∑IRIx; x: {0, …, MY9} | N23: {="ERM" & (ROW(23:23) - ROW($14:$14)) & " = if (YR" & (ROW(23:23) - ROW($14:$14)) & " ≤ EY) then (ERA0) else (ERP0)"} -> ERM9 = if (YR9 ≤ EY) then (ERA0) else (ERP0) | O23: {="ERI" & (ROW(23:23) - ROW($14:$14)) & " = ERM" & (ROW(23:23) - ROW($14:$14)) & " * C" & (ROW(23:23) - ROW($14:$14))} -> ERI9 = ERM9 * C9 | P23: {="ERU" & (ROW(23:23) - ROW($14:$14)) & " = ∑ERIx; x: {0, …, MY" & (ROW(23:23) - ROW($14:$14)) & "}"} -> ERU9 = ∑ERIx; x: {0, …, MY9} | Q23: {="PRM" & (ROW(23:23) - ROW($14:$14)) & " = if (YR" & (ROW(23:23) - ROW($14:$14)) & " ≤ EY) then (PRA0) else (PRP0)"} -> PRM9 = if (YR9 ≤ EY) then (PRA0) else (PRP0) | R23: {="PRI" & (ROW(23:23) - ROW($14:$14)) & " = PRM" & (ROW(23:23) - ROW($14:$14)) & " * C" & (ROW(23:23) - ROW($14:$14))} -> PRI9 = PRM9 * C9 | S23: {="PRU" & (ROW(23:23) - ROW($14:$14)) & " = ∑PRIx; x: {0, …, MY" & (ROW(23:23) - ROW($14:$14)) & "}"} -> PRU9 = ∑PRIx; x: {0, …, MY9} | T23: {="ORM" & (ROW(23:23) - ROW($14:$14)) & " = if (YR" & (ROW(23:23) - ROW($14:$14)) & " ≤ EY) then (ORA0) else (ORP0)"} -> ORM9 = if (YR9 ≤ EY) then (ORA0) else (ORP0) | U23: {="ORI" & (ROW(23:23) - ROW($14:$14)) & " = ORM" & (ROW(23:23) - ROW($14:$14)) & " * C" & (ROW(23:23) - ROW($14:$14))} -> ORI9 = ORM9 * C9 | V23: {="ORC" & (ROW(23:23) - ROW($14:$14)) & " = ∑ORIx; x: {0, …, MY" & (ROW(23:23) - ROW($14:$14)) & "}"} -> ORC9 = ∑ORIx; x: {0, …, MY9} | AA23: 2037 | AB23: 9 | AC23: 1.055 | AD23: =AC23 / AC$14 -> 1.055 | AE23: =IF(AA23 < Y$15, Y$19, Y$20) -> 0.125 | AF23: =AE23 * AD23 -> 0.131875 | AG23: =SUM(AF$14:AF23) -> 3.0425 | AH23: =IF(AA23 < Y$15, Y$29, Y$30) -> 0.02 | AI23: =AH23 * AD23 -> 0.0211 | AJ23: =SUM(AI$14:AI23) -> 0.20582 | AK23: =IF(AA23 < Y$15, Y$34, Y$35) -> 0 | AL23: =AK23 * AD23 -> 0 | AM23: =SUM(AL$14:AL23) -> 0.14049 | AN23: =IF(AA23 < Y$15, Y$24, Y$25) -> 0.02 | AO23: =AN23 * AD23 -> 0.0211 | AP23: =SUM(AO$14:AO23) -> 0.34631 | AU23: 2037 | AV23: 9 | AW23: 1.055 | AX23: =AW23 / AW$14 -> 1.055 | AY23: =IF(AU23 < AS$15, AS$19, AS$20) -> 0.25 | AZ23: =AY23 * AX23 -> 0.26375 | BA23: =SUM(AZ$14:AZ23) -> 4.32275 | BB23: =IF(AU23 < AS$15, AS$29, AS$30) -> 3.78 | BC23: =BB23 * AX23 -> 3.9879 | BD23: =SUM(BC$14:BC23) -> 38.89998 | BE23: =IF(AU23 < AS$15, AS$34, AS$35) -> 0 | BF23: =BE23 * AX23 -> 0 | BG23: =SUM(BF$14:BF23) -> 2.82 | BH23: =IF(AU23 < AS$15, AS$24, AS$25) -> 3.78 | BI23: =BH23 * AX23 -> 3.9879 | BJ23: =SUM(BI$14:BI23) -> 41.71998 | BO23: 2037 | BP23: 9 | BQ23: 1.055 | BR23: =BQ23 / BQ$14 -> 1.055 | BS23: =IF(BO23 < BM$15, BM$19, BM$20) -> 0.5 | BT23: =BS23 * BR23 -> 0.5275 | BU23: =SUM(BT$14:BT23) -> 5.1455 | BV23: =IF(BO23 < BM$15, BM$29, BM$30) -> 16.08 | BW23: =BV23 * BR23 -> 16.9644 | BX23: =SUM(BW$14:BW23) -> 165.47928 | BY23: =IF(BO23 < BM$15, BM$34, BM$35) -> 0 | BZ23: =BY23 * BR23 -> 0 | CA23: =SUM(BZ$14:BZ23) -> 0 | CB23: =IF(BO23 < BM$15, BM$24, BM$25) -> 16.08 | CC23: =CB23 * BR23 -> 16.9644 | CD23: =SUM(CC$14:CC23) -> 165.47928
D24: Pre-Mitigation Risk (ORA0), A : 'ante' | E24: ORA0 = ERA0 + PRA0 | G24: {="YR" & (ROW(24:24) - ROW($14:$14)) & " = " & (2028 + (ROW(24:24) - ROW($14:$14)))} -> YR10 = 2038 | H24: {="MY" & (ROW(24:24) - ROW($14:$14)) & " = " & (ROW(24:24) - ROW($14:$14))} -> MY10 = 10 | I24: {="CD" & (ROW(24:24) - ROW($14:$14))} -> CD10 | J24: {="CN" & (ROW(24:24) - ROW($14:$14)) & " = CD" & (ROW(24:24) - ROW($14:$14)) & " / CD0" & IF(ROW(24:24) - ROW($14:$14) = 0, " = 1", "")} -> CN10 = CD10 / CD0 | K24: {="IRM" & (ROW(24:24) - ROW($14:$14)) & " = if (YR" & (ROW(24:24) - ROW($14:$14)) & " ≤ EY) then (IRA0) else (IRP0)"} -> IRM10 = if (YR10 ≤ EY) then (IRA0) else (IRP0) | L24: {="IRI" & (ROW(24:24) - ROW($14:$14)) & " = IRM" & (ROW(24:24) - ROW($14:$14)) & " * C" & (ROW(24:24) - ROW($14:$14))} -> IRI10 = IRM10 * C10 | M24: {="IRC" & (ROW(24:24) - ROW($14:$14)) & " = ∑IRIx; x: {0, …, MY" & (ROW(24:24) - ROW($14:$14)) & "}"} -> IRC10 = ∑IRIx; x: {0, …, MY10} | N24: {="ERM" & (ROW(24:24) - ROW($14:$14)) & " = if (YR" & (ROW(24:24) - ROW($14:$14)) & " ≤ EY) then (ERA0) else (ERP0)"} -> ERM10 = if (YR10 ≤ EY) then (ERA0) else (ERP0) | O24: {="ERI" & (ROW(24:24) - ROW($14:$14)) & " = ERM" & (ROW(24:24) - ROW($14:$14)) & " * C" & (ROW(24:24) - ROW($14:$14))} -> ERI10 = ERM10 * C10 | P24: {="ERU" & (ROW(24:24) - ROW($14:$14)) & " = ∑ERIx; x: {0, …, MY" & (ROW(24:24) - ROW($14:$14)) & "}"} -> ERU10 = ∑ERIx; x: {0, …, MY10} | Q24: {="PRM" & (ROW(24:24) - ROW($14:$14)) & " = if (YR" & (ROW(24:24) - ROW($14:$14)) & " ≤ EY) then (PRA0) else (PRP0)"} -> PRM10 = if (YR10 ≤ EY) then (PRA0) else (PRP0) | R24: {="PRI" & (ROW(24:24) - ROW($14:$14)) & " = PRM" & (ROW(24:24) - ROW($14:$14)) & " * C" & (ROW(24:24) - ROW($14:$14))} -> PRI10 = PRM10 * C10 | S24: {="PRU" & (ROW(24:24) - ROW($14:$14)) & " = ∑PRIx; x: {0, …, MY" & (ROW(24:24) - ROW($14:$14)) & "}"} -> PRU10 = ∑PRIx; x: {0, …, MY10} | T24: {="ORM" & (ROW(24:24) - ROW($14:$14)) & " = if (YR" & (ROW(24:24) - ROW($14:$14)) & " ≤ EY) then (ORA0) else (ORP0)"} -> ORM10 = if (YR10 ≤ EY) then (ORA0) else (ORP0) | U24: {="ORI" & (ROW(24:24) - ROW($14:$14)) & " = ORM" & (ROW(24:24) - ROW($14:$14)) & " * C" & (ROW(24:24) - ROW($14:$14))} -> ORI10 = ORM10 * C10 | V24: {="ORC" & (ROW(24:24) - ROW($14:$14)) & " = ∑ORIx; x: {0, …, MY" & (ROW(24:24) - ROW($14:$14)) & "}"} -> ORC10 = ∑ORIx; x: {0, …, MY10} | X24: Pre-Mitigation Risk (ORA0), A : 'ante' | Y24: =Y29 + Y34 -> 0.09 | AA24: 2038 | AB24: 10 | AC24: 1.06 | AD24: =AC24 / AC$14 -> 1.06 | AE24: =IF(AA24 < Y$15, Y$19, Y$20) -> 0.125 | AF24: =AE24 * AD24 -> 0.1325 | AG24: =SUM(AF$14:AF24) -> 3.175 | AH24: =IF(AA24 < Y$15, Y$29, Y$30) -> 0.02 | AI24: =AH24 * AD24 -> 0.0212 | AJ24: =SUM(AI$14:AI24) -> 0.22702 | AK24: =IF(AA24 < Y$15, Y$34, Y$35) -> 0 | AL24: =AK24 * AD24 -> 0 | AM24: =SUM(AL$14:AL24) -> 0.14049 | AN24: =IF(AA24 < Y$15, Y$24, Y$25) -> 0.02 | AO24: =AN24 * AD24 -> 0.0212 | AP24: =SUM(AO$14:AO24) -> 0.36751 | AR24: Pre-Mitigation Risk (ORA0), A : 'ante' | AS24: =AS29 + AS34 -> 6.6 | AU24: 2038 | AV24: 10 | AW24: 1.06 | AX24: =AW24 / AW$14 -> 1.06 | AY24: =IF(AU24 < AS$15, AS$19, AS$20) -> 0.25 | AZ24: =AY24 * AX24 -> 0.265 | BA24: =SUM(AZ$14:AZ24) -> 4.58775 | BB24: =IF(AU24 < AS$15, AS$29, AS$30) -> 3.78 | BC24: =BB24 * AX24 -> 4.0068 | BD24: =SUM(BC$14:BC24) -> 42.90678 | BE24: =IF(AU24 < AS$15, AS$34, AS$35) -> 0 | BF24: =BE24 * AX24 -> 0 | BG24: =SUM(BF$14:BF24) -> 2.82 | BH24: =IF(AU24 < AS$15, AS$24, AS$25) -> 3.78 | BI24: =BH24 * AX24 -> 4.0068 | BJ24: =SUM(BI$14:BI24) -> 45.72678 | BL24: Pre-Mitigation Risk (ORA0), A : 'ante' | BM24: =BM29 + BM34 -> 22.59 | BO24: 2038 | BP24: 10 | BQ24: 1.06 | BR24: =BQ24 / BQ$14 -> 1.06 | BS24: =IF(BO24 < BM$15, BM$19, BM$20) -> 0.5 | BT24: =BS24 * BR24 -> 0.53 | BU24: =SUM(BT$14:BT24) -> 5.6755 | BV24: =IF(BO24 < BM$15, BM$29, BM$30) -> 16.08 | BW24: =BV24 * BR24 -> 17.0448 | BX24: =SUM(BW$14:BW24) -> 182.52408 | BY24: =IF(BO24 < BM$15, BM$34, BM$35) -> 0 | BZ24: =BY24 * BR24 -> 0 | CA24: =SUM(BZ$14:BZ24) -> 0 | CB24: =IF(BO24 < BM$15, BM$24, BM$25) -> 16.08 | CC24: =CB24 * BR24 -> 17.0448 | CD24: =SUM(CC$14:CC24) -> 182.52408
D25: Residual Risk (ORP0), P : 'post' | E25: ORP0 = ORP1 + ORP2 + ORP3 + ORP4 | G25: {="YR" & (ROW(25:25) - ROW($14:$14)) & " = " & (2028 + (ROW(25:25) - ROW($14:$14)))} -> YR11 = 2039 | H25: {="MY" & (ROW(25:25) - ROW($14:$14)) & " = " & (ROW(25:25) - ROW($14:$14))} -> MY11 = 11 | I25: {="CD" & (ROW(25:25) - ROW($14:$14))} -> CD11 | J25: {="CN" & (ROW(25:25) - ROW($14:$14)) & " = CD" & (ROW(25:25) - ROW($14:$14)) & " / CD0" & IF(ROW(25:25) - ROW($14:$14) = 0, " = 1", "")} -> CN11 = CD11 / CD0 | K25: {="IRM" & (ROW(25:25) - ROW($14:$14)) & " = if (YR" & (ROW(25:25) - ROW($14:$14)) & " ≤ EY) then (IRA0) else (IRP0)"} -> IRM11 = if (YR11 ≤ EY) then (IRA0) else (IRP0) | L25: {="IRI" & (ROW(25:25) - ROW($14:$14)) & " = IRM" & (ROW(25:25) - ROW($14:$14)) & " * C" & (ROW(25:25) - ROW($14:$14))} -> IRI11 = IRM11 * C11 | M25: {="IRC" & (ROW(25:25) - ROW($14:$14)) & " = ∑IRIx; x: {0, …, MY" & (ROW(25:25) - ROW($14:$14)) & "}"} -> IRC11 = ∑IRIx; x: {0, …, MY11} | N25: {="ERM" & (ROW(25:25) - ROW($14:$14)) & " = if (YR" & (ROW(25:25) - ROW($14:$14)) & " ≤ EY) then (ERA0) else (ERP0)"} -> ERM11 = if (YR11 ≤ EY) then (ERA0) else (ERP0) | O25: {="ERI" & (ROW(25:25) - ROW($14:$14)) & " = ERM" & (ROW(25:25) - ROW($14:$14)) & " * C" & (ROW(25:25) - ROW($14:$14))} -> ERI11 = ERM11 * C11 | P25: {="ERU" & (ROW(25:25) - ROW($14:$14)) & " = ∑ERIx; x: {0, …, MY" & (ROW(25:25) - ROW($14:$14)) & "}"} -> ERU11 = ∑ERIx; x: {0, …, MY11} | Q25: {="PRM" & (ROW(25:25) - ROW($14:$14)) & " = if (YR" & (ROW(25:25) - ROW($14:$14)) & " ≤ EY) then (PRA0) else (PRP0)"} -> PRM11 = if (YR11 ≤ EY) then (PRA0) else (PRP0) | R25: {="PRI" & (ROW(25:25) - ROW($14:$14)) & " = PRM" & (ROW(25:25) - ROW($14:$14)) & " * C" & (ROW(25:25) - ROW($14:$14))} -> PRI11 = PRM11 * C11 | S25: {="PRU" & (ROW(25:25) - ROW($14:$14)) & " = ∑PRIx; x: {0, …, MY" & (ROW(25:25) - ROW($14:$14)) & "}"} -> PRU11 = ∑PRIx; x: {0, …, MY11} | T25: {="ORM" & (ROW(25:25) - ROW($14:$14)) & " = if (YR" & (ROW(25:25) - ROW($14:$14)) & " ≤ EY) then (ORA0) else (ORP0)"} -> ORM11 = if (YR11 ≤ EY) then (ORA0) else (ORP0) | U25: {="ORI" & (ROW(25:25) - ROW($14:$14)) & " = ORM" & (ROW(25:25) - ROW($14:$14)) & " * C" & (ROW(25:25) - ROW($14:$14))} -> ORI11 = ORM11 * C11 | V25: {="ORC" & (ROW(25:25) - ROW($14:$14)) & " = ∑ORIx; x: {0, …, MY" & (ROW(25:25) - ROW($14:$14)) & "}"} -> ORC11 = ∑ORIx; x: {0, …, MY11} | X25: Residual Risk (ORP0), P : 'post' | Y25: =Y30 + Y35 -> 0.02 | AA25: 2039 | AB25: 11 | AC25: 1.065 | AD25: =AC25 / AC$14 -> 1.065 | AE25: =IF(AA25 < Y$15, Y$19, Y$20) -> 0.125 | AF25: =AE25 * AD25 -> 0.133125 | AG25: =SUM(AF$14:AF25) -> 3.308125 | AH25: =IF(AA25 < Y$15, Y$29, Y$30) -> 0.02 | AI25: =AH25 * AD25 -> 0.0213 | AJ25: =SUM(AI$14:AI25) -> 0.24832 | AK25: =IF(AA25 < Y$15, Y$34, Y$35) -> 0 | AL25: =AK25 * AD25 -> 0 | AM25: =SUM(AL$14:AL25) -> 0.14049 | AN25: =IF(AA25 < Y$15, Y$24, Y$25) -> 0.02 | AO25: =AN25 * AD25 -> 0.0213 | AP25: =SUM(AO$14:AO25) -> 0.38881 | AR25: Residual Risk (ORP0), P : 'post' | AS25: =AS30 + AS35 -> 3.78 | AU25: 2039 | AV25: 11 | AW25: 1.065 | AX25: =AW25 / AW$14 -> 1.065 | AY25: =IF(AU25 < AS$15, AS$19, AS$20) -> 0.25 | AZ25: =AY25 * AX25 -> 0.26625 | BA25: =SUM(AZ$14:AZ25) -> 4.854 | BB25: =IF(AU25 < AS$15, AS$29, AS$30) -> 3.78 | BC25: =BB25 * AX25 -> 4.0257 | BD25: =SUM(BC$14:BC25) -> 46.93248 | BE25: =IF(AU25 < AS$15, AS$34, AS$35) -> 0 | BF25: =BE25 * AX25 -> 0 | BG25: =SUM(BF$14:BF25) -> 2.82 | BH25: =IF(AU25 < AS$15, AS$24, AS$25) -> 3.78 | BI25: =BH25 * AX25 -> 4.0257 | BJ25: =SUM(BI$14:BI25) -> 49.75248 | BL25: Residual Risk (ORP0), P : 'post' | BM25: =BM30 + BM35 -> 16.08 | BO25: 2039 | BP25: 11 | BQ25: 1.065 | BR25: =BQ25 / BQ$14 -> 1.065 | BS25: =IF(BO25 < BM$15, BM$19, BM$20) -> 0.5 | BT25: =BS25 * BR25 -> 0.5325 | BU25: =SUM(BT$14:BT25) -> 6.208 | BV25: =IF(BO25 < BM$15, BM$29, BM$30) -> 16.08 | BW25: =BV25 * BR25 -> 17.1252 | BX25: =SUM(BW$14:BW25) -> 199.64928 | BY25: =IF(BO25 < BM$15, BM$34, BM$35) -> 0 | BZ25: =BY25 * BR25 -> 0 | CA25: =SUM(BZ$14:BZ25) -> 0 | CB25: =IF(BO25 < BM$15, BM$24, BM$25) -> 16.08 | CC25: =CB25 * BR25 -> 17.1252 | CD25: =SUM(CC$14:CC25) -> 199.64928
D26: Residual Risk, Mitigation 1 (ORP1) | E26: ORP1 = ERP1 + PRP1 | G26: {="YR" & (ROW(26:26) - ROW($14:$14)) & " = " & (2028 + (ROW(26:26) - ROW($14:$14)))} -> YR12 = 2040 | H26: {="MY" & (ROW(26:26) - ROW($14:$14)) & " = " & (ROW(26:26) - ROW($14:$14))} -> MY12 = 12 | I26: {="CD" & (ROW(26:26) - ROW($14:$14))} -> CD12 | J26: {="CN" & (ROW(26:26) - ROW($14:$14)) & " = CD" & (ROW(26:26) - ROW($14:$14)) & " / CD0" & IF(ROW(26:26) - ROW($14:$14) = 0, " = 1", "")} -> CN12 = CD12 / CD0 | K26: {="IRM" & (ROW(26:26) - ROW($14:$14)) & " = if (YR" & (ROW(26:26) - ROW($14:$14)) & " ≤ EY) then (IRA0) else (IRP0)"} -> IRM12 = if (YR12 ≤ EY) then (IRA0) else (IRP0) | L26: {="IRI" & (ROW(26:26) - ROW($14:$14)) & " = IRM" & (ROW(26:26) - ROW($14:$14)) & " * C" & (ROW(26:26) - ROW($14:$14))} -> IRI12 = IRM12 * C12 | M26: {="IRC" & (ROW(26:26) - ROW($14:$14)) & " = ∑IRIx; x: {0, …, MY" & (ROW(26:26) - ROW($14:$14)) & "}"} -> IRC12 = ∑IRIx; x: {0, …, MY12} | N26: {="ERM" & (ROW(26:26) - ROW($14:$14)) & " = if (YR" & (ROW(26:26) - ROW($14:$14)) & " ≤ EY) then (ERA0) else (ERP0)"} -> ERM12 = if (YR12 ≤ EY) then (ERA0) else (ERP0) | O26: {="ERI" & (ROW(26:26) - ROW($14:$14)) & " = ERM" & (ROW(26:26) - ROW($14:$14)) & " * C" & (ROW(26:26) - ROW($14:$14))} -> ERI12 = ERM12 * C12 | P26: {="ERU" & (ROW(26:26) - ROW($14:$14)) & " = ∑ERIx; x: {0, …, MY" & (ROW(26:26) - ROW($14:$14)) & "}"} -> ERU12 = ∑ERIx; x: {0, …, MY12} | Q26: {="PRM" & (ROW(26:26) - ROW($14:$14)) & " = if (YR" & (ROW(26:26) - ROW($14:$14)) & " ≤ EY) then (PRA0) else (PRP0)"} -> PRM12 = if (YR12 ≤ EY) then (PRA0) else (PRP0) | R26: {="PRI" & (ROW(26:26) - ROW($14:$14)) & " = PRM" & (ROW(26:26) - ROW($14:$14)) & " * C" & (ROW(26:26) - ROW($14:$14))} -> PRI12 = PRM12 * C12 | S26: {="PRU" & (ROW(26:26) - ROW($14:$14)) & " = ∑PRIx; x: {0, …, MY" & (ROW(26:26) - ROW($14:$14)) & "}"} -> PRU12 = ∑PRIx; x: {0, …, MY12} | T26: {="ORM" & (ROW(26:26) - ROW($14:$14)) & " = if (YR" & (ROW(26:26) - ROW($14:$14)) & " ≤ EY) then (ORA0) else (ORP0)"} -> ORM12 = if (YR12 ≤ EY) then (ORA0) else (ORP0) | U26: {="ORI" & (ROW(26:26) - ROW($14:$14)) & " = ORM" & (ROW(26:26) - ROW($14:$14)) & " * C" & (ROW(26:26) - ROW($14:$14))} -> ORI12 = ORM12 * C12 | V26: {="ORC" & (ROW(26:26) - ROW($14:$14)) & " = ∑ORIx; x: {0, …, MY" & (ROW(26:26) - ROW($14:$14)) & "}"} -> ORC12 = ∑ORIx; x: {0, …, MY12} | AA26: 2040 | AB26: 12 | AC26: 1.07 | AD26: =AC26 / AC$14 -> 1.07 | AE26: =IF(AA26 < Y$15, Y$19, Y$20) -> 0.125 | AF26: =AE26 * AD26 -> 0.13375 | AG26: =SUM(AF$14:AF26) -> 3.441875 | AH26: =IF(AA26 < Y$15, Y$29, Y$30) -> 0.02 | AI26: =AH26 * AD26 -> 0.0214 | AJ26: =SUM(AI$14:AI26) -> 0.26972 | AK26: =IF(AA26 < Y$15, Y$34, Y$35) -> 0 | AL26: =AK26 * AD26 -> 0 | AM26: =SUM(AL$14:AL26) -> 0.14049 | AN26: =IF(AA26 < Y$15, Y$24, Y$25) -> 0.02 | AO26: =AN26 * AD26 -> 0.0214 | AP26: =SUM(AO$14:AO26) -> 0.41021 | AU26: 2040 | AV26: 12 | AW26: 1.07 | AX26: =AW26 / AW$14 -> 1.07 | AY26: =IF(AU26 < AS$15, AS$19, AS$20) -> 0.25 | AZ26: =AY26 * AX26 -> 0.2675 | BA26: =SUM(AZ$14:AZ26) -> 5.1215 | BB26: =IF(AU26 < AS$15, AS$29, AS$30) -> 3.78 | BC26: =BB26 * AX26 -> 4.0446 | BD26: =SUM(BC$14:BC26) -> 50.97708 | BE26: =IF(AU26 < AS$15, AS$34, AS$35) -> 0 | BF26: =BE26 * AX26 -> 0 | BG26: =SUM(BF$14:BF26) -> 2.82 | BH26: =IF(AU26 < AS$15, AS$24, AS$25) -> 3.78 | BI26: =BH26 * AX26 -> 4.0446 | BJ26: =SUM(BI$14:BI26) -> 53.79708 | BO26: 2040 | BP26: 12 | BQ26: 1.07 | BR26: =BQ26 / BQ$14 -> 1.07 | BS26: =IF(BO26 < BM$15, BM$19, BM$20) -> 0.5 | BT26: =BS26 * BR26 -> 0.535 | BU26: =SUM(BT$14:BT26) -> 6.743 | BV26: =IF(BO26 < BM$15, BM$29, BM$30) -> 16.08 | BW26: =BV26 * BR26 -> 17.2056 | BX26: =SUM(BW$14:BW26) -> 216.85488 | BY26: =IF(BO26 < BM$15, BM$34, BM$35) -> 0 | BZ26: =BY26 * BR26 -> 0 | CA26: =SUM(BZ$14:BZ26) -> 0 | CB26: =IF(BO26 < BM$15, BM$24, BM$25) -> 16.08 | CC26: =CB26 * BR26 -> 17.2056 | CD26: =SUM(CC$14:CC26) -> 216.85488
D27: Residual Risk, Mitigation 2 (ORP2) | E27: ORP2 = ERP2 + PRP2 | G27: {="YR" & (ROW(27:27) - ROW($14:$14)) & " = " & (2028 + (ROW(27:27) - ROW($14:$14)))} -> YR13 = 2041 | H27: {="MY" & (ROW(27:27) - ROW($14:$14)) & " = " & (ROW(27:27) - ROW($14:$14))} -> MY13 = 13 | I27: {="CD" & (ROW(27:27) - ROW($14:$14))} -> CD13 | J27: {="CN" & (ROW(27:27) - ROW($14:$14)) & " = CD" & (ROW(27:27) - ROW($14:$14)) & " / CD0" & IF(ROW(27:27) - ROW($14:$14) = 0, " = 1", "")} -> CN13 = CD13 / CD0 | K27: {="IRM" & (ROW(27:27) - ROW($14:$14)) & " = if (YR" & (ROW(27:27) - ROW($14:$14)) & " ≤ EY) then (IRA0) else (IRP0)"} -> IRM13 = if (YR13 ≤ EY) then (IRA0) else (IRP0) | L27: {="IRI" & (ROW(27:27) - ROW($14:$14)) & " = IRM" & (ROW(27:27) - ROW($14:$14)) & " * C" & (ROW(27:27) - ROW($14:$14))} -> IRI13 = IRM13 * C13 | M27: {="IRC" & (ROW(27:27) - ROW($14:$14)) & " = ∑IRIx; x: {0, …, MY" & (ROW(27:27) - ROW($14:$14)) & "}"} -> IRC13 = ∑IRIx; x: {0, …, MY13} | N27: {="ERM" & (ROW(27:27) - ROW($14:$14)) & " = if (YR" & (ROW(27:27) - ROW($14:$14)) & " ≤ EY) then (ERA0) else (ERP0)"} -> ERM13 = if (YR13 ≤ EY) then (ERA0) else (ERP0) | O27: {="ERI" & (ROW(27:27) - ROW($14:$14)) & " = ERM" & (ROW(27:27) - ROW($14:$14)) & " * C" & (ROW(27:27) - ROW($14:$14))} -> ERI13 = ERM13 * C13 | P27: {="ERU" & (ROW(27:27) - ROW($14:$14)) & " = ∑ERIx; x: {0, …, MY" & (ROW(27:27) - ROW($14:$14)) & "}"} -> ERU13 = ∑ERIx; x: {0, …, MY13} | Q27: {="PRM" & (ROW(27:27) - ROW($14:$14)) & " = if (YR" & (ROW(27:27) - ROW($14:$14)) & " ≤ EY) then (PRA0) else (PRP0)"} -> PRM13 = if (YR13 ≤ EY) then (PRA0) else (PRP0) | R27: {="PRI" & (ROW(27:27) - ROW($14:$14)) & " = PRM" & (ROW(27:27) - ROW($14:$14)) & " * C" & (ROW(27:27) - ROW($14:$14))} -> PRI13 = PRM13 * C13 | S27: {="PRU" & (ROW(27:27) - ROW($14:$14)) & " = ∑PRIx; x: {0, …, MY" & (ROW(27:27) - ROW($14:$14)) & "}"} -> PRU13 = ∑PRIx; x: {0, …, MY13} | T27: {="ORM" & (ROW(27:27) - ROW($14:$14)) & " = if (YR" & (ROW(27:27) - ROW($14:$14)) & " ≤ EY) then (ORA0) else (ORP0)"} -> ORM13 = if (YR13 ≤ EY) then (ORA0) else (ORP0) | U27: {="ORI" & (ROW(27:27) - ROW($14:$14)) & " = ORM" & (ROW(27:27) - ROW($14:$14)) & " * C" & (ROW(27:27) - ROW($14:$14))} -> ORI13 = ORM13 * C13 | V27: {="ORC" & (ROW(27:27) - ROW($14:$14)) & " = ∑ORIx; x: {0, …, MY" & (ROW(27:27) - ROW($14:$14)) & "}"} -> ORC13 = ∑ORIx; x: {0, …, MY13} | X27: 2028 EPSS Risk for Circuit Segment | AA27: 2041 | AB27: 13 | AC27: 1.075 | AD27: =AC27 / AC$14 -> 1.075 | AE27: =IF(AA27 < Y$15, Y$19, Y$20) -> 0.125 | AF27: =AE27 * AD27 -> 0.134375 | AG27: =SUM(AF$14:AF27) -> 3.57625 | AH27: =IF(AA27 < Y$15, Y$29, Y$30) -> 0.02 | AI27: =AH27 * AD27 -> 0.0215 | AJ27: =SUM(AI$14:AI27) -> 0.29122 | AK27: =IF(AA27 < Y$15, Y$34, Y$35) -> 0 | AL27: =AK27 * AD27 -> 0 | AM27: =SUM(AL$14:AL27) -> 0.14049 | AN27: =IF(AA27 < Y$15, Y$24, Y$25) -> 0.02 | AO27: =AN27 * AD27 -> 0.0215 | AP27: =SUM(AO$14:AO27) -> 0.43171 | AR27: 2028 EPSS Risk for Circuit Segment | AU27: 2041 | AV27: 13 | AW27: 1.075 | AX27: =AW27 / AW$14 -> 1.075 | AY27: =IF(AU27 < AS$15, AS$19, AS$20) -> 0.25 | AZ27: =AY27 * AX27 -> 0.26875 | BA27: =SUM(AZ$14:AZ27) -> 5.39025 | BB27: =IF(AU27 < AS$15, AS$29, AS$30) -> 3.78 | BC27: =BB27 * AX27 -> 4.0635 | BD27: =SUM(BC$14:BC27) -> 55.04058 | BE27: =IF(AU27 < AS$15, AS$34, AS$35) -> 0 | BF27: =BE27 * AX27 -> 0 | BG27: =SUM(BF$14:BF27) -> 2.82 | BH27: =IF(AU27 < AS$15, AS$24, AS$25) -> 3.78 | BI27: =BH27 * AX27 -> 4.0635 | BJ27: =SUM(BI$14:BI27) -> 57.86058 | BL27: 2028 EPSS Risk for Circuit Segment | BO27: 2041 | BP27: 13 | BQ27: 1.075 | BR27: =BQ27 / BQ$14 -> 1.075 | BS27: =IF(BO27 < BM$15, BM$19, BM$20) -> 0.5 | BT27: =BS27 * BR27 -> 0.5375 | BU27: =SUM(BT$14:BT27) -> 7.2805 | BV27: =IF(BO27 < BM$15, BM$29, BM$30) -> 16.08 | BW27: =BV27 * BR27 -> 17.286 | BX27: =SUM(BW$14:BW27) -> 234.14088 | BY27: =IF(BO27 < BM$15, BM$34, BM$35) -> 0 | BZ27: =BY27 * BR27 -> 0 | CA27: =SUM(BZ$14:BZ27) -> 0 | CB27: =IF(BO27 < BM$15, BM$24, BM$25) -> 16.08 | CC27: =CB27 * BR27 -> 17.286 | CD27: =SUM(CC$14:CC27) -> 234.14088
D28: Residual Risk, Mitigation 3 (ORP3) | E28: ORP3 = ERP3 + PRP3 | G28: {="YR" & (ROW(28:28) - ROW($14:$14)) & " = " & (2028 + (ROW(28:28) - ROW($14:$14)))} -> YR14 = 2042 | H28: {="MY" & (ROW(28:28) - ROW($14:$14)) & " = " & (ROW(28:28) - ROW($14:$14))} -> MY14 = 14 | I28: {="CD" & (ROW(28:28) - ROW($14:$14))} -> CD14 | J28: {="CN" & (ROW(28:28) - ROW($14:$14)) & " = CD" & (ROW(28:28) - ROW($14:$14)) & " / CD0" & IF(ROW(28:28) - ROW($14:$14) = 0, " = 1", "")} -> CN14 = CD14 / CD0 | K28: {="IRM" & (ROW(28:28) - ROW($14:$14)) & " = if (YR" & (ROW(28:28) - ROW($14:$14)) & " ≤ EY) then (IRA0) else (IRP0)"} -> IRM14 = if (YR14 ≤ EY) then (IRA0) else (IRP0) | L28: {="IRI" & (ROW(28:28) - ROW($14:$14)) & " = IRM" & (ROW(28:28) - ROW($14:$14)) & " * C" & (ROW(28:28) - ROW($14:$14))} -> IRI14 = IRM14 * C14 | M28: {="IRC" & (ROW(28:28) - ROW($14:$14)) & " = ∑IRIx; x: {0, …, MY" & (ROW(28:28) - ROW($14:$14)) & "}"} -> IRC14 = ∑IRIx; x: {0, …, MY14} | N28: {="ERM" & (ROW(28:28) - ROW($14:$14)) & " = if (YR" & (ROW(28:28) - ROW($14:$14)) & " ≤ EY) then (ERA0) else (ERP0)"} -> ERM14 = if (YR14 ≤ EY) then (ERA0) else (ERP0) | O28: {="ERI" & (ROW(28:28) - ROW($14:$14)) & " = ERM" & (ROW(28:28) - ROW($14:$14)) & " * C" & (ROW(28:28) - ROW($14:$14))} -> ERI14 = ERM14 * C14 | P28: {="ERU" & (ROW(28:28) - ROW($14:$14)) & " = ∑ERIx; x: {0, …, MY" & (ROW(28:28) - ROW($14:$14)) & "}"} -> ERU14 = ∑ERIx; x: {0, …, MY14} | Q28: {="PRM" & (ROW(28:28) - ROW($14:$14)) & " = if (YR" & (ROW(28:28) - ROW($14:$14)) & " ≤ EY) then (PRA0) else (PRP0)"} -> PRM14 = if (YR14 ≤ EY) then (PRA0) else (PRP0) | R28: {="PRI" & (ROW(28:28) - ROW($14:$14)) & " = PRM" & (ROW(28:28) - ROW($14:$14)) & " * C" & (ROW(28:28) - ROW($14:$14))} -> PRI14 = PRM14 * C14 | S28: {="PRU" & (ROW(28:28) - ROW($14:$14)) & " = ∑PRIx; x: {0, …, MY" & (ROW(28:28) - ROW($14:$14)) & "}"} -> PRU14 = ∑PRIx; x: {0, …, MY14} | T28: {="ORM" & (ROW(28:28) - ROW($14:$14)) & " = if (YR" & (ROW(28:28) - ROW($14:$14)) & " ≤ EY) then (ORA0) else (ORP0)"} -> ORM14 = if (YR14 ≤ EY) then (ORA0) else (ORP0) | U28: {="ORI" & (ROW(28:28) - ROW($14:$14)) & " = ORM" & (ROW(28:28) - ROW($14:$14)) & " * C" & (ROW(28:28) - ROW($14:$14))} -> ORI14 = ORM14 * C14 | V28: {="ORC" & (ROW(28:28) - ROW($14:$14)) & " = ∑ORIx; x: {0, …, MY" & (ROW(28:28) - ROW($14:$14)) & "}"} -> ORC14 = ∑ORIx; x: {0, …, MY14} | AA28: 2042 | AB28: 14 | AC28: 1.08 | AD28: =AC28 / AC$14 -> 1.08 | AE28: =IF(AA28 < Y$15, Y$19, Y$20) -> 0.125 | AF28: =AE28 * AD28 -> 0.135 | AG28: =SUM(AF$14:AF28) -> 3.71125 | AH28: =IF(AA28 < Y$15, Y$29, Y$30) -> 0.02 | AI28: =AH28 * AD28 -> 0.0216 | AJ28: =SUM(AI$14:AI28) -> 0.31282 | AK28: =IF(AA28 < Y$15, Y$34, Y$35) -> 0 | AL28: =AK28 * AD28 -> 0 | AM28: =SUM(AL$14:AL28) -> 0.14049 | AN28: =IF(AA28 < Y$15, Y$24, Y$25) -> 0.02 | AO28: =AN28 * AD28 -> 0.0216 | AP28: =SUM(AO$14:AO28) -> 0.45331 | AU28: 2042 | AV28: 14 | AW28: 1.08 | AX28: =AW28 / AW$14 -> 1.08 | AY28: =IF(AU28 < AS$15, AS$19, AS$20) -> 0.25 | AZ28: =AY28 * AX28 -> 0.27 | BA28: =SUM(AZ$14:AZ28) -> 5.66025 | BB28: =IF(AU28 < AS$15, AS$29, AS$30) -> 3.78 | BC28: =BB28 * AX28 -> 4.0824 | BD28: =SUM(BC$14:BC28) -> 59.12298 | BE28: =IF(AU28 < AS$15, AS$34, AS$35) -> 0 | BF28: =BE28 * AX28 -> 0 | BG28: =SUM(BF$14:BF28) -> 2.82 | BH28: =IF(AU28 < AS$15, AS$24, AS$25) -> 3.78 | BI28: =BH28 * AX28 -> 4.0824 | BJ28: =SUM(BI$14:BI28) -> 61.94298 | BO28: 2042 | BP28: 14 | BQ28: 1.08 | BR28: =BQ28 / BQ$14 -> 1.08 | BS28: =IF(BO28 < BM$15, BM$19, BM$20) -> 0.5 | BT28: =BS28 * BR28 -> 0.54 | BU28: =SUM(BT$14:BT28) -> 7.8205 | BV28: =IF(BO28 < BM$15, BM$29, BM$30) -> 16.08 | BW28: =BV28 * BR28 -> 17.3664 | BX28: =SUM(BW$14:BW28) -> 251.50728 | BY28: =IF(BO28 < BM$15, BM$34, BM$35) -> 0 | BZ28: =BY28 * BR28 -> 0 | CA28: =SUM(BZ$14:BZ28) -> 0 | CB28: =IF(BO28 < BM$15, BM$24, BM$25) -> 16.08 | CC28: =CB28 * BR28 -> 17.3664 | CD28: =SUM(CC$14:CC28) -> 251.50728
D29: Residual Risk, No Mitigation (ORP4) | E29: ORP4 = ERP4 + PRP4 | G29: {="YR" & (ROW(29:29) - ROW($14:$14)) & " = " & (2028 + (ROW(29:29) - ROW($14:$14)))} -> YR15 = 2043 | H29: {="MY" & (ROW(29:29) - ROW($14:$14)) & " = " & (ROW(29:29) - ROW($14:$14))} -> MY15 = 15 | I29: {="CD" & (ROW(29:29) - ROW($14:$14))} -> CD15 | J29: {="CN" & (ROW(29:29) - ROW($14:$14)) & " = CD" & (ROW(29:29) - ROW($14:$14)) & " / CD0" & IF(ROW(29:29) - ROW($14:$14) = 0, " = 1", "")} -> CN15 = CD15 / CD0 | K29: {="IRM" & (ROW(29:29) - ROW($14:$14)) & " = if (YR" & (ROW(29:29) - ROW($14:$14)) & " ≤ EY) then (IRA0) else (IRP0)"} -> IRM15 = if (YR15 ≤ EY) then (IRA0) else (IRP0) | L29: {="IRI" & (ROW(29:29) - ROW($14:$14)) & " = IRM" & (ROW(29:29) - ROW($14:$14)) & " * C" & (ROW(29:29) - ROW($14:$14))} -> IRI15 = IRM15 * C15 | M29: {="IRC" & (ROW(29:29) - ROW($14:$14)) & " = ∑IRIx; x: {0, …, MY" & (ROW(29:29) - ROW($14:$14)) & "}"} -> IRC15 = ∑IRIx; x: {0, …, MY15} | N29: {="ERM" & (ROW(29:29) - ROW($14:$14)) & " = if (YR" & (ROW(29:29) - ROW($14:$14)) & " ≤ EY) then (ERA0) else (ERP0)"} -> ERM15 = if (YR15 ≤ EY) then (ERA0) else (ERP0) | O29: {="ERI" & (ROW(29:29) - ROW($14:$14)) & " = ERM" & (ROW(29:29) - ROW($14:$14)) & " * C" & (ROW(29:29) - ROW($14:$14))} -> ERI15 = ERM15 * C15 | P29: {="ERU" & (ROW(29:29) - ROW($14:$14)) & " = ∑ERIx; x: {0, …, MY" & (ROW(29:29) - ROW($14:$14)) & "}"} -> ERU15 = ∑ERIx; x: {0, …, MY15} | Q29: {="PRM" & (ROW(29:29) - ROW($14:$14)) & " = if (YR" & (ROW(29:29) - ROW($14:$14)) & " ≤ EY) then (PRA0) else (PRP0)"} -> PRM15 = if (YR15 ≤ EY) then (PRA0) else (PRP0) | R29: {="PRI" & (ROW(29:29) - ROW($14:$14)) & " = PRM" & (ROW(29:29) - ROW($14:$14)) & " * C" & (ROW(29:29) - ROW($14:$14))} -> PRI15 = PRM15 * C15 | S29: {="PRU" & (ROW(29:29) - ROW($14:$14)) & " = ∑PRIx; x: {0, …, MY" & (ROW(29:29) - ROW($14:$14)) & "}"} -> PRU15 = ∑PRIx; x: {0, …, MY15} | T29: {="ORM" & (ROW(29:29) - ROW($14:$14)) & " = if (YR" & (ROW(29:29) - ROW($14:$14)) & " ≤ EY) then (ORA0) else (ORP0)"} -> ORM15 = if (YR15 ≤ EY) then (ORA0) else (ORP0) | U29: {="ORI" & (ROW(29:29) - ROW($14:$14)) & " = ORM" & (ROW(29:29) - ROW($14:$14)) & " * C" & (ROW(29:29) - ROW($14:$14))} -> ORI15 = ORM15 * C15 | V29: {="ORC" & (ROW(29:29) - ROW($14:$14)) & " = ∑ORIx; x: {0, …, MY" & (ROW(29:29) - ROW($14:$14)) & "}"} -> ORC15 = ∑ORIx; x: {0, …, MY15} | X29: Pre-Mitigation Risk (ERA0), A : 'ante' | Y29: 0.02 | AA29: 2043 | AB29: 15 | AC29: 1.085 | AD29: =AC29 / AC$14 -> 1.085 | AE29: =IF(AA29 < Y$15, Y$19, Y$20) -> 0.125 | AF29: =AE29 * AD29 -> 0.135625 | AG29: =SUM(AF$14:AF29) -> 3.846875 | AH29: =IF(AA29 < Y$15, Y$29, Y$30) -> 0.02 | AI29: =AH29 * AD29 -> 0.0217 | AJ29: =SUM(AI$14:AI29) -> 0.33452 | AK29: =IF(AA29 < Y$15, Y$34, Y$35) -> 0 | AL29: =AK29 * AD29 -> 0 | AM29: =SUM(AL$14:AL29) -> 0.14049 | AN29: =IF(AA29 < Y$15, Y$24, Y$25) -> 0.02 | AO29: =AN29 * AD29 -> 0.0217 | AP29: =SUM(AO$14:AO29) -> 0.47501 | AR29: Pre-Mitigation Risk (ERA0), A : 'ante' | AS29: 3.78 | AU29: 2043 | AV29: 15 | AW29: 1.085 | AX29: =AW29 / AW$14 -> 1.085 | AY29: =IF(AU29 < AS$15, AS$19, AS$20) -> 0.25 | AZ29: =AY29 * AX29 -> 0.27125 | BA29: =SUM(AZ$14:AZ29) -> 5.9315 | BB29: =IF(AU29 < AS$15, AS$29, AS$30) -> 3.78 | BC29: =BB29 * AX29 -> 4.1013 | BD29: =SUM(BC$14:BC29) -> 63.22428 | BE29: =IF(AU29 < AS$15, AS$34, AS$35) -> 0 | BF29: =BE29 * AX29 -> 0 | BG29: =SUM(BF$14:BF29) -> 2.82 | BH29: =IF(AU29 < AS$15, AS$24, AS$25) -> 3.78 | BI29: =BH29 * AX29 -> 4.1013 | BJ29: =SUM(BI$14:BI29) -> 66.04428 | BL29: Pre-Mitigation Risk (ERA0), A : 'ante' | BM29: 16.08 | BO29: 2043 | BP29: 15 | BQ29: 1.085 | BR29: =BQ29 / BQ$14 -> 1.085 | BS29: =IF(BO29 < BM$15, BM$19, BM$20) -> 0.5 | BT29: =BS29 * BR29 -> 0.5425 | BU29: =SUM(BT$14:BT29) -> 8.363 | BV29: =IF(BO29 < BM$15, BM$29, BM$30) -> 16.08 | BW29: =BV29 * BR29 -> 17.4468 | BX29: =SUM(BW$14:BW29) -> 268.95408 | BY29: =IF(BO29 < BM$15, BM$34, BM$35) -> 0 | BZ29: =BY29 * BR29 -> 0 | CA29: =SUM(BZ$14:BZ29) -> 0 | CB29: =IF(BO29 < BM$15, BM$24, BM$25) -> 16.08 | CC29: =CB29 * BR29 -> 17.4468 | CD29: =SUM(CC$14:CC29) -> 268.95408
B30: This modeling will attempt to account for climate change. Baselines must be measured and reported at the same cadence as other risk model landscape components at 0, 1, 2, 3, 4, 5, 6,7, 8, 9, 10, 15, 20, 25, 30, 35, 40, 45, 50, and 55 years. | G30: {="YR" & (ROW(30:30) - ROW($14:$14)) & " = " & (2028 + (ROW(30:30) - ROW($14:$14)))} -> YR16 = 2044 | H30: {="MY" & (ROW(30:30) - ROW($14:$14)) & " = " & (ROW(30:30) - ROW($14:$14))} -> MY16 = 16 | I30: {="CD" & (ROW(30:30) - ROW($14:$14))} -> CD16 | J30: {="CN" & (ROW(30:30) - ROW($14:$14)) & " = CD" & (ROW(30:30) - ROW($14:$14)) & " / CD0" & IF(ROW(30:30) - ROW($14:$14) = 0, " = 1", "")} -> CN16 = CD16 / CD0 | K30: {="IRM" & (ROW(30:30) - ROW($14:$14)) & " = if (YR" & (ROW(30:30) - ROW($14:$14)) & " ≤ EY) then (IRA0) else (IRP0)"} -> IRM16 = if (YR16 ≤ EY) then (IRA0) else (IRP0) | L30: {="IRI" & (ROW(30:30) - ROW($14:$14)) & " = IRM" & (ROW(30:30) - ROW($14:$14)) & " * C" & (ROW(30:30) - ROW($14:$14))} -> IRI16 = IRM16 * C16 | M30: {="IRC" & (ROW(30:30) - ROW($14:$14)) & " = ∑IRIx; x: {0, …, MY" & (ROW(30:30) - ROW($14:$14)) & "}"} -> IRC16 = ∑IRIx; x: {0, …, MY16} | N30: {="ERM" & (ROW(30:30) - ROW($14:$14)) & " = if (YR" & (ROW(30:30) - ROW($14:$14)) & " ≤ EY) then (ERA0) else (ERP0)"} -> ERM16 = if (YR16 ≤ EY) then (ERA0) else (ERP0) | O30: {="ERI" & (ROW(30:30) - ROW($14:$14)) & " = ERM" & (ROW(30:30) - ROW($14:$14)) & " * C" & (ROW(30:30) - ROW($14:$14))} -> ERI16 = ERM16 * C16 | P30: {="ERU" & (ROW(30:30) - ROW($14:$14)) & " = ∑ERIx; x: {0, …, MY" & (ROW(30:30) - ROW($14:$14)) & "}"} -> ERU16 = ∑ERIx; x: {0, …, MY16} | Q30: {="PRM" & (ROW(30:30) - ROW($14:$14)) & " = if (YR" & (ROW(30:30) - ROW($14:$14)) & " ≤ EY) then (PRA0) else (PRP0)"} -> PRM16 = if (YR16 ≤ EY) then (PRA0) else (PRP0) | R30: {="PRI" & (ROW(30:30) - ROW($14:$14)) & " = PRM" & (ROW(30:30) - ROW($14:$14)) & " * C" & (ROW(30:30) - ROW($14:$14))} -> PRI16 = PRM16 * C16 | S30: {="PRU" & (ROW(30:30) - ROW($14:$14)) & " = ∑PRIx; x: {0, …, MY" & (ROW(30:30) - ROW($14:$14)) & "}"} -> PRU16 = ∑PRIx; x: {0, …, MY16} | T30: {="ORM" & (ROW(30:30) - ROW($14:$14)) & " = if (YR" & (ROW(30:30) - ROW($14:$14)) & " ≤ EY) then (ORA0) else (ORP0)"} -> ORM16 = if (YR16 ≤ EY) then (ORA0) else (ORP0) | U30: {="ORI" & (ROW(30:30) - ROW($14:$14)) & " = ORM" & (ROW(30:30) - ROW($14:$14)) & " * C" & (ROW(30:30) - ROW($14:$14))} -> ORI16 = ORM16 * C16 | V30: {="ORC" & (ROW(30:30) - ROW($14:$14)) & " = ∑ORIx; x: {0, …, MY" & (ROW(30:30) - ROW($14:$14)) & "}"} -> ORC16 = ∑ORIx; x: {0, …, MY16} | X30: Residual Risk (ERP0), P : 'post' | Y30: =Y29 -> 0.02 | AA30: 2044 | AB30: 16 | AC30: 1.09 | AD30: =AC30 / AC$14 -> 1.09 | AE30: =IF(AA30 < Y$15, Y$19, Y$20) -> 0.125 | AF30: =AE30 * AD30 -> 0.13625 | AG30: =SUM(AF$14:AF30) -> 3.983125 | AH30: =IF(AA30 < Y$15, Y$29, Y$30) -> 0.02 | AI30: =AH30 * AD30 -> 0.0218 | AJ30: =SUM(AI$14:AI30) -> 0.35632 | AK30: =IF(AA30 < Y$15, Y$34, Y$35) -> 0 | AL30: =AK30 * AD30 -> 0 | AM30: =SUM(AL$14:AL30) -> 0.14049 | AN30: =IF(AA30 < Y$15, Y$24, Y$25) -> 0.02 | AO30: =AN30 * AD30 -> 0.0218 | AP30: =SUM(AO$14:AO30) -> 0.49681 | AR30: Residual Risk (ERP0), P : 'post' | AS30: =AS29 -> 3.78 | AU30: 2044 | AV30: 16 | AW30: 1.09 | AX30: =AW30 / AW$14 -> 1.09 | AY30: =IF(AU30 < AS$15, AS$19, AS$20) -> 0.25 | AZ30: =AY30 * AX30 -> 0.2725 | BA30: =SUM(AZ$14:AZ30) -> 6.204 | BB30: =IF(AU30 < AS$15, AS$29, AS$30) -> 3.78 | BC30: =BB30 * AX30 -> 4.1202 | BD30: =SUM(BC$14:BC30) -> 67.34448 | BE30: =IF(AU30 < AS$15, AS$34, AS$35) -> 0 | BF30: =BE30 * AX30 -> 0 | BG30: =SUM(BF$14:BF30) -> 2.82 | BH30: =IF(AU30 < AS$15, AS$24, AS$25) -> 3.78 | BI30: =BH30 * AX30 -> 4.1202 | BJ30: =SUM(BI$14:BI30) -> 70.16448 | BL30: Residual Risk (ERP0), P : 'post' | BM30: =BM29 -> 16.08 | BO30: 2044 | BP30: 16 | BQ30: 1.09 | BR30: =BQ30 / BQ$14 -> 1.09 | BS30: =IF(BO30 < BM$15, BM$19, BM$20) -> 0.5 | BT30: =BS30 * BR30 -> 0.545 | BU30: =SUM(BT$14:BT30) -> 8.908 | BV30: =IF(BO30 < BM$15, BM$29, BM$30) -> 16.08 | BW30: =BV30 * BR30 -> 17.5272 | BX30: =SUM(BW$14:BW30) -> 286.48128 | BY30: =IF(BO30 < BM$15, BM$34, BM$35) -> 0 | BZ30: =BY30 * BR30 -> 0 | CA30: =SUM(BZ$14:BZ30) -> 0 | CB30: =IF(BO30 < BM$15, BM$24, BM$25) -> 16.08 | CC30: =CB30 * BR30 -> 17.5272 | CD30: =SUM(CC$14:CC30) -> 286.48128
D31: 2028 EPSS Risk for Circuit Segment | G31: {="YR" & (ROW(31:31) - ROW($14:$14)) & " = " & (2028 + (ROW(31:31) - ROW($14:$14)))} -> YR17 = 2045 | H31: {="MY" & (ROW(31:31) - ROW($14:$14)) & " = " & (ROW(31:31) - ROW($14:$14))} -> MY17 = 17 | I31: {="CD" & (ROW(31:31) - ROW($14:$14))} -> CD17 | J31: {="CN" & (ROW(31:31) - ROW($14:$14)) & " = CD" & (ROW(31:31) - ROW($14:$14)) & " / CD0" & IF(ROW(31:31) - ROW($14:$14) = 0, " = 1", "")} -> CN17 = CD17 / CD0 | K31: {="IRM" & (ROW(31:31) - ROW($14:$14)) & " = if (YR" & (ROW(31:31) - ROW($14:$14)) & " ≤ EY) then (IRA0) else (IRP0)"} -> IRM17 = if (YR17 ≤ EY) then (IRA0) else (IRP0) | L31: {="IRI" & (ROW(31:31) - ROW($14:$14)) & " = IRM" & (ROW(31:31) - ROW($14:$14)) & " * C" & (ROW(31:31) - ROW($14:$14))} -> IRI17 = IRM17 * C17 | M31: {="IRC" & (ROW(31:31) - ROW($14:$14)) & " = ∑IRIx; x: {0, …, MY" & (ROW(31:31) - ROW($14:$14)) & "}"} -> IRC17 = ∑IRIx; x: {0, …, MY17} | N31: {="ERM" & (ROW(31:31) - ROW($14:$14)) & " = if (YR" & (ROW(31:31) - ROW($14:$14)) & " ≤ EY) then (ERA0) else (ERP0)"} -> ERM17 = if (YR17 ≤ EY) then (ERA0) else (ERP0) | O31: {="ERI" & (ROW(31:31) - ROW($14:$14)) & " = ERM" & (ROW(31:31) - ROW($14:$14)) & " * C" & (ROW(31:31) - ROW($14:$14))} -> ERI17 = ERM17 * C17 | P31: {="ERU" & (ROW(31:31) - ROW($14:$14)) & " = ∑ERIx; x: {0, …, MY" & (ROW(31:31) - ROW($14:$14)) & "}"} -> ERU17 = ∑ERIx; x: {0, …, MY17} | Q31: {="PRM" & (ROW(31:31) - ROW($14:$14)) & " = if (YR" & (ROW(31:31) - ROW($14:$14)) & " ≤ EY) then (PRA0) else (PRP0)"} -> PRM17 = if (YR17 ≤ EY) then (PRA0) else (PRP0) | R31: {="PRI" & (ROW(31:31) - ROW($14:$14)) & " = PRM" & (ROW(31:31) - ROW($14:$14)) & " * C" & (ROW(31:31) - ROW($14:$14))} -> PRI17 = PRM17 * C17 | S31: {="PRU" & (ROW(31:31) - ROW($14:$14)) & " = ∑PRIx; x: {0, …, MY" & (ROW(31:31) - ROW($14:$14)) & "}"} -> PRU17 = ∑PRIx; x: {0, …, MY17} | T31: {="ORM" & (ROW(31:31) - ROW($14:$14)) & " = if (YR" & (ROW(31:31) - ROW($14:$14)) & " ≤ EY) then (ORA0) else (ORP0)"} -> ORM17 = if (YR17 ≤ EY) then (ORA0) else (ORP0) | U31: {="ORI" & (ROW(31:31) - ROW($14:$14)) & " = ORM" & (ROW(31:31) - ROW($14:$14)) & " * C" & (ROW(31:31) - ROW($14:$14))} -> ORI17 = ORM17 * C17 | V31: {="ORC" & (ROW(31:31) - ROW($14:$14)) & " = ∑ORIx; x: {0, …, MY" & (ROW(31:31) - ROW($14:$14)) & "}"} -> ORC17 = ∑ORIx; x: {0, …, MY17} | AA31: 2045 | AB31: 17 | AC31: 1.095 | AD31: =AC31 / AC$14 -> 1.095 | AE31: =IF(AA31 < Y$15, Y$19, Y$20) -> 0.125 | AF31: =AE31 * AD31 -> 0.136875 | AG31: =SUM(AF$14:AF31) -> 4.12 | AH31: =IF(AA31 < Y$15, Y$29, Y$30) -> 0.02 | AI31: =AH31 * AD31 -> 0.0219 | AJ31: =SUM(AI$14:AI31) -> 0.37822 | AK31: =IF(AA31 < Y$15, Y$34, Y$35) -> 0 | AL31: =AK31 * AD31 -> 0 | AM31: =SUM(AL$14:AL31) -> 0.14049 | AN31: =IF(AA31 < Y$15, Y$24, Y$25) -> 0.02 | AO31: =AN31 * AD31 -> 0.0219 | AP31: =SUM(AO$14:AO31) -> 0.51871 | AU31: 2045 | AV31: 17 | AW31: 1.095 | AX31: =AW31 / AW$14 -> 1.095 | AY31: =IF(AU31 < AS$15, AS$19, AS$20) -> 0.25 | AZ31: =AY31 * AX31 -> 0.27375 | BA31: =SUM(AZ$14:AZ31) -> 6.47775 | BB31: =IF(AU31 < AS$15, AS$29, AS$30) -> 3.78 | BC31: =BB31 * AX31 -> 4.1391 | BD31: =SUM(BC$14:BC31) -> 71.48358 | BE31: =IF(AU31 < AS$15, AS$34, AS$35) -> 0 | BF31: =BE31 * AX31 -> 0 | BG31: =SUM(BF$14:BF31) -> 2.82 | BH31: =IF(AU31 < AS$15, AS$24, AS$25) -> 3.78 | BI31: =BH31 * AX31 -> 4.1391 | BJ31: =SUM(BI$14:BI31) -> 74.30358 | BO31: 2045 | BP31: 17 | BQ31: 1.095 | BR31: =BQ31 / BQ$14 -> 1.095 | BS31: =IF(BO31 < BM$15, BM$19, BM$20) -> 0.5 | BT31: =BS31 * BR31 -> 0.5475 | BU31: =SUM(BT$14:BT31) -> 9.4555 | BV31: =IF(BO31 < BM$15, BM$29, BM$30) -> 16.08 | BW31: =BV31 * BR31 -> 17.6076 | BX31: =SUM(BW$14:BW31) -> 304.08888 | BY31: =IF(BO31 < BM$15, BM$34, BM$35) -> 0 | BZ31: =BY31 * BR31 -> 0 | CA31: =SUM(BZ$14:BZ31) -> 0 | CB31: =IF(BO31 < BM$15, BM$24, BM$25) -> 16.08 | CC31: =CB31 * BR31 -> 17.6076 | CD31: =SUM(CC$14:CC31) -> 304.08888
G32: {="YR" & (ROW(32:32) - ROW($14:$14)) & " = " & (2028 + (ROW(32:32) - ROW($14:$14)))} -> YR18 = 2046 | H32: {="MY" & (ROW(32:32) - ROW($14:$14)) & " = " & (ROW(32:32) - ROW($14:$14))} -> MY18 = 18 | I32: {="CD" & (ROW(32:32) - ROW($14:$14))} -> CD18 | J32: {="CN" & (ROW(32:32) - ROW($14:$14)) & " = CD" & (ROW(32:32) - ROW($14:$14)) & " / CD0" & IF(ROW(32:32) - ROW($14:$14) = 0, " = 1", "")} -> CN18 = CD18 / CD0 | K32: {="IRM" & (ROW(32:32) - ROW($14:$14)) & " = if (YR" & (ROW(32:32) - ROW($14:$14)) & " ≤ EY) then (IRA0) else (IRP0)"} -> IRM18 = if (YR18 ≤ EY) then (IRA0) else (IRP0) | L32: {="IRI" & (ROW(32:32) - ROW($14:$14)) & " = IRM" & (ROW(32:32) - ROW($14:$14)) & " * C" & (ROW(32:32) - ROW($14:$14))} -> IRI18 = IRM18 * C18 | M32: {="IRC" & (ROW(32:32) - ROW($14:$14)) & " = ∑IRIx; x: {0, …, MY" & (ROW(32:32) - ROW($14:$14)) & "}"} -> IRC18 = ∑IRIx; x: {0, …, MY18} | N32: {="ERM" & (ROW(32:32) - ROW($14:$14)) & " = if (YR" & (ROW(32:32) - ROW($14:$14)) & " ≤ EY) then (ERA0) else (ERP0)"} -> ERM18 = if (YR18 ≤ EY) then (ERA0) else (ERP0) | O32: {="ERI" & (ROW(32:32) - ROW($14:$14)) & " = ERM" & (ROW(32:32) - ROW($14:$14)) & " * C" & (ROW(32:32) - ROW($14:$14))} -> ERI18 = ERM18 * C18 | P32: {="ERU" & (ROW(32:32) - ROW($14:$14)) & " = ∑ERIx; x: {0, …, MY" & (ROW(32:32) - ROW($14:$14)) & "}"} -> ERU18 = ∑ERIx; x: {0, …, MY18} | Q32: {="PRM" & (ROW(32:32) - ROW($14:$14)) & " = if (YR" & (ROW(32:32) - ROW($14:$14)) & " ≤ EY) then (PRA0) else (PRP0)"} -> PRM18 = if (YR18 ≤ EY) then (PRA0) else (PRP0) | R32: {="PRI" & (ROW(32:32) - ROW($14:$14)) & " = PRM" & (ROW(32:32) - ROW($14:$14)) & " * C" & (ROW(32:32) - ROW($14:$14))} -> PRI18 = PRM18 * C18 | S32: {="PRU" & (ROW(32:32) - ROW($14:$14)) & " = ∑PRIx; x: {0, …, MY" & (ROW(32:32) - ROW($14:$14)) & "}"} -> PRU18 = ∑PRIx; x: {0, …, MY18} | T32: {="ORM" & (ROW(32:32) - ROW($14:$14)) & " = if (YR" & (ROW(32:32) - ROW($14:$14)) & " ≤ EY) then (ORA0) else (ORP0)"} -> ORM18 = if (YR18 ≤ EY) then (ORA0) else (ORP0) | U32: {="ORI" & (ROW(32:32) - ROW($14:$14)) & " = ORM" & (ROW(32:32) - ROW($14:$14)) & " * C" & (ROW(32:32) - ROW($14:$14))} -> ORI18 = ORM18 * C18 | V32: {="ORC" & (ROW(32:32) - ROW($14:$14)) & " = ∑ORIx; x: {0, …, MY" & (ROW(32:32) - ROW($14:$14)) & "}"} -> ORC18 = ∑ORIx; x: {0, …, MY18} | X32: 2028 PSPS Risk for Circuit Segment | AA32: 2046 | AB32: 18 | AC32: 1.1 | AD32: =AC32 / AC$14 -> 1.1 | AE32: =IF(AA32 < Y$15, Y$19, Y$20) -> 0.125 | AF32: =AE32 * AD32 -> 0.1375 | AG32: =SUM(AF$14:AF32) -> 4.2575 | AH32: =IF(AA32 < Y$15, Y$29, Y$30) -> 0.02 | AI32: =AH32 * AD32 -> 0.022 | AJ32: =SUM(AI$14:AI32) -> 0.40022 | AK32: =IF(AA32 < Y$15, Y$34, Y$35) -> 0 | AL32: =AK32 * AD32 -> 0 | AM32: =SUM(AL$14:AL32) -> 0.14049 | AN32: =IF(AA32 < Y$15, Y$24, Y$25) -> 0.02 | AO32: =AN32 * AD32 -> 0.022 | AP32: =SUM(AO$14:AO32) -> 0.54071 | AR32: 2028 PSPS Risk for Circuit Segment | AU32: 2046 | AV32: 18 | AW32: 1.1 | AX32: =AW32 / AW$14 -> 1.1 | AY32: =IF(AU32 < AS$15, AS$19, AS$20) -> 0.25 | AZ32: =AY32 * AX32 -> 0.275 | BA32: =SUM(AZ$14:AZ32) -> 6.75275 | BB32: =IF(AU32 < AS$15, AS$29, AS$30) -> 3.78 | BC32: =BB32 * AX32 -> 4.158 | BD32: =SUM(BC$14:BC32) -> 75.64158 | BE32: =IF(AU32 < AS$15, AS$34, AS$35) -> 0 | BF32: =BE32 * AX32 -> 0 | BG32: =SUM(BF$14:BF32) -> 2.82 | BH32: =IF(AU32 < AS$15, AS$24, AS$25) -> 3.78 | BI32: =BH32 * AX32 -> 4.158 | BJ32: =SUM(BI$14:BI32) -> 78.46158 | BL32: 2028 PSPS Risk for Circuit Segment | BO32: 2046 | BP32: 18 | BQ32: 1.1 | BR32: =BQ32 / BQ$14 -> 1.1 | BS32: =IF(BO32 < BM$15, BM$19, BM$20) -> 0.5 | BT32: =BS32 * BR32 -> 0.55 | BU32: =SUM(BT$14:BT32) -> 10.0055 | BV32: =IF(BO32 < BM$15, BM$29, BM$30) -> 16.08 | BW32: =BV32 * BR32 -> 17.688 | BX32: =SUM(BW$14:BW32) -> 321.77688 | BY32: =IF(BO32 < BM$15, BM$34, BM$35) -> 0 | BZ32: =BY32 * BR32 -> 0 | CA32: =SUM(BZ$14:BZ32) -> 0 | CB32: =IF(BO32 < BM$15, BM$24, BM$25) -> 16.08 | CC32: =CB32 * BR32 -> 17.688 | CD32: =SUM(CC$14:CC32) -> 321.77688
D33: Pre-Mitigation Risk (ERA0), A : 'ante' | E33: ERA0 | G33: {="YR" & (ROW(33:33) - ROW($14:$14)) & " = " & (2028 + (ROW(33:33) - ROW($14:$14)))} -> YR19 = 2047 | H33: {="MY" & (ROW(33:33) - ROW($14:$14)) & " = " & (ROW(33:33) - ROW($14:$14))} -> MY19 = 19 | I33: {="CD" & (ROW(33:33) - ROW($14:$14))} -> CD19 | J33: {="CN" & (ROW(33:33) - ROW($14:$14)) & " = CD" & (ROW(33:33) - ROW($14:$14)) & " / CD0" & IF(ROW(33:33) - ROW($14:$14) = 0, " = 1", "")} -> CN19 = CD19 / CD0 | K33: {="IRM" & (ROW(33:33) - ROW($14:$14)) & " = if (YR" & (ROW(33:33) - ROW($14:$14)) & " ≤ EY) then (IRA0) else (IRP0)"} -> IRM19 = if (YR19 ≤ EY) then (IRA0) else (IRP0) | L33: {="IRI" & (ROW(33:33) - ROW($14:$14)) & " = IRM" & (ROW(33:33) - ROW($14:$14)) & " * C" & (ROW(33:33) - ROW($14:$14))} -> IRI19 = IRM19 * C19 | M33: {="IRC" & (ROW(33:33) - ROW($14:$14)) & " = ∑IRIx; x: {0, …, MY" & (ROW(33:33) - ROW($14:$14)) & "}"} -> IRC19 = ∑IRIx; x: {0, …, MY19} | N33: {="ERM" & (ROW(33:33) - ROW($14:$14)) & " = if (YR" & (ROW(33:33) - ROW($14:$14)) & " ≤ EY) then (ERA0) else (ERP0)"} -> ERM19 = if (YR19 ≤ EY) then (ERA0) else (ERP0) | O33: {="ERI" & (ROW(33:33) - ROW($14:$14)) & " = ERM" & (ROW(33:33) - ROW($14:$14)) & " * C" & (ROW(33:33) - ROW($14:$14))} -> ERI19 = ERM19 * C19 | P33: {="ERU" & (ROW(33:33) - ROW($14:$14)) & " = ∑ERIx; x: {0, …, MY" & (ROW(33:33) - ROW($14:$14)) & "}"} -> ERU19 = ∑ERIx; x: {0, …, MY19} | Q33: {="PRM" & (ROW(33:33) - ROW($14:$14)) & " = if (YR" & (ROW(33:33) - ROW($14:$14)) & " ≤ EY) then (PRA0) else (PRP0)"} -> PRM19 = if (YR19 ≤ EY) then (PRA0) else (PRP0) | R33: {="PRI" & (ROW(33:33) - ROW($14:$14)) & " = PRM" & (ROW(33:33) - ROW($14:$14)) & " * C" & (ROW(33:33) - ROW($14:$14))} -> PRI19 = PRM19 * C19 | S33: {="PRU" & (ROW(33:33) - ROW($14:$14)) & " = ∑PRIx; x: {0, …, MY" & (ROW(33:33) - ROW($14:$14)) & "}"} -> PRU19 = ∑PRIx; x: {0, …, MY19} | T33: {="ORM" & (ROW(33:33) - ROW($14:$14)) & " = if (YR" & (ROW(33:33) - ROW($14:$14)) & " ≤ EY) then (ORA0) else (ORP0)"} -> ORM19 = if (YR19 ≤ EY) then (ORA0) else (ORP0) | U33: {="ORI" & (ROW(33:33) - ROW($14:$14)) & " = ORM" & (ROW(33:33) - ROW($14:$14)) & " * C" & (ROW(33:33) - ROW($14:$14))} -> ORI19 = ORM19 * C19 | V33: {="ORC" & (ROW(33:33) - ROW($14:$14)) & " = ∑ORIx; x: {0, …, MY" & (ROW(33:33) - ROW($14:$14)) & "}"} -> ORC19 = ∑ORIx; x: {0, …, MY19} | AA33: 2047 | AB33: 19 | AC33: 1.105 | AD33: =AC33 / AC$14 -> 1.105 | AE33: =IF(AA33 < Y$15, Y$19, Y$20) -> 0.125 | AF33: =AE33 * AD33 -> 0.138125 | AG33: =SUM(AF$14:AF33) -> 4.395625 | AH33: =IF(AA33 < Y$15, Y$29, Y$30) -> 0.02 | AI33: =AH33 * AD33 -> 0.0221 | AJ33: =SUM(AI$14:AI33) -> 0.42232 | AK33: =IF(AA33 < Y$15, Y$34, Y$35) -> 0 | AL33: =AK33 * AD33 -> 0 | AM33: =SUM(AL$14:AL33) -> 0.14049 | AN33: =IF(AA33 < Y$15, Y$24, Y$25) -> 0.02 | AO33: =AN33 * AD33 -> 0.0221 | AP33: =SUM(AO$14:AO33) -> 0.56281 | AU33: 2047 | AV33: 19 | AW33: 1.105 | AX33: =AW33 / AW$14 -> 1.105 | AY33: =IF(AU33 < AS$15, AS$19, AS$20) -> 0.25 | AZ33: =AY33 * AX33 -> 0.27625 | BA33: =SUM(AZ$14:AZ33) -> 7.029 | BB33: =IF(AU33 < AS$15, AS$29, AS$30) -> 3.78 | BC33: =BB33 * AX33 -> 4.1769 | BD33: =SUM(BC$14:BC33) -> 79.81848 | BE33: =IF(AU33 < AS$15, AS$34, AS$35) -> 0 | BF33: =BE33 * AX33 -> 0 | BG33: =SUM(BF$14:BF33) -> 2.82 | BH33: =IF(AU33 < AS$15, AS$24, AS$25) -> 3.78 | BI33: =BH33 * AX33 -> 4.1769 | BJ33: =SUM(BI$14:BI33) -> 82.63848 | BO33: 2047 | BP33: 19 | BQ33: 1.105 | BR33: =BQ33 / BQ$14 -> 1.105 | BS33: =IF(BO33 < BM$15, BM$19, BM$20) -> 0.5 | BT33: =BS33 * BR33 -> 0.5525 | BU33: =SUM(BT$14:BT33) -> 10.558 | BV33: =IF(BO33 < BM$15, BM$29, BM$30) -> 16.08 | BW33: =BV33 * BR33 -> 17.7684 | BX33: =SUM(BW$14:BW33) -> 339.54528 | BY33: =IF(BO33 < BM$15, BM$34, BM$35) -> 0 | BZ33: =BY33 * BR33 -> 0 | CA33: =SUM(BZ$14:BZ33) -> 0 | CB33: =IF(BO33 < BM$15, BM$24, BM$25) -> 16.08 | CC33: =CB33 * BR33 -> 17.7684 | CD33: =SUM(CC$14:CC33) -> 339.54528
D34: Residual Risk (ERP0), P : 'post' | E34: ERP0 = ERP1 + ERP2 + ERP3 + ERP4 | G34: {="YR" & (ROW(34:34) - ROW($14:$14)) & " = " & (2028 + (ROW(34:34) - ROW($14:$14)))} -> YR20 = 2048 | H34: {="MY" & (ROW(34:34) - ROW($14:$14)) & " = " & (ROW(34:34) - ROW($14:$14))} -> MY20 = 20 | I34: {="CD" & (ROW(34:34) - ROW($14:$14))} -> CD20 | J34: {="CN" & (ROW(34:34) - ROW($14:$14)) & " = CD" & (ROW(34:34) - ROW($14:$14)) & " / CD0" & IF(ROW(34:34) - ROW($14:$14) = 0, " = 1", "")} -> CN20 = CD20 / CD0 | K34: {="IRM" & (ROW(34:34) - ROW($14:$14)) & " = if (YR" & (ROW(34:34) - ROW($14:$14)) & " ≤ EY) then (IRA0) else (IRP0)"} -> IRM20 = if (YR20 ≤ EY) then (IRA0) else (IRP0) | L34: {="IRI" & (ROW(34:34) - ROW($14:$14)) & " = IRM" & (ROW(34:34) - ROW($14:$14)) & " * C" & (ROW(34:34) - ROW($14:$14))} -> IRI20 = IRM20 * C20 | M34: {="IRC" & (ROW(34:34) - ROW($14:$14)) & " = ∑IRIx; x: {0, …, MY" & (ROW(34:34) - ROW($14:$14)) & "}"} -> IRC20 = ∑IRIx; x: {0, …, MY20} | N34: {="ERM" & (ROW(34:34) - ROW($14:$14)) & " = if (YR" & (ROW(34:34) - ROW($14:$14)) & " ≤ EY) then (ERA0) else (ERP0)"} -> ERM20 = if (YR20 ≤ EY) then (ERA0) else (ERP0) | O34: {="ERI" & (ROW(34:34) - ROW($14:$14)) & " = ERM" & (ROW(34:34) - ROW($14:$14)) & " * C" & (ROW(34:34) - ROW($14:$14))} -> ERI20 = ERM20 * C20 | P34: {="ERU" & (ROW(34:34) - ROW($14:$14)) & " = ∑ERIx; x: {0, …, MY" & (ROW(34:34) - ROW($14:$14)) & "}"} -> ERU20 = ∑ERIx; x: {0, …, MY20} | Q34: {="PRM" & (ROW(34:34) - ROW($14:$14)) & " = if (YR" & (ROW(34:34) - ROW($14:$14)) & " ≤ EY) then (PRA0) else (PRP0)"} -> PRM20 = if (YR20 ≤ EY) then (PRA0) else (PRP0) | R34: {="PRI" & (ROW(34:34) - ROW($14:$14)) & " = PRM" & (ROW(34:34) - ROW($14:$14)) & " * C" & (ROW(34:34) - ROW($14:$14))} -> PRI20 = PRM20 * C20 | S34: {="PRU" & (ROW(34:34) - ROW($14:$14)) & " = ∑PRIx; x: {0, …, MY" & (ROW(34:34) - ROW($14:$14)) & "}"} -> PRU20 = ∑PRIx; x: {0, …, MY20} | T34: {="ORM" & (ROW(34:34) - ROW($14:$14)) & " = if (YR" & (ROW(34:34) - ROW($14:$14)) & " ≤ EY) then (ORA0) else (ORP0)"} -> ORM20 = if (YR20 ≤ EY) then (ORA0) else (ORP0) | U34: {="ORI" & (ROW(34:34) - ROW($14:$14)) & " = ORM" & (ROW(34:34) - ROW($14:$14)) & " * C" & (ROW(34:34) - ROW($14:$14))} -> ORI20 = ORM20 * C20 | V34: {="ORC" & (ROW(34:34) - ROW($14:$14)) & " = ∑ORIx; x: {0, …, MY" & (ROW(34:34) - ROW($14:$14)) & "}"} -> ORC20 = ∑ORIx; x: {0, …, MY20} | X34: Pre-Mitigation Risk (PRA0), A : 'ante' | Y34: 0.07 | AA34: 2048 | AB34: 20 | AC34: 1.11 | AD34: =AC34 / AC$14 -> 1.11 | AE34: =IF(AA34 < Y$15, Y$19, Y$20) -> 0.125 | AF34: =AE34 * AD34 -> 0.13875 | AG34: =SUM(AF$14:AF34) -> 4.534375 | AH34: =IF(AA34 < Y$15, Y$29, Y$30) -> 0.02 | AI34: =AH34 * AD34 -> 0.0222 | AJ34: =SUM(AI$14:AI34) -> 0.44452 | AK34: =IF(AA34 < Y$15, Y$34, Y$35) -> 0 | AL34: =AK34 * AD34 -> 0 | AM34: =SUM(AL$14:AL34) -> 0.14049 | AN34: =IF(AA34 < Y$15, Y$24, Y$25) -> 0.02 | AO34: =AN34 * AD34 -> 0.0222 | AP34: =SUM(AO$14:AO34) -> 0.58501 | AR34: Pre-Mitigation Risk (PRA0), A : 'ante' | AS34: 2.82 | AU34: 2048 | AV34: 20 | AW34: 1.11 | AX34: =AW34 / AW$14 -> 1.11 | AY34: =IF(AU34 < AS$15, AS$19, AS$20) -> 0.25 | AZ34: =AY34 * AX34 -> 0.2775 | BA34: =SUM(AZ$14:AZ34) -> 7.3065 | BB34: =IF(AU34 < AS$15, AS$29, AS$30) -> 3.78 | BC34: =BB34 * AX34 -> 4.1958 | BD34: =SUM(BC$14:BC34) -> 84.01428 | BE34: =IF(AU34 < AS$15, AS$34, AS$35) -> 0 | BF34: =BE34 * AX34 -> 0 | BG34: =SUM(BF$14:BF34) -> 2.82 | BH34: =IF(AU34 < AS$15, AS$24, AS$25) -> 3.78 | BI34: =BH34 * AX34 -> 4.1958 | BJ34: =SUM(BI$14:BI34) -> 86.83428 | BL34: Pre-Mitigation Risk (PRA0), A : 'ante' | BM34: 6.51 | BO34: 2048 | BP34: 20 | BQ34: 1.11 | BR34: =BQ34 / BQ$14 -> 1.11 | BS34: =IF(BO34 < BM$15, BM$19, BM$20) -> 0.5 | BT34: =BS34 * BR34 -> 0.555 | BU34: =SUM(BT$14:BT34) -> 11.113 | BV34: =IF(BO34 < BM$15, BM$29, BM$30) -> 16.08 | BW34: =BV34 * BR34 -> 17.8488 | BX34: =SUM(BW$14:BW34) -> 357.39408 | BY34: =IF(BO34 < BM$15, BM$34, BM$35) -> 0 | BZ34: =BY34 * BR34 -> 0 | CA34: =SUM(BZ$14:BZ34) -> 0 | CB34: =IF(BO34 < BM$15, BM$24, BM$25) -> 16.08 | CC34: =CB34 * BR34 -> 17.8488 | CD34: =SUM(CC$14:CC34) -> 357.39408
B35: The supporting formulas at right detail the evaluations of instantaneous and cumulative values of Baseline risks from Model Year 0 (Year 2028) for both Ignition Risk and Outage Program Risk; each of which follows a similar process of evaluation. | D35: Residual Risk, Mitigation 1 (ERP1) | E35: ERP1 | G35: {="YR" & (ROW(35:35) - ROW($14:$14)) & " = " & (2028 + (ROW(35:35) - ROW($14:$14)))} -> YR21 = 2049 | H35: {="MY" & (ROW(35:35) - ROW($14:$14)) & " = " & (ROW(35:35) - ROW($14:$14))} -> MY21 = 21 | I35: {="CD" & (ROW(35:35) - ROW($14:$14))} -> CD21 | J35: {="CN" & (ROW(35:35) - ROW($14:$14)) & " = CD" & (ROW(35:35) - ROW($14:$14)) & " / CD0" & IF(ROW(35:35) - ROW($14:$14) = 0, " = 1", "")} -> CN21 = CD21 / CD0 | K35: {="IRM" & (ROW(35:35) - ROW($14:$14)) & " = if (YR" & (ROW(35:35) - ROW($14:$14)) & " ≤ EY) then (IRA0) else (IRP0)"} -> IRM21 = if (YR21 ≤ EY) then (IRA0) else (IRP0) | L35: {="IRI" & (ROW(35:35) - ROW($14:$14)) & " = IRM" & (ROW(35:35) - ROW($14:$14)) & " * C" & (ROW(35:35) - ROW($14:$14))} -> IRI21 = IRM21 * C21 | M35: {="IRC" & (ROW(35:35) - ROW($14:$14)) & " = ∑IRIx; x: {0, …, MY" & (ROW(35:35) - ROW($14:$14)) & "}"} -> IRC21 = ∑IRIx; x: {0, …, MY21} | N35: {="ERM" & (ROW(35:35) - ROW($14:$14)) & " = if (YR" & (ROW(35:35) - ROW($14:$14)) & " ≤ EY) then (ERA0) else (ERP0)"} -> ERM21 = if (YR21 ≤ EY) then (ERA0) else (ERP0) | O35: {="ERI" & (ROW(35:35) - ROW($14:$14)) & " = ERM" & (ROW(35:35) - ROW($14:$14)) & " * C" & (ROW(35:35) - ROW($14:$14))} -> ERI21 = ERM21 * C21 | P35: {="ERU" & (ROW(35:35) - ROW($14:$14)) & " = ∑ERIx; x: {0, …, MY" & (ROW(35:35) - ROW($14:$14)) & "}"} -> ERU21 = ∑ERIx; x: {0, …, MY21} | Q35: {="PRM" & (ROW(35:35) - ROW($14:$14)) & " = if (YR" & (ROW(35:35) - ROW($14:$14)) & " ≤ EY) then (PRA0) else (PRP0)"} -> PRM21 = if (YR21 ≤ EY) then (PRA0) else (PRP0) | R35: {="PRI" & (ROW(35:35) - ROW($14:$14)) & " = PRM" & (ROW(35:35) - ROW($14:$14)) & " * C" & (ROW(35:35) - ROW($14:$14))} -> PRI21 = PRM21 * C21 | S35: {="PRU" & (ROW(35:35) - ROW($14:$14)) & " = ∑PRIx; x: {0, …, MY" & (ROW(35:35) - ROW($14:$14)) & "}"} -> PRU21 = ∑PRIx; x: {0, …, MY21} | T35: {="ORM" & (ROW(35:35) - ROW($14:$14)) & " = if (YR" & (ROW(35:35) - ROW($14:$14)) & " ≤ EY) then (ORA0) else (ORP0)"} -> ORM21 = if (YR21 ≤ EY) then (ORA0) else (ORP0) | U35: {="ORI" & (ROW(35:35) - ROW($14:$14)) & " = ORM" & (ROW(35:35) - ROW($14:$14)) & " * C" & (ROW(35:35) - ROW($14:$14))} -> ORI21 = ORM21 * C21 | V35: {="ORC" & (ROW(35:35) - ROW($14:$14)) & " = ∑ORIx; x: {0, …, MY" & (ROW(35:35) - ROW($14:$14)) & "}"} -> ORC21 = ∑ORIx; x: {0, …, MY21} | X35: Residual Risk (PRP0), P : 'post' | Y35: 0 | AA35: 2049 | AB35: 21 | AC35: 1.115 | AD35: =AC35 / AC$14 -> 1.115 | AE35: =IF(AA35 < Y$15, Y$19, Y$20) -> 0.125 | AF35: =AE35 * AD35 -> 0.139375 | AG35: =SUM(AF$14:AF35) -> 4.67375 | AH35: =IF(AA35 < Y$15, Y$29, Y$30) -> 0.02 | AI35: =AH35 * AD35 -> 0.0223 | AJ35: =SUM(AI$14:AI35) -> 0.46682 | AK35: =IF(AA35 < Y$15, Y$34, Y$35) -> 0 | AL35: =AK35 * AD35 -> 0 | AM35: =SUM(AL$14:AL35) -> 0.14049 | AN35: =IF(AA35 < Y$15, Y$24, Y$25) -> 0.02 | AO35: =AN35 * AD35 -> 0.0223 | AP35: =SUM(AO$14:AO35) -> 0.60731 | AR35: Residual Risk (PRP0), P : 'post' | AS35: 0 | AU35: 2049 | AV35: 21 | AW35: 1.115 | AX35: =AW35 / AW$14 -> 1.115 | AY35: =IF(AU35 < AS$15, AS$19, AS$20) -> 0.25 | AZ35: =AY35 * AX35 -> 0.27875 | BA35: =SUM(AZ$14:AZ35) -> 7.58525 | BB35: =IF(AU35 < AS$15, AS$29, AS$30) -> 3.78 | BC35: =BB35 * AX35 -> 4.2147 | BD35: =SUM(BC$14:BC35) -> 88.22898 | BE35: =IF(AU35 < AS$15, AS$34, AS$35) -> 0 | BF35: =BE35 * AX35 -> 0 | BG35: =SUM(BF$14:BF35) -> 2.82 | BH35: =IF(AU35 < AS$15, AS$24, AS$25) -> 3.78 | BI35: =BH35 * AX35 -> 4.2147 | BJ35: =SUM(BI$14:BI35) -> 91.04898 | BL35: Residual Risk (PRP0), P : 'post' | BM35: 0 | BO35: 2049 | BP35: 21 | BQ35: 1.115 | BR35: =BQ35 / BQ$14 -> 1.115 | BS35: =IF(BO35 < BM$15, BM$19, BM$20) -> 0.5 | BT35: =BS35 * BR35 -> 0.5575 | BU35: =SUM(BT$14:BT35) -> 11.6705 | BV35: =IF(BO35 < BM$15, BM$29, BM$30) -> 16.08 | BW35: =BV35 * BR35 -> 17.9292 | BX35: =SUM(BW$14:BW35) -> 375.32328 | BY35: =IF(BO35 < BM$15, BM$34, BM$35) -> 0 | BZ35: =BY35 * BR35 -> 0 | CA35: =SUM(BZ$14:BZ35) -> 0 | CB35: =IF(BO35 < BM$15, BM$24, BM$25) -> 16.08 | CC35: =CB35 * BR35 -> 17.9292 | CD35: =SUM(CC$14:CC35) -> 375.32328
D36: Residual Risk, Mitigation 2 (ERP2) | E36: ERP2 | G36: {="YR" & (ROW(36:36) - ROW($14:$14)) & " = " & (2028 + (ROW(36:36) - ROW($14:$14)))} -> YR22 = 2050 | H36: {="MY" & (ROW(36:36) - ROW($14:$14)) & " = " & (ROW(36:36) - ROW($14:$14))} -> MY22 = 22 | I36: {="CD" & (ROW(36:36) - ROW($14:$14))} -> CD22 | J36: {="CN" & (ROW(36:36) - ROW($14:$14)) & " = CD" & (ROW(36:36) - ROW($14:$14)) & " / CD0" & IF(ROW(36:36) - ROW($14:$14) = 0, " = 1", "")} -> CN22 = CD22 / CD0 | K36: {="IRM" & (ROW(36:36) - ROW($14:$14)) & " = if (YR" & (ROW(36:36) - ROW($14:$14)) & " ≤ EY) then (IRA0) else (IRP0)"} -> IRM22 = if (YR22 ≤ EY) then (IRA0) else (IRP0) | L36: {="IRI" & (ROW(36:36) - ROW($14:$14)) & " = IRM" & (ROW(36:36) - ROW($14:$14)) & " * C" & (ROW(36:36) - ROW($14:$14))} -> IRI22 = IRM22 * C22 | M36: {="IRC" & (ROW(36:36) - ROW($14:$14)) & " = ∑IRIx; x: {0, …, MY" & (ROW(36:36) - ROW($14:$14)) & "}"} -> IRC22 = ∑IRIx; x: {0, …, MY22} | N36: {="ERM" & (ROW(36:36) - ROW($14:$14)) & " = if (YR" & (ROW(36:36) - ROW($14:$14)) & " ≤ EY) then (ERA0) else (ERP0)"} -> ERM22 = if (YR22 ≤ EY) then (ERA0) else (ERP0) | O36: {="ERI" & (ROW(36:36) - ROW($14:$14)) & " = ERM" & (ROW(36:36) - ROW($14:$14)) & " * C" & (ROW(36:36) - ROW($14:$14))} -> ERI22 = ERM22 * C22 | P36: {="ERU" & (ROW(36:36) - ROW($14:$14)) & " = ∑ERIx; x: {0, …, MY" & (ROW(36:36) - ROW($14:$14)) & "}"} -> ERU22 = ∑ERIx; x: {0, …, MY22} | Q36: {="PRM" & (ROW(36:36) - ROW($14:$14)) & " = if (YR" & (ROW(36:36) - ROW($14:$14)) & " ≤ EY) then (PRA0) else (PRP0)"} -> PRM22 = if (YR22 ≤ EY) then (PRA0) else (PRP0) | R36: {="PRI" & (ROW(36:36) - ROW($14:$14)) & " = PRM" & (ROW(36:36) - ROW($14:$14)) & " * C" & (ROW(36:36) - ROW($14:$14))} -> PRI22 = PRM22 * C22 | S36: {="PRU" & (ROW(36:36) - ROW($14:$14)) & " = ∑PRIx; x: {0, …, MY" & (ROW(36:36) - ROW($14:$14)) & "}"} -> PRU22 = ∑PRIx; x: {0, …, MY22} | T36: {="ORM" & (ROW(36:36) - ROW($14:$14)) & " = if (YR" & (ROW(36:36) - ROW($14:$14)) & " ≤ EY) then (ORA0) else (ORP0)"} -> ORM22 = if (YR22 ≤ EY) then (ORA0) else (ORP0) | U36: {="ORI" & (ROW(36:36) - ROW($14:$14)) & " = ORM" & (ROW(36:36) - ROW($14:$14)) & " * C" & (ROW(36:36) - ROW($14:$14))} -> ORI22 = ORM22 * C22 | V36: {="ORC" & (ROW(36:36) - ROW($14:$14)) & " = ∑ORIx; x: {0, …, MY" & (ROW(36:36) - ROW($14:$14)) & "}"} -> ORC22 = ∑ORIx; x: {0, …, MY22} | AA36: 2050 | AB36: 22 | AC36: 1.12 | AD36: =AC36 / AC$14 -> 1.12 | AE36: =IF(AA36 < Y$15, Y$19, Y$20) -> 0.125 | AF36: =AE36 * AD36 -> 0.14 | AG36: =SUM(AF$14:AF36) -> 4.81375 | AH36: =IF(AA36 < Y$15, Y$29, Y$30) -> 0.02 | AI36: =AH36 * AD36 -> 0.0224 | AJ36: =SUM(AI$14:AI36) -> 0.48922 | AK36: =IF(AA36 < Y$15, Y$34, Y$35) -> 0 | AL36: =AK36 * AD36 -> 0 | AM36: =SUM(AL$14:AL36) -> 0.14049 | AN36: =IF(AA36 < Y$15, Y$24, Y$25) -> 0.02 | AO36: =AN36 * AD36 -> 0.0224 | AP36: =SUM(AO$14:AO36) -> 0.62971 | AU36: 2050 | AV36: 22 | AW36: 1.12 | AX36: =AW36 / AW$14 -> 1.12 | AY36: =IF(AU36 < AS$15, AS$19, AS$20) -> 0.25 | AZ36: =AY36 * AX36 -> 0.28 | BA36: =SUM(AZ$14:AZ36) -> 7.86525 | BB36: =IF(AU36 < AS$15, AS$29, AS$30) -> 3.78 | BC36: =BB36 * AX36 -> 4.2336 | BD36: =SUM(BC$14:BC36) -> 92.46258 | BE36: =IF(AU36 < AS$15, AS$34, AS$35) -> 0 | BF36: =BE36 * AX36 -> 0 | BG36: =SUM(BF$14:BF36) -> 2.82 | BH36: =IF(AU36 < AS$15, AS$24, AS$25) -> 3.78 | BI36: =BH36 * AX36 -> 4.2336 | BJ36: =SUM(BI$14:BI36) -> 95.28258 | BO36: 2050 | BP36: 22 | BQ36: 1.12 | BR36: =BQ36 / BQ$14 -> 1.12 | BS36: =IF(BO36 < BM$15, BM$19, BM$20) -> 0.5 | BT36: =BS36 * BR36 -> 0.56 | BU36: =SUM(BT$14:BT36) -> 12.2305 | BV36: =IF(BO36 < BM$15, BM$29, BM$30) -> 16.08 | BW36: =BV36 * BR36 -> 18.0096 | BX36: =SUM(BW$14:BW36) -> 393.33288 | BY36: =IF(BO36 < BM$15, BM$34, BM$35) -> 0 | BZ36: =BY36 * BR36 -> 0 | CA36: =SUM(BZ$14:BZ36) -> 0 | CB36: =IF(BO36 < BM$15, BM$24, BM$25) -> 16.08 | CC36: =CB36 * BR36 -> 18.0096 | CD36: =SUM(CC$14:CC36) -> 393.33288
D37: Residual Risk, Mitigation 3 (ERP3) | E37: ERP3 | G37: {="YR" & (ROW(37:37) - ROW($14:$14)) & " = " & (2028 + (ROW(37:37) - ROW($14:$14)))} -> YR23 = 2051 | H37: {="MY" & (ROW(37:37) - ROW($14:$14)) & " = " & (ROW(37:37) - ROW($14:$14))} -> MY23 = 23 | I37: {="CD" & (ROW(37:37) - ROW($14:$14))} -> CD23 | J37: {="CN" & (ROW(37:37) - ROW($14:$14)) & " = CD" & (ROW(37:37) - ROW($14:$14)) & " / CD0" & IF(ROW(37:37) - ROW($14:$14) = 0, " = 1", "")} -> CN23 = CD23 / CD0 | K37: {="IRM" & (ROW(37:37) - ROW($14:$14)) & " = if (YR" & (ROW(37:37) - ROW($14:$14)) & " ≤ EY) then (IRA0) else (IRP0)"} -> IRM23 = if (YR23 ≤ EY) then (IRA0) else (IRP0) | L37: {="IRI" & (ROW(37:37) - ROW($14:$14)) & " = IRM" & (ROW(37:37) - ROW($14:$14)) & " * C" & (ROW(37:37) - ROW($14:$14))} -> IRI23 = IRM23 * C23 | M37: {="IRC" & (ROW(37:37) - ROW($14:$14)) & " = ∑IRIx; x: {0, …, MY" & (ROW(37:37) - ROW($14:$14)) & "}"} -> IRC23 = ∑IRIx; x: {0, …, MY23} | N37: {="ERM" & (ROW(37:37) - ROW($14:$14)) & " = if (YR" & (ROW(37:37) - ROW($14:$14)) & " ≤ EY) then (ERA0) else (ERP0)"} -> ERM23 = if (YR23 ≤ EY) then (ERA0) else (ERP0) | O37: {="ERI" & (ROW(37:37) - ROW($14:$14)) & " = ERM" & (ROW(37:37) - ROW($14:$14)) & " * C" & (ROW(37:37) - ROW($14:$14))} -> ERI23 = ERM23 * C23 | P37: {="ERU" & (ROW(37:37) - ROW($14:$14)) & " = ∑ERIx; x: {0, …, MY" & (ROW(37:37) - ROW($14:$14)) & "}"} -> ERU23 = ∑ERIx; x: {0, …, MY23} | Q37: {="PRM" & (ROW(37:37) - ROW($14:$14)) & " = if (YR" & (ROW(37:37) - ROW($14:$14)) & " ≤ EY) then (PRA0) else (PRP0)"} -> PRM23 = if (YR23 ≤ EY) then (PRA0) else (PRP0) | R37: {="PRI" & (ROW(37:37) - ROW($14:$14)) & " = PRM" & (ROW(37:37) - ROW($14:$14)) & " * C" & (ROW(37:37) - ROW($14:$14))} -> PRI23 = PRM23 * C23 | S37: {="PRU" & (ROW(37:37) - ROW($14:$14)) & " = ∑PRIx; x: {0, …, MY" & (ROW(37:37) - ROW($14:$14)) & "}"} -> PRU23 = ∑PRIx; x: {0, …, MY23} | T37: {="ORM" & (ROW(37:37) - ROW($14:$14)) & " = if (YR" & (ROW(37:37) - ROW($14:$14)) & " ≤ EY) then (ORA0) else (ORP0)"} -> ORM23 = if (YR23 ≤ EY) then (ORA0) else (ORP0) | U37: {="ORI" & (ROW(37:37) - ROW($14:$14)) & " = ORM" & (ROW(37:37) - ROW($14:$14)) & " * C" & (ROW(37:37) - ROW($14:$14))} -> ORI23 = ORM23 * C23 | V37: {="ORC" & (ROW(37:37) - ROW($14:$14)) & " = ∑ORIx; x: {0, …, MY" & (ROW(37:37) - ROW($14:$14)) & "}"} -> ORC23 = ∑ORIx; x: {0, …, MY23} | AA37: 2051 | AB37: 23 | AC37: 1.125 | AD37: =AC37 / AC$14 -> 1.125 | AE37: =IF(AA37 < Y$15, Y$19, Y$20) -> 0.125 | AF37: =AE37 * AD37 -> 0.140625 | AG37: =SUM(AF$14:AF37) -> 4.954375 | AH37: =IF(AA37 < Y$15, Y$29, Y$30) -> 0.02 | AI37: =AH37 * AD37 -> 0.0225 | AJ37: =SUM(AI$14:AI37) -> 0.51172 | AK37: =IF(AA37 < Y$15, Y$34, Y$35) -> 0 | AL37: =AK37 * AD37 -> 0 | AM37: =SUM(AL$14:AL37) -> 0.14049 | AN37: =IF(AA37 < Y$15, Y$24, Y$25) -> 0.02 | AO37: =AN37 * AD37 -> 0.0225 | AP37: =SUM(AO$14:AO37) -> 0.65221 | AU37: 2051 | AV37: 23 | AW37: 1.125 | AX37: =AW37 / AW$14 -> 1.125 | AY37: =IF(AU37 < AS$15, AS$19, AS$20) -> 0.25 | AZ37: =AY37 * AX37 -> 0.28125 | BA37: =SUM(AZ$14:AZ37) -> 8.1465 | BB37: =IF(AU37 < AS$15, AS$29, AS$30) -> 3.78 | BC37: =BB37 * AX37 -> 4.2525 | BD37: =SUM(BC$14:BC37) -> 96.71508 | BE37: =IF(AU37 < AS$15, AS$34, AS$35) -> 0 | BF37: =BE37 * AX37 -> 0 | BG37: =SUM(BF$14:BF37) -> 2.82 | BH37: =IF(AU37 < AS$15, AS$24, AS$25) -> 3.78 | BI37: =BH37 * AX37 -> 4.2525 | BJ37: =SUM(BI$14:BI37) -> 99.53508 | BO37: 2051 | BP37: 23 | BQ37: 1.125 | BR37: =BQ37 / BQ$14 -> 1.125 | BS37: =IF(BO37 < BM$15, BM$19, BM$20) -> 0.5 | BT37: =BS37 * BR37 -> 0.5625 | BU37: =SUM(BT$14:BT37) -> 12.793 | BV37: =IF(BO37 < BM$15, BM$29, BM$30) -> 16.08 | BW37: =BV37 * BR37 -> 18.09 | BX37: =SUM(BW$14:BW37) -> 411.42288 | BY37: =IF(BO37 < BM$15, BM$34, BM$35) -> 0 | BZ37: =BY37 * BR37 -> 0 | CA37: =SUM(BZ$14:BZ37) -> 0 | CB37: =IF(BO37 < BM$15, BM$24, BM$25) -> 16.08 | CC37: =CB37 * BR37 -> 18.09 | CD37: =SUM(CC$14:CC37) -> 411.42288
D38: Residual Risk, No Mitigation (ERP4) | E38: ERP4 | G38: {="YR" & (ROW(38:38) - ROW($14:$14)) & " = " & (2028 + (ROW(38:38) - ROW($14:$14)))} -> YR24 = 2052 | H38: {="MY" & (ROW(38:38) - ROW($14:$14)) & " = " & (ROW(38:38) - ROW($14:$14))} -> MY24 = 24 | I38: {="CD" & (ROW(38:38) - ROW($14:$14))} -> CD24 | J38: {="CN" & (ROW(38:38) - ROW($14:$14)) & " = CD" & (ROW(38:38) - ROW($14:$14)) & " / CD0" & IF(ROW(38:38) - ROW($14:$14) = 0, " = 1", "")} -> CN24 = CD24 / CD0 | K38: {="IRM" & (ROW(38:38) - ROW($14:$14)) & " = if (YR" & (ROW(38:38) - ROW($14:$14)) & " ≤ EY) then (IRA0) else (IRP0)"} -> IRM24 = if (YR24 ≤ EY) then (IRA0) else (IRP0) | L38: {="IRI" & (ROW(38:38) - ROW($14:$14)) & " = IRM" & (ROW(38:38) - ROW($14:$14)) & " * C" & (ROW(38:38) - ROW($14:$14))} -> IRI24 = IRM24 * C24 | M38: {="IRC" & (ROW(38:38) - ROW($14:$14)) & " = ∑IRIx; x: {0, …, MY" & (ROW(38:38) - ROW($14:$14)) & "}"} -> IRC24 = ∑IRIx; x: {0, …, MY24} | N38: {="ERM" & (ROW(38:38) - ROW($14:$14)) & " = if (YR" & (ROW(38:38) - ROW($14:$14)) & " ≤ EY) then (ERA0) else (ERP0)"} -> ERM24 = if (YR24 ≤ EY) then (ERA0) else (ERP0) | O38: {="ERI" & (ROW(38:38) - ROW($14:$14)) & " = ERM" & (ROW(38:38) - ROW($14:$14)) & " * C" & (ROW(38:38) - ROW($14:$14))} -> ERI24 = ERM24 * C24 | P38: {="ERU" & (ROW(38:38) - ROW($14:$14)) & " = ∑ERIx; x: {0, …, MY" & (ROW(38:38) - ROW($14:$14)) & "}"} -> ERU24 = ∑ERIx; x: {0, …, MY24} | Q38: {="PRM" & (ROW(38:38) - ROW($14:$14)) & " = if (YR" & (ROW(38:38) - ROW($14:$14)) & " ≤ EY) then (PRA0) else (PRP0)"} -> PRM24 = if (YR24 ≤ EY) then (PRA0) else (PRP0) | R38: {="PRI" & (ROW(38:38) - ROW($14:$14)) & " = PRM" & (ROW(38:38) - ROW($14:$14)) & " * C" & (ROW(38:38) - ROW($14:$14))} -> PRI24 = PRM24 * C24 | S38: {="PRU" & (ROW(38:38) - ROW($14:$14)) & " = ∑PRIx; x: {0, …, MY" & (ROW(38:38) - ROW($14:$14)) & "}"} -> PRU24 = ∑PRIx; x: {0, …, MY24} | T38: {="ORM" & (ROW(38:38) - ROW($14:$14)) & " = if (YR" & (ROW(38:38) - ROW($14:$14)) & " ≤ EY) then (ORA0) else (ORP0)"} -> ORM24 = if (YR24 ≤ EY) then (ORA0) else (ORP0) | U38: {="ORI" & (ROW(38:38) - ROW($14:$14)) & " = ORM" & (ROW(38:38) - ROW($14:$14)) & " * C" & (ROW(38:38) - ROW($14:$14))} -> ORI24 = ORM24 * C24 | V38: {="ORC" & (ROW(38:38) - ROW($14:$14)) & " = ∑ORIx; x: {0, …, MY" & (ROW(38:38) - ROW($14:$14)) & "}"} -> ORC24 = ∑ORIx; x: {0, …, MY24} | AA38: 2052 | AB38: 24 | AC38: 1.13 | AD38: =AC38 / AC$14 -> 1.13 | AE38: =IF(AA38 < Y$15, Y$19, Y$20) -> 0.125 | AF38: =AE38 * AD38 -> 0.14125 | AG38: =SUM(AF$14:AF38) -> 5.095625 | AH38: =IF(AA38 < Y$15, Y$29, Y$30) -> 0.02 | AI38: =AH38 * AD38 -> 0.0226 | AJ38: =SUM(AI$14:AI38) -> 0.53432 | AK38: =IF(AA38 < Y$15, Y$34, Y$35) -> 0 | AL38: =AK38 * AD38 -> 0 | AM38: =SUM(AL$14:AL38) -> 0.14049 | AN38: =IF(AA38 < Y$15, Y$24, Y$25) -> 0.02 | AO38: =AN38 * AD38 -> 0.0226 | AP38: =SUM(AO$14:AO38) -> 0.67481 | AU38: 2052 | AV38: 24 | AW38: 1.13 | AX38: =AW38 / AW$14 -> 1.13 | AY38: =IF(AU38 < AS$15, AS$19, AS$20) -> 0.25 | AZ38: =AY38 * AX38 -> 0.2825 | BA38: =SUM(AZ$14:AZ38) -> 8.429 | BB38: =IF(AU38 < AS$15, AS$29, AS$30) -> 3.78 | BC38: =BB38 * AX38 -> 4.2714 | BD38: =SUM(BC$14:BC38) -> 100.98648 | BE38: =IF(AU38 < AS$15, AS$34, AS$35) -> 0 | BF38: =BE38 * AX38 -> 0 | BG38: =SUM(BF$14:BF38) -> 2.82 | BH38: =IF(AU38 < AS$15, AS$24, AS$25) -> 3.78 | BI38: =BH38 * AX38 -> 4.2714 | BJ38: =SUM(BI$14:BI38) -> 103.80648 | BO38: 2052 | BP38: 24 | BQ38: 1.13 | BR38: =BQ38 / BQ$14 -> 1.13 | BS38: =IF(BO38 < BM$15, BM$19, BM$20) -> 0.5 | BT38: =BS38 * BR38 -> 0.565 | BU38: =SUM(BT$14:BT38) -> 13.358 | BV38: =IF(BO38 < BM$15, BM$29, BM$30) -> 16.08 | BW38: =BV38 * BR38 -> 18.1704 | BX38: =SUM(BW$14:BW38) -> 429.59328 | BY38: =IF(BO38 < BM$15, BM$34, BM$35) -> 0 | BZ38: =BY38 * BR38 -> 0 | CA38: =SUM(BZ$14:BZ38) -> 0 | CB38: =IF(BO38 < BM$15, BM$24, BM$25) -> 16.08 | CC38: =CB38 * BR38 -> 18.1704 | CD38: =SUM(CC$14:CC38) -> 429.59328
G39: {="YR" & (ROW(39:39) - ROW($14:$14)) & " = " & (2028 + (ROW(39:39) - ROW($14:$14)))} -> YR25 = 2053 | H39: {="MY" & (ROW(39:39) - ROW($14:$14)) & " = " & (ROW(39:39) - ROW($14:$14))} -> MY25 = 25 | I39: {="CD" & (ROW(39:39) - ROW($14:$14))} -> CD25 | J39: {="CN" & (ROW(39:39) - ROW($14:$14)) & " = CD" & (ROW(39:39) - ROW($14:$14)) & " / CD0" & IF(ROW(39:39) - ROW($14:$14) = 0, " = 1", "")} -> CN25 = CD25 / CD0 | K39: {="IRM" & (ROW(39:39) - ROW($14:$14)) & " = if (YR" & (ROW(39:39) - ROW($14:$14)) & " ≤ EY) then (IRA0) else (IRP0)"} -> IRM25 = if (YR25 ≤ EY) then (IRA0) else (IRP0) | L39: {="IRI" & (ROW(39:39) - ROW($14:$14)) & " = IRM" & (ROW(39:39) - ROW($14:$14)) & " * C" & (ROW(39:39) - ROW($14:$14))} -> IRI25 = IRM25 * C25 | M39: {="IRC" & (ROW(39:39) - ROW($14:$14)) & " = ∑IRIx; x: {0, …, MY" & (ROW(39:39) - ROW($14:$14)) & "}"} -> IRC25 = ∑IRIx; x: {0, …, MY25} | N39: {="ERM" & (ROW(39:39) - ROW($14:$14)) & " = if (YR" & (ROW(39:39) - ROW($14:$14)) & " ≤ EY) then (ERA0) else (ERP0)"} -> ERM25 = if (YR25 ≤ EY) then (ERA0) else (ERP0) | O39: {="ERI" & (ROW(39:39) - ROW($14:$14)) & " = ERM" & (ROW(39:39) - ROW($14:$14)) & " * C" & (ROW(39:39) - ROW($14:$14))} -> ERI25 = ERM25 * C25 | P39: {="ERU" & (ROW(39:39) - ROW($14:$14)) & " = ∑ERIx; x: {0, …, MY" & (ROW(39:39) - ROW($14:$14)) & "}"} -> ERU25 = ∑ERIx; x: {0, …, MY25} | Q39: {="PRM" & (ROW(39:39) - ROW($14:$14)) & " = if (YR" & (ROW(39:39) - ROW($14:$14)) & " ≤ EY) then (PRA0) else (PRP0)"} -> PRM25 = if (YR25 ≤ EY) then (PRA0) else (PRP0) | R39: {="PRI" & (ROW(39:39) - ROW($14:$14)) & " = PRM" & (ROW(39:39) - ROW($14:$14)) & " * C" & (ROW(39:39) - ROW($14:$14))} -> PRI25 = PRM25 * C25 | S39: {="PRU" & (ROW(39:39) - ROW($14:$14)) & " = ∑PRIx; x: {0, …, MY" & (ROW(39:39) - ROW($14:$14)) & "}"} -> PRU25 = ∑PRIx; x: {0, …, MY25} | T39: {="ORM" & (ROW(39:39) - ROW($14:$14)) & " = if (YR" & (ROW(39:39) - ROW($14:$14)) & " ≤ EY) then (ORA0) else (ORP0)"} -> ORM25 = if (YR25 ≤ EY) then (ORA0) else (ORP0) | U39: {="ORI" & (ROW(39:39) - ROW($14:$14)) & " = ORM" & (ROW(39:39) - ROW($14:$14)) & " * C" & (ROW(39:39) - ROW($14:$14))} -> ORI25 = ORM25 * C25 | V39: {="ORC" & (ROW(39:39) - ROW($14:$14)) & " = ∑ORIx; x: {0, …, MY" & (ROW(39:39) - ROW($14:$14)) & "}"} -> ORC25 = ∑ORIx; x: {0, …, MY25} | AA39: 2053 | AB39: 25 | AC39: 1.135 | AD39: =AC39 / AC$14 -> 1.135 | AE39: =IF(AA39 < Y$15, Y$19, Y$20) -> 0.125 | AF39: =AE39 * AD39 -> 0.141875 | AG39: =SUM(AF$14:AF39) -> 5.2375 | AH39: =IF(AA39 < Y$15, Y$29, Y$30) -> 0.02 | AI39: =AH39 * AD39 -> 0.0227 | AJ39: =SUM(AI$14:AI39) -> 0.55702 | AK39: =IF(AA39 < Y$15, Y$34, Y$35) -> 0 | AL39: =AK39 * AD39 -> 0 | AM39: =SUM(AL$14:AL39) -> 0.14049 | AN39: =IF(AA39 < Y$15, Y$24, Y$25) -> 0.02 | AO39: =AN39 * AD39 -> 0.0227 | AP39: =SUM(AO$14:AO39) -> 0.69751 | AU39: 2053 | AV39: 25 | AW39: 1.135 | AX39: =AW39 / AW$14 -> 1.135 | AY39: =IF(AU39 < AS$15, AS$19, AS$20) -> 0.25 | AZ39: =AY39 * AX39 -> 0.28375 | BA39: =SUM(AZ$14:AZ39) -> 8.71275 | BB39: =IF(AU39 < AS$15, AS$29, AS$30) -> 3.78 | BC39: =BB39 * AX39 -> 4.2903 | BD39: =SUM(BC$14:BC39) -> 105.27678 | BE39: =IF(AU39 < AS$15, AS$34, AS$35) -> 0 | BF39: =BE39 * AX39 -> 0 | BG39: =SUM(BF$14:BF39) -> 2.82 | BH39: =IF(AU39 < AS$15, AS$24, AS$25) -> 3.78 | BI39: =BH39 * AX39 -> 4.2903 | BJ39: =SUM(BI$14:BI39) -> 108.09678 | BO39: 2053 | BP39: 25 | BQ39: 1.135 | BR39: =BQ39 / BQ$14 -> 1.135 | BS39: =IF(BO39 < BM$15, BM$19, BM$20) -> 0.5 | BT39: =BS39 * BR39 -> 0.5675 | BU39: =SUM(BT$14:BT39) -> 13.9255 | BV39: =IF(BO39 < BM$15, BM$29, BM$30) -> 16.08 | BW39: =BV39 * BR39 -> 18.2508 | BX39: =SUM(BW$14:BW39) -> 447.84408 | BY39: =IF(BO39 < BM$15, BM$34, BM$35) -> 0 | BZ39: =BY39 * BR39 -> 0 | CA39: =SUM(BZ$14:BZ39) -> 0 | CB39: =IF(BO39 < BM$15, BM$24, BM$25) -> 16.08 | CC39: =CB39 * BR39 -> 18.2508 | CD39: =SUM(CC$14:CC39) -> 447.84408
D40: 2028 PSPS Risk for Circuit Segment | G40: {="YR" & (ROW(40:40) - ROW($14:$14)) & " = " & (2028 + (ROW(40:40) - ROW($14:$14)))} -> YR26 = 2054 | H40: {="MY" & (ROW(40:40) - ROW($14:$14)) & " = " & (ROW(40:40) - ROW($14:$14))} -> MY26 = 26 | I40: {="CD" & (ROW(40:40) - ROW($14:$14))} -> CD26 | J40: {="CN" & (ROW(40:40) - ROW($14:$14)) & " = CD" & (ROW(40:40) - ROW($14:$14)) & " / CD0" & IF(ROW(40:40) - ROW($14:$14) = 0, " = 1", "")} -> CN26 = CD26 / CD0 | K40: {="IRM" & (ROW(40:40) - ROW($14:$14)) & " = if (YR" & (ROW(40:40) - ROW($14:$14)) & " ≤ EY) then (IRA0) else (IRP0)"} -> IRM26 = if (YR26 ≤ EY) then (IRA0) else (IRP0) | L40: {="IRI" & (ROW(40:40) - ROW($14:$14)) & " = IRM" & (ROW(40:40) - ROW($14:$14)) & " * C" & (ROW(40:40) - ROW($14:$14))} -> IRI26 = IRM26 * C26 | M40: {="IRC" & (ROW(40:40) - ROW($14:$14)) & " = ∑IRIx; x: {0, …, MY" & (ROW(40:40) - ROW($14:$14)) & "}"} -> IRC26 = ∑IRIx; x: {0, …, MY26} | N40: {="ERM" & (ROW(40:40) - ROW($14:$14)) & " = if (YR" & (ROW(40:40) - ROW($14:$14)) & " ≤ EY) then (ERA0) else (ERP0)"} -> ERM26 = if (YR26 ≤ EY) then (ERA0) else (ERP0) | O40: {="ERI" & (ROW(40:40) - ROW($14:$14)) & " = ERM" & (ROW(40:40) - ROW($14:$14)) & " * C" & (ROW(40:40) - ROW($14:$14))} -> ERI26 = ERM26 * C26 | P40: {="ERU" & (ROW(40:40) - ROW($14:$14)) & " = ∑ERIx; x: {0, …, MY" & (ROW(40:40) - ROW($14:$14)) & "}"} -> ERU26 = ∑ERIx; x: {0, …, MY26} | Q40: {="PRM" & (ROW(40:40) - ROW($14:$14)) & " = if (YR" & (ROW(40:40) - ROW($14:$14)) & " ≤ EY) then (PRA0) else (PRP0)"} -> PRM26 = if (YR26 ≤ EY) then (PRA0) else (PRP0) | R40: {="PRI" & (ROW(40:40) - ROW($14:$14)) & " = PRM" & (ROW(40:40) - ROW($14:$14)) & " * C" & (ROW(40:40) - ROW($14:$14))} -> PRI26 = PRM26 * C26 | S40: {="PRU" & (ROW(40:40) - ROW($14:$14)) & " = ∑PRIx; x: {0, …, MY" & (ROW(40:40) - ROW($14:$14)) & "}"} -> PRU26 = ∑PRIx; x: {0, …, MY26} | T40: {="ORM" & (ROW(40:40) - ROW($14:$14)) & " = if (YR" & (ROW(40:40) - ROW($14:$14)) & " ≤ EY) then (ORA0) else (ORP0)"} -> ORM26 = if (YR26 ≤ EY) then (ORA0) else (ORP0) | U40: {="ORI" & (ROW(40:40) - ROW($14:$14)) & " = ORM" & (ROW(40:40) - ROW($14:$14)) & " * C" & (ROW(40:40) - ROW($14:$14))} -> ORI26 = ORM26 * C26 | V40: {="ORC" & (ROW(40:40) - ROW($14:$14)) & " = ∑ORIx; x: {0, …, MY" & (ROW(40:40) - ROW($14:$14)) & "}"} -> ORC26 = ∑ORIx; x: {0, …, MY26} | AA40: 2054 | AB40: 26 | AC40: 1.144 | AD40: =AC40 / AC$14 -> 1.144 | AE40: =IF(AA40 < Y$15, Y$19, Y$20) -> 0.125 | AF40: =AE40 * AD40 -> 0.143 | AG40: =SUM(AF$14:AF40) -> 5.3805 | AH40: =IF(AA40 < Y$15, Y$29, Y$30) -> 0.02 | AI40: =AH40 * AD40 -> 0.02288 | AJ40: =SUM(AI$14:AI40) -> 0.5799 | AK40: =IF(AA40 < Y$15, Y$34, Y$35) -> 0 | AL40: =AK40 * AD40 -> 0 | AM40: =SUM(AL$14:AL40) -> 0.14049 | AN40: =IF(AA40 < Y$15, Y$24, Y$25) -> 0.02 | AO40: =AN40 * AD40 -> 0.02288 | AP40: =SUM(AO$14:AO40) -> 0.72039 | AU40: 2054 | AV40: 26 | AW40: 1.144 | AX40: =AW40 / AW$14 -> 1.144 | AY40: =IF(AU40 < AS$15, AS$19, AS$20) -> 0.25 | AZ40: =AY40 * AX40 -> 0.286 | BA40: =SUM(AZ$14:AZ40) -> 8.99875 | BB40: =IF(AU40 < AS$15, AS$29, AS$30) -> 3.78 | BC40: =BB40 * AX40 -> 4.32432 | BD40: =SUM(BC$14:BC40) -> 109.6011 | BE40: =IF(AU40 < AS$15, AS$34, AS$35) -> 0 | BF40: =BE40 * AX40 -> 0 | BG40: =SUM(BF$14:BF40) -> 2.82 | BH40: =IF(AU40 < AS$15, AS$24, AS$25) -> 3.78 | BI40: =BH40 * AX40 -> 4.32432 | BJ40: =SUM(BI$14:BI40) -> 112.4211 | BO40: 2054 | BP40: 26 | BQ40: 1.144 | BR40: =BQ40 / BQ$14 -> 1.144 | BS40: =IF(BO40 < BM$15, BM$19, BM$20) -> 0.5 | BT40: =BS40 * BR40 -> 0.572 | BU40: =SUM(BT$14:BT40) -> 14.4975 | BV40: =IF(BO40 < BM$15, BM$29, BM$30) -> 16.08 | BW40: =BV40 * BR40 -> 18.39552 | BX40: =SUM(BW$14:BW40) -> 466.2396 | BY40: =IF(BO40 < BM$15, BM$34, BM$35) -> 0 | BZ40: =BY40 * BR40 -> 0 | CA40: =SUM(BZ$14:BZ40) -> 0 | CB40: =IF(BO40 < BM$15, BM$24, BM$25) -> 16.08 | CC40: =CB40 * BR40 -> 18.39552 | CD40: =SUM(CC$14:CC40) -> 466.2396
B41: Additionally, it is noteworthy that the formulations for evaluating the Baseline risks for Core Capability 6 are similar to those of the future risks for Core Capability 4. The salient difference is that the Baseline risk evaluations consider only the effects of mitigation activities completed since Year 2028, and thus rely on knowing an Actual Energization Year for the Circuit Segment, as applicable. In contrast, the future risk evaluations for Core Capability 4 consider the effects of mitigation activities yet to occur, and thus rely on knowing a future Estimated Energization Year, as applicable. Despite these contextual differences, the primary process of evaluation remains the same. | G41: {="YR" & (ROW(41:41) - ROW($14:$14)) & " = " & (2028 + (ROW(41:41) - ROW($14:$14)))} -> YR27 = 2055 | H41: {="MY" & (ROW(41:41) - ROW($14:$14)) & " = " & (ROW(41:41) - ROW($14:$14))} -> MY27 = 27 | I41: {="CD" & (ROW(41:41) - ROW($14:$14))} -> CD27 | J41: {="CN" & (ROW(41:41) - ROW($14:$14)) & " = CD" & (ROW(41:41) - ROW($14:$14)) & " / CD0" & IF(ROW(41:41) - ROW($14:$14) = 0, " = 1", "")} -> CN27 = CD27 / CD0 | K41: {="IRM" & (ROW(41:41) - ROW($14:$14)) & " = if (YR" & (ROW(41:41) - ROW($14:$14)) & " ≤ EY) then (IRA0) else (IRP0)"} -> IRM27 = if (YR27 ≤ EY) then (IRA0) else (IRP0) | L41: {="IRI" & (ROW(41:41) - ROW($14:$14)) & " = IRM" & (ROW(41:41) - ROW($14:$14)) & " * C" & (ROW(41:41) - ROW($14:$14))} -> IRI27 = IRM27 * C27 | M41: {="IRC" & (ROW(41:41) - ROW($14:$14)) & " = ∑IRIx; x: {0, …, MY" & (ROW(41:41) - ROW($14:$14)) & "}"} -> IRC27 = ∑IRIx; x: {0, …, MY27} | N41: {="ERM" & (ROW(41:41) - ROW($14:$14)) & " = if (YR" & (ROW(41:41) - ROW($14:$14)) & " ≤ EY) then (ERA0) else (ERP0)"} -> ERM27 = if (YR27 ≤ EY) then (ERA0) else (ERP0) | O41: {="ERI" & (ROW(41:41) - ROW($14:$14)) & " = ERM" & (ROW(41:41) - ROW($14:$14)) & " * C" & (ROW(41:41) - ROW($14:$14))} -> ERI27 = ERM27 * C27 | P41: {="ERU" & (ROW(41:41) - ROW($14:$14)) & " = ∑ERIx; x: {0, …, MY" & (ROW(41:41) - ROW($14:$14)) & "}"} -> ERU27 = ∑ERIx; x: {0, …, MY27} | Q41: {="PRM" & (ROW(41:41) - ROW($14:$14)) & " = if (YR" & (ROW(41:41) - ROW($14:$14)) & " ≤ EY) then (PRA0) else (PRP0)"} -> PRM27 = if (YR27 ≤ EY) then (PRA0) else (PRP0) | R41: {="PRI" & (ROW(41:41) - ROW($14:$14)) & " = PRM" & (ROW(41:41) - ROW($14:$14)) & " * C" & (ROW(41:41) - ROW($14:$14))} -> PRI27 = PRM27 * C27 | S41: {="PRU" & (ROW(41:41) - ROW($14:$14)) & " = ∑PRIx; x: {0, …, MY" & (ROW(41:41) - ROW($14:$14)) & "}"} -> PRU27 = ∑PRIx; x: {0, …, MY27} | T41: {="ORM" & (ROW(41:41) - ROW($14:$14)) & " = if (YR" & (ROW(41:41) - ROW($14:$14)) & " ≤ EY) then (ORA0) else (ORP0)"} -> ORM27 = if (YR27 ≤ EY) then (ORA0) else (ORP0) | U41: {="ORI" & (ROW(41:41) - ROW($14:$14)) & " = ORM" & (ROW(41:41) - ROW($14:$14)) & " * C" & (ROW(41:41) - ROW($14:$14))} -> ORI27 = ORM27 * C27 | V41: {="ORC" & (ROW(41:41) - ROW($14:$14)) & " = ∑ORIx; x: {0, …, MY" & (ROW(41:41) - ROW($14:$14)) & "}"} -> ORC27 = ∑ORIx; x: {0, …, MY27} | AA41: 2055 | AB41: 27 | AC41: 1.154 | AD41: =AC41 / AC$14 -> 1.154 | AE41: =IF(AA41 < Y$15, Y$19, Y$20) -> 0.125 | AF41: =AE41 * AD41 -> 0.14425 | AG41: =SUM(AF$14:AF41) -> 5.52475 | AH41: =IF(AA41 < Y$15, Y$29, Y$30) -> 0.02 | AI41: =AH41 * AD41 -> 0.02308 | AJ41: =SUM(AI$14:AI41) -> 0.60298 | AK41: =IF(AA41 < Y$15, Y$34, Y$35) -> 0 | AL41: =AK41 * AD41 -> 0 | AM41: =SUM(AL$14:AL41) -> 0.14049 | AN41: =IF(AA41 < Y$15, Y$24, Y$25) -> 0.02 | AO41: =AN41 * AD41 -> 0.02308 | AP41: =SUM(AO$14:AO41) -> 0.74347 | AU41: 2055 | AV41: 27 | AW41: 1.154 | AX41: =AW41 / AW$14 -> 1.154 | AY41: =IF(AU41 < AS$15, AS$19, AS$20) -> 0.25 | AZ41: =AY41 * AX41 -> 0.2885 | BA41: =SUM(AZ$14:AZ41) -> 9.28725 | BB41: =IF(AU41 < AS$15, AS$29, AS$30) -> 3.78 | BC41: =BB41 * AX41 -> 4.36212 | BD41: =SUM(BC$14:BC41) -> 113.96322 | BE41: =IF(AU41 < AS$15, AS$34, AS$35) -> 0 | BF41: =BE41 * AX41 -> 0 | BG41: =SUM(BF$14:BF41) -> 2.82 | BH41: =IF(AU41 < AS$15, AS$24, AS$25) -> 3.78 | BI41: =BH41 * AX41 -> 4.36212 | BJ41: =SUM(BI$14:BI41) -> 116.78322 | BO41: 2055 | BP41: 27 | BQ41: 1.154 | BR41: =BQ41 / BQ$14 -> 1.154 | BS41: =IF(BO41 < BM$15, BM$19, BM$20) -> 0.5 | BT41: =BS41 * BR41 -> 0.577 | BU41: =SUM(BT$14:BT41) -> 15.0745 | BV41: =IF(BO41 < BM$15, BM$29, BM$30) -> 16.08 | BW41: =BV41 * BR41 -> 18.55632 | BX41: =SUM(BW$14:BW41) -> 484.79592 | BY41: =IF(BO41 < BM$15, BM$34, BM$35) -> 0 | BZ41: =BY41 * BR41 -> 0 | CA41: =SUM(BZ$14:BZ41) -> 0 | CB41: =IF(BO41 < BM$15, BM$24, BM$25) -> 16.08 | CC41: =CB41 * BR41 -> 18.55632 | CD41: =SUM(CC$14:CC41) -> 484.79592
D42: Pre-Mitigation Risk (PRA0), A : 'ante' | E42: PRA0 | G42: {="YR" & (ROW(42:42) - ROW($14:$14)) & " = " & (2028 + (ROW(42:42) - ROW($14:$14)))} -> YR28 = 2056 | H42: {="MY" & (ROW(42:42) - ROW($14:$14)) & " = " & (ROW(42:42) - ROW($14:$14))} -> MY28 = 28 | I42: {="CD" & (ROW(42:42) - ROW($14:$14))} -> CD28 | J42: {="CN" & (ROW(42:42) - ROW($14:$14)) & " = CD" & (ROW(42:42) - ROW($14:$14)) & " / CD0" & IF(ROW(42:42) - ROW($14:$14) = 0, " = 1", "")} -> CN28 = CD28 / CD0 | K42: {="IRM" & (ROW(42:42) - ROW($14:$14)) & " = if (YR" & (ROW(42:42) - ROW($14:$14)) & " ≤ EY) then (IRA0) else (IRP0)"} -> IRM28 = if (YR28 ≤ EY) then (IRA0) else (IRP0) | L42: {="IRI" & (ROW(42:42) - ROW($14:$14)) & " = IRM" & (ROW(42:42) - ROW($14:$14)) & " * C" & (ROW(42:42) - ROW($14:$14))} -> IRI28 = IRM28 * C28 | M42: {="IRC" & (ROW(42:42) - ROW($14:$14)) & " = ∑IRIx; x: {0, …, MY" & (ROW(42:42) - ROW($14:$14)) & "}"} -> IRC28 = ∑IRIx; x: {0, …, MY28} | N42: {="ERM" & (ROW(42:42) - ROW($14:$14)) & " = if (YR" & (ROW(42:42) - ROW($14:$14)) & " ≤ EY) then (ERA0) else (ERP0)"} -> ERM28 = if (YR28 ≤ EY) then (ERA0) else (ERP0) | O42: {="ERI" & (ROW(42:42) - ROW($14:$14)) & " = ERM" & (ROW(42:42) - ROW($14:$14)) & " * C" & (ROW(42:42) - ROW($14:$14))} -> ERI28 = ERM28 * C28 | P42: {="ERU" & (ROW(42:42) - ROW($14:$14)) & " = ∑ERIx; x: {0, …, MY" & (ROW(42:42) - ROW($14:$14)) & "}"} -> ERU28 = ∑ERIx; x: {0, …, MY28} | Q42: {="PRM" & (ROW(42:42) - ROW($14:$14)) & " = if (YR" & (ROW(42:42) - ROW($14:$14)) & " ≤ EY) then (PRA0) else (PRP0)"} -> PRM28 = if (YR28 ≤ EY) then (PRA0) else (PRP0) | R42: {="PRI" & (ROW(42:42) - ROW($14:$14)) & " = PRM" & (ROW(42:42) - ROW($14:$14)) & " * C" & (ROW(42:42) - ROW($14:$14))} -> PRI28 = PRM28 * C28 | S42: {="PRU" & (ROW(42:42) - ROW($14:$14)) & " = ∑PRIx; x: {0, …, MY" & (ROW(42:42) - ROW($14:$14)) & "}"} -> PRU28 = ∑PRIx; x: {0, …, MY28} | T42: {="ORM" & (ROW(42:42) - ROW($14:$14)) & " = if (YR" & (ROW(42:42) - ROW($14:$14)) & " ≤ EY) then (ORA0) else (ORP0)"} -> ORM28 = if (YR28 ≤ EY) then (ORA0) else (ORP0) | U42: {="ORI" & (ROW(42:42) - ROW($14:$14)) & " = ORM" & (ROW(42:42) - ROW($14:$14)) & " * C" & (ROW(42:42) - ROW($14:$14))} -> ORI28 = ORM28 * C28 | V42: {="ORC" & (ROW(42:42) - ROW($14:$14)) & " = ∑ORIx; x: {0, …, MY" & (ROW(42:42) - ROW($14:$14)) & "}"} -> ORC28 = ∑ORIx; x: {0, …, MY28} | AA42: 2056 | AB42: 28 | AC42: 1.164 | AD42: =AC42 / AC$14 -> 1.164 | AE42: =IF(AA42 < Y$15, Y$19, Y$20) -> 0.125 | AF42: =AE42 * AD42 -> 0.1455 | AG42: =SUM(AF$14:AF42) -> 5.67025 | AH42: =IF(AA42 < Y$15, Y$29, Y$30) -> 0.02 | AI42: =AH42 * AD42 -> 0.02328 | AJ42: =SUM(AI$14:AI42) -> 0.62626 | AK42: =IF(AA42 < Y$15, Y$34, Y$35) -> 0 | AL42: =AK42 * AD42 -> 0 | AM42: =SUM(AL$14:AL42) -> 0.14049 | AN42: =IF(AA42 < Y$15, Y$24, Y$25) -> 0.02 | AO42: =AN42 * AD42 -> 0.02328 | AP42: =SUM(AO$14:AO42) -> 0.76675 | AU42: 2056 | AV42: 28 | AW42: 1.164 | AX42: =AW42 / AW$14 -> 1.164 | AY42: =IF(AU42 < AS$15, AS$19, AS$20) -> 0.25 | AZ42: =AY42 * AX42 -> 0.291 | BA42: =SUM(AZ$14:AZ42) -> 9.57825 | BB42: =IF(AU42 < AS$15, AS$29, AS$30) -> 3.78 | BC42: =BB42 * AX42 -> 4.39992 | BD42: =SUM(BC$14:BC42) -> 118.36314 | BE42: =IF(AU42 < AS$15, AS$34, AS$35) -> 0 | BF42: =BE42 * AX42 -> 0 | BG42: =SUM(BF$14:BF42) -> 2.82 | BH42: =IF(AU42 < AS$15, AS$24, AS$25) -> 3.78 | BI42: =BH42 * AX42 -> 4.39992 | BJ42: =SUM(BI$14:BI42) -> 121.18314 | BO42: 2056 | BP42: 28 | BQ42: 1.164 | BR42: =BQ42 / BQ$14 -> 1.164 | BS42: =IF(BO42 < BM$15, BM$19, BM$20) -> 0.5 | BT42: =BS42 * BR42 -> 0.582 | BU42: =SUM(BT$14:BT42) -> 15.6565 | BV42: =IF(BO42 < BM$15, BM$29, BM$30) -> 16.08 | BW42: =BV42 * BR42 -> 18.71712 | BX42: =SUM(BW$14:BW42) -> 503.51304 | BY42: =IF(BO42 < BM$15, BM$34, BM$35) -> 0 | BZ42: =BY42 * BR42 -> 0 | CA42: =SUM(BZ$14:BZ42) -> 0 | CB42: =IF(BO42 < BM$15, BM$24, BM$25) -> 16.08 | CC42: =CB42 * BR42 -> 18.71712 | CD42: =SUM(CC$14:CC42) -> 503.51304
D43: Residual Risk (PRP0), P : 'post' | E43: PRP0 = PRP1 + PRP2 + PRP3 + PRP4 | G43: {="YR" & (ROW(43:43) - ROW($14:$14)) & " = " & (2028 + (ROW(43:43) - ROW($14:$14)))} -> YR29 = 2057 | H43: {="MY" & (ROW(43:43) - ROW($14:$14)) & " = " & (ROW(43:43) - ROW($14:$14))} -> MY29 = 29 | I43: {="CD" & (ROW(43:43) - ROW($14:$14))} -> CD29 | J43: {="CN" & (ROW(43:43) - ROW($14:$14)) & " = CD" & (ROW(43:43) - ROW($14:$14)) & " / CD0" & IF(ROW(43:43) - ROW($14:$14) = 0, " = 1", "")} -> CN29 = CD29 / CD0 | K43: {="IRM" & (ROW(43:43) - ROW($14:$14)) & " = if (YR" & (ROW(43:43) - ROW($14:$14)) & " ≤ EY) then (IRA0) else (IRP0)"} -> IRM29 = if (YR29 ≤ EY) then (IRA0) else (IRP0) | L43: {="IRI" & (ROW(43:43) - ROW($14:$14)) & " = IRM" & (ROW(43:43) - ROW($14:$14)) & " * C" & (ROW(43:43) - ROW($14:$14))} -> IRI29 = IRM29 * C29 | M43: {="IRC" & (ROW(43:43) - ROW($14:$14)) & " = ∑IRIx; x: {0, …, MY" & (ROW(43:43) - ROW($14:$14)) & "}"} -> IRC29 = ∑IRIx; x: {0, …, MY29} | N43: {="ERM" & (ROW(43:43) - ROW($14:$14)) & " = if (YR" & (ROW(43:43) - ROW($14:$14)) & " ≤ EY) then (ERA0) else (ERP0)"} -> ERM29 = if (YR29 ≤ EY) then (ERA0) else (ERP0) | O43: {="ERI" & (ROW(43:43) - ROW($14:$14)) & " = ERM" & (ROW(43:43) - ROW($14:$14)) & " * C" & (ROW(43:43) - ROW($14:$14))} -> ERI29 = ERM29 * C29 | P43: {="ERU" & (ROW(43:43) - ROW($14:$14)) & " = ∑ERIx; x: {0, …, MY" & (ROW(43:43) - ROW($14:$14)) & "}"} -> ERU29 = ∑ERIx; x: {0, …, MY29} | Q43: {="PRM" & (ROW(43:43) - ROW($14:$14)) & " = if (YR" & (ROW(43:43) - ROW($14:$14)) & " ≤ EY) then (PRA0) else (PRP0)"} -> PRM29 = if (YR29 ≤ EY) then (PRA0) else (PRP0) | R43: {="PRI" & (ROW(43:43) - ROW($14:$14)) & " = PRM" & (ROW(43:43) - ROW($14:$14)) & " * C" & (ROW(43:43) - ROW($14:$14))} -> PRI29 = PRM29 * C29 | S43: {="PRU" & (ROW(43:43) - ROW($14:$14)) & " = ∑PRIx; x: {0, …, MY" & (ROW(43:43) - ROW($14:$14)) & "}"} -> PRU29 = ∑PRIx; x: {0, …, MY29} | T43: {="ORM" & (ROW(43:43) - ROW($14:$14)) & " = if (YR" & (ROW(43:43) - ROW($14:$14)) & " ≤ EY) then (ORA0) else (ORP0)"} -> ORM29 = if (YR29 ≤ EY) then (ORA0) else (ORP0) | U43: {="ORI" & (ROW(43:43) - ROW($14:$14)) & " = ORM" & (ROW(43:43) - ROW($14:$14)) & " * C" & (ROW(43:43) - ROW($14:$14))} -> ORI29 = ORM29 * C29 | V43: {="ORC" & (ROW(43:43) - ROW($14:$14)) & " = ∑ORIx; x: {0, …, MY" & (ROW(43:43) - ROW($14:$14)) & "}"} -> ORC29 = ∑ORIx; x: {0, …, MY29} | AA43: 2057 | AB43: 29 | AC43: 1.174 | AD43: =AC43 / AC$14 -> 1.174 | AE43: =IF(AA43 < Y$15, Y$19, Y$20) -> 0.125 | AF43: =AE43 * AD43 -> 0.14675 | AG43: =SUM(AF$14:AF43) -> 5.817 | AH43: =IF(AA43 < Y$15, Y$29, Y$30) -> 0.02 | AI43: =AH43 * AD43 -> 0.02348 | AJ43: =SUM(AI$14:AI43) -> 0.64974 | AK43: =IF(AA43 < Y$15, Y$34, Y$35) -> 0 | AL43: =AK43 * AD43 -> 0 | AM43: =SUM(AL$14:AL43) -> 0.14049 | AN43: =IF(AA43 < Y$15, Y$24, Y$25) -> 0.02 | AO43: =AN43 * AD43 -> 0.02348 | AP43: =SUM(AO$14:AO43) -> 0.79023 | AU43: 2057 | AV43: 29 | AW43: 1.174 | AX43: =AW43 / AW$14 -> 1.174 | AY43: =IF(AU43 < AS$15, AS$19, AS$20) -> 0.25 | AZ43: =AY43 * AX43 -> 0.2935 | BA43: =SUM(AZ$14:AZ43) -> 9.87175 | BB43: =IF(AU43 < AS$15, AS$29, AS$30) -> 3.78 | BC43: =BB43 * AX43 -> 4.43772 | BD43: =SUM(BC$14:BC43) -> 122.80086 | BE43: =IF(AU43 < AS$15, AS$34, AS$35) -> 0 | BF43: =BE43 * AX43 -> 0 | BG43: =SUM(BF$14:BF43) -> 2.82 | BH43: =IF(AU43 < AS$15, AS$24, AS$25) -> 3.78 | BI43: =BH43 * AX43 -> 4.43772 | BJ43: =SUM(BI$14:BI43) -> 125.62086 | BO43: 2057 | BP43: 29 | BQ43: 1.174 | BR43: =BQ43 / BQ$14 -> 1.174 | BS43: =IF(BO43 < BM$15, BM$19, BM$20) -> 0.5 | BT43: =BS43 * BR43 -> 0.587 | BU43: =SUM(BT$14:BT43) -> 16.2435 | BV43: =IF(BO43 < BM$15, BM$29, BM$30) -> 16.08 | BW43: =BV43 * BR43 -> 18.87792 | BX43: =SUM(BW$14:BW43) -> 522.39096 | BY43: =IF(BO43 < BM$15, BM$34, BM$35) -> 0 | BZ43: =BY43 * BR43 -> 0 | CA43: =SUM(BZ$14:BZ43) -> 0 | CB43: =IF(BO43 < BM$15, BM$24, BM$25) -> 16.08 | CC43: =CB43 * BR43 -> 18.87792 | CD43: =SUM(CC$14:CC43) -> 522.39096
D44: Residual Risk, Mitigation 1 (PRP1) | E44: PRP1 | G44: {="YR" & (ROW(44:44) - ROW($14:$14)) & " = " & (2028 + (ROW(44:44) - ROW($14:$14)))} -> YR30 = 2058 | H44: {="MY" & (ROW(44:44) - ROW($14:$14)) & " = " & (ROW(44:44) - ROW($14:$14))} -> MY30 = 30 | I44: {="CD" & (ROW(44:44) - ROW($14:$14))} -> CD30 | J44: {="CN" & (ROW(44:44) - ROW($14:$14)) & " = CD" & (ROW(44:44) - ROW($14:$14)) & " / CD0" & IF(ROW(44:44) - ROW($14:$14) = 0, " = 1", "")} -> CN30 = CD30 / CD0 | K44: {="IRM" & (ROW(44:44) - ROW($14:$14)) & " = if (YR" & (ROW(44:44) - ROW($14:$14)) & " ≤ EY) then (IRA0) else (IRP0)"} -> IRM30 = if (YR30 ≤ EY) then (IRA0) else (IRP0) | L44: {="IRI" & (ROW(44:44) - ROW($14:$14)) & " = IRM" & (ROW(44:44) - ROW($14:$14)) & " * C" & (ROW(44:44) - ROW($14:$14))} -> IRI30 = IRM30 * C30 | M44: {="IRC" & (ROW(44:44) - ROW($14:$14)) & " = ∑IRIx; x: {0, …, MY" & (ROW(44:44) - ROW($14:$14)) & "}"} -> IRC30 = ∑IRIx; x: {0, …, MY30} | N44: {="ERM" & (ROW(44:44) - ROW($14:$14)) & " = if (YR" & (ROW(44:44) - ROW($14:$14)) & " ≤ EY) then (ERA0) else (ERP0)"} -> ERM30 = if (YR30 ≤ EY) then (ERA0) else (ERP0) | O44: {="ERI" & (ROW(44:44) - ROW($14:$14)) & " = ERM" & (ROW(44:44) - ROW($14:$14)) & " * C" & (ROW(44:44) - ROW($14:$14))} -> ERI30 = ERM30 * C30 | P44: {="ERU" & (ROW(44:44) - ROW($14:$14)) & " = ∑ERIx; x: {0, …, MY" & (ROW(44:44) - ROW($14:$14)) & "}"} -> ERU30 = ∑ERIx; x: {0, …, MY30} | Q44: {="PRM" & (ROW(44:44) - ROW($14:$14)) & " = if (YR" & (ROW(44:44) - ROW($14:$14)) & " ≤ EY) then (PRA0) else (PRP0)"} -> PRM30 = if (YR30 ≤ EY) then (PRA0) else (PRP0) | R44: {="PRI" & (ROW(44:44) - ROW($14:$14)) & " = PRM" & (ROW(44:44) - ROW($14:$14)) & " * C" & (ROW(44:44) - ROW($14:$14))} -> PRI30 = PRM30 * C30 | S44: {="PRU" & (ROW(44:44) - ROW($14:$14)) & " = ∑PRIx; x: {0, …, MY" & (ROW(44:44) - ROW($14:$14)) & "}"} -> PRU30 = ∑PRIx; x: {0, …, MY30} | T44: {="ORM" & (ROW(44:44) - ROW($14:$14)) & " = if (YR" & (ROW(44:44) - ROW($14:$14)) & " ≤ EY) then (ORA0) else (ORP0)"} -> ORM30 = if (YR30 ≤ EY) then (ORA0) else (ORP0) | U44: {="ORI" & (ROW(44:44) - ROW($14:$14)) & " = ORM" & (ROW(44:44) - ROW($14:$14)) & " * C" & (ROW(44:44) - ROW($14:$14))} -> ORI30 = ORM30 * C30 | V44: {="ORC" & (ROW(44:44) - ROW($14:$14)) & " = ∑ORIx; x: {0, …, MY" & (ROW(44:44) - ROW($14:$14)) & "}"} -> ORC30 = ∑ORIx; x: {0, …, MY30} | AA44: 2058 | AB44: 30 | AC44: 1.184 | AD44: =AC44 / AC$14 -> 1.184 | AE44: =IF(AA44 < Y$15, Y$19, Y$20) -> 0.125 | AF44: =AE44 * AD44 -> 0.148 | AG44: =SUM(AF$14:AF44) -> 5.965 | AH44: =IF(AA44 < Y$15, Y$29, Y$30) -> 0.02 | AI44: =AH44 * AD44 -> 0.02368 | AJ44: =SUM(AI$14:AI44) -> 0.67342 | AK44: =IF(AA44 < Y$15, Y$34, Y$35) -> 0 | AL44: =AK44 * AD44 -> 0 | AM44: =SUM(AL$14:AL44) -> 0.14049 | AN44: =IF(AA44 < Y$15, Y$24, Y$25) -> 0.02 | AO44: =AN44 * AD44 -> 0.02368 | AP44: =SUM(AO$14:AO44) -> 0.81391 | AU44: 2058 | AV44: 30 | AW44: 1.184 | AX44: =AW44 / AW$14 -> 1.184 | AY44: =IF(AU44 < AS$15, AS$19, AS$20) -> 0.25 | AZ44: =AY44 * AX44 -> 0.296 | BA44: =SUM(AZ$14:AZ44) -> 10.16775 | BB44: =IF(AU44 < AS$15, AS$29, AS$30) -> 3.78 | BC44: =BB44 * AX44 -> 4.47552 | BD44: =SUM(BC$14:BC44) -> 127.27638 | BE44: =IF(AU44 < AS$15, AS$34, AS$35) -> 0 | BF44: =BE44 * AX44 -> 0 | BG44: =SUM(BF$14:BF44) -> 2.82 | BH44: =IF(AU44 < AS$15, AS$24, AS$25) -> 3.78 | BI44: =BH44 * AX44 -> 4.47552 | BJ44: =SUM(BI$14:BI44) -> 130.09638 | BO44: 2058 | BP44: 30 | BQ44: 1.184 | BR44: =BQ44 / BQ$14 -> 1.184 | BS44: =IF(BO44 < BM$15, BM$19, BM$20) -> 0.5 | BT44: =BS44 * BR44 -> 0.592 | BU44: =SUM(BT$14:BT44) -> 16.8355 | BV44: =IF(BO44 < BM$15, BM$29, BM$30) -> 16.08 | BW44: =BV44 * BR44 -> 19.03872 | BX44: =SUM(BW$14:BW44) -> 541.42968 | BY44: =IF(BO44 < BM$15, BM$34, BM$35) -> 0 | BZ44: =BY44 * BR44 -> 0 | CA44: =SUM(BZ$14:BZ44) -> 0 | CB44: =IF(BO44 < BM$15, BM$24, BM$25) -> 16.08 | CC44: =CB44 * BR44 -> 19.03872 | CD44: =SUM(CC$14:CC44) -> 541.42968
D45: Residual Risk, Mitigation 2 (PRP2) | E45: PRP2 | G45: {="YR" & (ROW(45:45) - ROW($14:$14)) & " = " & (2028 + (ROW(45:45) - ROW($14:$14)))} -> YR31 = 2059 | H45: {="MY" & (ROW(45:45) - ROW($14:$14)) & " = " & (ROW(45:45) - ROW($14:$14))} -> MY31 = 31 | I45: {="CD" & (ROW(45:45) - ROW($14:$14))} -> CD31 | J45: {="CN" & (ROW(45:45) - ROW($14:$14)) & " = CD" & (ROW(45:45) - ROW($14:$14)) & " / CD0" & IF(ROW(45:45) - ROW($14:$14) = 0, " = 1", "")} -> CN31 = CD31 / CD0 | K45: {="IRM" & (ROW(45:45) - ROW($14:$14)) & " = if (YR" & (ROW(45:45) - ROW($14:$14)) & " ≤ EY) then (IRA0) else (IRP0)"} -> IRM31 = if (YR31 ≤ EY) then (IRA0) else (IRP0) | L45: {="IRI" & (ROW(45:45) - ROW($14:$14)) & " = IRM" & (ROW(45:45) - ROW($14:$14)) & " * C" & (ROW(45:45) - ROW($14:$14))} -> IRI31 = IRM31 * C31 | M45: {="IRC" & (ROW(45:45) - ROW($14:$14)) & " = ∑IRIx; x: {0, …, MY" & (ROW(45:45) - ROW($14:$14)) & "}"} -> IRC31 = ∑IRIx; x: {0, …, MY31} | N45: {="ERM" & (ROW(45:45) - ROW($14:$14)) & " = if (YR" & (ROW(45:45) - ROW($14:$14)) & " ≤ EY) then (ERA0) else (ERP0)"} -> ERM31 = if (YR31 ≤ EY) then (ERA0) else (ERP0) | O45: {="ERI" & (ROW(45:45) - ROW($14:$14)) & " = ERM" & (ROW(45:45) - ROW($14:$14)) & " * C" & (ROW(45:45) - ROW($14:$14))} -> ERI31 = ERM31 * C31 | P45: {="ERU" & (ROW(45:45) - ROW($14:$14)) & " = ∑ERIx; x: {0, …, MY" & (ROW(45:45) - ROW($14:$14)) & "}"} -> ERU31 = ∑ERIx; x: {0, …, MY31} | Q45: {="PRM" & (ROW(45:45) - ROW($14:$14)) & " = if (YR" & (ROW(45:45) - ROW($14:$14)) & " ≤ EY) then (PRA0) else (PRP0)"} -> PRM31 = if (YR31 ≤ EY) then (PRA0) else (PRP0) | R45: {="PRI" & (ROW(45:45) - ROW($14:$14)) & " = PRM" & (ROW(45:45) - ROW($14:$14)) & " * C" & (ROW(45:45) - ROW($14:$14))} -> PRI31 = PRM31 * C31 | S45: {="PRU" & (ROW(45:45) - ROW($14:$14)) & " = ∑PRIx; x: {0, …, MY" & (ROW(45:45) - ROW($14:$14)) & "}"} -> PRU31 = ∑PRIx; x: {0, …, MY31} | T45: {="ORM" & (ROW(45:45) - ROW($14:$14)) & " = if (YR" & (ROW(45:45) - ROW($14:$14)) & " ≤ EY) then (ORA0) else (ORP0)"} -> ORM31 = if (YR31 ≤ EY) then (ORA0) else (ORP0) | U45: {="ORI" & (ROW(45:45) - ROW($14:$14)) & " = ORM" & (ROW(45:45) - ROW($14:$14)) & " * C" & (ROW(45:45) - ROW($14:$14))} -> ORI31 = ORM31 * C31 | V45: {="ORC" & (ROW(45:45) - ROW($14:$14)) & " = ∑ORIx; x: {0, …, MY" & (ROW(45:45) - ROW($14:$14)) & "}"} -> ORC31 = ∑ORIx; x: {0, …, MY31} | AA45: 2059 | AB45: 31 | AC45: 1.194 | AD45: =AC45 / AC$14 -> 1.194 | AE45: =IF(AA45 < Y$15, Y$19, Y$20) -> 0.125 | AF45: =AE45 * AD45 -> 0.14925 | AG45: =SUM(AF$14:AF45) -> 6.11425 | AH45: =IF(AA45 < Y$15, Y$29, Y$30) -> 0.02 | AI45: =AH45 * AD45 -> 0.02388 | AJ45: =SUM(AI$14:AI45) -> 0.6973 | AK45: =IF(AA45 < Y$15, Y$34, Y$35) -> 0 | AL45: =AK45 * AD45 -> 0 | AM45: =SUM(AL$14:AL45) -> 0.14049 | AN45: =IF(AA45 < Y$15, Y$24, Y$25) -> 0.02 | AO45: =AN45 * AD45 -> 0.02388 | AP45: =SUM(AO$14:AO45) -> 0.83779 | AU45: 2059 | AV45: 31 | AW45: 1.194 | AX45: =AW45 / AW$14 -> 1.194 | AY45: =IF(AU45 < AS$15, AS$19, AS$20) -> 0.25 | AZ45: =AY45 * AX45 -> 0.2985 | BA45: =SUM(AZ$14:AZ45) -> 10.46625 | BB45: =IF(AU45 < AS$15, AS$29, AS$30) -> 3.78 | BC45: =BB45 * AX45 -> 4.51332 | BD45: =SUM(BC$14:BC45) -> 131.7897 | BE45: =IF(AU45 < AS$15, AS$34, AS$35) -> 0 | BF45: =BE45 * AX45 -> 0 | BG45: =SUM(BF$14:BF45) -> 2.82 | BH45: =IF(AU45 < AS$15, AS$24, AS$25) -> 3.78 | BI45: =BH45 * AX45 -> 4.51332 | BJ45: =SUM(BI$14:BI45) -> 134.6097 | BO45: 2059 | BP45: 31 | BQ45: 1.194 | BR45: =BQ45 / BQ$14 -> 1.194 | BS45: =IF(BO45 < BM$15, BM$19, BM$20) -> 0.5 | BT45: =BS45 * BR45 -> 0.597 | BU45: =SUM(BT$14:BT45) -> 17.4325 | BV45: =IF(BO45 < BM$15, BM$29, BM$30) -> 16.08 | BW45: =BV45 * BR45 -> 19.19952 | BX45: =SUM(BW$14:BW45) -> 560.6292 | BY45: =IF(BO45 < BM$15, BM$34, BM$35) -> 0 | BZ45: =BY45 * BR45 -> 0 | CA45: =SUM(BZ$14:BZ45) -> 0 | CB45: =IF(BO45 < BM$15, BM$24, BM$25) -> 16.08 | CC45: =CB45 * BR45 -> 19.19952 | CD45: =SUM(CC$14:CC45) -> 560.6292
D46: Residual Risk, Mitigation 3 (PRP3) | E46: PRP3 | G46: {="YR" & (ROW(46:46) - ROW($14:$14)) & " = " & (2028 + (ROW(46:46) - ROW($14:$14)))} -> YR32 = 2060 | H46: {="MY" & (ROW(46:46) - ROW($14:$14)) & " = " & (ROW(46:46) - ROW($14:$14))} -> MY32 = 32 | I46: {="CD" & (ROW(46:46) - ROW($14:$14))} -> CD32 | J46: {="CN" & (ROW(46:46) - ROW($14:$14)) & " = CD" & (ROW(46:46) - ROW($14:$14)) & " / CD0" & IF(ROW(46:46) - ROW($14:$14) = 0, " = 1", "")} -> CN32 = CD32 / CD0 | K46: {="IRM" & (ROW(46:46) - ROW($14:$14)) & " = if (YR" & (ROW(46:46) - ROW($14:$14)) & " ≤ EY) then (IRA0) else (IRP0)"} -> IRM32 = if (YR32 ≤ EY) then (IRA0) else (IRP0) | L46: {="IRI" & (ROW(46:46) - ROW($14:$14)) & " = IRM" & (ROW(46:46) - ROW($14:$14)) & " * C" & (ROW(46:46) - ROW($14:$14))} -> IRI32 = IRM32 * C32 | M46: {="IRC" & (ROW(46:46) - ROW($14:$14)) & " = ∑IRIx; x: {0, …, MY" & (ROW(46:46) - ROW($14:$14)) & "}"} -> IRC32 = ∑IRIx; x: {0, …, MY32} | N46: {="ERM" & (ROW(46:46) - ROW($14:$14)) & " = if (YR" & (ROW(46:46) - ROW($14:$14)) & " ≤ EY) then (ERA0) else (ERP0)"} -> ERM32 = if (YR32 ≤ EY) then (ERA0) else (ERP0) | O46: {="ERI" & (ROW(46:46) - ROW($14:$14)) & " = ERM" & (ROW(46:46) - ROW($14:$14)) & " * C" & (ROW(46:46) - ROW($14:$14))} -> ERI32 = ERM32 * C32 | P46: {="ERU" & (ROW(46:46) - ROW($14:$14)) & " = ∑ERIx; x: {0, …, MY" & (ROW(46:46) - ROW($14:$14)) & "}"} -> ERU32 = ∑ERIx; x: {0, …, MY32} | Q46: {="PRM" & (ROW(46:46) - ROW($14:$14)) & " = if (YR" & (ROW(46:46) - ROW($14:$14)) & " ≤ EY) then (PRA0) else (PRP0)"} -> PRM32 = if (YR32 ≤ EY) then (PRA0) else (PRP0) | R46: {="PRI" & (ROW(46:46) - ROW($14:$14)) & " = PRM" & (ROW(46:46) - ROW($14:$14)) & " * C" & (ROW(46:46) - ROW($14:$14))} -> PRI32 = PRM32 * C32 | S46: {="PRU" & (ROW(46:46) - ROW($14:$14)) & " = ∑PRIx; x: {0, …, MY" & (ROW(46:46) - ROW($14:$14)) & "}"} -> PRU32 = ∑PRIx; x: {0, …, MY32} | T46: {="ORM" & (ROW(46:46) - ROW($14:$14)) & " = if (YR" & (ROW(46:46) - ROW($14:$14)) & " ≤ EY) then (ORA0) else (ORP0)"} -> ORM32 = if (YR32 ≤ EY) then (ORA0) else (ORP0) | U46: {="ORI" & (ROW(46:46) - ROW($14:$14)) & " = ORM" & (ROW(46:46) - ROW($14:$14)) & " * C" & (ROW(46:46) - ROW($14:$14))} -> ORI32 = ORM32 * C32 | V46: {="ORC" & (ROW(46:46) - ROW($14:$14)) & " = ∑ORIx; x: {0, …, MY" & (ROW(46:46) - ROW($14:$14)) & "}"} -> ORC32 = ∑ORIx; x: {0, …, MY32} | AA46: 2060 | AB46: 32 | AC46: 1.204 | AD46: =AC46 / AC$14 -> 1.204 | AE46: =IF(AA46 < Y$15, Y$19, Y$20) -> 0.125 | AF46: =AE46 * AD46 -> 0.1505 | AG46: =SUM(AF$14:AF46) -> 6.26475 | AH46: =IF(AA46 < Y$15, Y$29, Y$30) -> 0.02 | AI46: =AH46 * AD46 -> 0.02408 | AJ46: =SUM(AI$14:AI46) -> 0.72138 | AK46: =IF(AA46 < Y$15, Y$34, Y$35) -> 0 | AL46: =AK46 * AD46 -> 0 | AM46: =SUM(AL$14:AL46) -> 0.14049 | AN46: =IF(AA46 < Y$15, Y$24, Y$25) -> 0.02 | AO46: =AN46 * AD46 -> 0.02408 | AP46: =SUM(AO$14:AO46) -> 0.86187 | AU46: 2060 | AV46: 32 | AW46: 1.204 | AX46: =AW46 / AW$14 -> 1.204 | AY46: =IF(AU46 < AS$15, AS$19, AS$20) -> 0.25 | AZ46: =AY46 * AX46 -> 0.301 | BA46: =SUM(AZ$14:AZ46) -> 10.76725 | BB46: =IF(AU46 < AS$15, AS$29, AS$30) -> 3.78 | BC46: =BB46 * AX46 -> 4.55112 | BD46: =SUM(BC$14:BC46) -> 136.34082 | BE46: =IF(AU46 < AS$15, AS$34, AS$35) -> 0 | BF46: =BE46 * AX46 -> 0 | BG46: =SUM(BF$14:BF46) -> 2.82 | BH46: =IF(AU46 < AS$15, AS$24, AS$25) -> 3.78 | BI46: =BH46 * AX46 -> 4.55112 | BJ46: =SUM(BI$14:BI46) -> 139.16082 | BO46: 2060 | BP46: 32 | BQ46: 1.204 | BR46: =BQ46 / BQ$14 -> 1.204 | BS46: =IF(BO46 < BM$15, BM$19, BM$20) -> 0.5 | BT46: =BS46 * BR46 -> 0.602 | BU46: =SUM(BT$14:BT46) -> 18.0345 | BV46: =IF(BO46 < BM$15, BM$29, BM$30) -> 16.08 | BW46: =BV46 * BR46 -> 19.36032 | BX46: =SUM(BW$14:BW46) -> 579.98952 | BY46: =IF(BO46 < BM$15, BM$34, BM$35) -> 0 | BZ46: =BY46 * BR46 -> 0 | CA46: =SUM(BZ$14:BZ46) -> 0 | CB46: =IF(BO46 < BM$15, BM$24, BM$25) -> 16.08 | CC46: =CB46 * BR46 -> 19.36032 | CD46: =SUM(CC$14:CC46) -> 579.98952
D47: Residual Risk, No Mitigation (PRP4) | E47: PRP4 | G47: {="YR" & (ROW(47:47) - ROW($14:$14)) & " = " & (2028 + (ROW(47:47) - ROW($14:$14)))} -> YR33 = 2061 | H47: {="MY" & (ROW(47:47) - ROW($14:$14)) & " = " & (ROW(47:47) - ROW($14:$14))} -> MY33 = 33 | I47: {="CD" & (ROW(47:47) - ROW($14:$14))} -> CD33 | J47: {="CN" & (ROW(47:47) - ROW($14:$14)) & " = CD" & (ROW(47:47) - ROW($14:$14)) & " / CD0" & IF(ROW(47:47) - ROW($14:$14) = 0, " = 1", "")} -> CN33 = CD33 / CD0 | K47: {="IRM" & (ROW(47:47) - ROW($14:$14)) & " = if (YR" & (ROW(47:47) - ROW($14:$14)) & " ≤ EY) then (IRA0) else (IRP0)"} -> IRM33 = if (YR33 ≤ EY) then (IRA0) else (IRP0) | L47: {="IRI" & (ROW(47:47) - ROW($14:$14)) & " = IRM" & (ROW(47:47) - ROW($14:$14)) & " * C" & (ROW(47:47) - ROW($14:$14))} -> IRI33 = IRM33 * C33 | M47: {="IRC" & (ROW(47:47) - ROW($14:$14)) & " = ∑IRIx; x: {0, …, MY" & (ROW(47:47) - ROW($14:$14)) & "}"} -> IRC33 = ∑IRIx; x: {0, …, MY33} | N47: {="ERM" & (ROW(47:47) - ROW($14:$14)) & " = if (YR" & (ROW(47:47) - ROW($14:$14)) & " ≤ EY) then (ERA0) else (ERP0)"} -> ERM33 = if (YR33 ≤ EY) then (ERA0) else (ERP0) | O47: {="ERI" & (ROW(47:47) - ROW($14:$14)) & " = ERM" & (ROW(47:47) - ROW($14:$14)) & " * C" & (ROW(47:47) - ROW($14:$14))} -> ERI33 = ERM33 * C33 | P47: {="ERU" & (ROW(47:47) - ROW($14:$14)) & " = ∑ERIx; x: {0, …, MY" & (ROW(47:47) - ROW($14:$14)) & "}"} -> ERU33 = ∑ERIx; x: {0, …, MY33} | Q47: {="PRM" & (ROW(47:47) - ROW($14:$14)) & " = if (YR" & (ROW(47:47) - ROW($14:$14)) & " ≤ EY) then (PRA0) else (PRP0)"} -> PRM33 = if (YR33 ≤ EY) then (PRA0) else (PRP0) | R47: {="PRI" & (ROW(47:47) - ROW($14:$14)) & " = PRM" & (ROW(47:47) - ROW($14:$14)) & " * C" & (ROW(47:47) - ROW($14:$14))} -> PRI33 = PRM33 * C33 | S47: {="PRU" & (ROW(47:47) - ROW($14:$14)) & " = ∑PRIx; x: {0, …, MY" & (ROW(47:47) - ROW($14:$14)) & "}"} -> PRU33 = ∑PRIx; x: {0, …, MY33} | T47: {="ORM" & (ROW(47:47) - ROW($14:$14)) & " = if (YR" & (ROW(47:47) - ROW($14:$14)) & " ≤ EY) then (ORA0) else (ORP0)"} -> ORM33 = if (YR33 ≤ EY) then (ORA0) else (ORP0) | U47: {="ORI" & (ROW(47:47) - ROW($14:$14)) & " = ORM" & (ROW(47:47) - ROW($14:$14)) & " * C" & (ROW(47:47) - ROW($14:$14))} -> ORI33 = ORM33 * C33 | V47: {="ORC" & (ROW(47:47) - ROW($14:$14)) & " = ∑ORIx; x: {0, …, MY" & (ROW(47:47) - ROW($14:$14)) & "}"} -> ORC33 = ∑ORIx; x: {0, …, MY33} | AA47: 2061 | AB47: 33 | AC47: 1.214 | AD47: =AC47 / AC$14 -> 1.214 | AE47: =IF(AA47 < Y$15, Y$19, Y$20) -> 0.125 | AF47: =AE47 * AD47 -> 0.15175 | AG47: =SUM(AF$14:AF47) -> 6.4165 | AH47: =IF(AA47 < Y$15, Y$29, Y$30) -> 0.02 | AI47: =AH47 * AD47 -> 0.02428 | AJ47: =SUM(AI$14:AI47) -> 0.74566 | AK47: =IF(AA47 < Y$15, Y$34, Y$35) -> 0 | AL47: =AK47 * AD47 -> 0 | AM47: =SUM(AL$14:AL47) -> 0.14049 | AN47: =IF(AA47 < Y$15, Y$24, Y$25) -> 0.02 | AO47: =AN47 * AD47 -> 0.02428 | AP47: =SUM(AO$14:AO47) -> 0.88615 | AU47: 2061 | AV47: 33 | AW47: 1.214 | AX47: =AW47 / AW$14 -> 1.214 | AY47: =IF(AU47 < AS$15, AS$19, AS$20) -> 0.25 | AZ47: =AY47 * AX47 -> 0.3035 | BA47: =SUM(AZ$14:AZ47) -> 11.07075 | BB47: =IF(AU47 < AS$15, AS$29, AS$30) -> 3.78 | BC47: =BB47 * AX47 -> 4.58892 | BD47: =SUM(BC$14:BC47) -> 140.92974 | BE47: =IF(AU47 < AS$15, AS$34, AS$35) -> 0 | BF47: =BE47 * AX47 -> 0 | BG47: =SUM(BF$14:BF47) -> 2.82 | BH47: =IF(AU47 < AS$15, AS$24, AS$25) -> 3.78 | BI47: =BH47 * AX47 -> 4.58892 | BJ47: =SUM(BI$14:BI47) -> 143.74974 | BO47: 2061 | BP47: 33 | BQ47: 1.214 | BR47: =BQ47 / BQ$14 -> 1.214 | BS47: =IF(BO47 < BM$15, BM$19, BM$20) -> 0.5 | BT47: =BS47 * BR47 -> 0.607 | BU47: =SUM(BT$14:BT47) -> 18.6415 | BV47: =IF(BO47 < BM$15, BM$29, BM$30) -> 16.08 | BW47: =BV47 * BR47 -> 19.52112 | BX47: =SUM(BW$14:BW47) -> 599.51064 | BY47: =IF(BO47 < BM$15, BM$34, BM$35) -> 0 | BZ47: =BY47 * BR47 -> 0 | CA47: =SUM(BZ$14:BZ47) -> 0 | CB47: =IF(BO47 < BM$15, BM$24, BM$25) -> 16.08 | CC47: =CB47 * BR47 -> 19.52112 | CD47: =SUM(CC$14:CC47) -> 599.51064
G48: {="YR" & (ROW(48:48) - ROW($14:$14)) & " = " & (2028 + (ROW(48:48) - ROW($14:$14)))} -> YR34 = 2062 | H48: {="MY" & (ROW(48:48) - ROW($14:$14)) & " = " & (ROW(48:48) - ROW($14:$14))} -> MY34 = 34 | I48: {="CD" & (ROW(48:48) - ROW($14:$14))} -> CD34 | J48: {="CN" & (ROW(48:48) - ROW($14:$14)) & " = CD" & (ROW(48:48) - ROW($14:$14)) & " / CD0" & IF(ROW(48:48) - ROW($14:$14) = 0, " = 1", "")} -> CN34 = CD34 / CD0 | K48: {="IRM" & (ROW(48:48) - ROW($14:$14)) & " = if (YR" & (ROW(48:48) - ROW($14:$14)) & " ≤ EY) then (IRA0) else (IRP0)"} -> IRM34 = if (YR34 ≤ EY) then (IRA0) else (IRP0) | L48: {="IRI" & (ROW(48:48) - ROW($14:$14)) & " = IRM" & (ROW(48:48) - ROW($14:$14)) & " * C" & (ROW(48:48) - ROW($14:$14))} -> IRI34 = IRM34 * C34 | M48: {="IRC" & (ROW(48:48) - ROW($14:$14)) & " = ∑IRIx; x: {0, …, MY" & (ROW(48:48) - ROW($14:$14)) & "}"} -> IRC34 = ∑IRIx; x: {0, …, MY34} | N48: {="ERM" & (ROW(48:48) - ROW($14:$14)) & " = if (YR" & (ROW(48:48) - ROW($14:$14)) & " ≤ EY) then (ERA0) else (ERP0)"} -> ERM34 = if (YR34 ≤ EY) then (ERA0) else (ERP0) | O48: {="ERI" & (ROW(48:48) - ROW($14:$14)) & " = ERM" & (ROW(48:48) - ROW($14:$14)) & " * C" & (ROW(48:48) - ROW($14:$14))} -> ERI34 = ERM34 * C34 | P48: {="ERU" & (ROW(48:48) - ROW($14:$14)) & " = ∑ERIx; x: {0, …, MY" & (ROW(48:48) - ROW($14:$14)) & "}"} -> ERU34 = ∑ERIx; x: {0, …, MY34} | Q48: {="PRM" & (ROW(48:48) - ROW($14:$14)) & " = if (YR" & (ROW(48:48) - ROW($14:$14)) & " ≤ EY) then (PRA0) else (PRP0)"} -> PRM34 = if (YR34 ≤ EY) then (PRA0) else (PRP0) | R48: {="PRI" & (ROW(48:48) - ROW($14:$14)) & " = PRM" & (ROW(48:48) - ROW($14:$14)) & " * C" & (ROW(48:48) - ROW($14:$14))} -> PRI34 = PRM34 * C34 | S48: {="PRU" & (ROW(48:48) - ROW($14:$14)) & " = ∑PRIx; x: {0, …, MY" & (ROW(48:48) - ROW($14:$14)) & "}"} -> PRU34 = ∑PRIx; x: {0, …, MY34} | T48: {="ORM" & (ROW(48:48) - ROW($14:$14)) & " = if (YR" & (ROW(48:48) - ROW($14:$14)) & " ≤ EY) then (ORA0) else (ORP0)"} -> ORM34 = if (YR34 ≤ EY) then (ORA0) else (ORP0) | U48: {="ORI" & (ROW(48:48) - ROW($14:$14)) & " = ORM" & (ROW(48:48) - ROW($14:$14)) & " * C" & (ROW(48:48) - ROW($14:$14))} -> ORI34 = ORM34 * C34 | V48: {="ORC" & (ROW(48:48) - ROW($14:$14)) & " = ∑ORIx; x: {0, …, MY" & (ROW(48:48) - ROW($14:$14)) & "}"} -> ORC34 = ∑ORIx; x: {0, …, MY34} | AA48: 2062 | AB48: 34 | AC48: 1.224 | AD48: =AC48 / AC$14 -> 1.224 | AE48: =IF(AA48 < Y$15, Y$19, Y$20) -> 0.125 | AF48: =AE48 * AD48 -> 0.153 | AG48: =SUM(AF$14:AF48) -> 6.5695 | AH48: =IF(AA48 < Y$15, Y$29, Y$30) -> 0.02 | AI48: =AH48 * AD48 -> 0.02448 | AJ48: =SUM(AI$14:AI48) -> 0.77014 | AK48: =IF(AA48 < Y$15, Y$34, Y$35) -> 0 | AL48: =AK48 * AD48 -> 0 | AM48: =SUM(AL$14:AL48) -> 0.14049 | AN48: =IF(AA48 < Y$15, Y$24, Y$25) -> 0.02 | AO48: =AN48 * AD48 -> 0.02448 | AP48: =SUM(AO$14:AO48) -> 0.91063 | AU48: 2062 | AV48: 34 | AW48: 1.224 | AX48: =AW48 / AW$14 -> 1.224 | AY48: =IF(AU48 < AS$15, AS$19, AS$20) -> 0.25 | AZ48: =AY48 * AX48 -> 0.306 | BA48: =SUM(AZ$14:AZ48) -> 11.37675 | BB48: =IF(AU48 < AS$15, AS$29, AS$30) -> 3.78 | BC48: =BB48 * AX48 -> 4.62672 | BD48: =SUM(BC$14:BC48) -> 145.55646 | BE48: =IF(AU48 < AS$15, AS$34, AS$35) -> 0 | BF48: =BE48 * AX48 -> 0 | BG48: =SUM(BF$14:BF48) -> 2.82 | BH48: =IF(AU48 < AS$15, AS$24, AS$25) -> 3.78 | BI48: =BH48 * AX48 -> 4.62672 | BJ48: =SUM(BI$14:BI48) -> 148.37646 | BO48: 2062 | BP48: 34 | BQ48: 1.224 | BR48: =BQ48 / BQ$14 -> 1.224 | BS48: =IF(BO48 < BM$15, BM$19, BM$20) -> 0.5 | BT48: =BS48 * BR48 -> 0.612 | BU48: =SUM(BT$14:BT48) -> 19.2535 | BV48: =IF(BO48 < BM$15, BM$29, BM$30) -> 16.08 | BW48: =BV48 * BR48 -> 19.68192 | BX48: =SUM(BW$14:BW48) -> 619.19256 | BY48: =IF(BO48 < BM$15, BM$34, BM$35) -> 0 | BZ48: =BY48 * BR48 -> 0 | CA48: =SUM(BZ$14:BZ48) -> 0 | CB48: =IF(BO48 < BM$15, BM$24, BM$25) -> 16.08 | CC48: =CB48 * BR48 -> 19.68192 | CD48: =SUM(CC$14:CC48) -> 619.19256
G49: {="YR" & (ROW(49:49) - ROW($14:$14)) & " = " & (2028 + (ROW(49:49) - ROW($14:$14)))} -> YR35 = 2063 | H49: {="MY" & (ROW(49:49) - ROW($14:$14)) & " = " & (ROW(49:49) - ROW($14:$14))} -> MY35 = 35 | I49: {="CD" & (ROW(49:49) - ROW($14:$14))} -> CD35 | J49: {="CN" & (ROW(49:49) - ROW($14:$14)) & " = CD" & (ROW(49:49) - ROW($14:$14)) & " / CD0" & IF(ROW(49:49) - ROW($14:$14) = 0, " = 1", "")} -> CN35 = CD35 / CD0 | K49: {="IRM" & (ROW(49:49) - ROW($14:$14)) & " = if (YR" & (ROW(49:49) - ROW($14:$14)) & " ≤ EY) then (IRA0) else (IRP0)"} -> IRM35 = if (YR35 ≤ EY) then (IRA0) else (IRP0) | L49: {="IRI" & (ROW(49:49) - ROW($14:$14)) & " = IRM" & (ROW(49:49) - ROW($14:$14)) & " * C" & (ROW(49:49) - ROW($14:$14))} -> IRI35 = IRM35 * C35 | M49: {="IRC" & (ROW(49:49) - ROW($14:$14)) & " = ∑IRIx; x: {0, …, MY" & (ROW(49:49) - ROW($14:$14)) & "}"} -> IRC35 = ∑IRIx; x: {0, …, MY35} | N49: {="ERM" & (ROW(49:49) - ROW($14:$14)) & " = if (YR" & (ROW(49:49) - ROW($14:$14)) & " ≤ EY) then (ERA0) else (ERP0)"} -> ERM35 = if (YR35 ≤ EY) then (ERA0) else (ERP0) | O49: {="ERI" & (ROW(49:49) - ROW($14:$14)) & " = ERM" & (ROW(49:49) - ROW($14:$14)) & " * C" & (ROW(49:49) - ROW($14:$14))} -> ERI35 = ERM35 * C35 | P49: {="ERU" & (ROW(49:49) - ROW($14:$14)) & " = ∑ERIx; x: {0, …, MY" & (ROW(49:49) - ROW($14:$14)) & "}"} -> ERU35 = ∑ERIx; x: {0, …, MY35} | Q49: {="PRM" & (ROW(49:49) - ROW($14:$14)) & " = if (YR" & (ROW(49:49) - ROW($14:$14)) & " ≤ EY) then (PRA0) else (PRP0)"} -> PRM35 = if (YR35 ≤ EY) then (PRA0) else (PRP0) | R49: {="PRI" & (ROW(49:49) - ROW($14:$14)) & " = PRM" & (ROW(49:49) - ROW($14:$14)) & " * C" & (ROW(49:49) - ROW($14:$14))} -> PRI35 = PRM35 * C35 | S49: {="PRU" & (ROW(49:49) - ROW($14:$14)) & " = ∑PRIx; x: {0, …, MY" & (ROW(49:49) - ROW($14:$14)) & "}"} -> PRU35 = ∑PRIx; x: {0, …, MY35} | T49: {="ORM" & (ROW(49:49) - ROW($14:$14)) & " = if (YR" & (ROW(49:49) - ROW($14:$14)) & " ≤ EY) then (ORA0) else (ORP0)"} -> ORM35 = if (YR35 ≤ EY) then (ORA0) else (ORP0) | U49: {="ORI" & (ROW(49:49) - ROW($14:$14)) & " = ORM" & (ROW(49:49) - ROW($14:$14)) & " * C" & (ROW(49:49) - ROW($14:$14))} -> ORI35 = ORM35 * C35 | V49: {="ORC" & (ROW(49:49) - ROW($14:$14)) & " = ∑ORIx; x: {0, …, MY" & (ROW(49:49) - ROW($14:$14)) & "}"} -> ORC35 = ∑ORIx; x: {0, …, MY35} | AA49: 2063 | AB49: 35 | AC49: 1.234 | AD49: =AC49 / AC$14 -> 1.234 | AE49: =IF(AA49 < Y$15, Y$19, Y$20) -> 0.125 | AF49: =AE49 * AD49 -> 0.15425 | AG49: =SUM(AF$14:AF49) -> 6.72375 | AH49: =IF(AA49 < Y$15, Y$29, Y$30) -> 0.02 | AI49: =AH49 * AD49 -> 0.02468 | AJ49: =SUM(AI$14:AI49) -> 0.79482 | AK49: =IF(AA49 < Y$15, Y$34, Y$35) -> 0 | AL49: =AK49 * AD49 -> 0 | AM49: =SUM(AL$14:AL49) -> 0.14049 | AN49: =IF(AA49 < Y$15, Y$24, Y$25) -> 0.02 | AO49: =AN49 * AD49 -> 0.02468 | AP49: =SUM(AO$14:AO49) -> 0.93531 | AU49: 2063 | AV49: 35 | AW49: 1.234 | AX49: =AW49 / AW$14 -> 1.234 | AY49: =IF(AU49 < AS$15, AS$19, AS$20) -> 0.25 | AZ49: =AY49 * AX49 -> 0.3085 | BA49: =SUM(AZ$14:AZ49) -> 11.68525 | BB49: =IF(AU49 < AS$15, AS$29, AS$30) -> 3.78 | BC49: =BB49 * AX49 -> 4.66452 | BD49: =SUM(BC$14:BC49) -> 150.22098 | BE49: =IF(AU49 < AS$15, AS$34, AS$35) -> 0 | BF49: =BE49 * AX49 -> 0 | BG49: =SUM(BF$14:BF49) -> 2.82 | BH49: =IF(AU49 < AS$15, AS$24, AS$25) -> 3.78 | BI49: =BH49 * AX49 -> 4.66452 | BJ49: =SUM(BI$14:BI49) -> 153.04098 | BO49: 2063 | BP49: 35 | BQ49: 1.234 | BR49: =BQ49 / BQ$14 -> 1.234 | BS49: =IF(BO49 < BM$15, BM$19, BM$20) -> 0.5 | BT49: =BS49 * BR49 -> 0.617 | BU49: =SUM(BT$14:BT49) -> 19.8705 | BV49: =IF(BO49 < BM$15, BM$29, BM$30) -> 16.08 | BW49: =BV49 * BR49 -> 19.84272 | BX49: =SUM(BW$14:BW49) -> 639.03528 | BY49: =IF(BO49 < BM$15, BM$34, BM$35) -> 0 | BZ49: =BY49 * BR49 -> 0 | CA49: =SUM(BZ$14:BZ49) -> 0 | CB49: =IF(BO49 < BM$15, BM$24, BM$25) -> 16.08 | CC49: =CB49 * BR49 -> 19.84272 | CD49: =SUM(CC$14:CC49) -> 639.03528
G50: {="YR" & (ROW(50:50) - ROW($14:$14)) & " = " & (2028 + (ROW(50:50) - ROW($14:$14)))} -> YR36 = 2064 | H50: {="MY" & (ROW(50:50) - ROW($14:$14)) & " = " & (ROW(50:50) - ROW($14:$14))} -> MY36 = 36 | I50: {="CD" & (ROW(50:50) - ROW($14:$14))} -> CD36 | J50: {="CN" & (ROW(50:50) - ROW($14:$14)) & " = CD" & (ROW(50:50) - ROW($14:$14)) & " / CD0" & IF(ROW(50:50) - ROW($14:$14) = 0, " = 1", "")} -> CN36 = CD36 / CD0 | K50: {="IRM" & (ROW(50:50) - ROW($14:$14)) & " = if (YR" & (ROW(50:50) - ROW($14:$14)) & " ≤ EY) then (IRA0) else (IRP0)"} -> IRM36 = if (YR36 ≤ EY) then (IRA0) else (IRP0) | L50: {="IRI" & (ROW(50:50) - ROW($14:$14)) & " = IRM" & (ROW(50:50) - ROW($14:$14)) & " * C" & (ROW(50:50) - ROW($14:$14))} -> IRI36 = IRM36 * C36 | M50: {="IRC" & (ROW(50:50) - ROW($14:$14)) & " = ∑IRIx; x: {0, …, MY" & (ROW(50:50) - ROW($14:$14)) & "}"} -> IRC36 = ∑IRIx; x: {0, …, MY36} | N50: {="ERM" & (ROW(50:50) - ROW($14:$14)) & " = if (YR" & (ROW(50:50) - ROW($14:$14)) & " ≤ EY) then (ERA0) else (ERP0)"} -> ERM36 = if (YR36 ≤ EY) then (ERA0) else (ERP0) | O50: {="ERI" & (ROW(50:50) - ROW($14:$14)) & " = ERM" & (ROW(50:50) - ROW($14:$14)) & " * C" & (ROW(50:50) - ROW($14:$14))} -> ERI36 = ERM36 * C36 | P50: {="ERU" & (ROW(50:50) - ROW($14:$14)) & " = ∑ERIx; x: {0, …, MY" & (ROW(50:50) - ROW($14:$14)) & "}"} -> ERU36 = ∑ERIx; x: {0, …, MY36} | Q50: {="PRM" & (ROW(50:50) - ROW($14:$14)) & " = if (YR" & (ROW(50:50) - ROW($14:$14)) & " ≤ EY) then (PRA0) else (PRP0)"} -> PRM36 = if (YR36 ≤ EY) then (PRA0) else (PRP0) | R50: {="PRI" & (ROW(50:50) - ROW($14:$14)) & " = PRM" & (ROW(50:50) - ROW($14:$14)) & " * C" & (ROW(50:50) - ROW($14:$14))} -> PRI36 = PRM36 * C36 | S50: {="PRU" & (ROW(50:50) - ROW($14:$14)) & " = ∑PRIx; x: {0, …, MY" & (ROW(50:50) - ROW($14:$14)) & "}"} -> PRU36 = ∑PRIx; x: {0, …, MY36} | T50: {="ORM" & (ROW(50:50) - ROW($14:$14)) & " = if (YR" & (ROW(50:50) - ROW($14:$14)) & " ≤ EY) then (ORA0) else (ORP0)"} -> ORM36 = if (YR36 ≤ EY) then (ORA0) else (ORP0) | U50: {="ORI" & (ROW(50:50) - ROW($14:$14)) & " = ORM" & (ROW(50:50) - ROW($14:$14)) & " * C" & (ROW(50:50) - ROW($14:$14))} -> ORI36 = ORM36 * C36 | V50: {="ORC" & (ROW(50:50) - ROW($14:$14)) & " = ∑ORIx; x: {0, …, MY" & (ROW(50:50) - ROW($14:$14)) & "}"} -> ORC36 = ∑ORIx; x: {0, …, MY36} | AA50: 2064 | AB50: 36 | AC50: 1.244 | AD50: =AC50 / AC$14 -> 1.244 | AE50: =IF(AA50 < Y$15, Y$19, Y$20) -> 0.125 | AF50: =AE50 * AD50 -> 0.1555 | AG50: =SUM(AF$14:AF50) -> 6.87925 | AH50: =IF(AA50 < Y$15, Y$29, Y$30) -> 0.02 | AI50: =AH50 * AD50 -> 0.02488 | AJ50: =SUM(AI$14:AI50) -> 0.8197 | AK50: =IF(AA50 < Y$15, Y$34, Y$35) -> 0 | AL50: =AK50 * AD50 -> 0 | AM50: =SUM(AL$14:AL50) -> 0.14049 | AN50: =IF(AA50 < Y$15, Y$24, Y$25) -> 0.02 | AO50: =AN50 * AD50 -> 0.02488 | AP50: =SUM(AO$14:AO50) -> 0.96019 | AU50: 2064 | AV50: 36 | AW50: 1.244 | AX50: =AW50 / AW$14 -> 1.244 | AY50: =IF(AU50 < AS$15, AS$19, AS$20) -> 0.25 | AZ50: =AY50 * AX50 -> 0.311 | BA50: =SUM(AZ$14:AZ50) -> 11.99625 | BB50: =IF(AU50 < AS$15, AS$29, AS$30) -> 3.78 | BC50: =BB50 * AX50 -> 4.70232 | BD50: =SUM(BC$14:BC50) -> 154.9233 | BE50: =IF(AU50 < AS$15, AS$34, AS$35) -> 0 | BF50: =BE50 * AX50 -> 0 | BG50: =SUM(BF$14:BF50) -> 2.82 | BH50: =IF(AU50 < AS$15, AS$24, AS$25) -> 3.78 | BI50: =BH50 * AX50 -> 4.70232 | BJ50: =SUM(BI$14:BI50) -> 157.7433 | BO50: 2064 | BP50: 36 | BQ50: 1.244 | BR50: =BQ50 / BQ$14 -> 1.244 | BS50: =IF(BO50 < BM$15, BM$19, BM$20) -> 0.5 | BT50: =BS50 * BR50 -> 0.622 | BU50: =SUM(BT$14:BT50) -> 20.4925 | BV50: =IF(BO50 < BM$15, BM$29, BM$30) -> 16.08 | BW50: =BV50 * BR50 -> 20.00352 | BX50: =SUM(BW$14:BW50) -> 659.0388 | BY50: =IF(BO50 < BM$15, BM$34, BM$35) -> 0 | BZ50: =BY50 * BR50 -> 0 | CA50: =SUM(BZ$14:BZ50) -> 0 | CB50: =IF(BO50 < BM$15, BM$24, BM$25) -> 16.08 | CC50: =CB50 * BR50 -> 20.00352 | CD50: =SUM(CC$14:CC50) -> 659.0388
G51: {="YR" & (ROW(51:51) - ROW($14:$14)) & " = " & (2028 + (ROW(51:51) - ROW($14:$14)))} -> YR37 = 2065 | H51: {="MY" & (ROW(51:51) - ROW($14:$14)) & " = " & (ROW(51:51) - ROW($14:$14))} -> MY37 = 37 | I51: {="CD" & (ROW(51:51) - ROW($14:$14))} -> CD37 | J51: {="CN" & (ROW(51:51) - ROW($14:$14)) & " = CD" & (ROW(51:51) - ROW($14:$14)) & " / CD0" & IF(ROW(51:51) - ROW($14:$14) = 0, " = 1", "")} -> CN37 = CD37 / CD0 | K51: {="IRM" & (ROW(51:51) - ROW($14:$14)) & " = if (YR" & (ROW(51:51) - ROW($14:$14)) & " ≤ EY) then (IRA0) else (IRP0)"} -> IRM37 = if (YR37 ≤ EY) then (IRA0) else (IRP0) | L51: {="IRI" & (ROW(51:51) - ROW($14:$14)) & " = IRM" & (ROW(51:51) - ROW($14:$14)) & " * C" & (ROW(51:51) - ROW($14:$14))} -> IRI37 = IRM37 * C37 | M51: {="IRC" & (ROW(51:51) - ROW($14:$14)) & " = ∑IRIx; x: {0, …, MY" & (ROW(51:51) - ROW($14:$14)) & "}"} -> IRC37 = ∑IRIx; x: {0, …, MY37} | N51: {="ERM" & (ROW(51:51) - ROW($14:$14)) & " = if (YR" & (ROW(51:51) - ROW($14:$14)) & " ≤ EY) then (ERA0) else (ERP0)"} -> ERM37 = if (YR37 ≤ EY) then (ERA0) else (ERP0) | O51: {="ERI" & (ROW(51:51) - ROW($14:$14)) & " = ERM" & (ROW(51:51) - ROW($14:$14)) & " * C" & (ROW(51:51) - ROW($14:$14))} -> ERI37 = ERM37 * C37 | P51: {="ERU" & (ROW(51:51) - ROW($14:$14)) & " = ∑ERIx; x: {0, …, MY" & (ROW(51:51) - ROW($14:$14)) & "}"} -> ERU37 = ∑ERIx; x: {0, …, MY37} | Q51: {="PRM" & (ROW(51:51) - ROW($14:$14)) & " = if (YR" & (ROW(51:51) - ROW($14:$14)) & " ≤ EY) then (PRA0) else (PRP0)"} -> PRM37 = if (YR37 ≤ EY) then (PRA0) else (PRP0) | R51: {="PRI" & (ROW(51:51) - ROW($14:$14)) & " = PRM" & (ROW(51:51) - ROW($14:$14)) & " * C" & (ROW(51:51) - ROW($14:$14))} -> PRI37 = PRM37 * C37 | S51: {="PRU" & (ROW(51:51) - ROW($14:$14)) & " = ∑PRIx; x: {0, …, MY" & (ROW(51:51) - ROW($14:$14)) & "}"} -> PRU37 = ∑PRIx; x: {0, …, MY37} | T51: {="ORM" & (ROW(51:51) - ROW($14:$14)) & " = if (YR" & (ROW(51:51) - ROW($14:$14)) & " ≤ EY) then (ORA0) else (ORP0)"} -> ORM37 = if (YR37 ≤ EY) then (ORA0) else (ORP0) | U51: {="ORI" & (ROW(51:51) - ROW($14:$14)) & " = ORM" & (ROW(51:51) - ROW($14:$14)) & " * C" & (ROW(51:51) - ROW($14:$14))} -> ORI37 = ORM37 * C37 | V51: {="ORC" & (ROW(51:51) - ROW($14:$14)) & " = ∑ORIx; x: {0, …, MY" & (ROW(51:51) - ROW($14:$14)) & "}"} -> ORC37 = ∑ORIx; x: {0, …, MY37} | AA51: 2065 | AB51: 37 | AC51: 1.254 | AD51: =AC51 / AC$14 -> 1.254 | AE51: =IF(AA51 < Y$15, Y$19, Y$20) -> 0.125 | AF51: =AE51 * AD51 -> 0.15675 | AG51: =SUM(AF$14:AF51) -> 7.036 | AH51: =IF(AA51 < Y$15, Y$29, Y$30) -> 0.02 | AI51: =AH51 * AD51 -> 0.02508 | AJ51: =SUM(AI$14:AI51) -> 0.84478 | AK51: =IF(AA51 < Y$15, Y$34, Y$35) -> 0 | AL51: =AK51 * AD51 -> 0 | AM51: =SUM(AL$14:AL51) -> 0.14049 | AN51: =IF(AA51 < Y$15, Y$24, Y$25) -> 0.02 | AO51: =AN51 * AD51 -> 0.02508 | AP51: =SUM(AO$14:AO51) -> 0.98527 | AU51: 2065 | AV51: 37 | AW51: 1.254 | AX51: =AW51 / AW$14 -> 1.254 | AY51: =IF(AU51 < AS$15, AS$19, AS$20) -> 0.25 | AZ51: =AY51 * AX51 -> 0.3135 | BA51: =SUM(AZ$14:AZ51) -> 12.30975 | BB51: =IF(AU51 < AS$15, AS$29, AS$30) -> 3.78 | BC51: =BB51 * AX51 -> 4.74012 | BD51: =SUM(BC$14:BC51) -> 159.66342 | BE51: =IF(AU51 < AS$15, AS$34, AS$35) -> 0 | BF51: =BE51 * AX51 -> 0 | BG51: =SUM(BF$14:BF51) -> 2.82 | BH51: =IF(AU51 < AS$15, AS$24, AS$25) -> 3.78 | BI51: =BH51 * AX51 -> 4.74012 | BJ51: =SUM(BI$14:BI51) -> 162.48342 | BO51: 2065 | BP51: 37 | BQ51: 1.254 | BR51: =BQ51 / BQ$14 -> 1.254 | BS51: =IF(BO51 < BM$15, BM$19, BM$20) -> 0.5 | BT51: =BS51 * BR51 -> 0.627 | BU51: =SUM(BT$14:BT51) -> 21.1195 | BV51: =IF(BO51 < BM$15, BM$29, BM$30) -> 16.08 | BW51: =BV51 * BR51 -> 20.16432 | BX51: =SUM(BW$14:BW51) -> 679.20312 | BY51: =IF(BO51 < BM$15, BM$34, BM$35) -> 0 | BZ51: =BY51 * BR51 -> 0 | CA51: =SUM(BZ$14:BZ51) -> 0 | CB51: =IF(BO51 < BM$15, BM$24, BM$25) -> 16.08 | CC51: =CB51 * BR51 -> 20.16432 | CD51: =SUM(CC$14:CC51) -> 679.20312
G52: {="YR" & (ROW(52:52) - ROW($14:$14)) & " = " & (2028 + (ROW(52:52) - ROW($14:$14)))} -> YR38 = 2066 | H52: {="MY" & (ROW(52:52) - ROW($14:$14)) & " = " & (ROW(52:52) - ROW($14:$14))} -> MY38 = 38 | I52: {="CD" & (ROW(52:52) - ROW($14:$14))} -> CD38 | J52: {="CN" & (ROW(52:52) - ROW($14:$14)) & " = CD" & (ROW(52:52) - ROW($14:$14)) & " / CD0" & IF(ROW(52:52) - ROW($14:$14) = 0, " = 1", "")} -> CN38 = CD38 / CD0 | K52: {="IRM" & (ROW(52:52) - ROW($14:$14)) & " = if (YR" & (ROW(52:52) - ROW($14:$14)) & " ≤ EY) then (IRA0) else (IRP0)"} -> IRM38 = if (YR38 ≤ EY) then (IRA0) else (IRP0) | L52: {="IRI" & (ROW(52:52) - ROW($14:$14)) & " = IRM" & (ROW(52:52) - ROW($14:$14)) & " * C" & (ROW(52:52) - ROW($14:$14))} -> IRI38 = IRM38 * C38 | M52: {="IRC" & (ROW(52:52) - ROW($14:$14)) & " = ∑IRIx; x: {0, …, MY" & (ROW(52:52) - ROW($14:$14)) & "}"} -> IRC38 = ∑IRIx; x: {0, …, MY38} | N52: {="ERM" & (ROW(52:52) - ROW($14:$14)) & " = if (YR" & (ROW(52:52) - ROW($14:$14)) & " ≤ EY) then (ERA0) else (ERP0)"} -> ERM38 = if (YR38 ≤ EY) then (ERA0) else (ERP0) | O52: {="ERI" & (ROW(52:52) - ROW($14:$14)) & " = ERM" & (ROW(52:52) - ROW($14:$14)) & " * C" & (ROW(52:52) - ROW($14:$14))} -> ERI38 = ERM38 * C38 | P52: {="ERU" & (ROW(52:52) - ROW($14:$14)) & " = ∑ERIx; x: {0, …, MY" & (ROW(52:52) - ROW($14:$14)) & "}"} -> ERU38 = ∑ERIx; x: {0, …, MY38} | Q52: {="PRM" & (ROW(52:52) - ROW($14:$14)) & " = if (YR" & (ROW(52:52) - ROW($14:$14)) & " ≤ EY) then (PRA0) else (PRP0)"} -> PRM38 = if (YR38 ≤ EY) then (PRA0) else (PRP0) | R52: {="PRI" & (ROW(52:52) - ROW($14:$14)) & " = PRM" & (ROW(52:52) - ROW($14:$14)) & " * C" & (ROW(52:52) - ROW($14:$14))} -> PRI38 = PRM38 * C38 | S52: {="PRU" & (ROW(52:52) - ROW($14:$14)) & " = ∑PRIx; x: {0, …, MY" & (ROW(52:52) - ROW($14:$14)) & "}"} -> PRU38 = ∑PRIx; x: {0, …, MY38} | T52: {="ORM" & (ROW(52:52) - ROW($14:$14)) & " = if (YR" & (ROW(52:52) - ROW($14:$14)) & " ≤ EY) then (ORA0) else (ORP0)"} -> ORM38 = if (YR38 ≤ EY) then (ORA0) else (ORP0) | U52: {="ORI" & (ROW(52:52) - ROW($14:$14)) & " = ORM" & (ROW(52:52) - ROW($14:$14)) & " * C" & (ROW(52:52) - ROW($14:$14))} -> ORI38 = ORM38 * C38 | V52: {="ORC" & (ROW(52:52) - ROW($14:$14)) & " = ∑ORIx; x: {0, …, MY" & (ROW(52:52) - ROW($14:$14)) & "}"} -> ORC38 = ∑ORIx; x: {0, …, MY38} | AA52: 2066 | AB52: 38 | AC52: 1.264 | AD52: =AC52 / AC$14 -> 1.264 | AE52: =IF(AA52 < Y$15, Y$19, Y$20) -> 0.125 | AF52: =AE52 * AD52 -> 0.158 | AG52: =SUM(AF$14:AF52) -> 7.194 | AH52: =IF(AA52 < Y$15, Y$29, Y$30) -> 0.02 | AI52: =AH52 * AD52 -> 0.02528 | AJ52: =SUM(AI$14:AI52) -> 0.87006 | AK52: =IF(AA52 < Y$15, Y$34, Y$35) -> 0 | AL52: =AK52 * AD52 -> 0 | AM52: =SUM(AL$14:AL52) -> 0.14049 | AN52: =IF(AA52 < Y$15, Y$24, Y$25) -> 0.02 | AO52: =AN52 * AD52 -> 0.02528 | AP52: =SUM(AO$14:AO52) -> 1.01055 | AU52: 2066 | AV52: 38 | AW52: 1.264 | AX52: =AW52 / AW$14 -> 1.264 | AY52: =IF(AU52 < AS$15, AS$19, AS$20) -> 0.25 | AZ52: =AY52 * AX52 -> 0.316 | BA52: =SUM(AZ$14:AZ52) -> 12.62575 | BB52: =IF(AU52 < AS$15, AS$29, AS$30) -> 3.78 | BC52: =BB52 * AX52 -> 4.77792 | BD52: =SUM(BC$14:BC52) -> 164.44134 | BE52: =IF(AU52 < AS$15, AS$34, AS$35) -> 0 | BF52: =BE52 * AX52 -> 0 | BG52: =SUM(BF$14:BF52) -> 2.82 | BH52: =IF(AU52 < AS$15, AS$24, AS$25) -> 3.78 | BI52: =BH52 * AX52 -> 4.77792 | BJ52: =SUM(BI$14:BI52) -> 167.26134 | BO52: 2066 | BP52: 38 | BQ52: 1.264 | BR52: =BQ52 / BQ$14 -> 1.264 | BS52: =IF(BO52 < BM$15, BM$19, BM$20) -> 0.5 | BT52: =BS52 * BR52 -> 0.632 | BU52: =SUM(BT$14:BT52) -> 21.7515 | BV52: =IF(BO52 < BM$15, BM$29, BM$30) -> 16.08 | BW52: =BV52 * BR52 -> 20.32512 | BX52: =SUM(BW$14:BW52) -> 699.52824 | BY52: =IF(BO52 < BM$15, BM$34, BM$35) -> 0 | BZ52: =BY52 * BR52 -> 0 | CA52: =SUM(BZ$14:BZ52) -> 0 | CB52: =IF(BO52 < BM$15, BM$24, BM$25) -> 16.08 | CC52: =CB52 * BR52 -> 20.32512 | CD52: =SUM(CC$14:CC52) -> 699.52824
B53: The evaluation begins by collecting Year 2028 / Model Year 0 valuations of the Pre-Mitigation and Residual (i.e., Post-Mitigation) Ignition Risk and Outage Program Risk of the Circuit Segment corresponding to its mitigation activities, if any have been performed since Year 2028. Depending on the Actual Energization Year, EY, of the Circuit Segment following implementation of mitigation activities, the Instantaneous risk for each Model Year is evaluated by multiplying either the Year 2028 / Model Year 0 Pre-Mitigation or Residual Risk by the Climate Factor for each Model Year. Specifically, the Pre-Mitigation risk values are used in the years up to and including EY, and Residual risk values are used in years beyond EY. The Cumulative risk is then evaluated for each Model Year by summing the Instantaneous risk values from Model Year 0 through the current Model Year. | G53: {="YR" & (ROW(53:53) - ROW($14:$14)) & " = " & (2028 + (ROW(53:53) - ROW($14:$14)))} -> YR39 = 2067 | H53: {="MY" & (ROW(53:53) - ROW($14:$14)) & " = " & (ROW(53:53) - ROW($14:$14))} -> MY39 = 39 | I53: {="CD" & (ROW(53:53) - ROW($14:$14))} -> CD39 | J53: {="CN" & (ROW(53:53) - ROW($14:$14)) & " = CD" & (ROW(53:53) - ROW($14:$14)) & " / CD0" & IF(ROW(53:53) - ROW($14:$14) = 0, " = 1", "")} -> CN39 = CD39 / CD0 | K53: {="IRM" & (ROW(53:53) - ROW($14:$14)) & " = if (YR" & (ROW(53:53) - ROW($14:$14)) & " ≤ EY) then (IRA0) else (IRP0)"} -> IRM39 = if (YR39 ≤ EY) then (IRA0) else (IRP0) | L53: {="IRI" & (ROW(53:53) - ROW($14:$14)) & " = IRM" & (ROW(53:53) - ROW($14:$14)) & " * C" & (ROW(53:53) - ROW($14:$14))} -> IRI39 = IRM39 * C39 | M53: {="IRC" & (ROW(53:53) - ROW($14:$14)) & " = ∑IRIx; x: {0, …, MY" & (ROW(53:53) - ROW($14:$14)) & "}"} -> IRC39 = ∑IRIx; x: {0, …, MY39} | N53: {="ERM" & (ROW(53:53) - ROW($14:$14)) & " = if (YR" & (ROW(53:53) - ROW($14:$14)) & " ≤ EY) then (ERA0) else (ERP0)"} -> ERM39 = if (YR39 ≤ EY) then (ERA0) else (ERP0) | O53: {="ERI" & (ROW(53:53) - ROW($14:$14)) & " = ERM" & (ROW(53:53) - ROW($14:$14)) & " * C" & (ROW(53:53) - ROW($14:$14))} -> ERI39 = ERM39 * C39 | P53: {="ERU" & (ROW(53:53) - ROW($14:$14)) & " = ∑ERIx; x: {0, …, MY" & (ROW(53:53) - ROW($14:$14)) & "}"} -> ERU39 = ∑ERIx; x: {0, …, MY39} | Q53: {="PRM" & (ROW(53:53) - ROW($14:$14)) & " = if (YR" & (ROW(53:53) - ROW($14:$14)) & " ≤ EY) then (PRA0) else (PRP0)"} -> PRM39 = if (YR39 ≤ EY) then (PRA0) else (PRP0) | R53: {="PRI" & (ROW(53:53) - ROW($14:$14)) & " = PRM" & (ROW(53:53) - ROW($14:$14)) & " * C" & (ROW(53:53) - ROW($14:$14))} -> PRI39 = PRM39 * C39 | S53: {="PRU" & (ROW(53:53) - ROW($14:$14)) & " = ∑PRIx; x: {0, …, MY" & (ROW(53:53) - ROW($14:$14)) & "}"} -> PRU39 = ∑PRIx; x: {0, …, MY39} | T53: {="ORM" & (ROW(53:53) - ROW($14:$14)) & " = if (YR" & (ROW(53:53) - ROW($14:$14)) & " ≤ EY) then (ORA0) else (ORP0)"} -> ORM39 = if (YR39 ≤ EY) then (ORA0) else (ORP0) | U53: {="ORI" & (ROW(53:53) - ROW($14:$14)) & " = ORM" & (ROW(53:53) - ROW($14:$14)) & " * C" & (ROW(53:53) - ROW($14:$14))} -> ORI39 = ORM39 * C39 | V53: {="ORC" & (ROW(53:53) - ROW($14:$14)) & " = ∑ORIx; x: {0, …, MY" & (ROW(53:53) - ROW($14:$14)) & "}"} -> ORC39 = ∑ORIx; x: {0, …, MY39} | AA53: 2067 | AB53: 39 | AC53: 1.274 | AD53: =AC53 / AC$14 -> 1.274 | AE53: =IF(AA53 < Y$15, Y$19, Y$20) -> 0.125 | AF53: =AE53 * AD53 -> 0.15925 | AG53: =SUM(AF$14:AF53) -> 7.35325 | AH53: =IF(AA53 < Y$15, Y$29, Y$30) -> 0.02 | AI53: =AH53 * AD53 -> 0.02548 | AJ53: =SUM(AI$14:AI53) -> 0.89554 | AK53: =IF(AA53 < Y$15, Y$34, Y$35) -> 0 | AL53: =AK53 * AD53 -> 0 | AM53: =SUM(AL$14:AL53) -> 0.14049 | AN53: =IF(AA53 < Y$15, Y$24, Y$25) -> 0.02 | AO53: =AN53 * AD53 -> 0.02548 | AP53: =SUM(AO$14:AO53) -> 1.03603 | AU53: 2067 | AV53: 39 | AW53: 1.274 | AX53: =AW53 / AW$14 -> 1.274 | AY53: =IF(AU53 < AS$15, AS$19, AS$20) -> 0.25 | AZ53: =AY53 * AX53 -> 0.3185 | BA53: =SUM(AZ$14:AZ53) -> 12.94425 | BB53: =IF(AU53 < AS$15, AS$29, AS$30) -> 3.78 | BC53: =BB53 * AX53 -> 4.81572 | BD53: =SUM(BC$14:BC53) -> 169.25706 | BE53: =IF(AU53 < AS$15, AS$34, AS$35) -> 0 | BF53: =BE53 * AX53 -> 0 | BG53: =SUM(BF$14:BF53) -> 2.82 | BH53: =IF(AU53 < AS$15, AS$24, AS$25) -> 3.78 | BI53: =BH53 * AX53 -> 4.81572 | BJ53: =SUM(BI$14:BI53) -> 172.07706 | BO53: 2067 | BP53: 39 | BQ53: 1.274 | BR53: =BQ53 / BQ$14 -> 1.274 | BS53: =IF(BO53 < BM$15, BM$19, BM$20) -> 0.5 | BT53: =BS53 * BR53 -> 0.637 | BU53: =SUM(BT$14:BT53) -> 22.3885 | BV53: =IF(BO53 < BM$15, BM$29, BM$30) -> 16.08 | BW53: =BV53 * BR53 -> 20.48592 | BX53: =SUM(BW$14:BW53) -> 720.01416 | BY53: =IF(BO53 < BM$15, BM$34, BM$35) -> 0 | BZ53: =BY53 * BR53 -> 0 | CA53: =SUM(BZ$14:BZ53) -> 0 | CB53: =IF(BO53 < BM$15, BM$24, BM$25) -> 16.08 | CC53: =CB53 * BR53 -> 20.48592 | CD53: =SUM(CC$14:CC53) -> 720.01416
G54: {="YR" & (ROW(54:54) - ROW($14:$14)) & " = " & (2028 + (ROW(54:54) - ROW($14:$14)))} -> YR40 = 2068 | H54: {="MY" & (ROW(54:54) - ROW($14:$14)) & " = " & (ROW(54:54) - ROW($14:$14))} -> MY40 = 40 | I54: {="CD" & (ROW(54:54) - ROW($14:$14))} -> CD40 | J54: {="CN" & (ROW(54:54) - ROW($14:$14)) & " = CD" & (ROW(54:54) - ROW($14:$14)) & " / CD0" & IF(ROW(54:54) - ROW($14:$14) = 0, " = 1", "")} -> CN40 = CD40 / CD0 | K54: {="IRM" & (ROW(54:54) - ROW($14:$14)) & " = if (YR" & (ROW(54:54) - ROW($14:$14)) & " ≤ EY) then (IRA0) else (IRP0)"} -> IRM40 = if (YR40 ≤ EY) then (IRA0) else (IRP0) | L54: {="IRI" & (ROW(54:54) - ROW($14:$14)) & " = IRM" & (ROW(54:54) - ROW($14:$14)) & " * C" & (ROW(54:54) - ROW($14:$14))} -> IRI40 = IRM40 * C40 | M54: {="IRC" & (ROW(54:54) - ROW($14:$14)) & " = ∑IRIx; x: {0, …, MY" & (ROW(54:54) - ROW($14:$14)) & "}"} -> IRC40 = ∑IRIx; x: {0, …, MY40} | N54: {="ERM" & (ROW(54:54) - ROW($14:$14)) & " = if (YR" & (ROW(54:54) - ROW($14:$14)) & " ≤ EY) then (ERA0) else (ERP0)"} -> ERM40 = if (YR40 ≤ EY) then (ERA0) else (ERP0) | O54: {="ERI" & (ROW(54:54) - ROW($14:$14)) & " = ERM" & (ROW(54:54) - ROW($14:$14)) & " * C" & (ROW(54:54) - ROW($14:$14))} -> ERI40 = ERM40 * C40 | P54: {="ERU" & (ROW(54:54) - ROW($14:$14)) & " = ∑ERIx; x: {0, …, MY" & (ROW(54:54) - ROW($14:$14)) & "}"} -> ERU40 = ∑ERIx; x: {0, …, MY40} | Q54: {="PRM" & (ROW(54:54) - ROW($14:$14)) & " = if (YR" & (ROW(54:54) - ROW($14:$14)) & " ≤ EY) then (PRA0) else (PRP0)"} -> PRM40 = if (YR40 ≤ EY) then (PRA0) else (PRP0) | R54: {="PRI" & (ROW(54:54) - ROW($14:$14)) & " = PRM" & (ROW(54:54) - ROW($14:$14)) & " * C" & (ROW(54:54) - ROW($14:$14))} -> PRI40 = PRM40 * C40 | S54: {="PRU" & (ROW(54:54) - ROW($14:$14)) & " = ∑PRIx; x: {0, …, MY" & (ROW(54:54) - ROW($14:$14)) & "}"} -> PRU40 = ∑PRIx; x: {0, …, MY40} | T54: {="ORM" & (ROW(54:54) - ROW($14:$14)) & " = if (YR" & (ROW(54:54) - ROW($14:$14)) & " ≤ EY) then (ORA0) else (ORP0)"} -> ORM40 = if (YR40 ≤ EY) then (ORA0) else (ORP0) | U54: {="ORI" & (ROW(54:54) - ROW($14:$14)) & " = ORM" & (ROW(54:54) - ROW($14:$14)) & " * C" & (ROW(54:54) - ROW($14:$14))} -> ORI40 = ORM40 * C40 | V54: {="ORC" & (ROW(54:54) - ROW($14:$14)) & " = ∑ORIx; x: {0, …, MY" & (ROW(54:54) - ROW($14:$14)) & "}"} -> ORC40 = ∑ORIx; x: {0, …, MY40} | AA54: 2068 | AB54: 40 | AC54: 1.284 | AD54: =AC54 / AC$14 -> 1.284 | AE54: =IF(AA54 < Y$15, Y$19, Y$20) -> 0.125 | AF54: =AE54 * AD54 -> 0.1605 | AG54: =SUM(AF$14:AF54) -> 7.51375 | AH54: =IF(AA54 < Y$15, Y$29, Y$30) -> 0.02 | AI54: =AH54 * AD54 -> 0.02568 | AJ54: =SUM(AI$14:AI54) -> 0.92122 | AK54: =IF(AA54 < Y$15, Y$34, Y$35) -> 0 | AL54: =AK54 * AD54 -> 0 | AM54: =SUM(AL$14:AL54) -> 0.14049 | AN54: =IF(AA54 < Y$15, Y$24, Y$25) -> 0.02 | AO54: =AN54 * AD54 -> 0.02568 | AP54: =SUM(AO$14:AO54) -> 1.06171 | AU54: 2068 | AV54: 40 | AW54: 1.284 | AX54: =AW54 / AW$14 -> 1.284 | AY54: =IF(AU54 < AS$15, AS$19, AS$20) -> 0.25 | AZ54: =AY54 * AX54 -> 0.321 | BA54: =SUM(AZ$14:AZ54) -> 13.26525 | BB54: =IF(AU54 < AS$15, AS$29, AS$30) -> 3.78 | BC54: =BB54 * AX54 -> 4.85352 | BD54: =SUM(BC$14:BC54) -> 174.11058 | BE54: =IF(AU54 < AS$15, AS$34, AS$35) -> 0 | BF54: =BE54 * AX54 -> 0 | BG54: =SUM(BF$14:BF54) -> 2.82 | BH54: =IF(AU54 < AS$15, AS$24, AS$25) -> 3.78 | BI54: =BH54 * AX54 -> 4.85352 | BJ54: =SUM(BI$14:BI54) -> 176.93058 | BO54: 2068 | BP54: 40 | BQ54: 1.284 | BR54: =BQ54 / BQ$14 -> 1.284 | BS54: =IF(BO54 < BM$15, BM$19, BM$20) -> 0.5 | BT54: =BS54 * BR54 -> 0.642 | BU54: =SUM(BT$14:BT54) -> 23.0305 | BV54: =IF(BO54 < BM$15, BM$29, BM$30) -> 16.08 | BW54: =BV54 * BR54 -> 20.64672 | BX54: =SUM(BW$14:BW54) -> 740.66088 | BY54: =IF(BO54 < BM$15, BM$34, BM$35) -> 0 | BZ54: =BY54 * BR54 -> 0 | CA54: =SUM(BZ$14:BZ54) -> 0 | CB54: =IF(BO54 < BM$15, BM$24, BM$25) -> 16.08 | CC54: =CB54 * BR54 -> 20.64672 | CD54: =SUM(CC$14:CC54) -> 740.66088
G55: {="YR" & (ROW(55:55) - ROW($14:$14)) & " = " & (2028 + (ROW(55:55) - ROW($14:$14)))} -> YR41 = 2069 | H55: {="MY" & (ROW(55:55) - ROW($14:$14)) & " = " & (ROW(55:55) - ROW($14:$14))} -> MY41 = 41 | I55: {="CD" & (ROW(55:55) - ROW($14:$14))} -> CD41 | J55: {="CN" & (ROW(55:55) - ROW($14:$14)) & " = CD" & (ROW(55:55) - ROW($14:$14)) & " / CD0" & IF(ROW(55:55) - ROW($14:$14) = 0, " = 1", "")} -> CN41 = CD41 / CD0 | K55: {="IRM" & (ROW(55:55) - ROW($14:$14)) & " = if (YR" & (ROW(55:55) - ROW($14:$14)) & " ≤ EY) then (IRA0) else (IRP0)"} -> IRM41 = if (YR41 ≤ EY) then (IRA0) else (IRP0) | L55: {="IRI" & (ROW(55:55) - ROW($14:$14)) & " = IRM" & (ROW(55:55) - ROW($14:$14)) & " * C" & (ROW(55:55) - ROW($14:$14))} -> IRI41 = IRM41 * C41 | M55: {="IRC" & (ROW(55:55) - ROW($14:$14)) & " = ∑IRIx; x: {0, …, MY" & (ROW(55:55) - ROW($14:$14)) & "}"} -> IRC41 = ∑IRIx; x: {0, …, MY41} | N55: {="ERM" & (ROW(55:55) - ROW($14:$14)) & " = if (YR" & (ROW(55:55) - ROW($14:$14)) & " ≤ EY) then (ERA0) else (ERP0)"} -> ERM41 = if (YR41 ≤ EY) then (ERA0) else (ERP0) | O55: {="ERI" & (ROW(55:55) - ROW($14:$14)) & " = ERM" & (ROW(55:55) - ROW($14:$14)) & " * C" & (ROW(55:55) - ROW($14:$14))} -> ERI41 = ERM41 * C41 | P55: {="ERU" & (ROW(55:55) - ROW($14:$14)) & " = ∑ERIx; x: {0, …, MY" & (ROW(55:55) - ROW($14:$14)) & "}"} -> ERU41 = ∑ERIx; x: {0, …, MY41} | Q55: {="PRM" & (ROW(55:55) - ROW($14:$14)) & " = if (YR" & (ROW(55:55) - ROW($14:$14)) & " ≤ EY) then (PRA0) else (PRP0)"} -> PRM41 = if (YR41 ≤ EY) then (PRA0) else (PRP0) | R55: {="PRI" & (ROW(55:55) - ROW($14:$14)) & " = PRM" & (ROW(55:55) - ROW($14:$14)) & " * C" & (ROW(55:55) - ROW($14:$14))} -> PRI41 = PRM41 * C41 | S55: {="PRU" & (ROW(55:55) - ROW($14:$14)) & " = ∑PRIx; x: {0, …, MY" & (ROW(55:55) - ROW($14:$14)) & "}"} -> PRU41 = ∑PRIx; x: {0, …, MY41} | T55: {="ORM" & (ROW(55:55) - ROW($14:$14)) & " = if (YR" & (ROW(55:55) - ROW($14:$14)) & " ≤ EY) then (ORA0) else (ORP0)"} -> ORM41 = if (YR41 ≤ EY) then (ORA0) else (ORP0) | U55: {="ORI" & (ROW(55:55) - ROW($14:$14)) & " = ORM" & (ROW(55:55) - ROW($14:$14)) & " * C" & (ROW(55:55) - ROW($14:$14))} -> ORI41 = ORM41 * C41 | V55: {="ORC" & (ROW(55:55) - ROW($14:$14)) & " = ∑ORIx; x: {0, …, MY" & (ROW(55:55) - ROW($14:$14)) & "}"} -> ORC41 = ∑ORIx; x: {0, …, MY41} | AA55: 2069 | AB55: 41 | AC55: 1.295 | AD55: =AC55 / AC$14 -> 1.295 | AE55: =IF(AA55 < Y$15, Y$19, Y$20) -> 0.125 | AF55: =AE55 * AD55 -> 0.161875 | AG55: =SUM(AF$14:AF55) -> 7.675625 | AH55: =IF(AA55 < Y$15, Y$29, Y$30) -> 0.02 | AI55: =AH55 * AD55 -> 0.0259 | AJ55: =SUM(AI$14:AI55) -> 0.94712 | AK55: =IF(AA55 < Y$15, Y$34, Y$35) -> 0 | AL55: =AK55 * AD55 -> 0 | AM55: =SUM(AL$14:AL55) -> 0.14049 | AN55: =IF(AA55 < Y$15, Y$24, Y$25) -> 0.02 | AO55: =AN55 * AD55 -> 0.0259 | AP55: =SUM(AO$14:AO55) -> 1.08761 | AU55: 2069 | AV55: 41 | AW55: 1.295 | AX55: =AW55 / AW$14 -> 1.295 | AY55: =IF(AU55 < AS$15, AS$19, AS$20) -> 0.25 | AZ55: =AY55 * AX55 -> 0.32375 | BA55: =SUM(AZ$14:AZ55) -> 13.589 | BB55: =IF(AU55 < AS$15, AS$29, AS$30) -> 3.78 | BC55: =BB55 * AX55 -> 4.8951 | BD55: =SUM(BC$14:BC55) -> 179.00568 | BE55: =IF(AU55 < AS$15, AS$34, AS$35) -> 0 | BF55: =BE55 * AX55 -> 0 | BG55: =SUM(BF$14:BF55) -> 2.82 | BH55: =IF(AU55 < AS$15, AS$24, AS$25) -> 3.78 | BI55: =BH55 * AX55 -> 4.8951 | BJ55: =SUM(BI$14:BI55) -> 181.82568 | BO55: 2069 | BP55: 41 | BQ55: 1.295 | BR55: =BQ55 / BQ$14 -> 1.295 | BS55: =IF(BO55 < BM$15, BM$19, BM$20) -> 0.5 | BT55: =BS55 * BR55 -> 0.6475 | BU55: =SUM(BT$14:BT55) -> 23.678 | BV55: =IF(BO55 < BM$15, BM$29, BM$30) -> 16.08 | BW55: =BV55 * BR55 -> 20.8236 | BX55: =SUM(BW$14:BW55) -> 761.48448 | BY55: =IF(BO55 < BM$15, BM$34, BM$35) -> 0 | BZ55: =BY55 * BR55 -> 0 | CA55: =SUM(BZ$14:BZ55) -> 0 | CB55: =IF(BO55 < BM$15, BM$24, BM$25) -> 16.08 | CC55: =CB55 * BR55 -> 20.8236 | CD55: =SUM(CC$14:CC55) -> 761.48448
