Workbook
Name _Toc143763478: Assumptions!$B$8
Name IQ_CH: 110000
Name IQ_CQ: 5000
Name IQ_CY: 10000
Name IQ_DAILY: 500000
Name IQ_FH: 100000
Name IQ_FQ: 500
Name IQ_FY: 1000
Name IQ_LTM: 2000
Name IQ_MONTH: 15000
Name IQ_NTM: 6000
Name IQ_WEEK: 50000
Name IQ_YTD: 3000
Name SAPCrosstab1: #REF!
Name SAPCrosstab2: #REF!
Name SAPCrosstab4: #REF!
Name SAPCrosstab5: #REF!
Name SAPCrosstab6: #REF!
Name SAPCrosstab7: #REF!
Name TASKRSRC: #REF!
Name TASKRSRC: #REF!
Name USERDATA: #REF!
Name USERDATA: #REF!

Sheet EUP Summary View
B1: Workpaper 007
B2: Pacific Gas and Electric Company
B3: Electrical Undergrounding Program
B4: Undergrounding Resource Model
B6: Programmmatic Forecast - Required Effort to Deliver Planned Miles EUP Summary View: Chapter 5 Section 2 Summary of Resources
B7: Resourcing Teams | C7: Yearly Max Head Count (2028-2037)
B8: Project Management | C8: =CEILING(MAX('Program Wide View'!I73:R73),1) -> 162
B9: Scoping | C9: =CEILING(MAX('Program Wide View'!I78:R78),1) -> 25
B10: Estimating | C10: =CEILING(MAX('Program Wide View'!I86:R86),1) -> 50
B11: Customer Outreach | C11: =CEILING(MAX('Program Wide View'!I91:R91),1) -> 37
B12: Encroachment | C12: =CEILING(MAX('Program Wide View'!I94:R94),1) -> 111
B13: Land | C13: =CEILING(MAX('Program Wide View'!I99:R99),1) -> 477
B14: Environmental | C14: =CEILING(MAX('Program Wide View'!I112:R112),1) -> 319
B15: Construction Management | C15: =CEILING(MAX('Program Wide View'!I124:R124),1) -> 53
B16: Civil Construction | C16: =CEILING(MAX('Program Wide View'!I127:R127),1) -> 709
B17: Electric Construction | C17: =CEILING(MAX('Program Wide View'!I133:R133),1) -> 84
B18: Post-Construction | C18: =CEILING(MAX('Program Wide View'!I138:R138),1) -> 11

Sheet Assumptions
A1: Workpaper 007
A2: Pacific Gas and Electric Company
A3: Electrical Undergrounding Program
A4: Undergrounding Resource Model
A5: Assumptions
B8: Key Assumptions Used to Build the Resource Model
B9: Project Size | C9: The resource model uses a miles-based approach to determine the required effort to deliver one mile of undergrounding (FTE/mile). Project size and difficulty have been consolidated and incorporated into the outputs from the productivity analysis and inform productivity rates.
B10: Annual Mileage Target | C10: The annual mileage targets are based on the overall program strategy as filed in the EUP. As planning scenarios are evaluated and implemented, the modeled mileage trajectory can be revised.
B11: Construction Seasonality | C11: Construction Seasonality was developed using the available construction schedule information and aggregates underground miles based on when construction starts and finishes in terms of months, regardless of the year of construction.
B12: Schedule | C12: The schedule assumptions are based on undergrounding project phase data (e.g. scoping, dependencies, construction etc., referred to as Workstream Progression data) developed by the Program to set non-construction target miles and is aligned with construction target miles.

Sheet Program Wide View
A1: Workpaper 007
A2: Pacific Gas and Electric Company
A3: Electrical Undergrounding Program
A4: Undergrounding Resource Model
A5: Program Wide View
A8: EUP Programmmatic Forecast - Required Effort to Deliver Planned Miles
A9: Dashboard
B10: Table C1: Mile Target - Input
C11: 2022 | D11: 2023 | E11: 2024 | F11: 2025 | G11: 2026 | H11: 2027 | I11: 2028 | J11: 2029 | K11: 2030 | L11: 2031 | M11: 2032 | N11: 2033 | O11: 2034 | P11: 2035 | Q11: 2036 | R11: 2037 | S11: Total | U11: 2024 | V11: 2025 | W11: 2026 | X11: 2027 | Y11: 2028 | Z11: 2029 | AA11: 2030 | AB11: 2031
B12: Construction - Target Miles | C12: 247 | D12: 285.1 | E12: 213.9 | F12: 306.5 | G12: 417 | H12: 307 | I12: 250 | J12: 300 | K12: 350 | L12: 450 | M12: 550 | N12: 600 | O12: 625 | P12: 625 | Q12: 625 | R12: 625 | S12: 6776.5
B30: Table C2: Dependencies Mile Target - Based on Workstream Progression
C31: 2022 | D31: 2023 | E31: 2024 | F31: 2025 | G31: 2026 | H31: 2027 | I31: 2028 | J31: 2029 | K31: 2030 | L31: 2031 | M31: 2032 | N31: 2033 | O31: 2034 | P31: 2035 | Q31: 2036 | R31: 2037 | S31: Total
B32: Scoping - Target Miles | C32: 247 | D32: 366.66667 | E32: 463.90909 | F32: 448 | G32: 507 | H32: 292 | I32: 396 | J32: 422 | K32: 580 | L32: 625 | M32: 670 | N32: 684 | O32: 580 | P32: 580 | Q32: 0 | R32: 0 | S32: 6861.5758
B33: Estimating - Target Miles | C33: 247 | D33: 322.22222 | E33: 320 | F33: 401 | G33: 308 | H33: 291 | I33: 359 | J33: 405 | K33: 555 | L33: 625 | M33: 658 | N33: 675 | O33: 595 | P33: 595 | Q33: 504 | R33: 0 | S33: 6860.2222
B34: Permitting - Target Miles | C34: 247 | D34: 305.55556 | E34: 319 | F34: 400 | G34: 245 | H34: 291 | I34: 336 | J34: 375 | K34: 478 | L34: 594 | M34: 647 | N34: 675 | O34: 677 | P34: 677 | Q34: 660 | R34: 0 | S34: 6926.5556
B71: Table C3: Resource Needs Based on Mile Targets
B72: Resourcing (FTEs) | C72: 2022 | D72: 2023 | E72: 2024 | F72: 2025 | G72: 2026 | H72: 2027 | I72: 2028 | J72: 2029 | K72: 2030 | L72: 2031 | M72: 2032 | N72: 2033 | O72: 2034 | P72: 2035 | Q72: 2036 | R72: 2037 | S72: MAX | W72: Cevelop moCel baseC on hours rather than per mile? | Z72: prob not - neeC to figure out
B73: Project Management | C73: =SUM(C75:C77) -> 117.87587 | D73: =SUM(D75:D77) -> 108.05288 | E73: =SUM(E75:E77) -> 133.97503 | F73: =SUM(F75:F77) -> 126.74013 | G73: =SUM(G75:G77) -> 140.4432 | H73: =SUM(H75:H77) -> 79.165432 | I73: =SUM(I75:I77) -> 105.0274 | J73: =SUM(J75:J77) -> 109.43596 | ... R73: =SUM(R75:R77) -> 132.61035 | S73: =MAX(C73:R73) -> 161.9025 | W73: Internal vs external
B75: Associate Project Manager | C75: 50 | D75: 45.833333 | E75: 56.828864 | F75: 53.76 | G75: 59.5725 | H75: 33.58 | I75: 44.55 | J75: 46.42 | K75: 62.35 | L75: 65.625 | M75: 68.675 | N75: 68.4 | O75: 66.0075 | P75: 64.315 | Q75: 61.05 | R75: 56.25 | S75: 68.675 | W75: resource planning
B76: Journey Project Manager | C76: 30.769231 | D76: 28.205128 | E76: 34.971608 | F76: 33.083077 | G76: 36.66 | H76: 20.664615 | I76: 27.415385 | J76: 28.566154 | K76: 38.369231 | L76: 40.384615 | M76: 42.261538 | N76: 42.092308 | O76: 40.62 | P76: 39.578462 | Q76: 37.569231 | R76: 34.615385 | S76: 42.261538 | W76: Cevelpo assumption list
B77: Project Controls Analyst | C77: 37.106636 | D77: 34.014417 | E77: 42.17456 | F77: 39.897055 | G77: 44.210702 | H77: 24.920817 | I77: 33.062013 | J77: 34.449801 | K77: 46.271975 | L77: 48.70246 | M77: 50.965965 | N77: 50.761878 | O77: 48.986326 | P77: 47.730266 | Q77: 45.307203 | R77: 41.744966 | S77: 50.965965
B78: Scoping | C78: =SUM(C80:C85) -> 17.565217 | D78: =SUM(D80:D85) -> 16.101449 | E78: =SUM(E80:E85) -> 19.964227 | F78: =SUM(F80:F85) -> 18.886122 | G78: =SUM(G80:G85) -> 20.928078 | H78: =SUM(H80:H85) -> 11.7968 | I78: =SUM(I80:I85) -> 15.650609 | J78: =SUM(J80:J85) -> 16.307548 | ... R78: =SUM(R80:R85) -> 0 | S78: =MAX(C78:R78) -> 24.125826
B80: Scoping Lead - Project Manager | C80: 0.43478261 | D80: 0.39855072 | E80: 0.49416403 | F80: 0.46747826 | G80: 0.51802174 | H80: 0.292 | I80: 0.3873913 | J80: 0.40365217 | K80: 0.54217391 | L80: 0.57065217 | M80: 0.59717391 | N80: 0.59478261 | O80: 0.49173913 | P80: 0.47913043 | Q80: 0 | R80: 0 | S80: 0.59717391
B81: Grid Design Team | C81: 13.913043 | D81: 12.753623 | E81: 15.813249 | F81: 14.959304 | G81: 16.576696 | H81: 9.344 | I81: 12.396522 | J81: 12.91687 | K81: 17.349565 | L81: 18.26087 | M81: 19.109565 | N81: 19.033043 | O81: 15.735652 | P81: 15.332174 | Q81: 0 | R81: 0 | S81: 19.109565
B82: Construction Manager | C82: 1.9565217 | D82: 1.7934783 | E82: 2.2237381 | F82: 2.1036522 | G82: 2.3310978 | H82: 1.314 | I82: 1.7432609 | J82: 1.8164348 | K82: 2.4397826 | L82: 2.5679348 | M82: 2.6872826 | N82: 2.6765217 | O82: 2.2128261 | P82: 2.156087 | Q82: 0 | R82: 0 | S82: 2.6872826
B83: ADE / Estimating Support | C83: 0.17391304 | D83: 0.15942029 | E83: 0.19766561 | F83: 0.1869913 | G83: 0.2072087 | H83: 0.1168 | I83: 0.15495652 | J83: 0.16146087 | K83: 0.21686957 | L83: 0.22826087 | M83: 0.23886957 | N83: 0.23791304 | O83: 0.19669565 | P83: 0.19165217 | Q83: 0 | R83: 0 | S83: 0.23886957
B84: SME Reviews | C84: 0.43478261 | D84: 0.39855072 | E84: 0.49416403 | F84: 0.46747826 | G84: 0.51802174 | H84: 0.292 | I84: 0.3873913 | J84: 0.40365217 | K84: 0.54217391 | L84: 0.57065217 | M84: 0.59717391 | N84: 0.59478261 | O84: 0.49173913 | P84: 0.47913043 | Q84: 0 | R84: 0 | S84: 0.59717391
B85: Administrative | C85: 0.65217391 | D85: 0.59782609 | E85: 0.74124605 | F85: 0.70121739 | G85: 0.77703261 | H85: 0.438 | I85: 0.58108696 | J85: 0.60547826 | K85: 0.81326087 | L85: 0.85597826 | M85: 0.89576087 | N85: 0.89217391 | O85: 0.7376087 | P85: 0.71869565 | Q85: 0 | R85: 0 | S85: 0.89576087
B86: Estimating | C86: =SUM(C88:C90) -> 36.970419 | D86: =SUM(D88:D90) -> 29.781726 | E86: =SUM(E88:E90) -> 28.984808 | F86: =SUM(F88:F90) -> 35.580331 | G86: =SUM(G88:G90) -> 26.759189 | H86: =SUM(H88:H90) -> 24.744301 | I86: =SUM(I88:I90) -> 29.862856 | J86: =SUM(J88:J90) -> 32.940643 | ... R86: =SUM(R88:R90) -> 0 | S86: =MAX(C86:R86) -> 49.910065
B88: Estimator | C88: 23.520935 | D88: 18.94742 | E88: 18.440413 | F88: 22.636548 | G88: 17.024453 | H88: 15.742562 | I88: 18.999035 | J88: 20.957153 | K88: 28.066356 | L88: 30.871227 | M88: 31.727389 | N88: 31.753262 | O88: 27.290165 | P88: 26.590417 | Q88: 21.93092 | R88: 0 | S88: 31.753262
B89: ADE | C89: 12.811892 | D89: 10.320691 | E89: 10.044523 | F89: 12.330165 | G89: 9.2732472 | H89: 8.5749991 | I89: 10.348806 | J89: 11.415395 | K89: 15.28779 | L89: 16.815608 | M89: 17.281961 | N89: 17.296054 | O89: 14.864997 | P89: 14.483844 | Q89: 11.945808 | R89: 0 | S89: 17.296054
B90: Civil Engineer | C90: 0.6375919 | D90: 0.5136157 | E90: 0.49987205 | F90: 0.61361845 | G90: 0.46148902 | H90: 0.42674026 | I90: 0.51501486 | J90: 0.56809439 | K90: 0.76080654 | L90: 0.83683937 | M90: 0.86004772 | N90: 0.86074907 | O90: 0.73976601 | P90: 0.72079765 | Q90: 0.59449069 | R90: 0 | S90: 0.86074907
B91: Customer Outreach | C91: =SUM(C93) -> 20.907333 | D91: =SUM(D93) -> 15.686 | E91: =SUM(E93) -> 22.027133 | F91: =SUM(F93) -> 29.3568 | G91: =SUM(G93) -> 21.162533 | H91: =SUM(H93) -> 16.866667 | I91: =SUM(I93) -> 19.8 | J91: =SUM(J93) -> 22.586667 | ... R91: =SUM(R93) -> 33 | S91: =MAX(C91:R91) -> 36.666667
B93: Outreach Representative | C93: 20.907333 | D93: 15.686 | E93: 22.027133 | F93: 29.3568 | G93: 21.162533 | H93: 16.866667 | I93: 19.8 | J93: 22.586667 | K93: 28.38 | L93: 33.88 | M93: 36.08 | N93: 36.666667 | O93: 35.75 | P93: 34.833333 | Q93: 33.916667 | R93: 33 | S93: 36.666667
B94: Encroachment (EPCW) | C94: =SUM(C96:C98) -> 81.947623 | D94: =SUM(D96:D98) -> 62.598879 | E94: =SUM(E96:E98) -> 64.046165 | F94: =SUM(F96:F98) -> 78.669718 | G94: =SUM(G96:G98) -> 47.181344 | H94: =SUM(H96:H98) -> 54.847544 | I94: =SUM(I96:I98) -> 61.952403 | J94: =SUM(J96:J98) -> 67.606789 | ... R94: =SUM(R96:R98) -> 0 | S94: =MAX(C94:R94) -> 110.62929
B96: Permit Facilitator | C96: 25.157042 | D96: 19.217185 | E96: 19.661486 | F96: 24.15076 | G96: 14.484167 | H96: 16.837608 | I96: 19.018723 | J96: 20.754559 | K96: 25.853892 | L96: 31.380894 | M96: 33.367042 | N96: 33.962006 | O96: 33.211068 | P96: 32.359503 | Q96: 30.716748 | R96: 0 | S96: 33.962006
B97: Traffic Engineer | C97: 38.452473 | D97: 29.373417 | E97: 30.05253 | F97: 36.914374 | G97: 22.139011 | H97: 25.73624 | I97: 29.070069 | J97: 31.72329 | K97: 39.517606 | L97: 47.965615 | M97: 51.001437 | N97: 51.910838 | O97: 50.763032 | P97: 49.461416 | Q97: 46.950469 | R97: 0 | S97: 51.910838
B98: Agency Liaison | C98: 18.338109 | D98: 14.008278 | E98: 14.332149 | F98: 17.604585 | G98: 10.558166 | H98: 12.273696 | I98: 13.86361 | J98: 15.12894 | K98: 18.846074 | L98: 22.874957 | M98: 24.322751 | N98: 24.756447 | O98: 24.209054 | P98: 23.588309 | Q98: 22.390831 | R98: 0 | S98: 24.756447
B99: Land | C99: =SUM(C101:C111) -> 352.89627 | D99: =SUM(D101:D111) -> 269.57354 | E99: =SUM(E101:E111) -> 275.80608 | F99: =SUM(F101:F111) -> 338.78041 | G99: =SUM(G101:G111) -> 203.18002 | H99: =SUM(H101:H111) -> 236.19347 | I99: =SUM(I101:I111) -> 266.78958 | J99: =SUM(J101:J111) -> 291.13942 | ... R99: =SUM(R101:R111) -> 0 | S99: =MAX(C99:R99) -> 476.40996
B101: Land Surveyor | C101: 31.885402 | D101: 24.356904 | E101: 24.920036 | F101: 30.609986 | G101: 18.35802 | H101: 21.340899 | I101: 24.105364 | J101: 26.305456 | K101: 32.768627 | L101: 39.77385 | M101: 42.291203 | N101: 43.045292 | O101: 42.093513 | P101: 41.014192 | Q101: 38.932076 | R101: 0 | S101: 43.045292
B102: Field Surveyor | C102: 31.885402 | D102: 24.356904 | E102: 24.920036 | F102: 30.609986 | G102: 18.35802 | H102: 21.340899 | I102: 24.105364 | J102: 26.305456 | K102: 32.768627 | L102: 39.77385 | M102: 42.291203 | N102: 43.045292 | O102: 42.093513 | P102: 41.014192 | Q102: 38.932076 | R102: 0 | S102: 43.045292
B103: Utility Locator | C103: 31.885402 | D103: 24.356904 | E103: 24.920036 | F103: 30.609986 | G103: 18.35802 | H103: 21.340899 | I103: 24.105364 | J103: 26.305456 | K103: 32.768627 | L103: 39.77385 | M103: 42.291203 | N103: 43.045292 | O103: 42.093513 | P103: 41.014192 | Q103: 38.932076 | R103: 0 | S103: 43.045292
B104: LiDAR Surveyor | C104: 31.885402 | D104: 24.356904 | E104: 24.920036 | F104: 30.609986 | G104: 18.35802 | H104: 21.340899 | I104: 24.105364 | J104: 26.305456 | K104: 32.768627 | L104: 39.77385 | M104: 42.291203 | N104: 43.045292 | O104: 42.093513 | P104: 41.014192 | Q104: 38.932076 | R104: 0 | S104: 43.045292
B105: Boundary surveyor | C105: 31.885402 | D105: 24.356904 | E105: 24.920036 | F105: 30.609986 | G105: 18.35802 | H105: 21.340899 | I105: 24.105364 | J105: 26.305456 | K105: 32.768627 | L105: 39.77385 | M105: 42.291203 | N105: 43.045292 | O105: 42.093513 | P105: 41.014192 | Q105: 38.932076 | R105: 0 | S105: 43.045292
B106: Caltrans Permit Specialist | C106: 31.885402 | D106: 24.356904 | E106: 24.920036 | F106: 30.609986 | G106: 18.35802 | H106: 21.340899 | I106: 24.105364 | J106: 26.305456 | K106: 32.768627 | L106: 39.77385 | M106: 42.291203 | N106: 43.045292 | O106: 42.093513 | P106: 41.014192 | Q106: 38.932076 | R106: 0 | S106: 43.045292
B107: Caltrans Project Manager | C107: 16.011494 | D107: 12.231002 | E107: 12.513783 | F107: 15.371034 | G107: 9.2186174 | H107: 10.716493 | I107: 12.104689 | J107: 13.209482 | K107: 16.455012 | L107: 19.972737 | M107: 21.236844 | N107: 21.615516 | O107: 21.137573 | P107: 20.595584 | Q107: 19.550034 | R107: 0 | S107: 21.615516
B108: Land Agent | C108: 31.885402 | D108: 24.356904 | E108: 24.920036 | F108: 30.609986 | G108: 18.35802 | H108: 21.340899 | I108: 24.105364 | J108: 26.305456 | K108: 32.768627 | L108: 39.77385 | M108: 42.291203 | N108: 43.045292 | O108: 42.093513 | P108: 41.014192 | Q108: 38.932076 | R108: 0 | S108: 43.045292
B109: ROW Agent | C109: 49.640985 | D109: 37.920197 | E109: 38.796912 | F109: 47.655346 | G109: 28.580797 | H109: 33.224711 | I109: 37.528585 | J109: 40.953813 | K109: 51.01604 | L109: 61.922165 | M109: 65.841321 | N109: 67.01533 | O109: 65.533546 | P109: 63.853199 | Q109: 60.611643 | R109: 0 | S109: 67.01533
B110: Land Project Manager | C110: 32.022987 | D110: 24.462004 | E110: 25.027566 | F110: 30.742068 | G110: 18.437235 | H110: 21.432985 | I110: 24.209378 | J110: 26.418964 | K110: 32.910024 | L110: 39.945474 | M110: 42.473689 | N110: 43.231033 | O110: 42.275146 | P110: 41.191168 | Q110: 39.100067 | R110: 0 | S110: 43.231033
B111: Land/Acquisition Project Coordinator | C111: 32.022987 | D111: 24.462004 | E111: 25.027566 | F111: 30.742068 | G111: 18.437235 | H111: 21.432985 | I111: 24.209378 | J111: 26.418964 | K111: 32.910024 | L111: 39.945474 | M111: 42.473689 | N111: 43.231033 | O111: 42.275146 | P111: 41.191168 | Q111: 39.100067 | R111: 0 | S111: 43.231033
B112: Environmental | C112: =SUM(C114:C123) -> 236.23341 | D112: =SUM(D114:D123) -> 180.45608 | E112: =SUM(E114:E123) -> 184.62822 | F112: =SUM(F114:F123) -> 226.78408 | G112: =SUM(G114:G123) -> 136.01139 | H112: =SUM(H114:H123) -> 158.11102 | I112: =SUM(I114:I123) -> 178.59246 | J112: =SUM(J114:J123) -> 194.89256 | ... R112: =SUM(R114:R123) -> 0 | S112: =MAX(C112:R112) -> 318.91511
B114: Land Planning Analyst | C114: 7.8574137 | D114: 6.002191 | E114: 6.1409617 | F114: 7.5431172 | G114: 4.523906 | H114: 5.258967 | I114: 5.9402048 | J114: 6.4823663 | K114: 8.0750641 | L114: 9.8013379 | M114: 10.421681 | N114: 10.607509 | O114: 10.372965 | P114: 10.106991 | Q114: 9.5939022 | R114: 0 | S114: 10.607509
B115: Land Planner | C115: 19.856394 | D115: 15.168079 | E115: 15.518765 | F115: 19.062138 | G115: 11.432319 | H115: 13.289885 | I115: 15.011434 | J115: 16.381525 | K115: 20.406416 | L115: 24.768866 | M115: 26.336528 | N115: 26.806132 | O115: 26.213419 | P115: 25.54128 | Q115: 24.244657 | R115: 0 | S115: 26.806132
B116: Biologist | C116: 19.711361 | D116: 15.057289 | E116: 15.405414 | F116: 18.922906 | G116: 11.348816 | H116: 13.192814 | I116: 14.901789 | J116: 16.261872 | K116: 20.257365 | L116: 24.587951 | M116: 26.144163 | N116: 26.610337 | O116: 26.021953 | P116: 25.354723 | Q116: 24.067571 | R116: 0 | S116: 26.610337
B117: Cultural Resource Specialist | C117: 19.414852 | D117: 14.83079 | E117: 15.173678 | F117: 18.638258 | G117: 11.178101 | H117: 12.994361 | I117: 14.677628 | J117: 16.017253 | K117: 19.952644 | L117: 24.218087 | M117: 25.750889 | N117: 26.210051 | O117: 25.630517 | P117: 24.973324 | Q117: 23.705535 | R117: 0 | S117: 26.210051
B118: Environmental Field Specialist (EFS) | C118: 27.159478 | D118: 20.746823 | E118: 21.22649 | F118: 26.073099 | G118: 15.637069 | H118: 18.177838 | I118: 20.532565 | J118: 22.406569 | K118: 27.911795 | L118: 33.878732 | M118: 36.022973 | N118: 36.665295 | O118: 35.854584 | P118: 34.935236 | Q118: 33.161722 | R118: 0 | S118: 36.665295
B119: Water Quality Specialist | C119: 10.534176 | D119: 8.0469403 | E119: 8.2329856 | F119: 10.112809 | G119: 6.0650521 | H119: 7.0505243 | I119: 7.9638373 | J119: 8.6906955 | K119: 10.825973 | L119: 13.140332 | M119: 13.972005 | N119: 14.221138 | O119: 13.906693 | P119: 13.550111 | Q119: 12.862229 | R119: 0 | S119: 14.221138
B120: GIS Specialist | C120: 46.748518 | D120: 35.710674 | E120: 36.536304 | F120: 44.878577 | G120: 26.915459 | H120: 31.288783 | I120: 35.34188 | J120: 38.567528 | K120: 48.043452 | L120: 58.314102 | M120: 62.004897 | N120: 63.1105 | O120: 61.715056 | P120: 60.132619 | Q120: 57.079941 | R120: 0 | S120: 63.1105
B121: Environmental Inspector (EI) | C121: 36.379055 | D121: 27.789556 | E121: 28.432051 | F121: 34.923893 | G121: 20.945241 | H121: 24.348502 | I121: 27.502566 | J121: 30.012721 | K121: 37.386755 | L121: 45.379233 | M121: 48.25136 | N121: 49.111725 | O121: 48.02581 | P121: 46.794379 | Q121: 44.418826 | R121: 0 | S121: 49.111725
B122: Compliance Specialist | C122: 31.413025 | D122: 23.996061 | E122: 24.55085 | F122: 30.156504 | G122: 18.086049 | H122: 21.024738 | I122: 23.748247 | J122: 25.915746 | K122: 32.283166 | L122: 39.184608 | M122: 41.664666 | N122: 42.407584 | O122: 41.469906 | P122: 40.406575 | Q122: 38.355304 | R122: 0 | S122: 42.407584
B123: Sample Coordinator | C123: 17.159138 | D123: 13.107675 | E123: 13.410724 | F123: 16.472773 | G123: 9.8793738 | H123: 11.484611 | I123: 12.972308 | J123: 14.156289 | K123: 17.634446 | L123: 21.404309 | M123: 22.759023 | N123: 23.164837 | O123: 22.652636 | P123: 22.071799 | Q123: 20.951308 | R123: 0 | S123: 23.164837
B124: Construction Management | C124: =SUM(C126) -> 31.051429 | D124: =SUM(D126) -> 35.401374 | E124: =SUM(E126) -> 25.443495 | F124: =SUM(F126) -> 34.24535 | G124: =SUM(G126) -> 43.217338 | H124: =SUM(H126) -> 31.009491 | I124: =SUM(I126) -> 24.623457 | J124: =SUM(J126) -> 28.793863 | ... R124: =SUM(R126) -> 47.415786 | S124: =MAX(C124:R124) -> 52.130071
B126: Construction Manager | C126: 31.051429 | D126: 35.401374 | E126: 25.443495 | F126: 34.24535 | G126: 43.217338 | H126: 31.009491 | I126: 24.623457 | J126: 28.793863 | K126: 32.71284 | L126: 40.927937 | M126: 48.640177 | N126: 51.55344 | O126: 52.130071 | P126: 50.558643 | Q126: 48.987214 | R126: 47.415786 | S126: 52.130071
B127: Civil Crew | C127: =SUM(C129:C132) -> 422.29943 | D127: =SUM(D129:D132) -> 481.45869 | E127: =SUM(E129:E132) -> 346.03153 | F127: =SUM(F129:F132) -> 465.73676 | G127: =SUM(G129:G132) -> 587.75579 | H127: =SUM(H129:H132) -> 421.72908 | I127: =SUM(I129:I132) -> 334.87902 | J127: =SUM(J129:J132) -> 391.59653 | ... R127: =SUM(R129:R132) -> 644.85469 | S127: =MAX(C127:R127) -> 708.96897
B129: Civil - Foreman | C129: 62.102857 | D129: 70.802748 | E129: 50.886989 | F129: 68.4907 | G129: 86.434675 | H129: 62.018982 | I129: 49.246914 | J129: 57.587726 | K129: 65.42568 | L129: 81.855874 | M129: 97.280354 | N129: 103.10688 | O129: 104.26014 | P129: 101.11729 | Q129: 97.974429 | R129: 94.831571 | S129: 104.26014
B130: Civil - Backhoe Operator | C130: 62.102857 | D130: 70.802748 | E130: 50.886989 | F130: 68.4907 | G130: 86.434675 | H130: 62.018982 | I130: 49.246914 | J130: 57.587726 | K130: 65.42568 | L130: 81.855874 | M130: 97.280354 | N130: 103.10688 | O130: 104.26014 | P130: 101.11729 | Q130: 97.974429 | R130: 94.831571 | S130: 104.26014
B131: Civil - Construction Operator | C131: 111.78514 | D131: 127.44495 | E131: 91.596581 | F131: 123.28326 | G131: 155.58242 | H131: 111.63417 | I131: 88.644446 | J131: 103.65791 | K131: 117.76622 | L131: 147.34057 | M131: 175.10464 | N131: 185.59238 | O131: 187.66826 | P131: 182.01111 | Q131: 176.35397 | R131: 170.69683 | S131: 187.66826
B132: Civil - Utility Worker | C132: 186.30857 | D132: 212.40825 | E132: 152.66097 | F132: 205.4721 | G132: 259.30403 | H132: 186.05695 | I132: 147.74074 | J132: 172.76318 | K132: 196.27704 | L132: 245.56762 | M132: 291.84106 | N132: 309.32064 | O132: 312.78043 | P132: 303.35186 | Q132: 293.92329 | R132: 284.49471 | S132: 312.78043
B133: Electrical Crew | C133: =SUM(C135:C137) -> 49.682286 | D133: =SUM(D135:D137) -> 56.642199 | E133: =SUM(E135:E137) -> 40.709591 | F133: =SUM(F135:F137) -> 54.79256 | G133: =SUM(G135:G137) -> 69.14774 | H133: =SUM(H135:H137) -> 49.615186 | I133: =SUM(I135:I137) -> 39.397531 | J133: =SUM(J135:J137) -> 46.070181 | ... R133: =SUM(R135:R137) -> 75.865257 | S133: =MAX(C133:R133) -> 83.408114
B135: Electrical - Foreman | C135: 12.420571 | D135: 14.16055 | E135: 10.177398 | F135: 13.69814 | G135: 17.286935 | H135: 12.403796 | I135: 9.8493829 | J135: 11.517545 | K135: 13.085136 | L135: 16.371175 | M135: 19.456071 | N135: 20.621376 | O135: 20.852029 | P135: 20.223457 | Q135: 19.594886 | R135: 18.966314 | S135: 20.852029
B136: Electrical - Journeyman Lineman | C136: 24.841143 | D136: 28.321099 | E136: 20.354796 | F136: 27.39628 | G136: 34.57387 | H136: 24.807593 | I136: 19.698766 | J136: 23.03509 | K136: 26.170272 | L136: 32.74235 | M136: 38.912142 | N136: 41.242752 | O136: 41.704057 | P136: 40.446914 | Q136: 39.189771 | R136: 37.932629 | S136: 41.704057
B137: Electrical - Groundman/Apprentices | C137: 12.420571 | D137: 14.16055 | E137: 10.177398 | F137: 13.69814 | G137: 17.286935 | H137: 12.403796 | I137: 9.8493829 | J137: 11.517545 | K137: 13.085136 | L137: 16.371175 | M137: 19.456071 | N137: 20.621376 | O137: 20.852029 | P137: 20.223457 | Q137: 19.594886 | R137: 18.966314 | S137: 20.852029
B138: Post Construction | C138: =SUM(C140:C141) -> 6.0037413 | D138: =SUM(D140:D141) -> 6.844796 | E138: =SUM(E140:E141) -> 4.9194567 | F138: =SUM(F140:F141) -> 7.4499867 | G138: =SUM(G140:G141) -> 8.3559993 | H138: =SUM(H140:H141) -> 5.9956328 | I138: =SUM(I140:I141) -> 4.7609039 | J138: =SUM(J140:J141) -> 5.5672448 | ... R138: =SUM(R140:R141) -> 9.1677621 | S138: =MAX(C138:R138) -> 10.079261
B140: Clerical | C140: 4.0228013 | D140: 4.5863492 | E140: 3.2962774 | F140: 4.9918567 | G140: 5.5989296 | H140: 4.0173682 | I140: 3.1900392 | J140: 3.7303272 | K140: 4.2380419 | L140: 5.3023312 | M140: 6.3014739 | N140: 6.6788955 | O140: 6.7535997 | P140: 6.5500167 | Q140: 6.3464336 | R140: 6.1428505 | S140: 6.7535997
B141: Mapping | C141: 1.98094 | D141: 2.2584468 | E141: 1.6231793 | F141: 2.45813 | G141: 2.7570697 | H141: 1.9782646 | I141: 1.5708646 | J141: 1.8369176 | K141: 2.0869305 | L141: 2.6110164 | M141: 3.1030222 | N141: 3.2888751 | O141: 3.3256616 | P141: 3.2254116 | Q141: 3.1251616 | R141: 3.0249116 | S141: 3.3256616
