Workbook
Name _Toc143763478: Assumptions!$B$8
Name IQ_CH: 110000
Name IQ_CQ: 5000
Name IQ_CY: 10000
Name IQ_DAILY: 500000
Name IQ_FH: 100000
Name IQ_FQ: 500
Name IQ_FY: 1000
Name IQ_LTM: 2000
Name IQ_MONTH: 15000
Name IQ_NTM: 6000
Name IQ_WEEK: 50000
Name IQ_YTD: 3000
Name SAPCrosstab1: #REF!
Name SAPCrosstab2: #REF!
Name SAPCrosstab4: #REF!
Name SAPCrosstab5: #REF!
Name SAPCrosstab6: #REF!
Name SAPCrosstab7: #REF!
Name TASKRSRC: #REF!
Name TASKRSRC: #REF!
Name USERDATA: #REF!
Name USERDATA: #REF!

Sheet EUP Summary View
B1: Workpaper 007
B2: Pacific Gas and Electric Company
B3: Electrical Undergrounding Program
B4: Undergrounding Resource Model
B6: Programmmatic Forecast - Required Effort to Deliver Planned Miles EUP Summary View: Chapter 5 Section 2 Summary of Resources
B7: Resourcing Teams | C7: Yearly Max Head Count (2028-2037)
B8: Project Management | C8: =CEILING(MAX('Program Wide View'!I73:R73),1) -> 162
B9: Scoping | C9: =CEILING(MAX('Program Wide View'!I78:R78),1) -> 25
B10: Estimating | C10: =CEILING(MAX('Program Wide View'!I86:R86),1) -> 50
B11: Customer Outreach | C11: =CEILING(MAX('Program Wide View'!I91:R91),1) -> 37
B12: Encroachment | C12: =CEILING(MAX('Program Wide View'!I94:R94),1) -> 111
B13: Land | C13: =CEILING(MAX('Program Wide View'!I99:R99),1) -> 477
B14: Environmental | C14: =CEILING(MAX('Program Wide View'!I112:R112),1) -> 319
B15: Construction Management | C15: =CEILING(MAX('Program Wide View'!I124:R124),1) -> 53
B16: Civil Construction | C16: =CEILING(MAX('Program Wide View'!I127:R127),1) -> 709
B17: Electric Construction | C17: =CEILING(MAX('Program Wide View'!I133:R133),1) -> 84
B18: Post-Construction | C18: =CEILING(MAX('Program Wide View'!I138:R138),1) -> 11

Sheet Assumptions
A1: Workpaper 007
A2: Pacific Gas and Electric Company
A3: Electrical Undergrounding Program
A4: Undergrounding Resource Model
A5: Assumptions
B8: Key Assumptions Used to Build the Resource Model
B9: Project Size | C9: The resource model uses a miles-based approach to determine the required effort to deliver one mile of undergrounding (FTE/mile). Project size and difficulty have been consolidated and incorporated into the outputs from the productivity analysis and inform productivity rates.
B10: Annual Mileage Target | C10: The annual mileage targets are based on the overall program strategy as filed in the EUP. As planning scenarios are evaluated and implemented, the modeled mileage trajectory can be revised.
B11: Construction Seasonality | C11: Construction Seasonality was developed using the available construction schedule information and aggregates underground miles based on when construction starts and finishes in terms of months, regardless of the year of construction.
B12: Schedule | C12: The schedule assumptions are based on undergrounding project phase data (e.g. scoping, dependencies, construction etc., referred to as Workstream Progression data) developed by the Program to set non-construction target miles and is aligned with construction target miles.

Sheet Program Wide View
A1: Workpaper 007
A2: Pacific Gas and Electric Company
A3: Electrical Undergrounding Program
A4: Undergrounding Resource Model
A5: Program Wide View
A8: EUP Programmmatic Forecast - Required Effort to Deliver Planned Miles
A9: Dashboard
B10: Table C1: Mile Target - Input
C11: 2022 | D11: 2023 | E11: 2024 | F11: 2025 | G11: 2026 | H11: 2027 | I11: 2028 | J11: 2029 | K11: 2030 | L11: 2031 | M11: 2032 | N11: 2033 | O11: 2034 | P11: 2035 | Q11: 2036 | R11: 2037 | S11: Total | U11: 2024 | V11: 2025 | W11: 2026 | X11: 2027 | Y11: 2028 | Z11: 2029 | AA11: 2030 | AB11: 2031
B12: Construction - Target Miles | C12: 247 | D12: 285.1 | E12: 213.9 | F12: 306.5 | G12: 417 | H12: 307 | I12: 250 | J12: 300 | K12: 350 | L12: 450 | M12: 550 | N12: 600 | O12: 625 | P12: 625 | Q12: 625 | R12: 625 | S12: 6776.5
B30: Table C2: Dependencies Mile Target - Based on Workstream Progression
C31: 2022 | D31: 2023 | E31: 2024 | F31: 2025 | G31: 2026 | H31: 2027 | I31: 2028 | J31: 2029 | K31: 2030 | L31: 2031 | M31: 2032 | N31: 2033 | O31: 2034 | P31: 2035 | Q31: 2036 | R31: 2037 | S31: Total
B32: Scoping - Target Miles | C32: 247 | D32: 366.66667 | E32: 463.90909 | F32: 448 | G32: 507 | H32: 292 | I32: 396 | J32: 422 | K32: 580 | L32: 625 | M32: 670 | N32: 684 | O32: 580 | P32: 580 | Q32: 0 | R32: 0 | S32: 6861.5758
B33: Estimating - Target Miles | C33: 247 | D33: 322.22222 | E33: 320 | F33: 401 | G33: 308 | H33: 291 | I33: 359 | J33: 405 | K33: 555 | L33: 625 | M33: 658 | N33: 675 | O33: 595 | P33: 595 | Q33: 504 | R33: 0 | S33: 6860.2222
B34: Permitting - Target Miles | C34: 247 | D34: 305.55556 | E34: 319 | F34: 400 | G34: 245 | H34: 291 | I34: 336 | J34: 375 | K34: 478 | L34: 594 | M34: 647 | N34: 675 | O34: 677 | P34: 677 | Q34: 660 | R34: 0 | S34: 6926.5556
B71: Table C3: Resource Needs Based on Mile Targets
B72: Resourcing (FTEs) | C72: 2022 | D72: 2023 | E72: 2024 | F72: 2025 | G72: 2026 | H72: 2027 | I72: 2028 | J72: 2029 | K72: 2030 | L72: 2031 | M72: 2032 | N72: 2033 | O72: 2034 | P72: 2035 | Q72: 2036 | R72: 2037 | S72: MAX | W72: Cevelop moCel baseC on hours rather than per mile? | Z72: prob not - neeC to figure out
B73: Project Management | C73: =SUM(C75:C77) -> 117.87587 | D73: =SUM(D75:D77) -> 108.05288 | E73: =SUM(E75:E77) -> 133.97503 | F73: =SUM(F75:F77) -> 126.74013 | G73: =SUM(G75:G77) -> 140.4432 | H73: =SUM(H75:H77) -> 79.165432 | I73: =SUM(I75:I77) -> 105.0274 | J73: =SUM(J75:J77) -> 109.43596 | ... R73: =SUM(R75:R77) -> 132.61035 | S73: =MAX(C73:R73) -> 161.9025 | W73: Internal vs external
B75: Associate Project Manager | C75: 50 | D75: 45.833333 | E75: 56.828864 | F75: 53.76 | G75: 59.5725 | H75: 33.58 | I75: 44.55 | J75: 46.42 | K75: 62.35 | L75: 65.625 | M75: 68.675 | N75: 68.4 | O75: 66.0075 | P75: 64.315 | Q75: 61.05 | R75: 56.25 | S75: 68.675 | W75: resource planning
B76: Journey Project Manager | C76: 30.769231 | D76: 28.205128 | E76: 34.971608 | F76: 33.083077 | G76: 36.66 | H76: 20.664615 | I76: 27.415385 | J76: 28.566154 | K76: 38.369231 | L76: 40.384615 | M76: 42.261538 | N76: 42.092308 | O76: 40.62 | P76: 39.578462 | Q76: 37.569231 | R76: 34.615385 | S76: 42.261538 | W76: Cevelpo assumption list
B77: Project Controls Analyst | C77: 37.106636 | D77: 34.014417 | E77: 42.17456 | F77: 39.897055 | G77: 44.210702 | H77: 24.920817 | I77: 33.062013 | J77: 34.449801 | K77: 46.271975 | L77: 48.70246 | M77: 50.965965 | N77: 50.761878 | O77: 48.986326 | P77: 47.730266 | Q77: 45.307203 | R77: 41.744966 | S77: 50.965965
B78: Scoping | C78: =SUM(C80:C85) -> 17.565217 | D78: =SUM(D80:D85) -> 16.101449 | E78: =SUM(E80:E85) -> 19.964227 | F78: =SUM(F80:F85) -> 18.886122 | G78: =SUM(G80:G85) -> 20.928078 | H78: =SUM(H80:H85) -> 11.7968 | I78: =SUM(I80:I85) -> 15.650609 | J78: =SUM(J80:J85) -> 16.307548 | ... R78: =SUM(R80:R85) -> 0 | S78: =MAX(C78:R78) -> 24.125826
B80: Scoping Lead - Project Manager | C80: 0.43478261 | D80: 0.39855072 | E80: 0.49416403 | F80: 0.46747826 | G80: 0.51802174 | H80: 0.292 | I80: 0.3873913 | J80: 0.40365217 | K80: 0.54217391 | L80: 0.57065217 | M80: 0.59717391 | N80: 0.59478261 | O80: 0.49173913 | P80: 0.47913043 | Q80: 0 | R80: 0 | S80: 0.59717391
B81: Grid Design Team | C81: 13.913043 | D81: 12.753623 | E81: 15.813249 | F81: 14.959304 | G81: 16.576696 | H81: 9.344 | I81: 12.396522 | J81: 12.91687 | K81: 17.349565 | L81: 18.26087 | M81: 19.109565 | N81: 19.033043 | O81: 15.735652 | P81: 15.332174 | Q81: 0 | R81: 0 | S81: 19.109565
B82: Construction Manager | C82: 1.9565217 | D82: 1.7934783 | E82: 2.2237381 | F82: 2.1036522 | G82: 2.3310978 | H82: 1.314 | I82: 1.7432609 | J82: 1.8164348 | K82: 2.4397826 | L82: 2.5679348 | M82: 2.6872826 | N82: 2.6765217 | O82: 2.2128261 | P82: 2.156087 | Q82: 0 | R82: 0 | S82: 2.6872826
B83: ADE / Estimating Support | C83: 0.17391304 | D83: 0.15942029 | E83: 0.19766561 | F83: 0.1869913 | G83: 0.2072087 | H83: 0.1168 | I83: 0.15495652 | J83: 0.16146087 | K83: 0.21686957 | L83: 0.22826087 | M83: 0.23886957 | N83: 0.23791304 | O83: 0.19669565 | P83: 0.19165217 | Q83: 0 | R83: 0 | S83: 0.23886957
B84: SME Reviews | C84: 0.43478261 | D84: 0.39855072 | E84: 0.49416403 | F84: 0.46747826 | G84: 0.51802174 | H84: 0.292 | I84: 0.3873913 | J84: 0.40365217 | K84: 0.54217391 | L84: 0.57065217 | M84: 0.59717391 | N84: 0.59478261 | O84: 0.49173913 | P84: 0.47913043 | Q84: 0 | R84: 0 | S84: 0.59717391
B85: Administrative | C85: 0.65217391 | D85: 0.59782609 | E85: 0.74124605 | F85: 0.70121739 | G85: 0.77703261 | H85: 0.438 | I85: 0.58108696 | J85: 0.60547826 | K85: 0.81326087 | L85: 0.85597826 | M85: 0.89576087 | N85: 0.89217391 | O85: 0.7376087 | P85: 0.71869565 | Q85: 0 | R85: 0 | S85: 0.89576087
B86: Estimating | C86: =SUM(C88:C90) -> 36.970419 | D86: =SUM(D88:D90) -> 29.781726 | E86: =SUM(E88:E90) -> 28.984808 | F86: =SUM(F88:F90) -> 35.580331 | G86: =SUM(G88:G90) -> 26.759189 | H86: =SUM(H88:H90) -> 24.744301 | I86: =SUM(I88:I90) -> 29.862856 | J86: =SUM(J88:J90) -> 32.940643 | ... R86: =SUM(R88:R90) -> 0 | S86: =MAX(C86:R86) -> 49.910065
B88: Estimator | C88: 23.520935 | D88: 18.94742 | E88: 18.440413 | F88: 22.636548 | G88: 17.024453 | H88: 15.742562 | I88: 18.999035 | J88: 20.957153 | K88: 28.066356 | L88: 30.871227 | M88: 31.727389 | N88: 31.753262 | O88: 27.290165 | P88: 26.590417 | Q88: 21.93092 | R88: 0 | S88: 31.753262
B89: ADE | C89: 12.811892 | D89: 10.320691 | E89: 10.044523 | F89: 12.330165 | G89: 9.2732472 | H89: 8.5749991 | I89: 10.348806 | J89: 11.415395 | K89: 15.28779 | L89: 16.815608 | M89: 17.281961 | N89: 17.296054 | O89: 14.864997 | P89: 14.483844 | Q89: 11.945808 | R89: 0 | S89: 17.296054
B90: Civil Engineer | C90: 0.6375919 | D90: 0.5136157 | E90: 0.49987205 | F90: 0.61361845 | G90: 0.46148902 | H90: 0.42674026 | I90: 0.51501486 | J90: 0.56809439 | K90: 0.76080654 | L90: 0.83683937 | M90: 0.86004772 | N90: 0.86074907 | O90: 0.73976601 | P90: 0.72079765 | Q90: 0.59449069 | R90: 0 | S90: 0.86074907
B91: Customer Outreach | C91: =SUM(C93) -> 20.907333 | D91: =SUM(D93) -> 15.686 | E91: =SUM(E93) -> 22.027133 | F91: =SUM(F93) -> 29.3568 | G91: =SUM(G93) -> 21.162533 | H91: =SUM(H93) -> 16.866667 | I91: =SUM(I93) -> 19.8 | J91: =SUM(J93) -> 22.586667 | ... R91: =SUM(R93) -> 33 | S91: =MAX(C91:R91) -> 36.666667
B93: Outreach Representative | C93: 20.907333 | D93: 15.686 | E93: 22.027133 | F93: 29.3568 | G93: 21.162533 | H93: 16.866667 | I93: 19.8 | J93: 22.586667 | K93: 28.38 | L93: 33.88 | M93: 36.08 | N93: 36.666667 | O93: 35.75 | P93: 34.833333 | Q93: 33.916667 | R93: 33 | S93: 36.666667
B94: Encroachment (EPCW) | C94: =SUM(C96:C98) -> 81.947623 | D94: =SUM(D96:D98) -> 62.598879 | E94: =SUM(E96:E98) -> 64.046165 | F94: =SUM(F96:F98) -> 78.669718 | G94: =SUM(G96:G98) -> 47.181344 | H94: =SUM(H96:H98) -> 54.847544 | I94: =SUM(I96:I98) -> 61.952403 | J94: =SUM(J96:J98) -> 67.606789 | ... R94: =SUM(R96:R98) -> 0 | S94: =MAX(C94:R94) -> 110.62929
B96: Permit Facilitator | C96: 25.157042 | D96: 19.217185 | E96: 19.661486 | F96: 24.15076 | G96: 14.484167 | H96: 16.837608 | I96: 19.018723 | J96: 20.754559 | K96: 25.853892 | L96: 31.380894 | M96: 33.367042 | N96: 33.962006 | O96: 33.211068 | P96: 32.359503 | Q96: 30.716748 | R96: 0 | S96: 33.962006
B97: Traffic Engineer | C97: 38.452473 | D97: 29.373417 | E97: 30.05253 | F97: 36.914374 | G97: 22.139011 | H97: 25.73624 | I97: 29.070069 | J97: 31.72329 | K97: 39.517606 | L97: 47.965615 | M97: 51.001437 | N97: 51.910838 | O97: 50.763032 | P97: 49.461416 | Q97: 46.950469 | R97: 0 | S97: 51.910838
B98: Agency Liaison | C98: 18.338109 | D98: 14.008278 | E98: 14.332149 | F98: 17.604585 | G98: 10.558166 | H98: 12.273696 | I98: 13.86361 | J98: 15.12894 | K98: 18.846074 | L98: 22.874957 | M98: 24.322751 | N98: 24.756447 | O98: 24.209054 | P98: 23.588309 | Q98: 22.390831 | R98: 0 | S98: 24.756447
B99: Land | C99: =SUM(C101:C111) -> 352.89627 | D99: =SUM(D101:D111) -> 269.57354 | E99: =SUM(E101:E111) -> 275.80608 | F99: =SUM(F101:F111) -> 338.78041 | G99: =SUM(G101:G111) -> 203.18002 | H99: =SUM(H101:H111) -> 236.19347 | I99: =SUM(I101:I111) -> 266.78958 | J99: =SUM(J101:J111) -> 291.13942 | ... R99: =SUM(R101:R111) -> 0 | S99: =MAX(C99:R99) -> 476.40996
B101: Land Surveyor | C101: 31.885402 | D101: 24.356904 | E101: 24.920036 | F101: 30.609986 | G101: 18.35802 | H101: 21.340899 | I101: 24.105364 | J101: 26.305456 | K101: 32.768627 | L101: 39.77385 | M101: 42.291203 | N101: 43.045292 | O101: 42.093513 | P101: 41.014192 | Q101: 38.932076 | R101: 0 | S101: 43.045292
...
