Workbook

Sheet Overview
A1: Spatial Data Status Report - v4.1 - Overview
A2: Dataset | B2: Feature Class or Table | C2: Submitted (Yes/No) | D2: Reason | E2: Availability Explanation | F2: Locations Confidential? (Yes/No) | G2: Metadata Included (Yes/No)? | H2: Metadata Absence Explanation | I2: Data Procurement Actions | J2: Estimated Delivery
A3: Asset Point | B3: Camera | C3: Yes | D3: N/A | E3: N/A | F3: No | G3: Yes | H3: N/A | I3: N/A | J3: N/A
B4: Connection Device | C4: Yes | D4: N/A | E4: N/A | F4: Yes | G4: Yes | H4: N/A | I4: N/A | J4: N/A
B5: Customer Meter | C5: Yes | D5: N/A | E5: N/A | F5: Yes | G5: Yes | H5: N/A | I5: N/A | J5: N/A
B6: Fuse | C6: Yes | D6: N/A | E6: N/A | F6: Yes | G6: Yes | H6: N/A | I6: N/A | J6: N/A
B7: Lightning Arrester | C7: Yes | D7: N/A | E7: N/A | F7: Yes | G7: Yes | H7: N/A | I7: N/A | J7: N/A
B8: Substation | C8: Yes | D8: N/A | E8: N/A | F8: Yes | G8: Yes | H8: N/A | I8: N/A | J8: N/A
B9: Support Structure | C9: Yes | D9: N/A | E9: N/A | F9: Yes | G9: Yes | H9: N/A | I9: N/A | J9: N/A
B10: Support Structure Detail | C10: Yes | D10: N/A | E10: N/A | F10: N/A | G10: Yes | H10: N/A | I10: N/A | J10: N/A
B11: Switchgear | C11: Yes | D11: N/A | E11: N/A | F11: Yes | G11: Yes | H11: N/A | I11: N/A | J11: N/A
B12: Transformer Site | C12: Yes | D12: N/A | E12: N/A | F12: Yes | G12: Yes | H12: N/A | I12: N/A | J12: N/A
B13: Transformer Detail | C13: Yes | D13: N/A | E13: N/A | F13: N/A | G13: Yes | H13: N/A | I13: N/A | J13: N/A
B14: Weather Station | C14: Yes | D14: N/A | E14: N/A | F14: No | G14: Yes | H14: N/A | I14: N/A | J14: N/A
A16: Asset Line | B16: Transmission Line | C16: Yes | D16: N/A | E16: N/A | F16: Yes | G16: Yes | H16: N/A | I16: N/A | J16: N/A
B17: Transmission Line Detail | C17: Yes | D17: N/A | E17: N/A | F17: N/A | G17: Yes | H17: N/A | I17: N/A | J17: N/A
B18: Primary Distribution Line | C18: Yes | D18: N/A | E18: N/A | F18: Yes | G18: Yes | H18: N/A | I18: N/A | J18: N/A
B19: Secondary Distribution Line | C19: Yes | D19: N/A | E19: N/A | F19: Yes | G19: Yes | H19: N/A | I19: N/A | J19: N/A
A21: PSPS Event | B21: PSPS Event Log | C21: No | D21: Not relevant for the reporting quarter | F21: N/A
B22: PSPS Event Line | C22: No | D22: Not relevant for the reporting quarter
B23: PSPS Event Polygon | C23: No | D23: Not relevant for the reporting quarter
B24: PSPS Event Customer Meter Point | C24: No | D24: Not relevant for the reporting quarter
B25: PSPS Event Damage Point | C25: No | D25: Not relevant for the reporting quarter
B26: PSPS Event Conductor Damage Detail | C26: No | D26: Not relevant for the reporting quarter | F26: N/A
B27: PSPS Event Support Structure Damage Detail | C27: No | D27: Not relevant for the reporting quarter | F27: N/A
B28: PSPS Event Other Asset Damage Detail | C28: No | D28: Not relevant for the reporting quarter | F28: N/A
B29: PSPS Event Damage Photo Log | C29: No | D29: Not relevant for the reporting quarter | F29: N/A
F30: N/A
A31: Risk Event | B31: Wire Down Event | C31: Yes | D31: N/A | E31: N/A | F31: Yes | G31: Yes | H31: N/A | I31: N/A | J31: N/A
B32: Ignition | C32: Yes | D32: N/A | E32: N/A | F32: Yes | G32: Yes | H32: N/A | I32: N/A | J32: N/A
B33: Unplanned Outage | C33: Yes | D33: N/A | E33: N/A | F33: Yes | G33: Yes | H33: N/A | I33: N/A | J33: N/A
B34: Risk Event Photo Log | C34: Yes | D34: N/A | E34: N/A | F34: N/A | G34: Yes | H34: N/A | I34: N/A | J34: N/A
A36: Initiative | B36: Vegetation Inspection Point
B37: Vegetation Inspection Line
B38: Vegetation Inspection Polygon
B39: Vegetation Management Project Point
B40: Vegetation Management Project Line
B41: Vegetation Management Project Polygon
B42: Asset Inspection Point
B43: Asset Inspection Line
B44: Asset Inspection Polygon
B45: Grid Hardening Point
B46: Grid Hardening Line
B47: Other Initiative Point | C47: Yes | D47: N/A | E47: N/A | F47: Yes | G47: Yes | H47: N/A | I47: N/A | J47: N/A
B48: Other Initiative Line | C48: No | D48: Not relevant for the reporting quarter | E48: N/A | F48: Yes | G48: No | H48: Not relevant for the reporting quarter
B49: Other Initiative Polygon | C49: No | D49: Not relevant for the reporting quarter | E49: N/A | F49: Yes | G49: No | H49: Not relevant for the reporting quarter
B50: Initiative Audit Point | C50: Yes
B51: Initiative Audit Line | C51: No
B52: Initiative Audit Polygon | C52: No
B53: Initiative Photo Log | C53: Yes | F53: N/A
A55: Other Required Data | B55: Other Power Line Connection Location | C55: Yes | D55: N/A | E55: N/A | F55: Yes | G55: Yes | H55: N/A | I55: N/A | J55: N/A
B56: Critical Facility | C56: Yes | D56: N/A | E56: N/A | F56: Yes | G56: Yes | H56: N/A | I56: N/A | J56: N/A
B57: Red Flag Warning Day Polygon | C57: No | D57: Not relevant for the reporting quarter | E57: N/A | F57: No | G57: No | H57: Not relevant for the reporting quarter | I57: N/A | J57: N/A
B58: High Wind Warning Day Polygon | C58: Yes | D58: N/A | E58: N/A | F58: Yes | G58: Yes | H58: N/A | I58: N/A | J58: N/A
B59: Administrative Area | C59: Yes | D59: N/A | E59: N/A | F59: No | G59: Yes | H59: N/A | I59: N/A | J59: N/A
B60: Major Woody Stem Exempt Tree Points | C60: Yes | D60: N/A | E60: N/A | F60: No | G60: Yes | H60: N/A | I60: N/A | J60: N/A

Sheet Reasons
A1: No change since last submission | C1: Yes
A2: Not able to provide | C2: No
A3: Not relevant for the reporting quarter

Sheet Details
C1: Spatial Data Status Report - v4.1 - Details
A2: Dataset | B2: Feature Class / Table Name | C2: Field Name | D2: Provided in Current Submission | E2: Availability Explanation | F2: Data Procurement Actions | G2: Estimated Delivery | H2: Confidential
A3: Asset Line | B3: Primary Distribution Line | C3: SegmentID | J3: =CONCATENATE(SUBSTITUTE(B3," ",""),".",SUBSTITUTE(C3," ","")) -> PrimaryDistributionLine.SegmentID | K3: =J3=AB3 -> TRUE | L3: =_xlfn.XLOOKUP(J3,'Field Complete (Q1 2026)'!H:H,'Field Complete (Q1 2026)'!F:F,"") -> 0 | M3: Primary Distribution Line | N3: 1 | O3: SegmentID | P3: Segment ID | Q3: String(50) | S3: Unique ID of circuit segment. Must be a unique value that identifies this portion of the circuit and a traceable stable ID within the electrical corporation’s operations/processes. Primary Key for the feature class unless the electrical corporation does not uniquely identify segments with persistent IDs. This field is required IF the electrical corporation has persistent stable IDs for circuit segments. A segment may be anything more granular than a circuit, including a single span. | T3: No | U3: Where available, PG&E is providing CircuitID as the foreign key to the asset point features. The electrical corporation does not have persistent unique segment IDs. | V3: N/A - please see availability explanation | W3: N/A - please see availability explanation | X3: No | Y3: Optional | Z3: Yes | AB3: PrimaryDistributionLine.SegmentID
A4: Asset Line | B4: Primary Distribution Line | C4: CircuitID | J4: =CONCATENATE(SUBSTITUTE(B4," ",""),".",SUBSTITUTE(C4," ","")) -> PrimaryDistributionLine.CircuitID | K4: =J4=AB4 -> TRUE | L4: =_xlfn.XLOOKUP(J4,'Field Complete (Q1 2026)'!H:H,'Field Complete (Q1 2026)'!F:F,"") -> 0.9989 | M4: Primary Distribution Line | N4: 2 | O4: CircuitID | P4: Circuit ID | Q4: String(50) | S4: Unique ID for a specific circuit. Must be a traceable stable ID within the electrical corporation’s operations/processes. Primary Key for the feature class if the electrical corporation does not uniquely identify segments with persistent IDs. This field is required. | T4: Yes | U4: This attribute contains the majority of the required data. There are several potential reasons why this data may not be present. For example, data may have been mis-captured originally or it may not export, join, or otherwise translate as intended when preparing the FGDB. | V4: Majority of data is submitted for this field. PG&E's focus is currently on addressing larger data gaps and enhancements to reporting quality. Once these objectives are met, PG&E can re-assess actions needed for 100% complete data for this field | W4: Majority of data is submitted for this field. PG&E's focus is currently on addressing larger data gaps and enhancements to reporting quality. Once these objectives are met, PG&E can re-assess actions needed for 100% complete data for this field. PG&E is exploring long-term IT and process-oriented solutions to produce the OEIS GIS Standard, with the potential to connect formerly disparate data sources. | X4: No | Y4: Data provided | Z4: Yes | AA4: Use Object ID or GUID? Can Represent one span or collection of spans. | AB4: PrimaryDistributionLine.CircuitID
A5: Asset Line | B5: Primary Distribution Line | C5: UtilityID | J5: =CONCATENATE(SUBSTITUTE(B5," ",""),".",SUBSTITUTE(C5," ","")) -> PrimaryDistributionLine.UtilityID | K5: =J5=AB5 -> TRUE | L5: =_xlfn.XLOOKUP(J5,'Field Complete (Q1 2026)'!H:H,'Field Complete (Q1 2026)'!F:F,"") -> 1 | M5: Primary Distribution Line | N5: 3 | O5: UtilityID | P5: Utility ID | Q5: String(10) | R5: BVES; HWT; Liberty; LS Power; PacifiCorp; PG&E; SCE; SDG&E; TBC | S5: Standardized identification name of the electrical corporation. Possible values: ||BVES ||HWT ||Liberty ||LS Power ||PacifiCorp ||PG&E ||SCE ||SDG&E ||TBC ||This field is required. | T5: Yes | U5: N/A | V5: N/A | W5: N/A | X5: No | Y5: Data provided | Z5: Yes | AB5: PrimaryDistributionLine.UtilityID
A6: Asset Line | B6: Primary Distribution Line | C6: SubstationID | J6: =CONCATENATE(SUBSTITUTE(B6," ",""),".",SUBSTITUTE(C6," ","")) -> PrimaryDistributionLine.SubstationID | K6: =J6=AB6 -> TRUE | L6: =_xlfn.XLOOKUP(J6,'Field Complete (Q1 2026)'!H:H,'Field Complete (Q1 2026)'!F:F,"") -> 0.9986 | M6: Primary Distribution Line | N6: 4 | O6: SubstationID | P6: Substation ID | Q6: String(50) | S6: ID of substation associated with asset. Foreign key to the Substation feature. This field is required. | T6: Yes | U6: This attribute contains the majority of the required data. There are several potential reasons why this data may not be present. For example, data may have been mis-captured originally or it may not export, join, or otherwise translate as intended when preparing the FGDB. | V6: Majority of data is submitted for this field. PG&E's focus is currently on addressing larger data gaps and enhancements to reporting quality. Once these objectives are met, PG&E can re-assess actions needed for 100% complete data for this field | W6: Majority of data is submitted for this field. PG&E's focus is currently on addressing larger data gaps and enhancements to reporting quality. Once these objectives are met, PG&E can re-assess actions needed for 100% complete data for this field. PG&E is exploring long-term IT and process-oriented solutions to produce the OEIS GIS Standard, with the potential to connect formerly disparate data sources. | X6: Yes - Substation information are identified as confidential Physical facility, cyber-security sensitive, or critical energy infrastructure data protected from disclosure. (See 18 C.F.R. § 388.113, see also Govt. Code § 6254(k), (ab); 6 U.S.C. § 131; 6 CFR § 29.2.) | Y6: Data provided | Z6: Yes | AB6: PrimaryDistributionLine.SubstationID
A7: Asset Line | B7: Primary Distribution Line | C7: CircuitName | J7: =CONCATENATE(SUBSTITUTE(B7," ",""),".",SUBSTITUTE(C7," ","")) -> PrimaryDistributionLine.CircuitName | K7: =J7=AB7 -> TRUE | L7: =_xlfn.XLOOKUP(J7,'Field Complete (Q1 2026)'!H:H,'Field Complete (Q1 2026)'!F:F,"") -> 0.9989 | M7: Primary Distribution Line | N7: 5 | O7: CircuitName | P7: Circuit Name | Q7: String(255) | S7: Name of circuit associated with asset. Leave null if there is no unique circuit name that is different than the circuit ID. There is no need to repeat CircuitID values in this field. This field is optional. | T7: Yes | U7: This attribute contains the majority of the required data. There are several potential reasons why this data may not be present. For example, data may have been mis-captured originally or it may not export, join, or otherwise translate as intended when preparing the FGDB. | V7: Majority of data is submitted for this field. PG&E's focus is currently on addressing larger data gaps and enhancements to reporting quality. Once these objectives are met, PG&E can re-assess actions needed for 100% complete data for this field | W7: Majority of data is submitted for this field. PG&E's focus is currently on addressing larger data gaps and enhancements to reporting quality. Once these objectives are met, PG&E can re-assess actions needed for 100% complete data for this field. PG&E is exploring long-term IT and process-oriented solutions to produce the OEIS GIS Standard, with the potential to connect formerly disparate data sources. | X7: No | Y7: Data provided | Z7: Yes | AB7: PrimaryDistributionLine.CircuitName
A8: Asset Line | B8: Primary Distribution Line | C8: ConductorType | J8: =CONCATENATE(SUBSTITUTE(B8," ",""),".",SUBSTITUTE(C8," ","")) -> PrimaryDistributionLine.ConductorType | K8: =J8=AB8 -> TRUE | L8: =_xlfn.XLOOKUP(J8,'Field Complete (Q1 2026)'!H:H,'Field Complete (Q1 2026)'!F:F,"") -> 0.999 | M8: Primary Distribution Line | N8: 6 | O8: ConductorType | P8: Conductor Type | Q8: String(30) | R8: Bare; Covered; Insulated; Other, see comment | S8: Type of conductor. Possible values: ||Bare ||Covered ||Insulated ||Other, see comment ||This field is required. | T8: Yes | U8: This attribute contains the majority of the required data. There are several potential reasons why this data may not be present. For example, data may have been mis-captured originally or it may not export, join, or otherwise translate as intended when preparing the FGDB. | V8: GIS and Asset subject matter experts familiar with distribution conductor should collaborate on the mapping and associated results to better understand the underlying cause for the partial data gap. The first step in such collaboration is to assess a sample of the lines for which conductor type data is missing. Data procurement actions are subject to the findings of this causal assessment In the interim, PG&E will adjust the scripts used to extract conductor type and will identify null values as "Unknown" | W8: Estimated delivery timeframe is dependent on the underlying cause of the partial data submission (see data procurement action and availability explanation) | X8: No | Y8: Data provided | Z8: Yes | AA8: Yes. Type of conductors indicated are only for OH, none for UG. | AB8: PrimaryDistributionLine.ConductorType
A9: Asset Line | B9: Primary Distribution Line | C9: ConductorTypeComment | J9: =CONCATENATE(SUBSTITUTE(B9," ",""),".",SUBSTITUTE(C9," ","")) -> PrimaryDistributionLine.ConductorTypeComment | K9: =J9=AB9 -> TRUE | L9: =_xlfn.XLOOKUP(J9,'Field Complete (Q1 2026)'!H:H,'Field Complete (Q1 2026)'!F:F,"") -> 0 | M9: Primary Distribution Line | N9: 7 | O9: ConductorTypeComment | P9: Conductor Type Comment | Q9: String(30) | S9: Conductor type not listed in the options above. This field is required IF ConductorType is “Other, see comment”. | T9: No | U9: No comments needed | V9: N/A | W9: N/A | X9: No | Y9: Optional | Z9: Yes | AB9: PrimaryDistributionLine.ConductorTypeComment
A10: Asset Line | B10: Primary Distribution Line | C10: AssetLocation | J10: =CONCATENATE(SUBSTITUTE(B10," ",""),".",SUBSTITUTE(C10," ","")) -> PrimaryDistributionLine.AssetLocation | K10: =J10=AB10 -> TRUE | L10: =_xlfn.XLOOKUP(J10,'Field Complete (Q1 2026)'!H:H,'Field Complete (Q1 2026)'!F:F,"") -> 1 | M10: Primary Distribution Line | N10: 8 | O10: AssetLocation | P10: Asset Location | Q10: String(20) | R10: Overhead; Underground | S10: Is the asset overhead or underground? Possible values: ||Overhead ||Underground || • XXX||This field is required. | T10: Yes | U10: N/A | V10: N/A | W10: N/A | X10: No | Y10: Data provided | Z10: Yes | AB10: PrimaryDistributionLine.AssetLocation
A11: Asset Line | B11: Primary Distribution Line | C11: NominalVoltagekV | J11: =CONCATENATE(SUBSTITUTE(B11," ",""),".",SUBSTITUTE(C11," ","")) -> PrimaryDistributionLine.NominalVoltagekV | K11: =J11=AB11 -> TRUE | L11: =_xlfn.XLOOKUP(J11,'Field Complete (Q1 2026)'!H:H,'Field Complete (Q1 2026)'!F:F,"") -> 0.9993 | M11: Primary Distribution Line | N11: 9 | O11: NominalVoltagekV | P11: Nominal Voltage (kV) | Q11: Single(4) | S11: Nominal voltage (in kilovolts) of conductor. Do not use more than two decimal places. This field is required. | T11: Yes | U11: This attribute contains the majority of the required data. There are several potential reasons why this data may not be present. For example, data may have been mis-captured originally or it may not export, join, or otherwise translate as intended when preparing the FGDB. | V11: Majority of data is submitted for this field. PG&E's focus is currently on addressing larger data gaps and enhancements to reporting quality. Once these objectives are met, PG&E can re-assess actions needed for 100% complete data for this field | W11: Majority of data is submitted for this field. PG&E's focus is currently on addressing larger data gaps and enhancements to reporting quality. Once these objectives are met, PG&E can re-assess actions needed for 100% complete data for this field. PG&E is exploring long-term IT and process-oriented solutions to produce the OEIS GIS Standard, with the potential to connect formerly disparate data sources. | X11: No | Y11: Data provided | Z11: Yes | AA11: Nominal Voltage field in Primary Overhead Conductor - GIS to verify UG portion of the response | AB11: PrimaryDistributionLine.NominalVoltagekV
A12: Asset Line | B12: Primary Distribution Line | C12: OperatingVoltagekV | J12: =CONCATENATE(SUBSTITUTE(B12," ",""),".",SUBSTITUTE(C12," ","")) -> PrimaryDistributionLine.OperatingVoltagekV | K12: =J12=AB12 -> TRUE | L12: =_xlfn.XLOOKUP(J12,'Field Complete (Q1 2026)'!H:H,'Field Complete (Q1 2026)'!F:F,"") -> 0.9995 | M12: Primary Distribution Line | N12: 10 | O12: OperatingVoltagekV | P12: Operating Voltage (kV) | Q12: Single(4) | S12: Operating voltage (in kilovolts) of conductor. Do not use more than two decimal places. ||This field is required. | T12: Yes | U12: This attribute contains the majority of the required data. There are several potential reasons why this data may not be present. For example, data may have been mis-captured originally or it may not export, join, or otherwise translate as intended when preparing the FGDB. | V12: Majority of data is submitted for this field. PG&E's focus is currently on addressing larger data gaps and enhancements to reporting quality. Once these objectives are met, PG&E can re-assess actions needed for 100% complete data for this field | W12: Majority of data is submitted for this field. PG&E's focus is currently on addressing larger data gaps and enhancements to reporting quality. Once these objectives are met, PG&E can re-assess actions needed for 100% complete data for this field. PG&E is exploring long-term IT and process-oriented solutions to produce the OEIS GIS Standard, with the potential to connect formerly disparate data sources. | X12: No | Y12: Data provided | Z12: Yes | AA12: May need GIS to do trace function to cross check operating voltage of source side protective device. | AB12: PrimaryDistributionLine.OperatingVoltagekV
A13: Asset Line | B13: Primary Distribution Line | C13: SubstationName | J13: =CONCATENATE(SUBSTITUTE(B13," ",""),".",SUBSTITUTE(C13," ","")) -> PrimaryDistributionLine.SubstationName | K13: =J13=AB13 -> TRUE | L13: =_xlfn.XLOOKUP(J13,'Field Complete (Q1 2026)'!H:H,'Field Complete (Q1 2026)'!F:F,"") -> 0.9989 | M13: Primary Distribution Line | N13: 11 | O13: SubstationName | P13: Substation Name | Q13: String(50) | S13: Name of substation associated with asset. This field is optional. | T13: Yes | U13: This attribute contains the majority of the required data. There are several potential reasons why this data may not be present. For example, data may have been mis-captured originally or it may not export, join, or otherwise translate as intended when preparing the FGDB. | V13: Majority of data is submitted for this field. PG&E's focus is currently on addressing larger data gaps and enhancements to reporting quality. Once these objectives are met, PG&E can re-assess actions needed for 100% complete data for this field | W13: Majority of data is submitted for this field. PG&E's focus is currently on addressing larger data gaps and enhancements to reporting quality. Once these objectives are met, PG&E can re-assess actions needed for 100% complete data for this field. PG&E is exploring long-term IT and process-oriented solutions to produce the OEIS GIS Standard, with the potential to connect formerly disparate data sources. | X13: Yes - Substation information are identified as confidential Physical facility, cyber-security sensitive, or critical energy infrastructure data protected from disclosure. (See 18 C.F.R. § 388.113, see also Govt. Code § 6254(k), (ab); 6 U.S.C. § 131; 6 CFR § 29.2.) | Y13: Data provided | Z13: Yes | AB13: PrimaryDistributionLine.SubstationName
A14: Asset Line | B14: Primary Distribution Line | C14: ConductorMaterial | J14: =CONCATENATE(SUBSTITUTE(B14," ",""),".",SUBSTITUTE(C14," ","")) -> PrimaryDistributionLine.ConductorMaterial | K14: =J14=AB14 -> TRUE | L14: =_xlfn.XLOOKUP(J14,'Field Complete (Q1 2026)'!H:H,'Field Complete (Q1 2026)'!F:F,"") -> 0.999 | M14: Primary Distribution Line | N14: 12 | O14: ConductorMaterial | P14: Conductor Material | Q14: String(50) | R14: All aluminum conductor (AAC); All aluminum alloy conductor (AAAC); Aluminum conductor aluminum reinforced (ACAR); Aluminum conductor steel reinforced (ACSR); Aluminum conductor steel supported (ACSS); Copper (Cu); Other, see comment | S14: Conductor material. Possible values: ||All aluminum conductor (AAC) ||All aluminum alloy conductor (AAAC) ||Aluminum conductor aluminum reinforced (ACAR) ||Aluminum conductor steel reinforced (ACSR) ||Aluminum conductor steel supported (ACSS) ||Copper (Cu) ||Other, see comment ||This field is required. | T14: Yes | U14: This attribute contains the majority of the required data. There are several potential reasons why this data may not be present. For example, data may have been mis-captured originally or it may not export, join, or otherwise translate as intended when preparing the FGDB. | V14: Majority of data is submitted for this field. PG&E's focus is currently on addressing larger data gaps and enhancements to reporting quality. Once these objectives are met, PG&E can re-assess actions needed for 100% complete data for this field | W14: Majority of data is submitted for this field. PG&E's focus is currently on addressing larger data gaps and enhancements to reporting quality. Once these objectives are met, PG&E can re-assess actions needed for 100% complete data for this field. PG&E is exploring long-term IT and process-oriented solutions to produce the OEIS GIS Standard, with the potential to connect formerly disparate data sources. | X14: No | Y14: Data provided | Z14: Yes | AA14: Yes. Conductor materials here appear to be OH related, not UG. | AB14: PrimaryDistributionLine.ConductorMaterial
A15: Asset Line | B15: Primary Distribution Line | C15: ConductorMaterialComment | J15: =CONCATENATE(SUBSTITUTE(B15," ",""),".",SUBSTITUTE(C15," ","")) -> PrimaryDistributionLine.ConductorMaterialComment | K15: =J15=AB15 -> TRUE | L15: =_xlfn.XLOOKUP(J15,'Field Complete (Q1 2026)'!H:H,'Field Complete (Q1 2026)'!F:F,"") -> 0 | M15: Primary Distribution Line | N15: 13 | O15: ConductorMaterialComment | P15: Conductor Material Comment | Q15: String(50) | S15: Conductor material not listed in the options above. This field is required IF ConductorMaterial is “Other, see comment”. | T15: No | U15: PG&E was able to match all values to the possible values OEIS provided. As such, utilizing this comment field is not required and there is no need for data here. | V15: N/A | W15: N/A | X15: No | Y15: Optional | Z15: Yes | AA15: Yes. Assuming all UG conductor types available would be captured here? | AB15: PrimaryDistributionLine.ConductorMaterialComment
A16: Asset Line | B16: Primary Distribution Line | C16: ConductorSize | J16: =CONCATENATE(SUBSTITUTE(B16," ",""),".",SUBSTITUTE(C16," ","")) -> PrimaryDistributionLine.ConductorSize | K16: =J16=AB16 -> TRUE | L16: =_xlfn.XLOOKUP(J16,'Field Complete (Q1 2026)'!H:H,'Field Complete (Q1 2026)'!F:F,"") -> 0.9949 | M16: Primary Distribution Line | N16: 14 | O16: ConductorSize | P16: Conductor Size | Q16: String(30) | S16: Size of conductor (e.g., No. 4 Cu or 1/0 ACSR). This field is required. | T16: Yes | U16: This attribute contains the majority of the required data. There are several potential reasons why this data may not be present. For example, data may have been mis-captured originally or it may not export, join, or otherwise translate as intended when preparing the FGDB. | V16: Majority of data is submitted for this field. PG&E's focus is currently on addressing larger data gaps and enhancements to reporting quality. Once these objectives are met, PG&E can re-assess actions needed for 100% complete data for this field | W16: Majority of data is submitted for this field. PG&E's focus is currently on addressing larger data gaps and enhancements to reporting quality. Once these objectives are met, PG&E can re-assess actions needed for 100% complete data for this field. PG&E is exploring long-term IT and process-oriented solutions to produce the OEIS GIS Standard, with the potential to connect formerly disparate data sources. | X16: No | Y16: Data provided | Z16: Yes | AB16: PrimaryDistributionLine.ConductorSize
A17: Asset Line | B17: Primary Distribution Line | C17: ConductorOD | J17: =CONCATENATE(SUBSTITUTE(B17," ",""),".",SUBSTITUTE(C17," ","")) -> PrimaryDistributionLine.ConductorOD | K17: =J17=AB17 -> TRUE | L17: =_xlfn.XLOOKUP(J17,'Field Complete (Q1 2026)'!H:H,'Field Complete (Q1 2026)'!F:F,"") -> 0.9716 | M17: Primary Distribution Line | N17: 15 | O17: ConductorOD | P17: Conductor Overall Diameter (inches) | Q17: Single(4) | S17: Overall diameter of the conductor in inches. This field is required. | T17: Partial | U17: This attribute contains the majority of the required data. There are several potential reasons why this data may not be present. For example, data may have been mis-captured originally or it may not export, join, or otherwise translate as intended when preparing the FGDB. | V17: There is a request currently among the asset strategy team to integrate the overall diameter information into a centralized system of record. | W17: The request noted under 'Data procurement actions' will be compared with other key operational needs for prioritization purposes. As such, a timeframe for delivery cannot be provided at this time. | X17: No | Y17: Data provided | Z17: Yes | AA17: Lookup table referring to standards | AB17: PrimaryDistributionLine.ConductorOD
A18: Asset Line | B18: Primary Distribution Line | C18: LastInspectionDate | J18: =CONCATENATE(SUBSTITUTE(B18," ",""),".",SUBSTITUTE(C18," ","")) -> PrimaryDistributionLine.LastInspectionDate | K18: =J18=AB18 -> TRUE | L18: =_xlfn.XLOOKUP(J18,'Field Complete (Q1 2026)'!H:H,'Field Complete (Q1 2026)'!F:F,"") -> 0 | M18: Primary Distribution Line | N18: 16 | O18: LastInspectionDate | P18: Last Inspection Date | Q18: Date(8) | S18: Date of the last inspection. This field is required. | T18: No | U18: PG&E houses this data in its SAP system. However, the condensed timelines around the end of a reporting period to producing this FGDB submission proves challenging when trying to combine, join, and integrate data that lives across different record systems or in offline spreadsheets. All data needs to have a unique ID that it allows it to join with other datasets and this is not always possible due to PG&E's internal system architecture, which was established in alignment with operational needs. Additionally, the magnitude of data makes extractions more cumbersome. | V18: PG&E is exploring long-term IT and process-oriented solutions to produce the OEIS GIS Standard, with the objectives of improving submission quality while reducing the largely manual efforts experienced each quarter to meet this request. As an interim step, PG&E will be utilizing scripting codes to help with data extractions and transformation logic to join unique IDs across different record systems for select data where possible to do so. | W18: PG&E is taking actions to enhance the GIS Data Standard submission on a quarterly basis. The integration of this field will depend on developments to process and technology integration as noted under 'Data procurement actions'. | X18: No | Y18: Operational decision needed | Z18: Yes | AA18: Possibly, do we cross reference Inspection reports (i.e. inspections by plat map)? | AB18: PrimaryDistributionLine.LastInspectionDate
A19: Asset Line | B19: Primary Distribution Line | C19: LastMaintenanceDate | J19: =CONCATENATE(SUBSTITUTE(B19," ",""),".",SUBSTITUTE(C19," ","")) -> PrimaryDistributionLine.LastMaintenanceDate | K19: =J19=AB19 -> TRUE | L19: =_xlfn.XLOOKUP(J19,'Field Complete (Q1 2026)'!H:H,'Field Complete (Q1 2026)'!F:F,"") -> 0 | M19: Primary Distribution Line | N19: 17 | O19: LastMaintenanceDate | P19: Last Maintenance Date | Q19: Date(8) | S19: Date of the last maintenance. This field is required. | T19: No | U19: PG&E houses this data in its SAP system. However, the condensed timelines around the end of a reporting period to producing this FGDB submission proves challenging when trying to combine, join, and integrate data that lives across different record systems or in offline spreadsheets. All data needs to have a unique ID that it allows it to join with other datasets and this is not always possible due to PG&E's internal system architecture, which was established in alignment with operational needs. Additionally, the magnitude of data makes extractions more cumbersome. | V19: PG&E is exploring long-term IT and process-oriented solutions to produce the OEIS GIS Standard, with the objectives of improving submission quality while reducing the largely manual efforts experienced each quarter to meet this request. As an interim step, PG&E will be utilizing scripting codes to help with data extractions and transformation logic to join unique IDs across different record systems for select data where possible to do so. | W19: PG&E is taking actions to enhance the GIS Data Standard submission on a quarterly basis. The integration of this field will depend on developments to process and technology integration as noted under 'Data procurement actions'. | X19: No | Y19: Operational decision needed | Z19: Yes | AA19: "Maintenance" not done on OH conductor | AB19: PrimaryDistributionLine.LastMaintenanceDate
A20: Asset Line | B20: Primary Distribution Line | C20: InstallationDate | J20: =CONCATENATE(SUBSTITUTE(B20," ",""),".",SUBSTITUTE(C20," ","")) -> PrimaryDistributionLine.InstallationDate | K20: =J20=AB20 -> TRUE | L20: =_xlfn.XLOOKUP(J20,'Field Complete (Q1 2026)'!H:H,'Field Complete (Q1 2026)'!F:F,"") -> 0.7309 | M20: Primary Distribution Line | N20: 18 | O20: InstallationDate | P20: Installation Date | Q20: Date(8) | S20: Date the asset was installed. This field OR InstallationYear OR EstimatedAge is required. | T20: Partial | U20: Currently, for the majority of programs, when assets are replaced, this information is captured and stored in a centralized system of record. For certain assets, installation date, and other data attributes, were originally captured via paper format and later converted to electronic format. This introduced the potential for errors or other data gaps. For assets not recently replaced, gaps remain present primarily because specific paper records are 1) not easily locatable, or 2) certain data points were not required to be collected when the asset was installed. Until these assets are replaced or otherwise dated, PG&E will have gaps for this data field. | V20: PG&E will continue to update gaps that exist as assets are replaced. | W20: An estimated timeframe of when all assets with installation date gaps are replaced is unpredictable. | X20: No | Y20: Data provided | Z20: Yes | AA20: The installation date is not correct especially for equipment >5 years. Many dates will just display Jan 1 of that year. | AB20: PrimaryDistributionLine.InstallationDate
A21: Asset Line | B21: Primary Distribution Line | C21: InstallationYear | J21: =CONCATENATE(SUBSTITUTE(B21," ",""),".",SUBSTITUTE(C21," ","")) -> PrimaryDistributionLine.InstallationYear | K21: =J21=AB21 -> TRUE | L21: =_xlfn.XLOOKUP(J21,'Field Complete (Q1 2026)'!H:H,'Field Complete (Q1 2026)'!F:F,"") -> 0.7616 | M21: Primary Distribution Line | N21: 19 | O21: InstallationYear | P21: Installation Year | Q21: Integer(4) | S21: Year of asset installation. Use four digits. This field OR InstallationDate OR EstimatedAge is required. | T21: Partial | U21: Please see the Installation Date field for the explanation. The same explanation applies for the Installation Year attribute. | V21: The procurement action is to focus efforts on the collection of the Installation Date field. Collecting this data point will also yield the Installation Year attribute. Please see the data procurement actions provided under the Installation Date field. | W21: See the 'Estimated delivery timeframe' explanation provided under the Installation Date field name. | X21: No | Y21: Data provided | Z21: Yes | AA21: There are spikes in miles installed in 1986-1990 (both OH & UG), which is due to a data conversion error when PG&E transitioned from the DEDSA database to CEDSA. Records without an install year were assigned an install year of the current year of the data migration. There are also Null values due to conversion errors from CEDSA to EDGIS. Also data entry errors by Mapping. | AB21: PrimaryDistributionLine.InstallationYear
A22: Asset Line | B22: Primary Distribution Line | C22: EstimatedAge | J22: =CONCATENATE(SUBSTITUTE(B22," ",""),".",SUBSTITUTE(C22," ","")) -> PrimaryDistributionLine.EstimatedAge | K22: =J22=AB22 -> TRUE | L22: =_xlfn.XLOOKUP(J22,'Field Complete (Q1 2026)'!H:H,'Field Complete (Q1 2026)'!F:F,"") -> 0 | M22: Primary Distribution Line | N22: 20 | O22: EstimatedAge | P22: Estimated Age | Q22: String(10) | R22: 0-9; 10-19; 20-29; 30-39; 40-49; 50-59; 60-69; 70-79; 80-89; 90-99; 100+ | S22: The estimated age of the asset in years. Only use this field if the InstallationYear and InstallationDate values are unknown. Possible values: ||0-9 ||10-19 ||20-29 ||30-39 ||40-49 ||50-59 ||60-69 ||70-79 ||80-89 ||90-99 ||100+ ||This field OR InstallationDate OR InstallationYear is required. | T22: No | U22: This field name is used to estimate the age of the asset should installation date or year be unknown. However, when PG&E does not accurately know the installation date or year, this estimate would be subject to inaccuracies. Therefore, the value is unknown if installation date and year are null. | V22: The procurement is to focus efforts on the collection of the Installation Date field. Collecting that field would allow PG&E to provide the Installation Date and Year fields. Then, per OEIS GIS Data Standard requirement guidance, EstimatedAge would not be required for submission. Please see the installation date procurement actions provided under the Installation Date field name. | W22: See the 'Estimated delivery timeframe' explanation provided under the Installation Date field name. | X22: No | Y22: Optional | Z22: Yes | AA22: Would need to do some data manipulation to estimate year installed of the conductor by averaging year installed of associated poles nearby. no, possibly for OH. Not possible for UG. Manual cleansing may be needed | AB22: PrimaryDistributionLine.EstimatedAge
A23: Asset Line | B23: Primary Distribution Line | C23: UsefulLifespan | J23: =CONCATENATE(SUBSTITUTE(B23," ",""),".",SUBSTITUTE(C23," ","")) -> PrimaryDistributionLine.UsefulLifespan | K23: =J23=AB23 -> TRUE | L23: =_xlfn.XLOOKUP(J23,'Field Complete (Q1 2026)'!H:H,'Field Complete (Q1 2026)'!F:F,"") -> 0 | M23: Primary Distribution Line | N23: 21 | O23: UsefulLifespan | P23: Useful Lifespan | Q23: Integer(4) | S23: The number of years an asset is expected to have a useful functioning existence upon initial installation. This field is required. | T23: No | U23: This data is unavailable. There are many different manufactures for various assets and useful lifespan is not a data point commonly provided. An assets' lifespan is dependent on a number of factors including weather, installation location, animal interaction, etc. It is not uncommon for some assets to function in the field for 50+ years while others, like surge arrestors, last until struck by lightning as designed. PG&E replaces assets as needed with a risk-based approach. Replacements may result from but are not limited to the following: failures, standard changes, recalls, asset management analysis, or if inspections deem so. | V23: Due to the reasons provided in the Availability Explanations, PG&E does not currently plan to provide this information in upcoming quarterly submissions. PG&E will continue to follow standards and procedures as well as risk based analysis around the different equipment types and when they are to be replaced. | W23: See 'Data procurement actions' | X23: No | Y23: Operational decision made | Z23: Yes | AA23: Useful lifespan differs depending on size and type of conductor and region/area the conductor is in | AB23: PrimaryDistributionLine.UsefulLifespan
A24: Asset Line | B24: Primary Distribution Line | C24: AmpacityRating | J24: =CONCATENATE(SUBSTITUTE(B24," ",""),".",SUBSTITUTE(C24," ","")) -> PrimaryDistributionLine.AmpacityRating | K24: =J24=AB24 -> TRUE | L24: =_xlfn.XLOOKUP(J24,'Field Complete (Q1 2026)'!H:H,'Field Complete (Q1 2026)'!F:F,"") -> 0.4098 | M24: Primary Distribution Line | N24: 22 | O24: AmpacityRating | P24: Ampacity Rating (A) | Q24: Single(4) | S24: Nominal ampacity rating of the conductor in amperes. This field is required. | T24: Partial | U24: PG&E possesses this information, however, it is not systematically stored with individual assets in PG&E's systems of record. Rather, this information resides in documentation of Industry Standards (i.e., National Electric Code). AmpacityRating data was obtained by cross-referencing existing data about line assets (e.g. - Conductor Material, Conductor Size, Insulation Material, Overhead or Underground Status) to determine the associated ampacity rating for each line when possible. This information has been derived from PG&E Standards and Manufacturer documentation for the specific sizes, materials, and insulation types for each conductor type. Field validations for accuracy have not been performed. | V24: To incorporate this information into PG&E's quarterly submission, GIS would need to collaborate with Standards to develop lookup tables. | W24: Developing this lookup table would likely be a multi-week effort if prioritized by the stakeholders involved. These resources also contribute to other OEIS-related efforts | X24: No | Y24: Data provided | Z24: Yes | AA24: Guidance previously provided: Use lookup table from Standards with conductor size/type and ampacity or obtain information from CYME. This also would address 100% of the data field requested. Lookups from Standards with conductor size/type and ampacity or obtain information from CYME. | AB24: PrimaryDistributionLine.AmpacityRating
A25: Asset Line | B25: Primary Distribution Line | C25: OverallUtilityRisk | J25: =CONCATENATE(SUBSTITUTE(B25," ",""),".",SUBSTITUTE(C25," ","")) -> PrimaryDistributionLine.OverallUtilityRisk | K25: =J25=AB25 -> TRUE | L25: =_xlfn.XLOOKUP(J25,'Field Complete (Q1 2026)'!H:H,'Field Complete (Q1 2026)'!F:F,"") -> 0 | M25: Primary Distribution Line | N25: 23 | O25: OverallUtilityRisk | P25: Overall Utility Risk | Q25: Single(4) | S25: Overall risk calculated for the segment as required in WMP guidelines section 4. Note that the electrical corporation is not required to calculate risk for lines vs. support structures, only to do one or the other. Depending on the electrical corporation’s approach, it may report risk for line segments for some or all of its infrastructure, or it may calculate for both. This field is required IF the electrical corporation performs its risk ranking on primary distribution lines (rather than on support structures only). | T25: No | U25: Overall risk calculated as required in WMP guidelines are performed at the support structure. Therefore this field is intentionally left blank. | V25: N/A - see availability explanations | W25: N/A - see availability explanations | X25: Yes - Could be leveraged by bad actor to determine infrastructure more at risk. Physical facility, cyber-security sensitive, or critical energy infrastructure data. (See 18 C.F.R. § 388.113, see also Govt. Code § 6254(k), (ab); 6 U.S.C. § 131; 6 CFR § 29.2.) | Y25: Operational decision made | Z25: Yes | AB25: PrimaryDistributionLine.OverallUtilityRisk
A26: Asset Line | B26: Primary Distribution Line | C26: IgnitionRisk | J26: =CONCATENATE(SUBSTITUTE(B26," ",""),".",SUBSTITUTE(C26," ","")) -> PrimaryDistributionLine.IgnitionRisk | K26: =J26=AB26 -> TRUE | L26: =_xlfn.XLOOKUP(J26,'Field Complete (Q1 2026)'!H:H,'Field Complete (Q1 2026)'!F:F,"") -> 0 | M26: Primary Distribution Line | N26: 24 | O26: IgnitionRisk | P26: Ignition Risk | Q26: Single(4) | S26: Ignition risk (component of overall risk) calculated for the segment as required in WMP guidelines section 4. Note that the electrical corporation is not required to calculate risk for lines vs. support structures, only to do one or the other. Depending on the electrical corporation’s approach, it may report risk for line segments for some or all of its infrastructure, or it may calculate for both. This field is required IF the electrical corporation performs its risk ranking on primary distribution lines (rather than on support structures only). | T26: No | U26: Overall risk calculated as required in WMP guidelines are performed at the support structure. Therefore this field is intentionally left blank. | V26: N/A - see availability explanations | W26: N/A - see availability explanations | X26: Yes - Could be leveraged by bad actor to determine infrastructure more at risk. Physical facility, cyber-security sensitive, or critical energy infrastructure data. (See 18 C.F.R. § 388.113, see also Govt. Code § 6254(k), (ab); 6 U.S.C. § 131; 6 CFR § 29.2.) | Y26: Operational decision made | Z26: Yes | AB26: PrimaryDistributionLine.IgnitionRisk
A27: Asset Line | B27: Primary Distribution Line | C27: PSPSRisk | J27: =CONCATENATE(SUBSTITUTE(B27," ",""),".",SUBSTITUTE(C27," ","")) -> PrimaryDistributionLine.PSPSRisk | K27: =J27=AB27 -> TRUE | L27: =_xlfn.XLOOKUP(J27,'Field Complete (Q1 2026)'!H:H,'Field Complete (Q1 2026)'!F:F,"") -> 0 | M27: Primary Distribution Line | N27: 25 | O27: PSPSRisk | P27: PSPS Risk | Q27: Single(4) | S27: PSPS Risk (component of overall risk) calculated for the segment as required in WMP guidelines section 4. Note that the electrical corporation is not required to calculate risk for lines vs. support structures, only to do one or the other. Depending on the electrical corporation’s approach, it may report risk for line segments for some or all of its infrastructure, or it may calculate for both. This field is required IF the electrical corporation performs its risk ranking on primary distribution lines (rather than on support structures only). | T27: No | U27: Overall risk calculated as required in WMP guidelines are performed at the support structure. Therefore this field is intentionally left blank. | V27: N/A - see availability explanations | W27: N/A - see availability explanations | X27: Yes - Could be leveraged by bad actor to determine infrastructure more at risk. Physical facility, cyber-security sensitive, or critical energy infrastructure data. (See 18 C.F.R. § 388.113, see also Govt. Code § 6254(k), (ab); 6 U.S.C. § 131; 6 CFR § 29.2.) | Y27: Operational decision made | Z27: Yes | AB27: PrimaryDistributionLine.PSPSRisk
A28: Asset Line | B28: Secondary Distribution Line | C28: SegmentID | J28: =CONCATENATE(SUBSTITUTE(B28," ",""),".",SUBSTITUTE(C28," ","")) -> SecondaryDistributionLine.SegmentID | K28: =J28=AB28 -> TRUE | L28: =_xlfn.XLOOKUP(J28,'Field Complete (Q1 2026)'!H:H,'Field Complete (Q1 2026)'!F:F,"") -> 0 | M28: Secondary Distribution Line | N28: 1 | O28: SegmentID | P28: Segment ID | Q28: String(50) | S28: Unique ID of circuit segment. Must be a unique value that identifies this portion of the circuit and a traceable stable ID within the electrical corporation’s operations/processes. Primary Key for the feature class. Unless the electrical corporation does not uniquely identify segments with persistent IDs. This field is required IF the electrical corporation has persistent stable IDs for circuit segments. A segment may be anything more granular than a circuit, including a single span. | T28: No | U28: Where available, PG&E is providing CircuitID as the foreign key to the asset point features. The electrical corporation does not have persistent unique segment IDs. | V28: N/A - please see availability explanation | W28: N/A - please see availability explanation | X28: No | Y28: Optional | Z28: Yes | AB28: SecondaryDistributionLine.SegmentID
A29: Asset Line | B29: Secondary Distribution Line | C29: CircuitID | J29: =CONCATENATE(SUBSTITUTE(B29," ",""),".",SUBSTITUTE(C29," ","")) -> SecondaryDistributionLine.CircuitID | K29: =J29=AB29 -> TRUE | L29: =_xlfn.XLOOKUP(J29,'Field Complete (Q1 2026)'!H:H,'Field Complete (Q1 2026)'!F:F,"") -> 0.9913 | M29: Secondary Distribution Line | N29: 2 | O29: CircuitID | P29: Circuit ID | Q29: String(50) | S29: Unique ID for a specific circuit. Must be a traceable stable ID within the electrical corporation’s operations/processes. This ID is expected to be based on the circuit name of the secondary line’s associated primary distribution line. Primary Key for the feature class if the electrical corporation does not uniquely identify segments with persistent IDs. This field is required. | T29: Partial | U29: This attribute contains the majority of the required data. There are several potential reasons why this data may not be present. For example, data may have been mis-captured originally or it may not export, join, or otherwise translate as intended when preparing the FGDB. | V29: Majority of data is submitted for this field. PG&E's focus is currently on addressing larger data gaps and enhancements to reporting quality. Once these objectives are met, PG&E can re-assess actions needed for 100% complete data for this field | W29: Majority of data is submitted for this field. PG&E's focus is currently on addressing larger data gaps and enhancements to reporting quality. Once these objectives are met, PG&E can re-assess actions needed for 100% complete data for this field. PG&E is exploring long-term IT and process-oriented solutions to produce the OEIS GIS Standard, with the potential to connect formerly disparate data sources. | X29: No | Y29: Data provided | Z29: Yes | AB29: SecondaryDistributionLine.CircuitID
A30: Asset Line | B30: Secondary Distribution Line | C30: UtilityID | J30: =CONCATENATE(SUBSTITUTE(B30," ",""),".",SUBSTITUTE(C30," ","")) -> SecondaryDistributionLine.UtilityID | K30: =J30=AB30 -> TRUE | L30: =_xlfn.XLOOKUP(J30,'Field Complete (Q1 2026)'!H:H,'Field Complete (Q1 2026)'!F:F,"") -> 1 | M30: Secondary Distribution Line | N30: 3 | O30: UtilityID | P30: Utility ID | Q30: String(10) | R30: BVES; HWT; Liberty; LS Power; PacifiCorp; PG&E; SCE; SDG&E; TBC | S30: Standardized identification name of the electrical corporation. Possible values: ||BVES ||HWT ||Liberty ||LS Power ||PacifiCorp ||PG&E ||SCE ||SDG&E ||TBC ||This field is required. | T30: Yes | U30: N/A | V30: N/A | W30: N/A | X30: No | Y30: Data provided | Z30: Yes | AB30: SecondaryDistributionLine.UtilityID
A31: Asset Line | B31: Secondary Distribution Line | C31: SubstationID | J31: =CONCATENATE(SUBSTITUTE(B31," ",""),".",SUBSTITUTE(C31," ","")) -> SecondaryDistributionLine.SubstationID | K31: =J31=AB31 -> TRUE | L31: =_xlfn.XLOOKUP(J31,'Field Complete (Q1 2026)'!H:H,'Field Complete (Q1 2026)'!F:F,"") -> 0.9911 | M31: Secondary Distribution Line | N31: 4 | O31: SubstationID | P31: Substation ID | Q31: String(50) | S31: ID of substation associated with asset. Foreign key to the Substation feature. This field is required. | T31: Partial | U31: This attribute contains the majority of the required data. There are several potential reasons why this data may not be present. For example, data may have been mis-captured originally or it may not export, join, or otherwise translate as intended when preparing the FGDB. | V31: Majority of data is submitted for this field. PG&E's focus is currently on addressing larger data gaps and enhancements to reporting quality. Once these objectives are met, PG&E can re-assess actions needed for 100% complete data for this field PG&E is exploring long-term IT and process-oriented solutions to produce the OEIS GIS Standard, with the potential to connect formerly disparate data sources | W31: PG&E is taking actions to enhance the GIS Data Standard submission on a quarterly basis. Addressing the small percentage of missing values for this attribute will be explored after the overall submission product achieves a higher quality and becomes more sustainable. | X31: Yes - Substation information are identified as confidential Physical facility, cyber-security sensitive, or critical energy infrastructure data protected from disclosure. (See 18 C.F.R. § 388.113, see also Govt. Code § 6254(k), (ab); 6 U.S.C. § 131; 6 CFR § 29.2.) | Y31: Data provided | Z31: Yes | AB31: SecondaryDistributionLine.SubstationID
A32: Asset Line | B32: Secondary Distribution Line | C32: CircuitName | J32: =CONCATENATE(SUBSTITUTE(B32," ",""),".",SUBSTITUTE(C32," ","")) -> SecondaryDistributionLine.CircuitName | K32: =J32=AB32 -> TRUE | L32: =_xlfn.XLOOKUP(J32,'Field Complete (Q1 2026)'!H:H,'Field Complete (Q1 2026)'!F:F,"") -> 0.9913 | M32: Secondary Distribution Line | N32: 5 | O32: CircuitName | P32: Circuit Name | Q32: String(255) | S32: Name of circuit associated with asset. This name is expected to be based on the circuit name of the secondary line’s associated primary distribution line. Leave null if there is no unique circuit name that is different than the circuit ID. There is no need to repeat CircuitID values in this field. This field is optional. | T32: Partial | U32: This attribute contains the majority of the required data. There are several potential reasons why this data may not be present. For example, data may have been mis-captured originally or it may not export, join, or otherwise translate as intended when preparing the FGDB. | V32: Majority of data is submitted for this field. PG&E's focus is currently on addressing larger data gaps and enhancements to reporting quality. Once these objectives are met, PG&E can re-assess actions needed for 100% complete data for this field | W32: PG&E is taking actions to enhance the GIS Data Standard submission on a quarterly basis. Addressing the small percentage of missing values for this attribute will be explored after the overall submission product achieves a higher quality and becomes more sustainable. | X32: No | Y32: Data provided | Z32: Yes | AB32: SecondaryDistributionLine.CircuitName
A33: Asset Line | B33: Secondary Distribution Line | C33: ConductorType | J33: =CONCATENATE(SUBSTITUTE(B33," ",""),".",SUBSTITUTE(C33," ","")) -> SecondaryDistributionLine.ConductorType | K33: =J33=AB33 -> TRUE | L33: =_xlfn.XLOOKUP(J33,'Field Complete (Q1 2026)'!H:H,'Field Complete (Q1 2026)'!F:F,"") -> 0.6502 | M33: Secondary Distribution Line | N33: 6 | O33: ConductorType | P33: Conductor Type | Q33: String(30) | R33: Open wire; Duplex; Triplex; Quadruplex; Other, see comment | S33: Type of conductor. Possible values: ||Open wire ||Duplex ||Triplex ||Quadruplex ||Other, see comment ||This field is required. | T33: Partial | U33: Before 2021, this level of detail was not always captured by field personnel. However, there is currently a mandate and program in place to note and replace open wire conductor types. | V33: As damages are being inspected, if there is an open wire conductor type, it will be noted and then replaced with a different kind of conductor (e.g., ACSR Triplex). Once replaced, the new conductor type will be captured and stored in a system of record. | W33: As data is collected more data on the open wire replacement program will be available and the OEIS would see this percentage value gradually increase. | X33: No | Y33: Data provided | Z33: Yes | AA33: CAP - Tim is the owner of this | AB33: SecondaryDistributionLine.ConductorType
A34: Asset Line | B34: Secondary Distribution Line | C34: ConductorTypeComment | J34: =CONCATENATE(SUBSTITUTE(B34," ",""),".",SUBSTITUTE(C34," ","")) -> SecondaryDistributionLine.ConductorTypeComment | K34: =J34=AB34 -> TRUE | L34: =_xlfn.XLOOKUP(J34,'Field Complete (Q1 2026)'!H:H,'Field Complete (Q1 2026)'!F:F,"") -> 0.1039 | M34: Secondary Distribution Line | N34: 7 | O34: ConductorTypeComment | P34: Conductor Type Comment | Q34: String(30) | S34: Conductor type not listed in the options above. This field is required IF ConductorType is “Other, see comment”. | T34: Partial | U34: Comments are used as needed | V34: N/A | W34: N/A | X34: No | Y34: Optional | Z34: Yes | AB34: SecondaryDistributionLine.ConductorTypeComment
A35: Asset Line | B35: Secondary Distribution Line | C35: AssetLocation | J35: =CONCATENATE(SUBSTITUTE(B35," ",""),".",SUBSTITUTE(C35," ","")) -> SecondaryDistributionLine.AssetLocation | K35: =J35=AB35 -> TRUE | L35: =_xlfn.XLOOKUP(J35,'Field Complete (Q1 2026)'!H:H,'Field Complete (Q1 2026)'!F:F,"") -> 1 | M35: Secondary Distribution Line | N35: 8 | O35: AssetLocation | P35: Asset Location | Q35: String(20) | R35: Overhead; Underground | S35: Is the asset overhead or underground? Possible values: ||Overhead ||Underground ||ISSUE: Blank Record included in pdf This field is required. | T35: Yes | U35: N/A | V35: N/A | W35: N/A | X35: No | Y35: Data provided | Z35: Yes | AB35: SecondaryDistributionLine.AssetLocation
A36: Asset Line | B36: Secondary Distribution Line | C36: SubstationName | J36: =CONCATENATE(SUBSTITUTE(B36," ",""),".",SUBSTITUTE(C36," ","")) -> SecondaryDistributionLine.SubstationName | K36: =J36=AB36 -> TRUE | L36: =_xlfn.XLOOKUP(J36,'Field Complete (Q1 2026)'!H:H,'Field Complete (Q1 2026)'!F:F,"") -> 0.9913 | M36: Secondary Distribution Line | N36: 9 | O36: SubstationName | P36: Substation Name | Q36: String(50) | S36: Name of substation associated with asset. This field is optional. | T36: Partial | U36: This attribute contains the majority of the required data. There are several potential reasons why this data may not be present. For example, data may have been mis-captured originally or it may not export, join, or otherwise translate as intended when preparing the FGDB. | V36: Majority of data is submitted for this field. PG&E's focus is currently on addressing larger data gaps and enhancements to reporting quality. Once these objectives are met, PG&E can re-assess actions needed for 100% complete data for this field | W36: PG&E is taking actions to enhance the GIS Data Standard submission on a quarterly basis. Addressing the small percentage of missing values for this attribute will be explored after the overall submission product achieves a higher quality and becomes more sustainable. | X36: Yes - Substation information are identified as confidential Physical facility, cyber-security sensitive, or critical energy infrastructure data protected from disclosure. (See 18 C.F.R. § 388.113, see also Govt. Code § 6254(k), (ab); 6 U.S.C. § 131; 6 CFR § 29.2.) | Y36: Data provided | Z36: Yes | AB36: SecondaryDistributionLine.SubstationName
A37: Asset Line | B37: Secondary Distribution Line | C37: ConductorMaterial | J37: =CONCATENATE(SUBSTITUTE(B37," ",""),".",SUBSTITUTE(C37," ","")) -> SecondaryDistributionLine.ConductorMaterial | K37: =J37=AB37 -> TRUE | L37: =_xlfn.XLOOKUP(J37,'Field Complete (Q1 2026)'!H:H,'Field Complete (Q1 2026)'!F:F,"") -> 0.7059 | M37: Secondary Distribution Line | N37: 10 | O37: ConductorMaterial | P37: Conductor Material | Q37: String(50) | R37: All aluminum conductor (AAC); All aluminum alloy conductor (AAAC); Aluminum conductor aluminum reinforced (ACAR); Aluminum conductor steel reinforced (ACSR); Aluminum conductor steel supported (ACSS); Copper (Cu); Other, see comment | S37: Conductor material. Possible values: ||All aluminum conductor (AAC) ||All aluminum alloy conductor (AAAC) ||Aluminum conductor aluminum reinforced (ACAR) ||Aluminum conductor steel reinforced (ACSR) ||Aluminum conductor steel supported (ACSS) ||Copper (Cu) ||Other, see comment ||This field is required. | T37: Partial | U37: PG&E does have this data, but it is limited with what is available within a centralized system of record that can be extracted and related to other data for quarterly submissions. | V37: PG&E is exploring long-term IT and process-oriented solutions to produce the OEIS GIS Standard, with the potential to connect formerly disparate data sources. | W37: PG&E is taking actions to enhance the GIS Data Standard submission on a quarterly basis. The integration of this field will depend on developments to process and technology integration. | X37: No | Y37: Data provided | Z37: Yes | AB37: SecondaryDistributionLine.ConductorMaterial
A38: Asset Line | B38: Secondary Distribution Line | C38: ConductorMaterialComment | J38: =CONCATENATE(SUBSTITUTE(B38," ",""),".",SUBSTITUTE(C38," ","")) -> SecondaryDistributionLine.ConductorMaterialComment | K38: =J38=AB38 -> TRUE | L38: =_xlfn.XLOOKUP(J38,'Field Complete (Q1 2026)'!H:H,'Field Complete (Q1 2026)'!F:F,"") -> 0.2807 | M38: Secondary Distribution Line | N38: 11 | O38: ConductorMaterialComment | P38: Conductor Material Comment | Q38: String(50) | S38: Conductor material not listed in the options above. This field is required IF ConductorMaterial is “Other, see comment”. | T38: Yes | U38: PG&E has added any needed comments per the instructions on using the "other" possible value . Any null values present are because a comment is not needed. | V38: N/A | W38: N/A | X38: No | Y38: Optional | Z38: Yes | AB38: SecondaryDistributionLine.ConductorMaterialComment
A39: Asset Line | B39: Secondary Distribution Line | C39: ConductorSize | J39: =CONCATENATE(SUBSTITUTE(B39," ",""),".",SUBSTITUTE(C39," ","")) -> SecondaryDistributionLine.ConductorSize | K39: =J39=AB39 -> TRUE | L39: =_xlfn.XLOOKUP(J39,'Field Complete (Q1 2026)'!H:H,'Field Complete (Q1 2026)'!F:F,"") -> 0.91 | M39: Secondary Distribution Line | N39: 12 | O39: ConductorSize | P39: Conductor Size | Q39: String(30) | S39: Size of conductor (e.g., No. 4 Cu or 1/0 ACSR). This field is required. | T39: Partial | U39: This attribute contains the majority of the required data. PG&E data is limited to what is available within a centralized system of record that can be extracted and related to other data for quarterly submissions. | V39: Majority of data is submitted for this field. PG&E's focus is currently on addressing larger data gaps and enhancements to reporting quality. Once these objectives are met, PG&E can re-assess actions needed for 100% complete data for this field | W39: PG&E is taking actions to enhance the GIS Data Standard submission on a quarterly basis. Addressing the small percentage of missing values for this attribute will be explored after the overall submission product achieves a higher quality and becomes more sustainable. | X39: No | Y39: Data provided | Z39: Yes | AB39: SecondaryDistributionLine.ConductorSize
A40: Asset Line | B40: Secondary Distribution Line | C40: ConductorOD | J40: =CONCATENATE(SUBSTITUTE(B40," ",""),".",SUBSTITUTE(C40," ","")) -> SecondaryDistributionLine.ConductorOD | K40: =J40=AB40 -> TRUE | L40: =_xlfn.XLOOKUP(J40,'Field Complete (Q1 2026)'!H:H,'Field Complete (Q1 2026)'!F:F,"") -> 0.012 | M40: Secondary Distribution Line | N40: 13 | O40: ConductorOD | P40: Conductor Overall Diameter (inches) | Q40: Single(4) | S40: Overall diameter of the conductor in inches. This field is required. | T40: Partial | U40: PG&E does have this data, but it is limited with what is available within a centralized system of record that can be extracted and related to other data for quarterly submissions. ConductorOD data was obtained by cross-referencing existing data about line assets (e.g. - Conductor Material, Conductor Size, Insulation Material, Overhead or Underground Status) to determine the associated conductor diameter for each line when possible. This information has been derived from PG&E Standards and Manufacturer documentation for the specific sizes, materials, and insulation types for each conductor type. Field validations for accuracy have not been performed. | V40: There is a request currently among the asset strategy team to integrate the overall diameter information into a centralized system of record. | W40: The request noted under 'Data procurement actions' will be compared with other key operational needs for prioritization purposes. As such, a timeframe for delivery cannot be provided at this time. | X40: No | Y40: Data Provided | Z40: Yes | AB40: SecondaryDistributionLine.ConductorOD
A41: Asset Line | B41: Secondary Distribution Line | C41: LastInspectionDate | J41: =CONCATENATE(SUBSTITUTE(B41," ",""),".",SUBSTITUTE(C41," ","")) -> SecondaryDistributionLine.LastInspectionDate | K41: =J41=AB41 -> TRUE | L41: =_xlfn.XLOOKUP(J41,'Field Complete (Q1 2026)'!H:H,'Field Complete (Q1 2026)'!F:F,"") -> 0 | M41: Secondary Distribution Line | N41: 14 | O41: LastInspectionDate | P41: Last Inspection Date | Q41: Date(8) | S41: Date of the last inspection. This field is required. | T41: No | U41: PG&E houses this data in its SAP system. However, the condensed timelines around the end of a reporting period to producing this FGDB submission proves challenging when trying to combine, join, and integrate data that lives across different record systems or in offline spreadsheets. All data needs to have a unique ID that it allows it to join with other datasets and this is not always possible due to PG&E's internal system architecture, which was established in alignment with operational needs. Additionally, the magnitude of data makes extractions more cumbersome. | V41: PG&E is exploring long-term IT and process-oriented solutions to produce the OEIS GIS Standard, with the objectives of improving submission quality while reducing the largely manual efforts experienced each quarter to meet this request. As an interim step, PG&E will be utilizing scripting codes to help with data extractions and transformation logic to join unique IDs across different record systems for select data where possible to do so. | W41: PG&E is taking actions to enhance the GIS Data Standard submission on a quarterly basis. The integration of this field will depend on developments to process and technology integration as noted under 'Data procurement actions'. | X41: No | Y41: Operational decision needed | Z41: Yes | AA41: lots of structures make up the line; PGE does collect last inspection date of a pole no relationship between circuit and poles | AB41: SecondaryDistributionLine.LastInspectionDate
A42: Asset Line | B42: Secondary Distribution Line | C42: LastMaintenanceDate | J42: =CONCATENATE(SUBSTITUTE(B42," ",""),".",SUBSTITUTE(C42," ","")) -> SecondaryDistributionLine.LastMaintenanceDate | K42: =J42=AB42 -> TRUE | L42: =_xlfn.XLOOKUP(J42,'Field Complete (Q1 2026)'!H:H,'Field Complete (Q1 2026)'!F:F,"") -> 0 | M42: Secondary Distribution Line | N42: 15 | O42: LastMaintenanceDate | P42: Last Maintenance Date | Q42: Date(8) | S42: Date of the last maintenance. This field is required. | T42: No | U42: PG&E houses this data in its SAP system. However, the condensed timelines around the end of a reporting period to producing this FGDB submission proves challenging when trying to combine, join, and integrate data that lives across different record systems or in offline spreadsheets. All data needs to have a unique ID that it allows it to join with other datasets and this is not always possible due to PG&E's internal system architecture, which was established in alignment with operational needs. Additionally, the magnitude of data makes extractions more cumbersome. | V42: PG&E is exploring long-term IT and process-oriented solutions to produce the OEIS GIS Standard, with the objectives of improving submission quality while reducing the largely manual efforts experienced each quarter to meet this request. As an interim step, PG&E will be utilizing scripting codes to help with data extractions and transformation logic to join unique IDs across different record systems for select data where possible to do so. | W42: PG&E is taking actions to enhance the GIS Data Standard submission on a quarterly basis. The integration of this field will depend on developments to process and technology integration as noted under 'Data procurement actions'. | X42: No | Y42: Operational decision needed | Z42: Yes | AA42: break up a 100 mile line into 20 sections | AB42: SecondaryDistributionLine.LastMaintenanceDate
A43: Asset Line | B43: Secondary Distribution Line | C43: InstallationDate | J43: =CONCATENATE(SUBSTITUTE(B43," ",""),".",SUBSTITUTE(C43," ","")) -> SecondaryDistributionLine.InstallationDate | K43: =J43=AB43 -> TRUE | L43: =_xlfn.XLOOKUP(J43,'Field Complete (Q1 2026)'!H:H,'Field Complete (Q1 2026)'!F:F,"") -> 0.3012 | M43: Secondary Distribution Line | N43: 16 | O43: InstallationDate | P43: Installation Date | Q43: Date(8) | S43: Date the asset was installed. This field OR InstallationYear OR EstimatedAge is required. | T43: Partial | U43: Currently, for the majority of programs, when assets are replaced, this information is captured and stored in a centralized system of record. For certain assets, InstallationDate, and other data attributes, were originally captured via paper format and later converted to electronic format. This introduced the potential for errors or other data gaps. For assets not recently replaced, gaps remain present primarily because specific paper records are 1) not easily locatable, or 2) certain data points were not required to be collected when the asset was installed. Until these assets are replaced or otherwise dated, PG&E will have gaps for this data field. | V43: PG&E will continue to update gaps that exist as assets are replaced. | W43: An estimated timeframe of when all assets with installation date gaps are replaced is unpredictable. | X43: No | Y43: Data provided | Z43: Yes | AB43: SecondaryDistributionLine.InstallationDate
A44: Asset Line | B44: Secondary Distribution Line | C44: InstallationYear | J44: =CONCATENATE(SUBSTITUTE(B44," ",""),".",SUBSTITUTE(C44," ","")) -> SecondaryDistributionLine.InstallationYear | K44: =J44=AB44 -> TRUE | L44: =_xlfn.XLOOKUP(J44,'Field Complete (Q1 2026)'!H:H,'Field Complete (Q1 2026)'!F:F,"") -> 0.5971 | M44: Secondary Distribution Line | N44: 17 | O44: InstallationYear | P44: Installation Year | Q44: Integer(4) | S44: Year of asset installation. Use four digits. This field OR InstallationDate OR EstimatedAge is required. | T44: Partial | U44: Please see the Installation Date field for the explanation. The same explanation applies for the Installation Year attribute. | V44: The procurement action is to focus efforts on the collection of the Installation Date field. Collecting this data point will also yield the Installation Year attribute. Please see the data procurement actions provided under the Installation Date field. | W44: See the 'Estimated delivery timeframe' explanation provided under the Installation Date field name. | X44: No | Y44: Data provided | Z44: Yes | AB44: SecondaryDistributionLine.InstallationYear
A45: Asset Line | B45: Secondary Distribution Line | C45: EstimatedAge | J45: =CONCATENATE(SUBSTITUTE(B45," ",""),".",SUBSTITUTE(C45," ","")) -> SecondaryDistributionLine.EstimatedAge | K45: =J45=AB45 -> TRUE | L45: =_xlfn.XLOOKUP(J45,'Field Complete (Q1 2026)'!H:H,'Field Complete (Q1 2026)'!F:F,"") -> 0 | M45: Secondary Distribution Line | N45: 18 | O45: EstimatedAge | P45: Estimated Age | Q45: String(10) | R45: 0-9; 10-19; 20-29; 30-39; 40-49; 50-59; 60-69; 70-79; 80-89; 90-99; 100+ | S45: The estimated age of the asset in years. Only use this field if the InstallationYear and InstallationDate values are unknown. Possible values: ||0-9 ||10-19 ||20-29 ||30-39 ||40-49 ||50-59 ||60-69 ||70-79 ||80-89 ||90-99 ||100+ ||. This field OR InstallationDate OR InstallationYear is required. | T45: No | U45: This field name is used to estimate the age of the asset should installation date or year be unknown. However, when PG&E does not accurately know the installation date or year, this estimate would be subject to inaccuracies. Therefore, the value is unknown if installation date and year are null. | V45: The procurement is to focus efforts on the collection of the Installation Date field. Collecting that field would allow PG&E to provide the Installation Date and Year fields. Then, per OEIS GIS Data Standard requirement guidance, EstimatedAge would not be required for submission. Please see the installation date procurement actions provided under the Installation Date field name. | W45: See the 'Estimated delivery timeframe' explanation provided under the Installation Date field name. | X45: No | Y45: Optional | Z45: Yes | AB45: SecondaryDistributionLine.EstimatedAge
A46: Asset Line | B46: Secondary Distribution Line | C46: UsefulLifespan | J46: =CONCATENATE(SUBSTITUTE(B46," ",""),".",SUBSTITUTE(C46," ","")) -> SecondaryDistributionLine.UsefulLifespan | K46: =J46=AB46 -> TRUE | L46: =_xlfn.XLOOKUP(J46,'Field Complete (Q1 2026)'!H:H,'Field Complete (Q1 2026)'!F:F,"") -> 0 | M46: Secondary Distribution Line | N46: 19 | O46: UsefulLifespan | P46: Useful Lifespan | Q46: Integer(4) | S46: The number of years an asset is expected to have a useful functioning existence upon initial installationThis field is required. | T46: No | U46: This data is unavailable. There are many different manufactures for various assets and useful lifespan is not a data point commonly provided. An assets' lifespan is dependent on a number of factors including weather, installation location, animal interaction, etc. It is not uncommon for some assets to function in the field for 50+ years while others, like surge arrestors, last until struck by lightning as designed. PG&E replaces assets as needed with a risk-based approach. Replacements may result from but are not limited to the following: failures, standard changes, recalls, asset management analysis, or if inspections deem so. | V46: Due to the reasons provided in the Availability Explanations, PG&E does not currently plan to provide this information in upcoming quarterly submissions. PG&E will continue to follow standards and procedures as well as risk based analysis around the different equipment types and when they are to be replaced. | W46: See 'Data procurement actions' | X46: No | Y46: Operational decision made | Z46: Yes | AB46: SecondaryDistributionLine.UsefulLifespan
A47: Asset Line | B47: Secondary Distribution Line | C47: AmpacityRating | J47: =CONCATENATE(SUBSTITUTE(B47," ",""),".",SUBSTITUTE(C47," ","")) -> SecondaryDistributionLine.AmpacityRating | K47: =J47=AB47 -> TRUE | L47: =_xlfn.XLOOKUP(J47,'Field Complete (Q1 2026)'!H:H,'Field Complete (Q1 2026)'!F:F,"") -> 0 | M47: Secondary Distribution Line | N47: 20 | O47: AmpacityRating | P47: Ampacity Rating (A) | Q47: Single(4) | S47: Nominal ampacity rating of the conductor in amperes. This field is required. | T47: No | U47: PG&E possesses this information, however, it is not systematically stored with individual assets in PG&E's systems of record. Rather, this information resides in documentation of Industry Standards (i.e., National Electric Code). AmpacityRating data was obtained by cross-referencing existing data about line assets (e.g. - Conductor Material, Conductor Size, Insulation Material, Overhead or Underground Status) to determine the associated ampacity rating for each line when possible. This information has been derived from PG&E Standards and Manufacturer documentation for the specific sizes, materials, and insulation types for each conductor type. Field validations for accuracy have not been performed. | V47: To incorporate this information into PG&E's quarterly submission, GIS would need to collaborate with Standards to develop lookup tables. | W47: Developing this lookup table would likely be a multi-week effort if prioritized by the stakeholders involved. These resources also contribute to other OEIS-related efforts. | X47: No | Y47: Data architecture not aligned | Z47: Yes | AA47: Industry standard - National Electric Code - this is in a table. Each has a rating for normal and emergency. | AB47: SecondaryDistributionLine.AmpacityRating
A48: Asset Line | B48: Secondary Distribution Line | C48: OverallUtilityRisk | J48: =CONCATENATE(SUBSTITUTE(B48," ",""),".",SUBSTITUTE(C48," ","")) -> SecondaryDistributionLine.OverallUtilityRisk | K48: =J48=AB48 -> TRUE | L48: =_xlfn.XLOOKUP(J48,'Field Complete (Q1 2026)'!H:H,'Field Complete (Q1 2026)'!F:F,"") -> 0 | M48: Secondary Distribution Line | N48: 21 | O48: OverallUtilityRisk | P48: Overall Utility Risk | Q48: Single(4) | S48: Overall risk calculated for the segment as required in WMP Guidelines Chapter III, Section 5. Note that the electrical corporation is not required to calculate risk for lines vs. support structures, only to do one or the other. Depending on the electrical corporation’s approach, it may report risk for line segments for some or all of its infrastructure, or it may calculate for both. This field is required IF the electrical corporation performs its risk ranking on secondary distribution lines (rather than on support structures only). | T48: No | U48: Overall risk calculated as required in WMP guidelines are performed at the support structure. Therefore this field is intentionally left blank. | V48: N/A - see availability explanations | W48: N/A - see availability explanations | X48: Yes - Could be leveraged by bad actor to determine infrastructure more at risk. Physical facility, cyber-security sensitive, or critical energy infrastructure data. (See 18 C.F.R. § 388.113, see also Govt. Code § 6254(k), (ab); 6 U.S.C. § 131; 6 CFR § 29.2.) | Y48: Operational decision made | Z48: Yes | AB48: SecondaryDistributionLine.OverallUtilityRisk
A49: Asset Line | B49: Secondary Distribution Line | C49: IgnitionRisk | J49: =CONCATENATE(SUBSTITUTE(B49," ",""),".",SUBSTITUTE(C49," ","")) -> SecondaryDistributionLine.IgnitionRisk | K49: =J49=AB49 -> TRUE | L49: =_xlfn.XLOOKUP(J49,'Field Complete (Q1 2026)'!H:H,'Field Complete (Q1 2026)'!F:F,"") -> 0 | M49: Secondary Distribution Line | N49: 22 | O49: IgnitionRisk | P49: Ignition Risk | Q49: Single(4) | S49: Ignition risk (component of overall risk) calculated for the segment as required in WMP guidelines section 4. Note that the electrical corporation is not required to calculate risk for lines vs. support structures, only to do one or the other. Depending on the electrical corporation’s approach, it may report risk for line segments for some or all of its infrastructure, or it may calculate for both. This field is required IF the electrical corporation performs its risk ranking on secondary distribution lines (rather than on support structures only). | T49: No | U49: Overall risk calculated as required in WMP guidelines are performed at the support structure. Therefore this field is intentionally left blank. | V49: N/A - see availability explanations | W49: N/A - see availability explanations | X49: Yes - Could be leveraged by bad actor to determine infrastructure more at risk. Physical facility, cyber-security sensitive, or critical energy infrastructure data. (See 18 C.F.R. § 388.113, see also Govt. Code § 6254(k), (ab); 6 U.S.C. § 131; 6 CFR § 29.2.) | Y49: Operational decision made | Z49: Yes | AB49: SecondaryDistributionLine.IgnitionRisk
A50: Asset Line | B50: Secondary Distribution Line | C50: PSPSRisk | J50: =CONCATENATE(SUBSTITUTE(B50," ",""),".",SUBSTITUTE(C50," ","")) -> SecondaryDistributionLine.PSPSRisk | K50: =J50=AB50 -> TRUE | L50: =_xlfn.XLOOKUP(J50,'Field Complete (Q1 2026)'!H:H,'Field Complete (Q1 2026)'!F:F,"") -> 0 | M50: Secondary Distribution Line | N50: 23 | O50: PSPSRisk | P50: PSPS Risk | Q50: Single(4) | S50: PSPS Risk (component of overall risk) calculated for the segment as required in WMP guidelines section 4. Note that the electrical corporation is not required to calculate risk for lines vs. support structures, only to do one or the other. Depending on the electrical corporation’s approach, it may report risk for line segments for some or all of its infrastructure, or it may calculate for both. This field is required IF the electrical corporation performs its risk ranking on secondary distribution lines (rather than on support structures only). | T50: No | U50: Overall risk calculated as required in WMP guidelines are performed at the support structure. Therefore this field is intentionally left blank. | V50: N/A - see availability explanations | W50: N/A - see availability explanations | X50: Yes - Could be leveraged by bad actor to determine infrastructure more at risk. Physical facility, cyber-security sensitive, or critical energy infrastructure data. (See 18 C.F.R. § 388.113, see also Govt. Code § 6254(k), (ab); 6 U.S.C. § 131; 6 CFR § 29.2.) | Y50: Operational decision made | Z50: Yes | AB50: SecondaryDistributionLine.PSPSRisk
A51: Asset Line | B51: Transmission Line | C51: SegmentID | J51: =CONCATENATE(SUBSTITUTE(B51," ",""),".",SUBSTITUTE(C51," ","")) -> TransmissionLine.SegmentID | K51: =J51=AB51 -> TRUE | L51: =_xlfn.XLOOKUP(J51,'Field Complete (Q1 2026)'!H:H,'Field Complete (Q1 2026)'!F:F,"") -> 0 | M51: Transmission Line | N51: 1 | O51: SegmentID | P51: Segment ID | Q51: String(50) | S51: Unique ID of circuit segment. Must be a unique value that identifies this portion of the circuit and a traceable stable ID within the electrical corporation’s operations/processes. Primary Key for the feature class unless the electrical corporation does not uniquely identify segments with persistent IDs. This field is required IF the electrical corporation has persistent stable IDs for circuit segments. A segment may be anything more granular than a circuit, including a single span. | T51: No | U51: Where available, PG&E is providing CircuitID as the foreign key to the asset point features. The electrical corporation does not have persistent unique segment IDs. | V51: PG&E's GIS system does not use circuit segments, therefore this field is not applicable | W51: PG&E's GIS system does not use circuit segments, therefore this field is not applicable | X51: Yes - Information for 115 kV facilities or above voltage are considered confidential. Physical facility, cyber-security sensitive, or critical energy infrastructure data. (See 18 C.F.R. § 388.113, see also Govt. Code § 6254(k), (ab); 6 U.S.C. § 131; 6 CFR § 29.2.) | Y51: Optional | Z51: Yes | AB51: TransmissionLine.SegmentID
A52: Asset Line | B52: Transmission Line | C52: CircuitID | J52: =CONCATENATE(SUBSTITUTE(B52," ",""),".",SUBSTITUTE(C52," ","")) -> TransmissionLine.CircuitID | K52: =J52=AB52 -> TRUE | L52: =_xlfn.XLOOKUP(J52,'Field Complete (Q1 2026)'!H:H,'Field Complete (Q1 2026)'!F:F,"") -> 1 | M52: Transmission Line | N52: 2 | O52: CircuitID | P52: Circuit ID | Q52: String(50) | S52: Unique ID for a specific circuit. Must be a traceable stable ID within the electrical corporation’s operations/processes. Primary Key for the feature class if the electrical corporation does not uniquely identify segments with persistent IDs. This field is required. | T52: Yes | U52: N/A | V52: N/A | W52: N/A | X52: Yes - Information for 115 kV facilities or above voltage are considered confidential. Physical facility, cyber-security sensitive, or critical energy infrastructure data. (See 18 C.F.R. § 388.113, see also Govt. Code § 6254(k), (ab); 6 U.S.C. § 131; 6 CFR § 29.2.) | Y52: Data provided | Z52: Yes | AA52: This represents the "ETL" number, or "Functional Location" | AB52: TransmissionLine.CircuitID
A53: Asset Line | B53: Transmission Line | C53: UtilityID | J53: =CONCATENATE(SUBSTITUTE(B53," ",""),".",SUBSTITUTE(C53," ","")) -> TransmissionLine.UtilityID | K53: =J53=AB53 -> TRUE | L53: =_xlfn.XLOOKUP(J53,'Field Complete (Q1 2026)'!H:H,'Field Complete (Q1 2026)'!F:F,"") -> 1 | M53: Transmission Line | N53: 3 | O53: UtilityID | P53: Utility ID | Q53: String(10) | R53: BVES; HWT; Liberty; LS Power; PacifiCorp; PG&E; SCE; SDG&E; TBC | S53: Standardized identification name of the electrical corporation. Possible values: ||BVES ||HWT ||Liberty ||LS Power ||PacifiCorp ||PG&E ||SCE ||SDG&E ||TBC ||This field is required. | T53: Yes | U53: N/A | V53: N/A | W53: N/A | X53: No | Y53: Data provided | Z53: Yes | AA53: N/A | AB53: TransmissionLine.UtilityID
A54: Asset Line | B54: Transmission Line | C54: LineClass | J54: =CONCATENATE(SUBSTITUTE(B54," ",""),".",SUBSTITUTE(C54," ","")) -> TransmissionLine.LineClass | K54: =J54=AB54 -> TRUE | L54: =_xlfn.XLOOKUP(J54,'Field Complete (Q1 2026)'!H:H,'Field Complete (Q1 2026)'!F:F,"") -> 1 | M54: Transmission Line | N54: 4 | O54: LineClass | P54: Line Class | Q54: String(30) | R54: Transmission; Sub-Transmission | S54: Classification of line asset. Possible values: ||Transmission ||Sub-Transmission ||This field is required. | T54: Yes | U54: N/A | V54: N/A | W54: N/A | X54: Yes - Information for 115 kV facilities or above voltage are considered confidential. Physical facility, cyber-security sensitive, or critical energy infrastructure data. (See 18 C.F.R. § 388.113, see also Govt. Code § 6254(k), (ab); 6 U.S.C. § 131; 6 CFR § 29.2.) | Y54: Data provided | Z54: Yes | AA54: Unknown what this means | AB54: TransmissionLine.LineClass
A55: Asset Line | B55: Transmission Line | C55: CircuitName | J55: =CONCATENATE(SUBSTITUTE(B55," ",""),".",SUBSTITUTE(C55," ","")) -> TransmissionLine.CircuitName | K55: =J55=AB55 -> TRUE | L55: =_xlfn.XLOOKUP(J55,'Field Complete (Q1 2026)'!H:H,'Field Complete (Q1 2026)'!F:F,"") -> 1 | M55: Transmission Line | N55: 5 | O55: CircuitName | P55: Circuit Name | Q55: String(255) | S55: Name of circuit associated with asset. Leave null if there is no unique circuit name that is different than the circuit ID. There is no need to repeat CircuitID values in this field. This field is optional. | T55: Yes | U55: N/A | V55: N/A | W55: N/A | X55: Yes - Information for 115 kV facilities or above voltage are considered confidential. Physical facility, cyber-security sensitive, or critical energy infrastructure data. (See 18 C.F.R. § 388.113, see also Govt. Code § 6254(k), (ab); 6 U.S.C. § 131; 6 CFR § 29.2.) | Y55: Data provided | Z55: Yes | AA55: N/A | AB55: TransmissionLine.CircuitName
A56: Asset Line | B56: Transmission Line | C56: ConductorType | J56: =CONCATENATE(SUBSTITUTE(B56," ",""),".",SUBSTITUTE(C56," ","")) -> TransmissionLine.ConductorType | K56: =J56=AB56 -> TRUE | L56: =_xlfn.XLOOKUP(J56,'Field Complete (Q1 2026)'!H:H,'Field Complete (Q1 2026)'!F:F,"") -> 1 | M56: Transmission Line | N56: 6 | O56: ConductorType | P56: Conductor Type | Q56: String(30) | R56: Bare; Covered; Insulated; Other, see comment | S56: Type of conductor. Possible values: ||Bare ||Covered ||Insulated ||Other, see comment ||This field is required. | T56: Yes | U56: N/A | V56: N/A | W56: N/A | X56: Yes - Information for 115 kV facilities or above voltage are considered confidential. Physical facility, cyber-security sensitive, or critical energy infrastructure data. (See 18 C.F.R. § 388.113, see also Govt. Code § 6254(k), (ab); 6 U.S.C. § 131; 6 CFR § 29.2.) | Y56: Data provided | Z56: Yes | AA56: The possible values listed are not included in conductor type for transmission. Conductor type for transmission is the usually like, "ASCR" or "ACSS" or other material types | AB56: TransmissionLine.ConductorType
A57: Asset Line | B57: Transmission Line | C57: ConductorTypeComment | J57: =CONCATENATE(SUBSTITUTE(B57," ",""),".",SUBSTITUTE(C57," ","")) -> TransmissionLine.ConductorTypeComment | K57: =J57=AB57 -> TRUE | L57: =_xlfn.XLOOKUP(J57,'Field Complete (Q1 2026)'!H:H,'Field Complete (Q1 2026)'!F:F,"") -> 0 | M57: Transmission Line | N57: 7 | O57: ConductorTypeComment | P57: Conductor Type Comment | Q57: String(30) | S57: Conductor type not listed in the options above. This field is required IF ConductorType is “Other, see comment”. | T57: No | U57: N/A | V57: N/A | W57: N/A | X57: Yes - Information for 115 kV facilities or above voltage are considered confidential. Physical facility, cyber-security sensitive, or critical energy infrastructure data. (See 18 C.F.R. § 388.113, see also Govt. Code § 6254(k), (ab); 6 U.S.C. § 131; 6 CFR § 29.2.) | Y57: Optional | Z57: Yes | AB57: TransmissionLine.ConductorTypeComment
A58: Asset Line | B58: Transmission Line | C58: AssetLocation | J58: =CONCATENATE(SUBSTITUTE(B58," ",""),".",SUBSTITUTE(C58," ","")) -> TransmissionLine.AssetLocation | K58: =J58=AB58 -> TRUE | L58: =_xlfn.XLOOKUP(J58,'Field Complete (Q1 2026)'!H:H,'Field Complete (Q1 2026)'!F:F,"") -> 1 | M58: Transmission Line | N58: 8 | O58: AssetLocation | P58: Asset Location | Q58: String(20) | R58: Overhead; Underground | S58: Is the asset overhead or underground? Possible values: ||Overhead ||Underground ||This field is required. | T58: Yes | U58: N/A | V58: N/A | W58: N/A | X58: Yes - Information for 115 kV facilities or above voltage are considered confidential. Physical facility, cyber-security sensitive, or critical energy infrastructure data. (See 18 C.F.R. § 388.113, see also Govt. Code § 6254(k), (ab); 6 U.S.C. § 131; 6 CFR § 29.2.) | Y58: Data provided | Z58: Yes | AA58: This is not a field i'm familiar with, but OH or UG assets can be determined by the functional location | AB58: TransmissionLine.AssetLocation
A59: Asset Line | B59: Transmission Line | C59: NominalVoltagekV | J59: =CONCATENATE(SUBSTITUTE(B59," ",""),".",SUBSTITUTE(C59," ","")) -> TransmissionLine.NominalVoltagekV | K59: =J59=AB59 -> TRUE | L59: =_xlfn.XLOOKUP(J59,'Field Complete (Q1 2026)'!H:H,'Field Complete (Q1 2026)'!F:F,"") -> 1 | M59: Transmission Line | N59: 9 | O59: NominalVoltagekV | P59: Nominal Voltage (kV) | Q59: Single(4) | S59: Nominal voltage (in kilovolts) of conductor. Do not use more than two decimal places. This field is required. | T59: Yes | U59: N/A | V59: N/A | W59: N/A | X59: Yes - Information for 115 kV facilities or above voltage are considered confidential. Physical facility, cyber-security sensitive, or critical energy infrastructure data. (See 18 C.F.R. § 388.113, see also Govt. Code § 6254(k), (ab); 6 U.S.C. § 131; 6 CFR § 29.2.) | Y59: Data provided | Z59: Yes | AA59: N/A | AB59: TransmissionLine.NominalVoltagekV
A60: Asset Line | B60: Transmission Line | C60: OperatingVoltagekV | J60: =CONCATENATE(SUBSTITUTE(B60," ",""),".",SUBSTITUTE(C60," ","")) -> TransmissionLine.OperatingVoltagekV | K60: =J60=AB60 -> TRUE | L60: =_xlfn.XLOOKUP(J60,'Field Complete (Q1 2026)'!H:H,'Field Complete (Q1 2026)'!F:F,"") -> 0.9982 | M60: Transmission Line | N60: 10 | O60: OperatingVoltagekV | P60: Operating Voltage (kV) | Q60: Single(4) | S60: Operating voltage (in kilovolts) of conductor. Do not use more than two decimal places. This field is required. | T60: Yes | U60: This attribute contains the majority of the required data. Teams at PG&E use operating voltage for various purposes, and teams produce this data for the OEIS GIS Data Standard submission with varying degrees of completeness. Actual operating voltage is not static and can vary over time. | V60: PG&E aims to develop a standardized way to report this information across Feature Classes in future submissions | W60: Delivery timeframe depends on the chosen path forward for standardization. This will require working sessions between subject matter experts and GIS Analytics to assess current data architecture (storage, format) and relation to other required data for this Feature Class. | X60: Yes - Information for 115 kV facilities or above voltage are considered confidential. Physical facility, cyber-security sensitive, or critical energy infrastructure data. (See 18 C.F.R. § 388.113, see also Govt. Code § 6254(k), (ab); 6 U.S.C. § 131; 6 CFR § 29.2.) | Y60: Data provided | Z60: Yes | AA60: Assuming this means the same as "rated voltage"? That's the name of the field in ETGIS Need to Land on decision for reporting | AB60: TransmissionLine.OperatingVoltagekV
A61: Asset Line | B61: Transmission Line | C61: ConductorMaterial | J61: =CONCATENATE(SUBSTITUTE(B61," ",""),".",SUBSTITUTE(C61," ","")) -> TransmissionLine.ConductorMaterial | K61: =J61=AB61 -> TRUE | L61: =_xlfn.XLOOKUP(J61,'Field Complete (Q1 2026)'!H:H,'Field Complete (Q1 2026)'!F:F,"") -> 0.6838 | M61: Transmission Line | N61: 11 | O61: ConductorMaterial | P61: Conductor Material | Q61: String(50) | R61: All aluminum conductor (AAC); All aluminum alloy conductor (AAAC); Aluminum conductor aluminum reinforced (ACAR); Aluminum conductor steel reinforced (ACSR); Aluminum conductor steel supported (ACSS); Copper (Cu); Other, see comment | S61: Conductor material. Possible values: ||All aluminum conductor (AAC) ||All aluminum alloy conductor (AAAC) ||Aluminum conductor aluminum reinforced (ACAR) ||Aluminum conductor steel reinforced (ACSR) ||Aluminum conductor steel supported (ACSS) ||Copper (Cu) ||Other, see comment ||This field is required. | T61: Partial | U61: This attribute contains most of the required data. PG&E does have this data, but it is limited with what is available within a centralized system of record that can be extracted and related to other data for quarterly submissions. The quick turnaround time from the end of a reporting period to producing this FGDB proves challenging when trying to integrate data that lives in different record systems or in offline spreadsheets. | V61: To incorporate this information into PG&E's quarterly submission, GIS would need to collaborate with Transmission subject matter experts to relate individual transmission lines to conductor materials (e.g., lookup tables, deriving this information through another field) | W61: The estimated delivery timeframe depends on the method used to relate transmission lines with conductor materials. For example, lookup tables may take a few months if prioritized. However, if it is possible to derive this information through another field, it could be integrated in less time if this enhancement to the data standard is prioritized. | X61: Yes - Information for 115 kV facilities or above voltage are considered confidential. Physical facility, cyber-security sensitive, or critical energy infrastructure data. (See 18 C.F.R. § 388.113, see also Govt. Code § 6254(k), (ab); 6 U.S.C. § 131; 6 CFR § 29.2.) | Y61: Data provided | Z61: Yes | AA61: N/A | AB61: TransmissionLine.ConductorMaterial
A62: Asset Line | B62: Transmission Line | C62: ConductorMaterialComment | J62: =CONCATENATE(SUBSTITUTE(B62," ",""),".",SUBSTITUTE(C62," ","")) -> TransmissionLine.ConductorMaterialComment | K62: =J62=AB62 -> TRUE | L62: =_xlfn.XLOOKUP(J62,'Field Complete (Q1 2026)'!H:H,'Field Complete (Q1 2026)'!F:F,"") -> 0.0017 | M62: Transmission Line | N62: 12 | O62: ConductorMaterialComment | P62: Conductor Material Comment | Q62: String(50) | S62: Conductor material not listed in the options above. This field is required IF ConductorMaterial is “Other, see comment”. | T62: Partial | U62: PG&E has added any needed comments per the instructions on using the "other" possible value. Any null values present are because a comment is not needed. | V62: N/A | W62: N/A | X62: Yes - Information for 115 kV facilities or above voltage are considered confidential. Physical facility, cyber-security sensitive, or critical energy infrastructure data. (See 18 C.F.R. § 388.113, see also Govt. Code § 6254(k), (ab); 6 U.S.C. § 131; 6 CFR § 29.2.) | Y62: Optional | Z62: Yes | AA62: N/A | AB62: TransmissionLine.ConductorMaterialComment
A63: Asset Line | B63: Transmission Line | C63: ConductorSize | J63: =CONCATENATE(SUBSTITUTE(B63," ",""),".",SUBSTITUTE(C63," ","")) -> TransmissionLine.ConductorSize | K63: =J63=AB63 -> TRUE | L63: =_xlfn.XLOOKUP(J63,'Field Complete (Q1 2026)'!H:H,'Field Complete (Q1 2026)'!F:F,"") -> 0.6904 | M63: Transmission Line | N63: 13 | O63: ConductorSize | P63: Conductor Size | Q63: String(30) | S63: Size of conductor (e.g., No. 4 Cu or 1/0 ACSR). This field is required. | T63: Partial | U63: This attribute contains most of the required data. PG&E does have this data, but it is limited with what is available within a centralized system of record that can be extracted and related to other data for quarterly submissions. The quick turnaround time from the end of a reporting period to producing this FGDB proves challenging when trying to integrate data that lives in different record systems or in offline spreadsheets. | V63: To incorporate this information into PG&E's quarterly submission, GIS would need to collaborate with Transmission subject matter experts to relate individual transmission lines to conductor size (e.g., lookup tables, deriving this information through another field) | W63: The estimated delivery timeframe depends on the method used to relate transmission lines with conductor size. For example, lookup tables may take a few months if prioritized. However, if it is possible to derive this information through another field, it could be integrated in less time if this enhancement to the data standard is prioritized. | X63: Yes - Information for 115 kV facilities or above voltage are considered confidential. Physical facility, cyber-security sensitive, or critical energy infrastructure data. (See 18 C.F.R. § 388.113, see also Govt. Code § 6254(k), (ab); 6 U.S.C. § 131; 6 CFR § 29.2.) | Y63: Data provided | Z63: Yes | AA63: N/A | AB63: TransmissionLine.ConductorSize
A64: Asset Line | B64: Transmission Line | C64: ConductorOD | J64: =CONCATENATE(SUBSTITUTE(B64," ",""),".",SUBSTITUTE(C64," ","")) -> TransmissionLine.ConductorOD | K64: =J64=AB64 -> TRUE | L64: =_xlfn.XLOOKUP(J64,'Field Complete (Q1 2026)'!H:H,'Field Complete (Q1 2026)'!F:F,"") -> 0.342 | M64: Transmission Line | N64: 14 | O64: ConductorOD | P64: Conductor Overall Diameter (inches) | Q64: Single(4) | S64: Overall diameter of the conductor in inches. This field is required. | T64: Partial | U64: PG&E does have this data, but it is limited with what is available within a centralized system of record that can be extracted and related to other data for quarterly submissions. The quick turnaround time from the end of a reporting period to producing this FGDB proves challenging when trying to integrate data that lives in different record systems or in offline spreadsheets. ConductorOD data was obtained by cross-referencing existing data about line assets (e.g. - Conductor Material, Conductor Size, Insulation Material, Overhead or Underground Status) to determine the associated conductor diameter for each line when possible. This information has been derived from PG&E Standards and Manufacturer documentation for the specific sizes, materials, and insulation types for each conductor type. Field validations for accuracy have not been performed. | V64: There is a request currently among the asset strategy team to integrate the overall diameter information into a centralized system of record. | W64: The request noted under 'Data procurement actions' will be compared with other key operational needs for prioritization purposes. As such, a timeframe for delivery cannot be provided at this time. | X64: Yes - Information for 115 kV facilities or above voltage are considered confidential. Physical facility, cyber-security sensitive, or critical energy infrastructure data. (See 18 C.F.R. § 388.113, see also Govt. Code § 6254(k), (ab); 6 U.S.C. § 131; 6 CFR § 29.2.) | Y64: Data provided | Z64: Yes | AA64: Unknown. We have a strand size field in ETGIS, if that's the equivalent? May exist on a table outside of GIS | AB64: TransmissionLine.ConductorOD
A65: Asset Line | B65: Transmission Line | C65: LastInspectionDate | J65: =CONCATENATE(SUBSTITUTE(B65," ",""),".",SUBSTITUTE(C65," ","")) -> TransmissionLine.LastInspectionDate | K65: =J65=AB65 -> TRUE | L65: =_xlfn.XLOOKUP(J65,'Field Complete (Q1 2026)'!H:H,'Field Complete (Q1 2026)'!F:F,"") -> 0.9799 | M65: Transmission Line | N65: 15 | O65: LastInspectionDate | P65: Last Inspection Date | Q65: Date(8) | S65: Date of the last inspection. This field is required. | T65: Yes | U65: This attribute contains the majority of the required data. Transmission lines can run for miles and inspections are performed at different parts of the line and associated structures at different points in time. This means there is NO Last Inspection Date that indicates the entire line has been inspected. In order to provide OEIS data as required for this feature class, PG&E is taking inspections done at the structure level and rolling it up to the line level, which is the geometry of this dataset. Since PG&E does not have a standardized way of making line segments, PG&E is taking the most recent inspection record of all the associated structures and applying that date to the entire line. Inspections captured in the detailed enhanced inspection program are what are included here. | V65: PG&E's reports will continue to include additional data as new inspections are performed and stored in a source system thus reducing any data gaps. | W65: Since inspections are on different cycles, OEIS can expect to see increased data in subsequent reports. Cycle frequency is based on high-fire threat district as outlined in PG&E's 2022 WMP sections 7.3.4.1 and 7.3.4.2. | X65: Yes - Information for 115 kV facilities or above voltage are considered confidential. Physical facility, cyber-security sensitive, or critical energy infrastructure data. (See 18 C.F.R. § 388.113, see also Govt. Code § 6254(k), (ab); 6 U.S.C. § 131; 6 CFR § 29.2.) | Y65: Data provided | Z65: Yes | AA65: Some inspections may be harder to trace if they are paper records | AB65: TransmissionLine.LastInspectionDate
A66: Asset Line | B66: Transmission Line | C66: LastMaintenanceDate | J66: =CONCATENATE(SUBSTITUTE(B66," ",""),".",SUBSTITUTE(C66," ","")) -> TransmissionLine.LastMaintenanceDate | K66: =J66=AB66 -> TRUE | L66: =_xlfn.XLOOKUP(J66,'Field Complete (Q1 2026)'!H:H,'Field Complete (Q1 2026)'!F:F,"") -> 0.9901 | M66: Transmission Line | N66: 16 | O66: LastMaintenanceDate | P66: Last Maintenance Date | Q66: Date(8) | S66: Date of the last maintenance. This field is required. | T66: Yes | U66: This attribute contains the majority of the required data. Transmission lines can run for miles and maintenance is performed at different parts of the line and associated structures at different points in time. This means there is NO Last Maintenance Date that indicates the entire line has been maintained. Since PG&E does not have a standardized way of making line segments and this is a line geometry dataset, in order to provide OEIS this required data, PG&E brought in maintenance dates done on the structures associated with the line, selecting the most recent one, and then applies it to the entire line. | V66: OEIS to collaborate with PG&E on how to best present this data. | W66: N/A | X66: Yes - Information for 115 kV facilities or above voltage are considered confidential. Physical facility, cyber-security sensitive, or critical energy infrastructure data. (See 18 C.F.R. § 388.113, see also Govt. Code § 6254(k), (ab); 6 U.S.C. § 131; 6 CFR § 29.2.) | Y66: Data provided | Z66: Yes | AA66: Assuming last maintenance date is equivalent to tag/notification records? | AB66: TransmissionLine.LastMaintenanceDate
A67: Asset Line | B67: Transmission Line | C67: InstallationDate | J67: =CONCATENATE(SUBSTITUTE(B67," ",""),".",SUBSTITUTE(C67," ","")) -> TransmissionLine.InstallationDate | K67: =J67=AB67 -> TRUE | L67: =_xlfn.XLOOKUP(J67,'Field Complete (Q1 2026)'!H:H,'Field Complete (Q1 2026)'!F:F,"") -> 0.3892 | M67: Transmission Line | N67: 17 | O67: InstallationDate | P67: Installation Date | Q67: Date(8) | S67: Date the asset was installed. This field OR InstallationYear OR EstimatedAge is required. | T67: Partial | U67: Currently, for the majority of programs, when assets are replaced, this information is captured and stored in a centralized system of record. For certain assets, installationdate, and other data attributes, were originally captured via paper format and later converted to electronic format. This introduced the potential for errors or other data gaps. For assets not recently replaced, gaps remain present primarily because specific paper records are 1) not easily locatable, or 2) certain data points were not required to be collected when the asset was installed. Until these assets are replaced or otherwise dated, PG&E will have gaps for this data field. | V67: PG&E will continue to update gaps that exist as assets are replaced. Additionally, per Judge Alsup's order on 08/07/2020, PG&E is to conduct research and record the age and installation date of certain critical transmission tower components. | W67: An estimated timeframe of when all assets with installation date gaps are replaced is unpredictable. | X67: Yes - Information for 115 kV facilities or above voltage are considered confidential. Physical facility, cyber-security sensitive, or critical energy infrastructure data. (See 18 C.F.R. § 388.113, see also Govt. Code § 6254(k), (ab); 6 U.S.C. § 131; 6 CFR § 29.2.) | Y67: Data provided | Z67: Yes | AA67: May need to be derived based on component ages. There is an effort underway to look into paper records for equipment to fill in missing age information, but not 100% likely to find all information Some lines were installed 80+ years ago and paper trails could be lost. Effort of collecting conductor missing data. Boris and team / Maria Ly - trying to get age related information for conductors Judge Alsup. Many other parts that make up the effort. | AB67: TransmissionLine.InstallationDate
A68: Asset Line | B68: Transmission Line | C68: InstallationYear | J68: =CONCATENATE(SUBSTITUTE(B68," ",""),".",SUBSTITUTE(C68," ","")) -> TransmissionLine.InstallationYear | K68: =J68=AB68 -> TRUE | L68: =_xlfn.XLOOKUP(J68,'Field Complete (Q1 2026)'!H:H,'Field Complete (Q1 2026)'!F:F,"") -> 0.3892 | M68: Transmission Line | N68: 18 | O68: InstallationYear | P68: Installation Year | Q68: Integer(4) | S68: Year of asset installation. Use four digits. This field OR InstallationDate OR EstimatedAge is required. | T68: Partial | U68: Please see the Installation Date field for the explanation. The same explanation applies for the Installation Year attribute. | V68: The procurement action is to focus efforts on the collection of the Installation Date field. Collecting this data point will also yield the Installation Year attribute. Please see the data procurement actions provided under the Installation Date field. | W68: See the 'Estimated delivery timeframe' explanation provided under the Installation Date field name. | X68: Yes - Information for 115 kV facilities or above voltage are considered confidential. Physical facility, cyber-security sensitive, or critical energy infrastructure data. (See 18 C.F.R. § 388.113, see also Govt. Code § 6254(k), (ab); 6 U.S.C. § 131; 6 CFR § 29.2.) | Y68: Data provided | Z68: Yes | AA68: May need to be derived based on component ages. There is an effort underway to look into paper records for equipment to fill in missing age information, but not 100% likely to find all information | AB68: TransmissionLine.InstallationYear
A69: Asset Line | B69: Transmission Line | C69: EstimatedAge | J69: =CONCATENATE(SUBSTITUTE(B69," ",""),".",SUBSTITUTE(C69," ","")) -> TransmissionLine.EstimatedAge | K69: =J69=AB69 -> TRUE | L69: =_xlfn.XLOOKUP(J69,'Field Complete (Q1 2026)'!H:H,'Field Complete (Q1 2026)'!F:F,"") -> 0 | M69: Transmission Line | N69: 19 | O69: EstimatedAge | P69: Estimated Age | Q69: String(10) | R69: 0-9; 10-19; 20-29; 30-39; 40-49; 50-59; 60-69; 70-79; 80-89; 90-99; 100+ | S69: The estimated age of the asset in years. Only use this field if the InstallationYear and InstallationDate values are unknown. Possible values: ||0-9 ||10-19 ||20-29 ||30-39 ||40-49 ||50-59 ||60-69 ||70-79 ||80-89 ||90-99 ||100+ ||This field OR InstallationDate OR InstallationYear is required. | T69: No | U69: This field name is used to estimate the age of the asset should installation date or year be unknown. However, when PG&E does not accurately know the installation date or year, this estimate would be subject to inaccuracies. Therefore, the value is unknown if installation date and year are null. | V69: The procurement is to focus efforts on the collection of the Installation Date field. Collecting that field would allow PG&E to provide the Installation Date and Year fields. Then, per OEIS GIS Data Standard requirement guidance, EstimatedAge would not be required for submission. Please see the installation date procurement actions provided under the Installation Date field name. | W69: See the 'Estimated delivery timeframe' explanation provided under the Installation Date field name. | X69: Yes - Information for 115 kV facilities or above voltage are considered confidential. Physical facility, cyber-security sensitive, or critical energy infrastructure data. (See 18 C.F.R. § 388.113, see also Govt. Code § 6254(k), (ab); 6 U.S.C. § 131; 6 CFR § 29.2.) | Y69: Optional | Z69: Yes | AA69: May need to be derived based on component ages. There is an effort underway to look into paper records for equipment to fill in missing age information, but not 100% likely to find all information | AB69: TransmissionLine.EstimatedAge
A70: Asset Line | B70: Transmission Line | C70: UsefulLifespan | J70: =CONCATENATE(SUBSTITUTE(B70," ",""),".",SUBSTITUTE(C70," ","")) -> TransmissionLine.UsefulLifespan | K70: =J70=AB70 -> TRUE | L70: =_xlfn.XLOOKUP(J70,'Field Complete (Q1 2026)'!H:H,'Field Complete (Q1 2026)'!F:F,"") -> 0 | M70: Transmission Line | N70: 20 | O70: UsefulLifespan | P70: Useful Lifespan | Q70: Integer(4) | S70: The number of years an asset is expected to have a useful functioning existence upon initial installation. This field is required. | T70: No | U70: This data is unavailable. There are many different manufactures for various assets and useful lifespan is not a data point commonly provided. An assets' lifespan is dependent on a number of factors including weather, installation location, animal interaction, etc. It is not uncommon for some assets to function in the field for 50+ years while others, like surge arrestors, last until struck by lightning as designed. PG&E replaces assets as needed with a risk-based approach. Replacements may result from but are not limited to the following: failures, standard changes, recalls, asset management analysis, or if inspections deem so. | V70: Due to the reasons provided in the Availability Explanations, PG&E does not currently plan to provide this information in upcoming quarterly submissions. PG&E will continue to follow standards and procedures as well as risk based analysis around the different equipment types and when they are to be replaced. | W70: See 'Data procurement actions' | X70: Yes - Information for 115 kV facilities or above voltage are considered confidential. Physical facility, cyber-security sensitive, or critical energy infrastructure data. (See 18 C.F.R. § 388.113, see also Govt. Code § 6254(k), (ab); 6 U.S.C. § 131; 6 CFR § 29.2.) | Y70: Operational decision made | Z70: Yes | AA70: Asset lifespan can vary based on design, environment and maintenance history. Therefore asset decisions are not made based on age alone and useful lifespan is not as meaningful without other asset condition data. Asset strategy is condition and risk based | AB70: TransmissionLine.UsefulLifespan
A71: Asset Line | B71: Transmission Line | C71: AmpacityRating | J71: =CONCATENATE(SUBSTITUTE(B71," ",""),".",SUBSTITUTE(C71," ","")) -> TransmissionLine.AmpacityRating | K71: =J71=AB71 -> TRUE | L71: =_xlfn.XLOOKUP(J71,'Field Complete (Q1 2026)'!H:H,'Field Complete (Q1 2026)'!F:F,"") -> 0.666 | M71: Transmission Line | N71: 21 | O71: AmpacityRating | P71: Ampacity Rating (A) | Q71: Single(4) | S71: Nominal ampacity rating of the conductor in amperes. This field is required. | T71: Partial | U71: PG&E possesses this information, however, it is not systematically stored with individual assets in PG&E's systems of record. Rather, this information resides in documentation of Industry Standards (i.e., National Electric Code). AmpacityRating data was obtained by cross-referencing existing data about line assets (e.g. - Conductor Material, Conductor Size, Insulation Material, Overhead or Underground Status) to determine the associated ampacity rating for each line when possible. This information has been derived from PG&E Standards and Manufacturer documentation for the specific sizes, materials, and insulation types for each conductor type. Field validations for accuracy have not been performed. | V71: To incorporate this information into PG&E's quarterly submission, GIS would need to collaborate with Transmission planning to determine a method to relate individual transmission lines to ampacity ratings (e.g., lookup tables, deriving this information through another field) | W71: The estimated delivery timeframe depends on the method used to relate transmission lines with ampacity ratings. For example, lookup tables may take a few months if prioritized. However, if it is possible to derive this information through another field, it could be integrated in less time if this enhancement to the data standard is prioritized. | X71: Yes - Information for 115 kV facilities or above voltage are considered confidential. Physical facility, cyber-security sensitive, or critical energy infrastructure data. (See 18 C.F.R. § 388.113, see also Govt. Code § 6254(k), (ab); 6 U.S.C. § 131; 6 CFR § 29.2.) | Y71: Data provided | Z71: Yes | AA71: Unknown whether rating information, outside of wind rating, exists in asset system of record. The information may exist in the Asset Registry project the company is working on? Otherwise the information is in the CAISO registry we have this - each line has a nominal rating and emergency rating. Powerful case models- Transmission Planning department - ratings for circuits (WXZ5) | AB71: TransmissionLine.AmpacityRating
A72: Asset Line | B72: Transmission Line | C72: OverallUtilityRisk | J72: =CONCATENATE(SUBSTITUTE(B72," ",""),".",SUBSTITUTE(C72," ","")) -> TransmissionLine.OverallUtilityRisk | K72: =J72=AB72 -> TRUE | L72: =_xlfn.XLOOKUP(J72,'Field Complete (Q1 2026)'!H:H,'Field Complete (Q1 2026)'!F:F,"") -> 0 | M72: Transmission Line | N72: 22 | O72: OverallUtilityRisk | P72: Overall Utility Risk | Q72: Single(4) | S72: Overall risk calculated for the segment as required in WMP guidelines section 4. Note that the electrical corporation is not required to calculate risk for lines vs. support structures, only to do one or the other. Depending on the electrical corporation’s approach, it may report risk for line segments for some or all of its infrastructure, or it may calculate for both. This field is required IF the electrical corporation performs its risk ranking on transmission lines (rather than on support structures only). | T72: No | U72: Overall risk calculated as required in WMP guidelines are performed at the support structure. Therefore this field is intentionally left blank. | V72: N/A - see availability explanations | W72: N/A - see availability explanations | X72: Yes - Information for 115 kV facilities or above voltage are considered confidential. Physical facility, cyber-security sensitive, or critical energy infrastructure data. (See 18 C.F.R. § 388.113, see also Govt. Code § 6254(k), (ab); 6 U.S.C. § 131; 6 CFR § 29.2.) | Y72: Operational decision needed | Z72: Yes | AB72: TransmissionLine.OverallUtilityRisk
A73: Asset Line | B73: Transmission Line | C73: IgnitionRisk | J73: =CONCATENATE(SUBSTITUTE(B73," ",""),".",SUBSTITUTE(C73," ","")) -> TransmissionLine.IgnitionRisk | K73: =J73=AB73 -> TRUE | L73: =_xlfn.XLOOKUP(J73,'Field Complete (Q1 2026)'!H:H,'Field Complete (Q1 2026)'!F:F,"") -> 0 | M73: Transmission Line | N73: 23 | O73: IgnitionRisk | P73: Ignition Risk | Q73: Single(4) | S73: Ignition risk (component of overall risk) calculated for the segment as required in WMP guidelines section 4. Note that the electrical corporation is not required to calculate risk for lines vs. support structures, only to do one or the other. Depending on the electrical corporation’s approach, it may report risk for line segments for some or all of its infrastructure, or it may calculate for both. This field is required IF the electrical corporation performs its risk ranking on transmission lines (rather than on support structures only). | T73: No | U73: Overall risk calculated as required in WMP guidelines are performed at the support structure. Therefore this field is intentionally left blank. | V73: N/A - see availability explanations | W73: N/A - see availability explanations | X73: Yes - Information for 115 kV facilities or above voltage are considered confidential. Physical facility, cyber-security sensitive, or critical energy infrastructure data. (See 18 C.F.R. § 388.113, see also Govt. Code § 6254(k), (ab); 6 U.S.C. § 131; 6 CFR § 29.2.) | Y73: Operational decision needed | Z73: Yes | AB73: TransmissionLine.IgnitionRisk
A74: Asset Line | B74: Transmission Line | C74: PSPSRisk | J74: =CONCATENATE(SUBSTITUTE(B74," ",""),".",SUBSTITUTE(C74," ","")) -> TransmissionLine.PSPSRisk | K74: =J74=AB74 -> TRUE | L74: =_xlfn.XLOOKUP(J74,'Field Complete (Q1 2026)'!H:H,'Field Complete (Q1 2026)'!F:F,"") -> 0 | M74: Transmission Line | N74: 24 | O74: PSPSRisk | P74: PSPS Risk | Q74: Single(4) | S74: PSPS Risk (component of overall risk) calculated for the segment as required in WMP guidelines section 4. Note that the electrical corporation is not required to calculate risk for lines vs. support structures, only to do one or the other. Depending on the electrical corporation’s approach, it may report risk for line segments for some or all of its infrastructure, or it may calculate for both. This field is required IF the electrical corporation performs its risk ranking on transmission lines (rather than on support structures only). | T74: No | U74: Overall risk calculated as required in WMP guidelines are performed at the support structure. Therefore this field is intentionally left blank. | V74: N/A - see availability explanations | W74: N/A - see availability explanations | X74: Yes - Information for 115 kV facilities or above voltage are considered confidential. Physical facility, cyber-security sensitive, or critical energy infrastructure data. (See 18 C.F.R. § 388.113, see also Govt. Code § 6254(k), (ab); 6 U.S.C. § 131; 6 CFR § 29.2.) | Y74: Operational decision needed | Z74: Yes | AB74: TransmissionLine.PSPSRisk
A75: Table (Asset Line) | B75: Transmission Line Detail | C75: SegmentID | J75: =CONCATENATE(SUBSTITUTE(B75," ",""),".",SUBSTITUTE(C75," ","")) -> TransmissionLineDetail.SegmentID | K75: =J75=AB75 -> TRUE | L75: =_xlfn.XLOOKUP(J75,'Field Complete (Q1 2026)'!H:H,'Field Complete (Q1 2026)'!F:F,"") -> 0 | M75: Transmission Line Detail | N75: 1 | O75: SegmentID | P75: Segment ID | Q75: String(50) | S75: ID of circuit segment. Foreign key to the transmission line feature if the electrical corporation has persistent unique segment IDs. This field OR CircuitID is required. A segment may be anything more granular than a circuit, including a single span. | T75: No | U75: Where available, PG&E is providing CircuitID as the foreign key to the asset point features. The electrical corporation does not have persistent unique segment IDs. | V75: N/A - please see availability explanation | W75: N/A - please see availability explanation | X75: Yes - Information for 115 kV facilities or above voltage are considered confidential. Physical facility, cyber-security sensitive, or critical energy infrastructure data. (See 18 C.F.R. § 388.113, see also Govt. Code § 6254(k), (ab); 6 U.S.C. § 131; 6 CFR § 29.2.) | Y75: Optional | Z75: Yes | AB75: TransmissionLineDetail.SegmentID
A76: Table (Asset Line) | B76: Transmission Line Detail | C76: CircuitID | J76: =CONCATENATE(SUBSTITUTE(B76," ",""),".",SUBSTITUTE(C76," ","")) -> TransmissionLineDetail.CircuitID | K76: =J76=AB76 -> TRUE | L76: =_xlfn.XLOOKUP(J76,'Field Complete (Q1 2026)'!H:H,'Field Complete (Q1 2026)'!F:F,"") -> 1 | M76: Transmission Line Detail | N76: 2 | O76: CircuitID | P76: Circuit ID | Q76: String(50) | S76: ID of circuit. Foreign key to the transmission line feature if the electrical corporation does not have persistent unique segment IDs. This field OR SegmentID is required. | T76: Yes | U76: N/A | V76: N/A | W76: N/A | X76: Yes - Information for 115 kV facilities or above voltage are considered confidential. Physical facility, cyber-security sensitive, or critical energy infrastructure data. (See 18 C.F.R. § 388.113, see also Govt. Code § 6254(k), (ab); 6 U.S.C. § 131; 6 CFR § 29.2.) | Y76: Data provided | Z76: Yes | AA76: This represents the "ETL" number, or "Functional Location" | AB76: TransmissionLineDetail.CircuitID
A77: Table (Asset Line) | B77: Transmission Line Detail | C77: UtilityID | J77: =CONCATENATE(SUBSTITUTE(B77," ",""),".",SUBSTITUTE(C77," ","")) -> TransmissionLineDetail.UtilityID | K77: =J77=AB77 -> TRUE | L77: =_xlfn.XLOOKUP(J77,'Field Complete (Q1 2026)'!H:H,'Field Complete (Q1 2026)'!F:F,"") -> 1 | M77: Transmission Line Detail | N77: 3 | O77: UtilityID | P77: Utility ID | Q77: String(10) | R77: BVES; HWT; Liberty; LS Power; PacifiCorp; PG&E; SCE; SDG&E; TBC | S77: Standardized identification name of the electrical corporation. Possible values: ||BVES ||HWT ||Liberty ||LS Power ||PacifiCorp ||PG&E ||SCE ||SDG&E ||TBC ||This field is required. | T77: Yes | U77: N/A | V77: N/A | W77: N/A | X77: No | Y77: Data provided | Z77: Yes | AA77: N/A | AB77: TransmissionLineDetail.UtilityID
A78: Table (Asset Line) | B78: Transmission Line Detail | C78: SubstationID | J78: =CONCATENATE(SUBSTITUTE(B78," ",""),".",SUBSTITUTE(C78," ","")) -> TransmissionLineDetail.SubstationID | K78: =J78=AB78 -> TRUE | L78: =_xlfn.XLOOKUP(J78,'Field Complete (Q1 2026)'!H:H,'Field Complete (Q1 2026)'!F:F,"") -> 1 | M78: Transmission Line Detail | N78: 4 | O78: SubstationID | P78: Substation ID | Q78: String(50) | S78: ID of substation associated with asset. Foreign key to the Substation feature. This field is required. | T78: Yes | U78: N/A | V78: N/A | W78: N/A | X78: Yes - Information for 115 kV facilities or above voltage are considered confidential. Physical facility, cyber-security sensitive, or critical energy infrastructure data. (See 18 C.F.R. § 388.113, see also Govt. Code § 6254(k), (ab); 6 U.S.C. § 131; 6 CFR § 29.2.) | Y78: Data provided | Z78: Yes | AB78: TransmissionLineDetail.SubstationID
A79: Asset Point | B79: Camera | C79: AssetID | J79: =CONCATENATE(SUBSTITUTE(B79," ",""),".",SUBSTITUTE(C79," ","")) -> Camera.AssetID | K79: =J79=AB79 -> TRUE | L79: =_xlfn.XLOOKUP(J79,'Field Complete (Q1 2026)'!H:H,'Field Complete (Q1 2026)'!F:F,"") -> 1 | M79: Camera | N79: 1 | O79: AssetID | P79: Asset ID | Q79: String(50) | S79: Unique ID for a specific camera. Must be a traceable stable ID within the electrical corporation’s operations/processes. Primary key for the Camera feature. This field is required. | T79: Yes | U79: Data gathered from ALERT California (formerly Alert Wildfire) partners. Future reports will require additional requests and support from Alert California. | V79: N/A | W79: N/A | X79: No | Y79: Data provided | Z79: Yes | AA79: Future reports will require additional requests from Alert California. | AB79: Camera.AssetID
A80: Asset Point | B80: Camera | C80: SupportAssetID | J80: =CONCATENATE(SUBSTITUTE(B80," ",""),".",SUBSTITUTE(C80," ","")) -> Camera.SupportAssetID | K80: =J80=AB80 -> TRUE | L80: =_xlfn.XLOOKUP(J80,'Field Complete (Q1 2026)'!H:H,'Field Complete (Q1 2026)'!F:F,"") -> 0 | M80: Camera | N80: 2 | O80: SupportAssetID | P80: Support Asset ID | Q80: String(50) | S80: Unique ID for asset to which camera is attached. Foreign key to the feature where that asset is found. This field is required. | T80: No | U80: There are no cameras attached to PG&E's assets or infrastructure. Cameras are attached to structures on public lands and private property and do not have a unique ID. There is a unique ID by camera and this information is being provided in the OEIS GIS Data Standard. | V80: N/A - Please see the 'Availability Explanation' response. | W80: N/A - Please see the 'Availability Explanation' response. | X80: No | Y80: Data architecture not aligned | Z80: Yes | AA80: DS4.0 Renamed Fieldname | AB80: Camera.SupportAssetID
A81: Asset Point | B81: Camera | C81: AssetFeature | J81: =CONCATENATE(SUBSTITUTE(B81," ",""),".",SUBSTITUTE(C81," ","")) -> Camera.AssetFeature | K81: =J81=AB81 -> TRUE | L81: =_xlfn.XLOOKUP(J81,'Field Complete (Q1 2026)'!H:H,'Field Complete (Q1 2026)'!F:F,"") -> 0 | M81: Camera | N81: 3 | O81: AssetFeature | P81: Asset Feature | Q81: String(20) | R81: Substation; Support Structure; Switchgear; Transformer Site | S81: Identifies the feature class where the support asset ID should be found. Possible values: ||Substation ||Support Structure ||Switchgear ||Transformer Site ||This field is required IF SupportAssetID is populated. | T81: No | U81: See Availability Explanation for SupportAssetID | V81: N/A - Please see the 'Availability Explanation' response. | W81: N/A - Please see the 'Availability Explanation' response. | X81: No | Y81: Optional | Z81: Yes | AA81: New 4 Feature | AB81: Camera.AssetFeature
A82: Asset Point | B82: Camera | C82: UtilityID | J82: =CONCATENATE(SUBSTITUTE(B82," ",""),".",SUBSTITUTE(C82," ","")) -> Camera.UtilityID | K82: =J82=AB82 -> TRUE | L82: =_xlfn.XLOOKUP(J82,'Field Complete (Q1 2026)'!H:H,'Field Complete (Q1 2026)'!F:F,"") -> 1 | M82: Camera | N82: 4 | O82: UtilityID | P82: Utility ID | Q82: String(10) | R82: BVES; HWT; Liberty; LS Power; PacifiCorp; PG&E; SCE; SDG&E; TBC | S82: Standardized identification name of the electrical corporation. Possible values: ||BVES ||HWT ||Liberty ||LS Power ||PacifiCorp ||PG&E ||SCE ||SDG&E ||TBC ||This field is required. | T82: Yes | U82: N/A | V82: N/A | W82: N/A | X82: No | Y82: Data provided | Z82: Yes | AA82: N/A | AB82: Camera.UtilityID
A83: Asset Point | B83: Camera | C83: CameraLocationName | J83: =CONCATENATE(SUBSTITUTE(B83," ",""),".",SUBSTITUTE(C83," ","")) -> Camera.CameraLocationName | K83: =J83=AB83 -> TRUE | L83: =_xlfn.XLOOKUP(J83,'Field Complete (Q1 2026)'!H:H,'Field Complete (Q1 2026)'!F:F,"") -> 1 | M83: Camera | N83: 5 | O83: CameraLocationName | P83: Camera Location Name | Q83: String(30) | S83: Unique name of camera location (e.g., “Cisco Buttes 1”, “Penn Valley”). For Alert Wildfire cameras, this must match the name on the website. This field is optional. | T83: Yes | U83: CameraID is provided to PG&E by ALERT California and may be different from what appears on the ALERT California cameras site. Alert California is actively addressing. | V83: N/A | W83: N/A | X83: No | Y83: Data provided | Z83: Yes | AB83: Camera.CameraLocationName
A84: Asset Point | B84: Camera | C84: HFTDClass | J84: =CONCATENATE(SUBSTITUTE(B84," ",""),".",SUBSTITUTE(C84," ","")) -> Camera.HFTDClass | K84: =J84=AB84 -> TRUE | L84: =_xlfn.XLOOKUP(J84,'Field Complete (Q1 2026)'!H:H,'Field Complete (Q1 2026)'!F:F,"") -> 1 | M84: Camera | N84: 6 | O84: HFTDClass | P84: HFTD Class | Q84: String(10) | R84: Tier 3; Tier 2; Non-HFTD | S84: The CPUC high-fire threat district (HFTD) area the asset intersects. For these data, anything outside Tiers 2 and 3 must be categorized as “Non-HFTD.” Do not record any Zone 1 or Tier 1 values. Possible values: ||Tier 3 ||Tier 2 ||Non-HFTD ||HFTD data can be downloaded from: https://ia.cpuc.ca.gov/firemap. This field is required. | T84: Yes | U84: N/A | V84: N/A | W84: N/A | X84: No | Y84: Data provided | Z84: Yes | AA84: Future reports will require additional requests from Alert California and GIS support | AB84: Camera.HFTDClass
A85: Asset Point | B85: Connection Device | C85: AssetID | J85: =CONCATENATE(SUBSTITUTE(B85," ",""),".",SUBSTITUTE(C85," ","")) -> ConnectionDevice.AssetID | K85: =J85=AB85 -> TRUE | L85: =_xlfn.XLOOKUP(J85,'Field Complete (Q1 2026)'!H:H,'Field Complete (Q1 2026)'!F:F,"") -> 1 | M85: Connection Device | N85: 1 | O85: AssetID | P85: Asset ID | Q85: String(50) | S85: Unique ID for a specific connection device. Must be a traceable stable ID within the electrical corporation’s operations/processes. Primary key for the Connection Device feature. This field is required. | T85: Yes | U85: During data collection for the 2nd Quarter, 2025 Spatial Quarterly Data Report PG&E identified that a work process change had inadvertently impacted its data collection for Distribution splices. This work process change resulted in the removal of splices from its Distribution inspections forms. Since this work process change, PG&E has not collected new data on Distribution splices. PG&E is currently reviewing this process change and investigating the re-addition of splice data collection to its Distribution inspection forms. PG&E’s historical splice data was not impacted by this process change and PG&E is providing its historical splice data for the quarterly spatial QDR report. PG&E has engaged its Corrective Action Program (CAP) to document this issue and logged it under CAP number 131541221. PG&E will use CAP 131541221 to document the issue, investigation, and resolution. | V85: N/A | W85: N/A | X85: No | Y85: Data provided | Z85: Yes | AA85: Line items represent collection of splice counts within a span not individual splice information. Focus of this database is spans with >3 splices per phase. Only for OH primary splices Need to determine reason for UG portion - unclear if limited by operational processes or time | AB85: ConnectionDevice.AssetID
A86: Asset Point | B86: Connection Device | C86: FromStructureID | J86: =CONCATENATE(SUBSTITUTE(B86," ",""),".",SUBSTITUTE(C86," ","")) -> ConnectionDevice.FromStructureID | K86: =J86=AB86 -> TRUE | L86: =_xlfn.XLOOKUP(J86,'Field Complete (Q1 2026)'!H:H,'Field Complete (Q1 2026)'!F:F,"") -> 0.1503 | M86: Connection Device | N86: 2 | O86: FromStructureID | P86: From Structure ID | Q86: String(50) | S86: ID of the structure upstream of the span of line containing a connection device. This structure may be a support structure (e.g., pole or tower) if the span is overhead, or it may be something else (e.g., manhole, vault, etc.) if the span is underground. ||Foreign key to the Support Structure feature. This field is required. | T86: Partial | U86: Distribution Splices: This data is not available for distribution splices at this time. Data may become reportable when splices are migrated from mapguide to EDGIS. Connector and Clamp: This data is not available for Connectors and Clamps at this time. Transmission Splices: This data is partially available for the transmission splice data. | V86: Please see availability explanations. | W86: Distribution Splices: Dependent on migration of splice data from mapguide to EDGIS. | X86: No | Y86: Data provided | Z86: Yes | AA86: Have limited transmission data, but no distribution data | AB86: ConnectionDevice.FromStructureID
A87: Asset Point | B87: Connection Device | C87: ToStructureID | J87: =CONCATENATE(SUBSTITUTE(B87," ",""),".",SUBSTITUTE(C87," ","")) -> ConnectionDevice.ToStructureID | K87: =J87=AB87 -> TRUE | L87: =_xlfn.XLOOKUP(J87,'Field Complete (Q1 2026)'!H:H,'Field Complete (Q1 2026)'!F:F,"") -> 0.1499 | M87: Connection Device | N87: 3 | O87: ToStructureID | P87: To Structure ID | Q87: String(50) | S87: ID of the structure downstream of the span of line containing a connection device. This structure may be a support structure (e.g., pole or tower) if the span is overhead, or it may be something else (e.g., manhole, vault, etc.) if the span is underground. Foreign key to the Support Structure feature. This field is required. | T87: Partial | U87: Distribution Splices: This data is not available for distribution splices at this time. Data may become reportable when splices are migrated from mapguide to EDGIS. Connector and Clamp: This data is not available for Connectors and Clamps at this time. Transmission Splices: This data is partially available for the transmission splice data. | V87: Please see availability explanations. | W87: Distribution Splices: Dependent on migration of splice data from mapguide to EDGIS | X87: No | Y87: Data provided | Z87: Yes | AA87: Have limited transmission data, but no distribution data | AB87: ConnectionDevice.ToStructureID
A88: Asset Point | B88: Connection Device | C88: SegmentID | J88: =CONCATENATE(SUBSTITUTE(B88," ",""),".",SUBSTITUTE(C88," ","")) -> ConnectionDevice.SegmentID | K88: =J88=AB88 -> TRUE | L88: =_xlfn.XLOOKUP(J88,'Field Complete (Q1 2026)'!H:H,'Field Complete (Q1 2026)'!F:F,"") -> 0 | M88: Connection Device | N88: 4 | O88: SegmentID | P88: Segment ID | Q88: String(50) | S88: ID of circuit segment associated with asset. Foreign key to the asset line features if the electrical corporation has persistent unique segment IDs. This field OR CircuitID is required. | T88: No | U88: Where available, PG&E provides CircuitID as the foreign key to the asset point features. The electrical corporation does not have persistent unique segment IDs. | V88: N/A | W88: N/A | X88: Yes - Information for 115 kV facilities or above voltage are considered confidential. Physical facility, cyber-security sensitive, or critical energy infrastructure data protected from disclosure. (See 18 C.F.R. § 388.113, see also Govt. Code § 6254(k), (ab); 6 U.S.C. § 131; 6 CFR § 29.2.) | Y88: Optional | Z88: Yes | AB88: ConnectionDevice.SegmentID
A89: Asset Point | B89: Connection Device | C89: CircuitID | J89: =CONCATENATE(SUBSTITUTE(B89," ",""),".",SUBSTITUTE(C89," ","")) -> ConnectionDevice.CircuitID | K89: =J89=AB89 -> TRUE | L89: =_xlfn.XLOOKUP(J89,'Field Complete (Q1 2026)'!H:H,'Field Complete (Q1 2026)'!F:F,"") -> 0.9877 | M89: Connection Device | N89: 5 | O89: CircuitID | P89: Circuit ID | Q89: String(50) | S89: ID of circuit associated with asset. Foreign key to the asset line features if the electrical corporation does not have persistent unique segment IDs. This field OR SegmentID is required. | T89: Partial | U89: Distribution: PG&E provides majority of this information. More data will be reportable when splices are migrated from mapguide to ArcGIS. Transmission: No additional comments at this time. | V89: N/A | W89: N/A | X89: Yes - Information for 115 kV facilities or above voltage are considered confidential. Physical facility, cyber-security sensitive, or critical energy infrastructure data protected from disclosure. (See 18 C.F.R. § 388.113, see also Govt. Code § 6254(k), (ab); 6 U.S.C. § 131; 6 CFR § 29.2.) | Y89: Data provided | Z89: Yes | AA89: n/a | AB89: ConnectionDevice.CircuitID
A90: Asset Point | B90: Connection Device | C90: LineClass | J90: =CONCATENATE(SUBSTITUTE(B90," ",""),".",SUBSTITUTE(C90," ","")) -> ConnectionDevice.LineClass | K90: =J90=AB90 -> TRUE | L90: =_xlfn.XLOOKUP(J90,'Field Complete (Q1 2026)'!H:H,'Field Complete (Q1 2026)'!F:F,"") -> 1 | M90: Connection Device | N90: 6 | O90: LineClass | P90: Line Class | Q90: String(30) | R90: Transmission Line; Primary Distribution Line; Secondary Distribution Line | S90: Identifies the feature class where the Segment or Circuit ID should be found Possible values: ||Transmission Line ||Primary Distribution Line ||Secondary Distribution Line ||This field is required. | T90: Yes | U90: N/A | V90: N/A | W90: N/A | X90: No | Y90: Data provided | Z90: Yes | AB90: ConnectionDevice.LineClass
A91: Asset Point | B91: Connection Device | C91: SubstationID | J91: =CONCATENATE(SUBSTITUTE(B91," ",""),".",SUBSTITUTE(C91," ","")) -> ConnectionDevice.SubstationID | K91: =J91=AB91 -> TRUE | L91: =_xlfn.XLOOKUP(J91,'Field Complete (Q1 2026)'!H:H,'Field Complete (Q1 2026)'!F:F,"") -> 0.7611 | M91: Connection Device | N91: 7 | O91: SubstationID | P91: Substation ID | Q91: String(50) | S91: ID of substation associated with asset. Foreign key to the Substation feature. This field is required. | T91: Partial | U91: There are several reasons why this data may not be entirely present. Such reasons are: 1) Not all substation data may export, join, or otherwise translate as intended when preparing the FGDB, 2) There may be an association concern because of a one to many relationship between assets and substations. or 3) There are substations not currently associated with circuits or other data that is used to derive this attribute for the FGDB. | V91: PG&E is exploring long-term IT and process-oriented solutions to produce the OEIS GIS Standard, with the potential to connect formerly disparate data sources. | W91: PG&E is taking actions to enhance the GIS Data Standard submission on a quarterly basis. The integration of this field will depend on developments to process and technology integration. | X91: Yes - Substation information are identified as confidential Physical facility, cyber-security sensitive, or critical energy infrastructure data protected from disclosure. (See 18 C.F.R. § 388.113, see also Govt. Code § 6254(k), (ab); 6 U.S.C. § 131; 6 CFR § 29.2.) Customer information combined with GIS data may facilitate customer identification in violation of privacy rules. (See PUC § 8380; Civ. Code §§ 1798 et seq.; Govt. Code § 6254; D.14-05-016.) | Y91: Data provided | Z91: Yes | AA91: Transmission: SubstationID can be linked via new TransmissionLineDetail table. Need logic from ETGIS SME to derive. | AB91: ConnectionDevice.SubstationID
A92: Asset Point | B92: Connection Device | C92: UtilityID | J92: =CONCATENATE(SUBSTITUTE(B92," ",""),".",SUBSTITUTE(C92," ","")) -> ConnectionDevice.UtilityID | K92: =J92=AB92 -> TRUE | L92: =_xlfn.XLOOKUP(J92,'Field Complete (Q1 2026)'!H:H,'Field Complete (Q1 2026)'!F:F,"") -> 1 | M92: Connection Device | N92: 8 | O92: UtilityID | P92: Utility ID | Q92: String(10) | R92: BVES; HWT; Liberty; LS Power; PacifiCorp; PG&E; SCE; SDG&E; TBC | S92: Standardized identification name of the electrical corporation. Possible values: ||BVES ||HWT ||Liberty ||LS Power ||PacifiCorp ||PG&E ||SCE ||SDG&E ||TBC ||This field is required. | T92: Yes | U92: N/A | V92: N/A | W92: N/A | X92: No | Y92: Data provided | Z92: Yes | AB92: ConnectionDevice.UtilityID
A93: Asset Point | B93: Connection Device | C93: AssetLocation | J93: =CONCATENATE(SUBSTITUTE(B93," ",""),".",SUBSTITUTE(C93," ","")) -> ConnectionDevice.AssetLocation | K93: =J93=AB93 -> TRUE | L93: =_xlfn.XLOOKUP(J93,'Field Complete (Q1 2026)'!H:H,'Field Complete (Q1 2026)'!F:F,"") -> 1 | M93: Connection Device | N93: 9 | O93: AssetLocation | P93: Asset Location | Q93: String(20) | R93: Overhead; Underground; Surface (Padmount) | S93: Is the asset overhead or underground? Possible values: ||Overhead ||Underground ||Surface (Padmount) ||This field is required. | T93: Yes | U93: Distribution: All data provided. Transmission: No additional comments at this time. | V93: N/A | W93: N/A | X93: No | Y93: Data provided | Z93: Yes | AA93: n/a | AB93: ConnectionDevice.AssetLocation
A94: Asset Point | B94: Connection Device | C94: ConnectionDeviceType | J94: =CONCATENATE(SUBSTITUTE(B94," ",""),".",SUBSTITUTE(C94," ","")) -> ConnectionDevice.ConnectionDeviceType | K94: =J94=AB94 -> TRUE | L94: =_xlfn.XLOOKUP(J94,'Field Complete (Q1 2026)'!H:H,'Field Complete (Q1 2026)'!F:F,"") -> 1 | M94: Connection Device | N94: 10 | O94: ConnectionDeviceType | P94: Connection Device Type | Q94: String(30) | R94: Splice; Connector; Clamp; Unknown; Other, see comment | S94: What type of connection device is the asset? Possible values: ||Splice ||Connector ||Clamp ||Other, see comment ||Note: The electrical corporation does not need to report flying taps as part of this feature class. This field is required. | T94: Yes | U94: DIstribution Splice: PG&E does not track this level of data on splices. Generally splice data collection targets "in-line", current carrying splices/connectors such as Automatics, Compression, and other. Transmission Splice: This field is not available for transmission splice data. Clamp and Connector: No comments | V94: N/A | W94: N/A | X94: No | Y94: Data provided | Z94: Yes | AA94: Transmission: AIC program will identify Trans. connection devices such as 'Clamps', 'Connectors' from paper records and migrate to ETGIS. Next Steps (J4ES): Need to determine correct field and logic from AIC team, and update timeline (SME: Eddie Edmonson, Elena) | AB94: ConnectionDevice.ConnectionDeviceType
A95: Asset Point | B95: Connection Device | C95: ConnectionDeviceTypeComment | J95: =CONCATENATE(SUBSTITUTE(B95," ",""),".",SUBSTITUTE(C95," ","")) -> ConnectionDevice.ConnectionDeviceTypeComment | K95: =J95=AB95 -> TRUE | L95: =_xlfn.XLOOKUP(J95,'Field Complete (Q1 2026)'!H:H,'Field Complete (Q1 2026)'!F:F,"") -> 0.0004 | M95: Connection Device | N95: 11 | O95: ConnectionDeviceTypeComment | P95: Connection Device Type Comment | Q95: String(30) | S95: Connection device type not listed in the options above. This field is required IF ConnectionDeviceType is “Other, see comment”. | T95: Yes | U95: Connector and Clamp data is recorded at the support structure level, not at an individual piece of equipment. Some records indicate a mixture of clamp and connector on an individual support structure. For these poles PG&E has selected "Other, see comment" and indicated "Connector and Clamp" in this column. | V95: Please see availability explanations. | W95: Please see availability explanations. | X95: No | Y95: Optional | Z95: Yes | AA95: n/a | AB95: ConnectionDevice.ConnectionDeviceTypeComment
A96: Asset Point | B96: Connection Device | C96: ConnectionDeviceSubtype | J96: =CONCATENATE(SUBSTITUTE(B96," ",""),".",SUBSTITUTE(C96," ","")) -> ConnectionDevice.ConnectionDeviceSubtype | K96: =J96=AB96 -> TRUE | L96: =_xlfn.XLOOKUP(J96,'Field Complete (Q1 2026)'!H:H,'Field Complete (Q1 2026)'!F:F,"") -> 0 | M96: Connection Device | N96: 12 | O96: ConnectionDeviceSubtype | P96: Connection Device Subtype | Q96: String(30) | R96: Automatic splice; Crimp splice; Explosive sleeve splice; 3-bolt; Parallel groove; Unknown; Other, see comment | S96: What is the specific subtype of the connection device? ||Automatic splice ||Crimp splice ||Explosive sleeve splice ||3-bolt ||Parallel groove ||Other, see comment ||This field is required. | T96: No | U96: All unknown. PG&E does not collect this detail. PG&E does not have a comprehensive primary splice database but has collected splices for asset strategy purposes. Since the purpose of this effort was to help identify the location of deteriorated conductor, only spans with more than 3 splices in an individual phase were collected. These splices are currently in a mapguide GIS system and displayed by span (max/phase and total/span). | V96: Please see availability explanations. | W96: Please see availability explanations. | X96: No | Y96: Operational decision made | Z96: Yes | AA96: n/a | AB96: ConnectionDevice.ConnectionDeviceSubtype
A97: Asset Point | B97: Connection Device | C97: ConnectionDeviceSubtypeComment | J97: =CONCATENATE(SUBSTITUTE(B97," ",""),".",SUBSTITUTE(C97," ","")) -> ConnectionDevice.ConnectionDeviceSubtypeComment | K97: =J97=AB97 -> TRUE | L97: =_xlfn.XLOOKUP(J97,'Field Complete (Q1 2026)'!H:H,'Field Complete (Q1 2026)'!F:F,"") -> 0 | M97: Connection Device | N97: 13 | O97: ConnectionDeviceSubtypeComment | P97: Connection Device Subtype Comment | Q97: String(30) | S97: Connection device subtype not listed in the options above. This field is required IF ConnectionDeviceSubtype is “Other, see comment”. | T97: No | U97: N/A | V97: N/A | W97: N/A | X97: No | Y97: Optional | Z97: Yes | AA97: n/a | AB97: ConnectionDevice.ConnectionDeviceSubtypeComment
A98: Asset Point | B98: Connection Device | C98: AssociatedNominalVoltagekV | J98: =CONCATENATE(SUBSTITUTE(B98," ",""),".",SUBSTITUTE(C98," ","")) -> ConnectionDevice.AssociatedNominalVoltagekV | K98: =J98=AB98 -> TRUE | L98: =_xlfn.XLOOKUP(J98,'Field Complete (Q1 2026)'!H:H,'Field Complete (Q1 2026)'!F:F,"") -> 0.9265 | M98: Connection Device | N98: 14 | O98: AssociatedNominalVoltagekV | P98: Associated Nominal Voltage (kV) | Q98: String(10) | S98: Nominal voltage (in kilovolts) associated with asset. Do not use more than two decimal places. OK to use ranges (e.g., “0-60”, “<500”). This field is required. | T98: Partial | U98: To fully collect and report this data, PG&E would need to derive voltage from the CircuitID and state the assumption that voltages may not line up if there is a step-up/down transformer involved. When splice data is migrated from mapguide to EDGIS then this data can be extracted. | V98: Please see availability explanations. | W98: This data will be collected when splices are migrated from mapguide to EDGIS. | X98: No | Y98: Data provided | Z98: Yes | AA98: n/a | AB98: ConnectionDevice.AssociatedNominalVoltagekV
A99: Asset Point | B99: Connection Device | C99: AssociatedOperatingVoltagekV | J99: =CONCATENATE(SUBSTITUTE(B99," ",""),".",SUBSTITUTE(C99," ","")) -> ConnectionDevice.AssociatedOperatingVoltagekV | K99: =J99=AB99 -> TRUE | L99: =_xlfn.XLOOKUP(J99,'Field Complete (Q1 2026)'!H:H,'Field Complete (Q1 2026)'!F:F,"") -> 0 | M99: Connection Device | N99: 15 | O99: AssociatedOperatingVoltagekV | P99: Associated Operating Voltage (kV) | Q99: String(10) | S99: Operating voltage (in kilovolts) associated with asset. Do not use more than two decimal places. OK to use ranges (e.g., “0-60”, “<500”). This field is required. | T99: No | U99: Please see the entry for "AssociatedNominalVoltagekV" | V99: Please see the entry for "AssociatedNominalVoltagekV" | W99: Please see the entry for "AssociatedNominalVoltagekV" | X99: No | Y99: Operational decision needed | Z99: Yes | AA99: n/a | AB99: ConnectionDevice.AssociatedOperatingVoltagekV
A100: Asset Point | B100: Connection Device | C100: CircuitName | J100: =CONCATENATE(SUBSTITUTE(B100," ",""),".",SUBSTITUTE(C100," ","")) -> ConnectionDevice.CircuitName | K100: =J100=AB100 -> TRUE | L100: =_xlfn.XLOOKUP(J100,'Field Complete (Q1 2026)'!H:H,'Field Complete (Q1 2026)'!F:F,"") -> 0.9934 | M100: Connection Device | N100: 16 | O100: CircuitName | P100: Circuit Name | Q100: String(255) | S100: Name of circuit associated with asset. Leave null if there is no unique circuit name that is different than the circuit ID. There is no need to repeat CircuitID values in this field. This field is optional. | T100: Partial | U100: This attribute contains the majority of the required data. There are several potential reasons why this data may not be present. For example, data may have been mis-captured originally or it may not export, join, or otherwise translate as intended when preparing the FGDB. | V100: Majority of data is submitted for this field. PG&E's focus is currently on addressing larger data gaps and enhancements to reporting quality. Once these objectives are met, PG&E can re-assess actions needed for more complete data for this field | W100: PG&E is taking actions to enhance the GIS Data Standard submission on a quarterly basis. Addressing the small percentage of missing values for this attribute will be explored after the overall submission product achieves a higher quality and becomes more sustainable. | X100: Yes - Information for 115 kV facilities or above voltage are considered confidential. Physical facility, cyber-security sensitive, or critical energy infrastructure data protected from disclosure. (See 18 C.F.R. § 388.113, see also Govt. Code § 6254(k), (ab); 6 U.S.C. § 131; 6 CFR § 29.2.) | Y100: Data provided | Z100: Yes | AA100: n/a | AB100: ConnectionDevice.CircuitName
...

Sheet Field Complete (Q1 2026)
A1: Table Name | B1: Record Count | C1: Field Name | D1: Field Alias | E1: Total Complete | F1: Percentage | G1: Notes | H1: Adjusted Percentage of Complete | J1: Manual Override Load | K1: Delta Columns I and F | L1: Delta Columns K and F | M1: K Text Override | N1: Final Adjusted Percentage of Complete | O1: Final Adjusted Deltas | P1: Hashkey
A2: PrimaryDistributionLine | B2: 2063177 | C2: SEGMENTID | D2: Segment ID | E2: 0 | F2: 0 | H2: =CONCATENATE(SUBSTITUTE(A2," ",""),".",SUBSTITUTE(C2," ","")) -> PrimaryDistributionLine.SEGMENTID
A3: PrimaryDistributionLine | B3: 2063177 | C3: CIRCUITID | D3: Circuit ID | E3: 2060937 | F3: 0.9989 | H3: =CONCATENATE(SUBSTITUTE(A3," ",""),".",SUBSTITUTE(C3," ","")) -> PrimaryDistributionLine.CIRCUITID
A4: PrimaryDistributionLine | B4: 2063177 | C4: UTILITYID | D4: Utility ID | E4: 2063177 | F4: 1 | H4: =CONCATENATE(SUBSTITUTE(A4," ",""),".",SUBSTITUTE(C4," ","")) -> PrimaryDistributionLine.UTILITYID
A5: PrimaryDistributionLine | B5: 2063177 | C5: SUBSTATIONID | D5: Substation ID | E5: 2060299 | F5: 0.9986 | H5: =CONCATENATE(SUBSTITUTE(A5," ",""),".",SUBSTITUTE(C5," ","")) -> PrimaryDistributionLine.SUBSTATIONID
A6: PrimaryDistributionLine | B6: 2063177 | C6: CIRCUITNAME | D6: Circuit Name | E6: 2060937 | F6: 0.9989 | H6: =CONCATENATE(SUBSTITUTE(A6," ",""),".",SUBSTITUTE(C6," ","")) -> PrimaryDistributionLine.CIRCUITNAME
A7: PrimaryDistributionLine | B7: 2063177 | C7: CONDUCTORTYPE | D7: Conductor Type | E7: 2061118 | F7: 0.999 | H7: =CONCATENATE(SUBSTITUTE(A7," ",""),".",SUBSTITUTE(C7," ","")) -> PrimaryDistributionLine.CONDUCTORTYPE
A8: PrimaryDistributionLine | B8: 2063177 | C8: CONDUCTORTYPECOMMENT | D8: Conductor Type Comment | E8: 0 | F8: 0 | H8: =CONCATENATE(SUBSTITUTE(A8," ",""),".",SUBSTITUTE(C8," ","")) -> PrimaryDistributionLine.CONDUCTORTYPECOMMENT
A9: PrimaryDistributionLine | B9: 2063177 | C9: ASSETLOCATION | D9: Asset Location | E9: 2063177 | F9: 1 | H9: =CONCATENATE(SUBSTITUTE(A9," ",""),".",SUBSTITUTE(C9," ","")) -> PrimaryDistributionLine.ASSETLOCATION
A10: PrimaryDistributionLine | B10: 2063177 | C10: NOMINALVOLTAGEKV | D10: Nominal Voltage (kV) | E10: 2061730 | F10: 0.9993 | H10: =CONCATENATE(SUBSTITUTE(A10," ",""),".",SUBSTITUTE(C10," ","")) -> PrimaryDistributionLine.NOMINALVOLTAGEKV
A11: PrimaryDistributionLine | B11: 2063177 | C11: OPERATINGVOLTAGEKV | D11: Operating Voltage (kV) | E11: 2062182 | F11: 0.9995 | H11: =CONCATENATE(SUBSTITUTE(A11," ",""),".",SUBSTITUTE(C11," ","")) -> PrimaryDistributionLine.OPERATINGVOLTAGEKV
A12: PrimaryDistributionLine | B12: 2063177 | C12: SUBSTATIONNAME | D12: Substation Name | E12: 2060937 | F12: 0.9989 | H12: =CONCATENATE(SUBSTITUTE(A12," ",""),".",SUBSTITUTE(C12," ","")) -> PrimaryDistributionLine.SUBSTATIONNAME
A13: PrimaryDistributionLine | B13: 2063177 | C13: CONDUCTORMATERIAL | D13: Conductor Material | E13: 2061118 | F13: 0.999 | H13: =CONCATENATE(SUBSTITUTE(A13," ",""),".",SUBSTITUTE(C13," ","")) -> PrimaryDistributionLine.CONDUCTORMATERIAL
... A351: VegetationManagementProjectPoint | B351: 57424 | C351: HFTDCLASS | D351: HFTD Class | E351: 57424 | F351: 1 | H351: =CONCATENATE(SUBSTITUTE(A351," ",""),".",SUBSTITUTE(C351," ","")) -> VegetationManagementProjectPoint.HFTDCLASS
A352: OtherInitiativePoint | B352: 117 | C352: OIID | D352: OI ID | E352: 117 | F352: 1 | G352: Wjj7 | H352: =CONCATENATE(SUBSTITUTE(A352," ",""),".",SUBSTITUTE(C352," ","")) -> OtherInitiativePoint.OIID
A353: OtherInitiativePoint | B353: 117 | C353: UTILITYID | D353: Utility ID | E353: 117 | F353: 1 | G353: Wjj7 | H353: =CONCATENATE(SUBSTITUTE(A353," ",""),".",SUBSTITUTE(C353," ","")) -> OtherInitiativePoint.UTILITYID
A354: OtherInitiativePoint | B354: 117 | C354: UMATID | D354: Utility Mitigation Activity Tracking ID | E354: 117 | F354: 1 | G354: Wjj7 | H354: =CONCATENATE(SUBSTITUTE(A354," ",""),".",SUBSTITUTE(C354," ","")) -> OtherInitiativePoint.UMATID
A355: OtherInitiativePoint | B355: 117 | C355: LOCATIONORADDRESS | D355: Location or Address | E355: 117 | F355: 1 | G355: Wjj7 | H355: =CONCATENATE(SUBSTITUTE(A355," ",""),".",SUBSTITUTE(C355," ","")) -> OtherInitiativePoint.LOCATIONORADDRESS
A356: OtherInitiativePoint | B356: 117 | C356: WMPINITIATIVECATEGORY | D356: WMP Initiative Category | E356: 117 | F356: 1 | G356: Wjj7 | H356: =CONCATENATE(SUBSTITUTE(A356," ",""),".",SUBSTITUTE(C356," ","")) -> OtherInitiativePoint.WMPINITIATIVECATEGORY
A357: OtherInitiativePoint | B357: 117 | C357: WMPINITIATIVE | D357: WMP Initiative | E357: 117 | F357: 1 | G357: Wjj7 | H357: =CONCATENATE(SUBSTITUTE(A357," ",""),".",SUBSTITUTE(C357," ","")) -> OtherInitiativePoint.WMPINITIATIVE
A358: OtherInitiativePoint | B358: 117 | C358: WMPACTIVITY | D358: WMP Activity | E358: 117 | F358: 1 | G358: Wjj7 | H358: =CONCATENATE(SUBSTITUTE(A358," ",""),".",SUBSTITUTE(C358," ","")) -> OtherInitiativePoint.WMPACTIVITY
A359: OtherInitiativePoint | B359: 117 | C359: ACTIVITYDESCRIPTION | D359: Activity Description | E359: 117 | F359: 1 | G359: Wjj7 | H359: =CONCATENATE(SUBSTITUTE(A359," ",""),".",SUBSTITUTE(C359," ","")) -> OtherInitiativePoint.ACTIVITYDESCRIPTION
A360: OtherInitiativePoint | B360: 117 | C360: WMPSECTION | D360: WMP Section | E360: 117 | F360: 1 | G360: Wjj7 | H360: =CONCATENATE(SUBSTITUTE(A360," ",""),".",SUBSTITUTE(C360," ","")) -> OtherInitiativePoint.WMPSECTION
A361: OtherInitiativePoint | B361: 117 | C361: FIELDNOTES | D361: Field Notes | E361: 0 | F361: 0 | G361: Wjj7 | H361: =CONCATENATE(SUBSTITUTE(A361," ",""),".",SUBSTITUTE(C361," ","")) -> OtherInitiativePoint.FIELDNOTES
A362: OtherInitiativePoint | B362: 117 | C362: UNITSREPRESENTED | D362: Units Represented | E362: 117 | F362: 1 | G362: Wjj7 | H362: =CONCATENATE(SUBSTITUTE(A362," ",""),".",SUBSTITUTE(C362," ","")) -> OtherInitiativePoint.UNITSREPRESENTED
A363: OtherInitiativePoint | B363: 117 | C363: STARTDATE | D363: Date Start | E363: 117 | F363: 1 | G363: Wjj7 | H363: =CONCATENATE(SUBSTITUTE(A363," ",""),".",SUBSTITUTE(C363," ","")) -> OtherInitiativePoint.STARTDATE
... A366: OtherInitiativePoint | B366: 117 | C366: HFTDCLASS | D366: HFTD Class | E366: 117 | F366: 1 | G366: Wjj7 | H366: =CONCATENATE(SUBSTITUTE(A366," ",""),".",SUBSTITUTE(C366," ","")) -> OtherInitiativePoint.HFTDCLASS
A367: CriticalFacility | B367: 68167 | C367: FACILITYID | D367: Facility ID | E367: 68167 | F367: 1 | H367: =CONCATENATE(SUBSTITUTE(A367," ",""),".",SUBSTITUTE(C367," ","")) -> CriticalFacility.FACILITYID
A368: CriticalFacility | B368: 68167 | C368: UTILITYID | D368: Utility ID | E368: 68167 | F368: 1 | H368: =CONCATENATE(SUBSTITUTE(A368," ",""),".",SUBSTITUTE(C368," ","")) -> CriticalFacility.UTILITYID
A369: CriticalFacility | B369: 68167 | C369: FACILITYNAME | D369: Facility Name | E369: 68167 | F369: 1 | H369: =CONCATENATE(SUBSTITUTE(A369," ",""),".",SUBSTITUTE(C369," ","")) -> CriticalFacility.FACILITYNAME
A370: CriticalFacility | B370: 68167 | C370: FACILITYCATEGORY | D370: Facility Category | E370: 66962 | F370: 0.9823 | H370: =CONCATENATE(SUBSTITUTE(A370," ",""),".",SUBSTITUTE(C370," ","")) -> CriticalFacility.FACILITYCATEGORY
A371: CriticalFacility | B371: 68167 | C371: FACILITYCATEGORYCOMMENT | D371: Facility Category Comment | E371: 5814 | F371: 0.0853 | H371: =CONCATENATE(SUBSTITUTE(A371," ",""),".",SUBSTITUTE(C371," ","")) -> CriticalFacility.FACILITYCATEGORYCOMMENT
A372: CriticalFacility | B372: 68167 | C372: FACILITYDESCRIPTION | D372: Facility Description | E372: 68167 | F372: 1 | H372: =CONCATENATE(SUBSTITUTE(A372," ",""),".",SUBSTITUTE(C372," ","")) -> CriticalFacility.FACILITYDESCRIPTION
A373: CriticalFacility | B373: 68167 | C373: SEGMENTID | D373: Segment ID | E373: 0 | F373: 0 | H373: =CONCATENATE(SUBSTITUTE(A373," ",""),".",SUBSTITUTE(C373," ","")) -> CriticalFacility.SEGMENTID
A374: CriticalFacility | B374: 68167 | C374: CIRCUITID | D374: Circuit ID | E374: 68155 | F374: 0.9998 | H374: =CONCATENATE(SUBSTITUTE(A374," ",""),".",SUBSTITUTE(C374," ","")) -> CriticalFacility.CIRCUITID
A375: CriticalFacility | B375: 68167 | C375: METERID | D375: Meter ID | E375: 68167 | F375: 1 | H375: =CONCATENATE(SUBSTITUTE(A375," ",""),".",SUBSTITUTE(C375," ","")) -> CriticalFacility.METERID
A376: CriticalFacility | B376: 68167 | C376: BACKUPPOWER | D376: Backup Power | E376: 68167 | F376: 1 | H376: =CONCATENATE(SUBSTITUTE(A376," ",""),".",SUBSTITUTE(C376," ","")) -> CriticalFacility.BACKUPPOWER
A377: CriticalFacility | B377: 68167 | C377: BACKUPTYPE | D377: Backup Type | E377: 5502 | F377: 0.0807 | H377: =CONCATENATE(SUBSTITUTE(A377," ",""),".",SUBSTITUTE(C377," ","")) -> CriticalFacility.BACKUPTYPE
A378: CriticalFacility | B378: 68167 | C378: BACKUPTYPECOMMENT | D378: Backup Type Comment | E378: 5488 | F378: 0.0805 | H378: =CONCATENATE(SUBSTITUTE(A378," ",""),".",SUBSTITUTE(C378," ","")) -> CriticalFacility.BACKUPTYPECOMMENT
... A766: SupportStructure | B766: 2761987 | C766: HFTDCLASS | D766: HFTD Class | E766: 2761987 | F766: 1 | H766: =CONCATENATE(SUBSTITUTE(A766," ",""),".",SUBSTITUTE(C766," ","")) -> SupportStructure.HFTDCLASS
