Workbook

Sheet Overview
A1: Spatial Data Status Report - v4.1 - Overview
A2: Dataset | B2: Feature Class or Table | C2: Submitted (Yes/No) | D2: Reason | E2: Availability Explanation | F2: Locations Confidential? (Yes/No) | G2: Metadata Included (Yes/No)? | H2: Metadata Absence Explanation | I2: Data Procurement Actions | J2: Estimated Delivery
A3: Asset Point | B3: Camera | C3: Yes | D3: N/A | E3: N/A | F3: No | G3: Yes | H3: N/A | I3: N/A | J3: N/A
B4: Connection Device | C4: Yes | D4: N/A | E4: N/A | F4: Yes | G4: Yes | H4: N/A | I4: N/A | J4: N/A
B5: Customer Meter | C5: Yes | D5: N/A | E5: N/A | F5: Yes | G5: Yes | H5: N/A | I5: N/A | J5: N/A
B6: Fuse | C6: Yes | D6: N/A | E6: N/A | F6: Yes | G6: Yes | H6: N/A | I6: N/A | J6: N/A
B7: Lightning Arrester | C7: Yes | D7: N/A | E7: N/A | F7: Yes | G7: Yes | H7: N/A | I7: N/A | J7: N/A
B8: Substation | C8: Yes | D8: N/A | E8: N/A | F8: Yes | G8: Yes | H8: N/A | I8: N/A | J8: N/A
B9: Support Structure | C9: Yes | D9: N/A | E9: N/A | F9: Yes | G9: Yes | H9: N/A | I9: N/A | J9: N/A
B10: Support Structure Detail | C10: Yes | D10: N/A | E10: N/A | F10: N/A | G10: Yes | H10: N/A | I10: N/A | J10: N/A
B11: Switchgear | C11: Yes | D11: N/A | E11: N/A | F11: Yes | G11: Yes | H11: N/A | I11: N/A | J11: N/A
B12: Transformer Site | C12: Yes | D12: N/A | E12: N/A | F12: Yes | G12: Yes | H12: N/A | I12: N/A | J12: N/A
B13: Transformer Detail | C13: Yes | D13: N/A | E13: N/A | F13: N/A | G13: Yes | H13: N/A | I13: N/A | J13: N/A
B14: Weather Station | C14: Yes | D14: N/A | E14: N/A | F14: No | G14: Yes | H14: N/A | I14: N/A | J14: N/A
A16: Asset Line | B16: Transmission Line | C16: Yes | D16: N/A | E16: N/A | F16: Yes | G16: Yes | H16: N/A | I16: N/A | J16: N/A
B17: Transmission Line Detail | C17: Yes | D17: N/A | E17: N/A | F17: N/A | G17: Yes | H17: N/A | I17: N/A | J17: N/A
B18: Primary Distribution Line | C18: Yes | D18: N/A | E18: N/A | F18: Yes | G18: Yes | H18: N/A | I18: N/A | J18: N/A
B19: Secondary Distribution Line | C19: Yes | D19: N/A | E19: N/A | F19: Yes | G19: Yes | H19: N/A | I19: N/A | J19: N/A
A21: PSPS Event | B21: PSPS Event Log | C21: No | D21: Not relevant for the reporting quarter | F21: N/A
B22: PSPS Event Line | C22: No | D22: Not relevant for the reporting quarter
B23: PSPS Event Polygon | C23: No | D23: Not relevant for the reporting quarter
B24: PSPS Event Customer Meter Point | C24: No | D24: Not relevant for the reporting quarter
B25: PSPS Event Damage Point | C25: No | D25: Not relevant for the reporting quarter
B26: PSPS Event Conductor Damage Detail | C26: No | D26: Not relevant for the reporting quarter | F26: N/A
B27: PSPS Event Support Structure Damage Detail | C27: No | D27: Not relevant for the reporting quarter | F27: N/A
B28: PSPS Event Other Asset Damage Detail | C28: No | D28: Not relevant for the reporting quarter | F28: N/A
B29: PSPS Event Damage Photo Log | C29: No | D29: Not relevant for the reporting quarter | F29: N/A
F30: N/A
A31: Risk Event | B31: Wire Down Event | C31: Yes | D31: N/A | E31: N/A | F31: Yes | G31: Yes | H31: N/A | I31: N/A | J31: N/A
B32: Ignition | C32: Yes | D32: N/A | E32: N/A | F32: Yes | G32: Yes | H32: N/A | I32: N/A | J32: N/A
B33: Unplanned Outage | C33: Yes | D33: N/A | E33: N/A | F33: Yes | G33: Yes | H33: N/A | I33: N/A | J33: N/A
B34: Risk Event Photo Log | C34: Yes | D34: N/A | E34: N/A | F34: N/A | G34: Yes | H34: N/A | I34: N/A | J34: N/A
A36: Initiative | B36: Vegetation Inspection Point
B37: Vegetation Inspection Line
B38: Vegetation Inspection Polygon
B39: Vegetation Management Project Point
B40: Vegetation Management Project Line
B41: Vegetation Management Project Polygon
B42: Asset Inspection Point
B43: Asset Inspection Line
...

Sheet Reasons
A1: No change since last submission | C1: Yes
A2: Not able to provide | C2: No
A3: Not relevant for the reporting quarter

Sheet Details
C1: Spatial Data Status Report - v4.1 - Details
A2: Dataset | B2: Feature Class / Table Name | C2: Field Name | D2: Provided in Current Submission | E2: Availability Explanation | F2: Data Procurement Actions | G2: Estimated Delivery | H2: Confidential
A3: Asset Line | B3: Primary Distribution Line | C3: SegmentID | J3: =CONCATENATE(SUBSTITUTE(B3," ",""),".",SUBSTITUTE(C3," ","")) -> PrimaryDistributionLine.SegmentID | K3: =J3=AB3 -> TRUE | L3: =_xlfn.XLOOKUP(J3,'Field Complete (Q1 2026)'!H:H,'Field Complete (Q1 2026)'!F:F,"") -> 0 | M3: Primary Distribution Line | N3: 1 | O3: SegmentID | P3: Segment ID | Q3: String(50) | S3: Unique ID of circuit segment. Must be a unique value that identifies this portion of the circuit and a traceable stable ID within the electrical corporation’s operations/processes. Primary Key for the feature class unless the electrical corporation does not uniquely identify segments with persistent IDs. This field is required IF the electrical corporation has persistent stable IDs for circuit segments. A segment may be anything more granular than a circuit, including a single span. | T3: No | U3: Where available, PG&E is providing CircuitID as the foreign key to the asset point features. The electrical corporation does not have persistent unique segment IDs. | V3: N/A - please see availability explanation | W3: N/A - please see availability explanation | X3: No | Y3: Optional | Z3: Yes | AB3: PrimaryDistributionLine.SegmentID
A4: Asset Line | B4: Primary Distribution Line | C4: CircuitID | J4: =CONCATENATE(SUBSTITUTE(B4," ",""),".",SUBSTITUTE(C4," ","")) -> PrimaryDistributionLine.CircuitID | K4: =J4=AB4 -> TRUE | L4: =_xlfn.XLOOKUP(J4,'Field Complete (Q1 2026)'!H:H,'Field Complete (Q1 2026)'!F:F,"") -> 0.9989 | M4: Primary Distribution Line | N4: 2 | O4: CircuitID | P4: Circuit ID | Q4: String(50) | S4: Unique ID for a specific circuit. Must be a traceable stable ID within the electrical corporation’s operations/processes. Primary Key for the feature class if the electrical corporation does not uniquely identify segments with persistent IDs. This field is required. | T4: Yes | U4: This attribute contains the majority of the required data. There are several potential reasons why this data may not be present. For example, data may have been mis-captured originally or it may not export, join, or otherwise translate as intended when preparing the FGDB. | V4: Majority of data is submitted for this field. PG&E's focus is currently on addressing larger data gaps and enhancements to reporting quality. Once these objectives are met, PG&E can re-assess actions needed for 100% complete data for this field | W4: Majority of data is submitted for this field. PG&E's focus is currently on addressing larger data gaps and enhancements to reporting quality. Once these objectives are met, PG&E can re-assess actions needed for 100% complete data for this field. PG&E is exploring long-term IT and process-oriented solutions to produce the OEIS GIS Standard, with the potential to connect formerly disparate data sources. | X4: No | Y4: Data provided | Z4: Yes | AA4: Use Object ID or GUID? Can Represent one span or collection of spans. | AB4: PrimaryDistributionLine.CircuitID
A5: Asset Line | B5: Primary Distribution Line | C5: UtilityID | J5: =CONCATENATE(SUBSTITUTE(B5," ",""),".",SUBSTITUTE(C5," ","")) -> PrimaryDistributionLine.UtilityID | K5: =J5=AB5 -> TRUE | L5: =_xlfn.XLOOKUP(J5,'Field Complete (Q1 2026)'!H:H,'Field Complete (Q1 2026)'!F:F,"") -> 1 | M5: Primary Distribution Line | N5: 3 | O5: UtilityID | P5: Utility ID | Q5: String(10) | R5: BVES; HWT; Liberty; LS Power; PacifiCorp; PG&E; SCE; SDG&E; TBC | S5: Standardized identification name of the electrical corporation. Possible values: ||BVES ||HWT ||Liberty ||LS Power ||PacifiCorp ||PG&E ||SCE ||SDG&E ||TBC ||This field is required. | T5: Yes | U5: N/A | V5: N/A | W5: N/A | X5: No | Y5: Data provided | Z5: Yes | AB5: PrimaryDistributionLine.UtilityID
A6: Asset Line | B6: Primary Distribution Line | C6: SubstationID | J6: =CONCATENATE(SUBSTITUTE(B6," ",""),".",SUBSTITUTE(C6," ","")) -> PrimaryDistributionLine.SubstationID | K6: =J6=AB6 -> TRUE | L6: =_xlfn.XLOOKUP(J6,'Field Complete (Q1 2026)'!H:H,'Field Complete (Q1 2026)'!F:F,"") -> 0.9986 | M6: Primary Distribution Line | N6: 4 | O6: SubstationID | P6: Substation ID | Q6: String(50) | S6: ID of substation associated with asset. Foreign key to the Substation feature. This field is required. | T6: Yes | U6: This attribute contains the majority of the required data. There are several potential reasons why this data may not be present. For example, data may have been mis-captured originally or it may not export, join, or otherwise translate as intended when preparing the FGDB. | V6: Majority of data is submitted for this field. PG&E's focus is currently on addressing larger data gaps and enhancements to reporting quality. Once these objectives are met, PG&E can re-assess actions needed for 100% complete data for this field | W6: Majority of data is submitted for this field. PG&E's focus is currently on addressing larger data gaps and enhancements to reporting quality. Once these objectives are met, PG&E can re-assess actions needed for 100% complete data for this field. PG&E is exploring long-term IT and process-oriented solutions to produce the OEIS GIS Standard, with the potential to connect formerly disparate data sources. | X6: Yes - Substation information are identified as confidential Physical facility, cyber-security sensitive, or critical energy infrastructure data protected from disclosure. (See 18 C.F.R. § 388.113, see also Govt. Code § 6254(k), (ab); 6 U.S.C. § 131; 6 CFR § 29.2.) | Y6: Data provided | Z6: Yes | AB6: PrimaryDistributionLine.SubstationID
A7: Asset Line | B7: Primary Distribution Line | C7: CircuitName | J7: =CONCATENATE(SUBSTITUTE(B7," ",""),".",SUBSTITUTE(C7," ","")) -> PrimaryDistributionLine.CircuitName | K7: =J7=AB7 -> TRUE | L7: =_xlfn.XLOOKUP(J7,'Field Complete (Q1 2026)'!H:H,'Field Complete (Q1 2026)'!F:F,"") -> 0.9989 | M7: Primary Distribution Line | N7: 5 | O7: CircuitName | P7: Circuit Name | Q7: String(255) | S7: Name of circuit associated with asset. Leave null if there is no unique circuit name that is different than the circuit ID. There is no need to repeat CircuitID values in this field. This field is optional. | T7: Yes | U7: This attribute contains the majority of the required data. There are several potential reasons why this data may not be present. For example, data may have been mis-captured originally or it may not export, join, or otherwise translate as intended when preparing the FGDB. | V7: Majority of data is submitted for this field. PG&E's focus is currently on addressing larger data gaps and enhancements to reporting quality. Once these objectives are met, PG&E can re-assess actions needed for 100% complete data for this field | W7: Majority of data is submitted for this field. PG&E's focus is currently on addressing larger data gaps and enhancements to reporting quality. Once these objectives are met, PG&E can re-assess actions needed for 100% complete data for this field. PG&E is exploring long-term IT and process-oriented solutions to produce the OEIS GIS Standard, with the potential to connect formerly disparate data sources. | X7: No | Y7: Data provided | Z7: Yes | AB7: PrimaryDistributionLine.CircuitName
A8: Asset Line | B8: Primary Distribution Line | C8: ConductorType | J8: =CONCATENATE(SUBSTITUTE(B8," ",""),".",SUBSTITUTE(C8," ","")) -> PrimaryDistributionLine.ConductorType | K8: =J8=AB8 -> TRUE | L8: =_xlfn.XLOOKUP(J8,'Field Complete (Q1 2026)'!H:H,'Field Complete (Q1 2026)'!F:F,"") -> 0.999 | M8: Primary Distribution Line | N8: 6 | O8: ConductorType | P8: Conductor Type | Q8: String(30) | R8: Bare; Covered; Insulated; Other, see comment | S8: Type of conductor. Possible values: ||Bare ||Covered ||Insulated ||Other, see comment ||This field is required. | T8: Yes | U8: This attribute contains the majority of the required data. There are several potential reasons why this data may not be present. For example, data may have been mis-captured originally or it may not export, join, or otherwise translate as intended when preparing the FGDB. | V8: GIS and Asset subject matter experts familiar with distribution conductor should collaborate on the mapping and associated results to better understand the underlying cause for the partial data gap. The first step in such collaboration is to assess a sample of the lines for which conductor type data is missing. Data procurement actions are subject to the findings of this causal assessment In the interim, PG&E will adjust the scripts used to extract conductor type and will identify null values as "Unknown" | W8: Estimated delivery timeframe is dependent on the underlying cause of the partial data submission (see data procurement action and availability explanation) | X8: No | Y8: Data provided | Z8: Yes | AA8: Yes. Type of conductors indicated are only for OH, none for UG. | AB8: PrimaryDistributionLine.ConductorType
A9: Asset Line | B9: Primary Distribution Line | C9: ConductorTypeComment | J9: =CONCATENATE(SUBSTITUTE(B9," ",""),".",SUBSTITUTE(C9," ","")) -> PrimaryDistributionLine.ConductorTypeComment | K9: =J9=AB9 -> TRUE | L9: =_xlfn.XLOOKUP(J9,'Field Complete (Q1 2026)'!H:H,'Field Complete (Q1 2026)'!F:F,"") -> 0 | M9: Primary Distribution Line | N9: 7 | O9: ConductorTypeComment | P9: Conductor Type Comment | Q9: String(30) | S9: Conductor type not listed in the options above. This field is required IF ConductorType is “Other, see comment”. | T9: No | U9: No comments needed | V9: N/A | W9: N/A | X9: No | Y9: Optional | Z9: Yes | AB9: PrimaryDistributionLine.ConductorTypeComment
A10: Asset Line | B10: Primary Distribution Line | C10: AssetLocation | J10: =CONCATENATE(SUBSTITUTE(B10," ",""),".",SUBSTITUTE(C10," ","")) -> PrimaryDistributionLine.AssetLocation | K10: =J10=AB10 -> TRUE | L10: =_xlfn.XLOOKUP(J10,'Field Complete (Q1 2026)'!H:H,'Field Complete (Q1 2026)'!F:F,"") -> 1 | M10: Primary Distribution Line | N10: 8 | O10: AssetLocation | P10: Asset Location | Q10: String(20) | R10: Overhead; Underground | S10: Is the asset overhead or underground? Possible values: ||Overhead ||Underground || • XXX||This field is required. | T10: Yes | U10: N/A | V10: N/A | W10: N/A | X10: No | Y10: Data provided | Z10: Yes | AB10: PrimaryDistributionLine.AssetLocation
A11: Asset Line | B11: Primary Distribution Line | C11: NominalVoltagekV | J11: =CONCATENATE(SUBSTITUTE(B11," ",""),".",SUBSTITUTE(C11," ","")) -> PrimaryDistributionLine.NominalVoltagekV | K11: =J11=AB11 -> TRUE | L11: =_xlfn.XLOOKUP(J11,'Field Complete (Q1 2026)'!H:H,'Field Complete (Q1 2026)'!F:F,"") -> 0.9993 | M11: Primary Distribution Line | N11: 9 | O11: NominalVoltagekV | P11: Nominal Voltage (kV) | Q11: Single(4) | S11: Nominal voltage (in kilovolts) of conductor. Do not use more than two decimal places. This field is required. | T11: Yes | U11: This attribute contains the majority of the required data. There are several potential reasons why this data may not be present. For example, data may have been mis-captured originally or it may not export, join, or otherwise translate as intended when preparing the FGDB. | V11: Majority of data is submitted for this field. PG&E's focus is currently on addressing larger data gaps and enhancements to reporting quality. Once these objectives are met, PG&E can re-assess actions needed for 100% complete data for this field | W11: Majority of data is submitted for this field. PG&E's focus is currently on addressing larger data gaps and enhancements to reporting quality. Once these objectives are met, PG&E can re-assess actions needed for 100% complete data for this field. PG&E is exploring long-term IT and process-oriented solutions to produce the OEIS GIS Standard, with the potential to connect formerly disparate data sources. | X11: No | Y11: Data provided | Z11: Yes | AA11: Nominal Voltage field in Primary Overhead Conductor - GIS to verify UG portion of the response | AB11: PrimaryDistributionLine.NominalVoltagekV
A12: Asset Line | B12: Primary Distribution Line | C12: OperatingVoltagekV | J12: =CONCATENATE(SUBSTITUTE(B12," ",""),".",SUBSTITUTE(C12," ","")) -> PrimaryDistributionLine.OperatingVoltagekV | K12: =J12=AB12 -> TRUE | L12: =_xlfn.XLOOKUP(J12,'Field Complete (Q1 2026)'!H:H,'Field Complete (Q1 2026)'!F:F,"") -> 0.9995 | M12: Primary Distribution Line | N12: 10 | O12: OperatingVoltagekV | P12: Operating Voltage (kV) | Q12: Single(4) | S12: Operating voltage (in kilovolts) of conductor. Do not use more than two decimal places. ||This field is required. | T12: Yes | U12: This attribute contains the majority of the required data. There are several potential reasons why this data may not be present. For example, data may have been mis-captured originally or it may not export, join, or otherwise translate as intended when preparing the FGDB. | V12: Majority of data is submitted for this field. PG&E's focus is currently on addressing larger data gaps and enhancements to reporting quality. Once these objectives are met, PG&E can re-assess actions needed for 100% complete data for this field | W12: Majority of data is submitted for this field. PG&E's focus is currently on addressing larger data gaps and enhancements to reporting quality. Once these objectives are met, PG&E can re-assess actions needed for 100% complete data for this field. PG&E is exploring long-term IT and process-oriented solutions to produce the OEIS GIS Standard, with the potential to connect formerly disparate data sources. | X12: No | Y12: Data provided | Z12: Yes | AA12: May need GIS to do trace function to cross check operating voltage of source side protective device. | AB12: PrimaryDistributionLine.OperatingVoltagekV
A13: Asset Line | B13: Primary Distribution Line | C13: SubstationName | J13: =CONCATENATE(SUBSTITUTE(B13," ",""),".",SUBSTITUTE(C13," ","")) -> PrimaryDistributionLine.SubstationName | K13: =J13=AB13 -> TRUE | L13: =_xlfn.XLOOKUP(J13,'Field Complete (Q1 2026)'!H:H,'Field Complete (Q1 2026)'!F:F,"") -> 0.9989 | M13: Primary Distribution Line | N13: 11 | O13: SubstationName | P13: Substation Name | Q13: String(50) | S13: Name of substation associated with asset. This field is optional. | T13: Yes | U13: This attribute contains the majority of the required data. There are several potential reasons why this data may not be present. For example, data may have been mis-captured originally or it may not export, join, or otherwise translate as intended when preparing the FGDB. | V13: Majority of data is submitted for this field. PG&E's focus is currently on addressing larger data gaps and enhancements to reporting quality. Once these objectives are met, PG&E can re-assess actions needed for 100% complete data for this field | W13: Majority of data is submitted for this field. PG&E's focus is currently on addressing larger data gaps and enhancements to reporting quality. Once these objectives are met, PG&E can re-assess actions needed for 100% complete data for this field. PG&E is exploring long-term IT and process-oriented solutions to produce the OEIS GIS Standard, with the potential to connect formerly disparate data sources. | X13: Yes - Substation information are identified as confidential Physical facility, cyber-security sensitive, or critical energy infrastructure data protected from disclosure. (See 18 C.F.R. § 388.113, see also Govt. Code § 6254(k), (ab); 6 U.S.C. § 131; 6 CFR § 29.2.) | Y13: Data provided | Z13: Yes | AB13: PrimaryDistributionLine.SubstationName
A14: Asset Line | B14: Primary Distribution Line | C14: ConductorMaterial | J14: =CONCATENATE(SUBSTITUTE(B14," ",""),".",SUBSTITUTE(C14," ","")) -> PrimaryDistributionLine.ConductorMaterial | K14: =J14=AB14 -> TRUE | L14: =_xlfn.XLOOKUP(J14,'Field Complete (Q1 2026)'!H:H,'Field Complete (Q1 2026)'!F:F,"") -> 0.999 | M14: Primary Distribution Line | N14: 12 | O14: ConductorMaterial | P14: Conductor Material | Q14: String(50) | R14: All aluminum conductor (AAC); All aluminum alloy conductor (AAAC); Aluminum conductor aluminum reinforced (ACAR); Aluminum conductor steel reinforced (ACSR); Aluminum conductor steel supported (ACSS); Copper (Cu); Other, see comment | S14: Conductor material. Possible values: ||All aluminum conductor (AAC) ||All aluminum alloy conductor (AAAC) ||Aluminum conductor aluminum reinforced (ACAR) ||Aluminum conductor steel reinforced (ACSR) ||Aluminum conductor steel supported (ACSS) ||Copper (Cu) ||Other, see comment ||This field is required. | T14: Yes | U14: This attribute contains the majority of the required data. There are several potential reasons why this data may not be present. For example, data may have been mis-captured originally or it may not export, join, or otherwise translate as intended when preparing the FGDB. | V14: Majority of data is submitted for this field. PG&E's focus is currently on addressing larger data gaps and enhancements to reporting quality. Once these objectives are met, PG&E can re-assess actions needed for 100% complete data for this field | W14: Majority of data is submitted for this field. PG&E's focus is currently on addressing larger data gaps and enhancements to reporting quality. Once these objectives are met, PG&E can re-assess actions needed for 100% complete data for this field. PG&E is exploring long-term IT and process-oriented solutions to produce the OEIS GIS Standard, with the potential to connect formerly disparate data sources. | X14: No | Y14: Data provided | Z14: Yes | AA14: Yes. Conductor materials here appear to be OH related, not UG. | AB14: PrimaryDistributionLine.ConductorMaterial
A15: Asset Line | B15: Primary Distribution Line | C15: ConductorMaterialComment | J15: =CONCATENATE(SUBSTITUTE(B15," ",""),".",SUBSTITUTE(C15," ","")) -> PrimaryDistributionLine.ConductorMaterialComment | K15: =J15=AB15 -> TRUE | L15: =_xlfn.XLOOKUP(J15,'Field Complete (Q1 2026)'!H:H,'Field Complete (Q1 2026)'!F:F,"") -> 0 | M15: Primary Distribution Line | N15: 13 | O15: ConductorMaterialComment | P15: Conductor Material Comment | Q15: String(50) | S15: Conductor material not listed in the options above. This field is required IF ConductorMaterial is “Other, see comment”. | T15: No | U15: PG&E was able to match all values to the possible values OEIS provided. As such, utilizing this comment field is not required and there is no need for data here. | V15: N/A | W15: N/A | X15: No | Y15: Optional | Z15: Yes | AA15: Yes. Assuming all UG conductor types available would be captured here? | AB15: PrimaryDistributionLine.ConductorMaterialComment
A16: Asset Line | B16: Primary Distribution Line | C16: ConductorSize | J16: =CONCATENATE(SUBSTITUTE(B16," ",""),".",SUBSTITUTE(C16," ","")) -> PrimaryDistributionLine.ConductorSize | K16: =J16=AB16 -> TRUE | L16: =_xlfn.XLOOKUP(J16,'Field Complete (Q1 2026)'!H:H,'Field Complete (Q1 2026)'!F:F,"") -> 0.9949 | M16: Primary Distribution Line | N16: 14 | O16: ConductorSize | P16: Conductor Size | Q16: String(30) | S16: Size of conductor (e.g., No. 4 Cu or 1/0 ACSR). This field is required. | T16: Yes | U16: This attribute contains the majority of the required data. There are several potential reasons why this data may not be present. For example, data may have been mis-captured originally or it may not export, join, or otherwise translate as intended when preparing the FGDB. | V16: Majority of data is submitted for this field. PG&E's focus is currently on addressing larger data gaps and enhancements to reporting quality. Once these objectives are met, PG&E can re-assess actions needed for 100% complete data for this field | W16: Majority of data is submitted for this field. PG&E's focus is currently on addressing larger data gaps and enhancements to reporting quality. Once these objectives are met, PG&E can re-assess actions needed for 100% complete data for this field. PG&E is exploring long-term IT and process-oriented solutions to produce the OEIS GIS Standard, with the potential to connect formerly disparate data sources. | X16: No | Y16: Data provided | Z16: Yes | AB16: PrimaryDistributionLine.ConductorSize
A17: Asset Line | B17: Primary Distribution Line | C17: ConductorOD | J17: =CONCATENATE(SUBSTITUTE(B17," ",""),".",SUBSTITUTE(C17," ","")) -> PrimaryDistributionLine.ConductorOD | K17: =J17=AB17 -> TRUE | L17: =_xlfn.XLOOKUP(J17,'Field Complete (Q1 2026)'!H:H,'Field Complete (Q1 2026)'!F:F,"") -> 0.9716 | M17: Primary Distribution Line | N17: 15 | O17: ConductorOD | P17: Conductor Overall Diameter (inches) | Q17: Single(4) | S17: Overall diameter of the conductor in inches. This field is required. | T17: Partial | U17: This attribute contains the majority of the required data. There are several potential reasons why this data may not be present. For example, data may have been mis-captured originally or it may not export, join, or otherwise translate as intended when preparing the FGDB. | V17: There is a request currently among the asset strategy team to integrate the overall diameter information into a centralized system of record. | W17: The request noted under 'Data procurement actions' will be compared with other key operational needs for prioritization purposes. As such, a timeframe for delivery cannot be provided at this time. | X17: No | Y17: Data provided | Z17: Yes | AA17: Lookup table referring to standards | AB17: PrimaryDistributionLine.ConductorOD
A18: Asset Line | B18: Primary Distribution Line | C18: LastInspectionDate | J18: =CONCATENATE(SUBSTITUTE(B18," ",""),".",SUBSTITUTE(C18," ","")) -> PrimaryDistributionLine.LastInspectionDate | K18: =J18=AB18 -> TRUE | L18: =_xlfn.XLOOKUP(J18,'Field Complete (Q1 2026)'!H:H,'Field Complete (Q1 2026)'!F:F,"") -> 0 | M18: Primary Distribution Line | N18: 16 | O18: LastInspectionDate | P18: Last Inspection Date | Q18: Date(8) | S18: Date of the last inspection. This field is required. | T18: No | U18: PG&E houses this data in its SAP system. However, the condensed timelines around the end of a reporting period to producing this FGDB submission proves challenging when trying to combine, join, and integrate data that lives across different record systems or in offline spreadsheets. All data needs to have a unique ID that it allows it to join with other datasets and this is not always possible due to PG&E's internal system architecture, which was established in alignment with operational needs. Additionally, the magnitude of data makes extractions more cumbersome. | V18: PG&E is exploring long-term IT and process-oriented solutions to produce the OEIS GIS Standard, with the objectives of improving submission quality while reducing the largely manual efforts experienced each quarter to meet this request. As an interim step, PG&E will be utilizing scripting codes to help with data extractions and transformation logic to join unique IDs across different record systems for select data where possible to do so. | W18: PG&E is taking actions to enhance the GIS Data Standard submission on a quarterly basis. The integration of this field will depend on developments to process and technology integration as noted under 'Data procurement actions'. | X18: No | Y18: Operational decision needed | Z18: Yes | AA18: Possibly, do we cross reference Inspection reports (i.e. inspections by plat map)? | AB18: PrimaryDistributionLine.LastInspectionDate
A19: Asset Line | B19: Primary Distribution Line | C19: LastMaintenanceDate | J19: =CONCATENATE(SUBSTITUTE(B19," ",""),".",SUBSTITUTE(C19," ","")) -> PrimaryDistributionLine.LastMaintenanceDate | K19: =J19=AB19 -> TRUE | L19: =_xlfn.XLOOKUP(J19,'Field Complete (Q1 2026)'!H:H,'Field Complete (Q1 2026)'!F:F,"") -> 0 | M19: Primary Distribution Line | N19: 17 | O19: LastMaintenanceDate | P19: Last Maintenance Date | Q19: Date(8) | S19: Date of the last maintenance. This field is required. | T19: No | U19: PG&E houses this data in its SAP system. However, the condensed timelines around the end of a reporting period to producing this FGDB submission proves challenging when trying to combine, join, and integrate data that lives across different record systems or in offline spreadsheets. All data needs to have a unique ID that it allows it to join with other datasets and this is not always possible due to PG&E's internal system architecture, which was established in alignment with operational needs. Additionally, the magnitude of data makes extractions more cumbersome. | V19: PG&E is exploring long-term IT and process-oriented solutions to produce the OEIS GIS Standard, with the objectives of improving submission quality while reducing the largely manual efforts experienced each quarter to meet this request. As an interim step, PG&E will be utilizing scripting codes to help with data extractions and transformation logic to join unique IDs across different record systems for select data where possible to do so. | W19: PG&E is taking actions to enhance the GIS Data Standard submission on a quarterly basis. The integration of this field will depend on developments to process and technology integration as noted under 'Data procurement actions'. | X19: No | Y19: Operational decision needed | Z19: Yes | AA19: "Maintenance" not done on OH conductor | AB19: PrimaryDistributionLine.LastMaintenanceDate
A20: Asset Line | B20: Primary Distribution Line | C20: InstallationDate | J20: =CONCATENATE(SUBSTITUTE(B20," ",""),".",SUBSTITUTE(C20," ","")) -> PrimaryDistributionLine.InstallationDate | K20: =J20=AB20 -> TRUE | L20: =_xlfn.XLOOKUP(J20,'Field Complete (Q1 2026)'!H:H,'Field Complete (Q1 2026)'!F:F,"") -> 0.7309 | M20: Primary Distribution Line | N20: 18 | O20: InstallationDate | P20: Installation Date | Q20: Date(8) | S20: Date the asset was installed. This field OR InstallationYear OR EstimatedAge is required. | T20: Partial | U20: Currently, for the majority of programs, when assets are replaced, this information is captured and stored in a centralized system of record. For certain assets, installation date, and other data attributes, were originally captured via paper format and later converted to electronic format. This introduced the potential for errors or other data gaps. For assets not recently replaced, gaps remain present primarily because specific paper records are 1) not easily locatable, or 2) certain data points were not required to be collected when the asset was installed. Until these assets are replaced or otherwise dated, PG&E will have gaps for this data field. | V20: PG&E will continue to update gaps that exist as assets are replaced. | W20: An estimated timeframe of when all assets with installation date gaps are replaced is unpredictable. | X20: No | Y20: Data provided | Z20: Yes | AA20: The installation date is not correct especially for equipment >5 years. Many dates will just display Jan 1 of that year. | AB20: PrimaryDistributionLine.InstallationDate
A21: Asset Line | B21: Primary Distribution Line | C21: InstallationYear | J21: =CONCATENATE(SUBSTITUTE(B21," ",""),".",SUBSTITUTE(C21," ","")) -> PrimaryDistributionLine.InstallationYear | K21: =J21=AB21 -> TRUE | L21: =_xlfn.XLOOKUP(J21,'Field Complete (Q1 2026)'!H:H,'Field Complete (Q1 2026)'!F:F,"") -> 0.7616 | M21: Primary Distribution Line | N21: 19 | O21: InstallationYear | P21: Installation Year | Q21: Integer(4) | S21: Year of asset installation. Use four digits. This field OR InstallationDate OR EstimatedAge is required. | T21: Partial | U21: Please see the Installation Date field for the explanation. The same explanation applies for the Installation Year attribute. | V21: The procurement action is to focus efforts on the collection of the Installation Date field. Collecting this data point will also yield the Installation Year attribute. Please see the data procurement actions provided under the Installation Date field. | W21: See the 'Estimated delivery timeframe' explanation provided under the Installation Date field name. | X21: No | Y21: Data provided | Z21: Yes | AA21: There are spikes in miles installed in 1986-1990 (both OH & UG), which is due to a data conversion error when PG&E transitioned from the DEDSA database to CEDSA. Records without an install year were assigned an install year of the current year of the data migration. There are also Null values due to conversion errors from CEDSA to EDGIS. Also data entry errors by Mapping. | AB21: PrimaryDistributionLine.InstallationYear
A22: Asset Line | B22: Primary Distribution Line | C22: EstimatedAge | J22: =CONCATENATE(SUBSTITUTE(B22," ",""),".",SUBSTITUTE(C22," ","")) -> PrimaryDistributionLine.EstimatedAge | K22: =J22=AB22 -> TRUE | L22: =_xlfn.XLOOKUP(J22,'Field Complete (Q1 2026)'!H:H,'Field Complete (Q1 2026)'!F:F,"") -> 0 | M22: Primary Distribution Line | N22: 20 | O22: EstimatedAge | P22: Estimated Age | Q22: String(10) | R22: 0-9; 10-19; 20-29; 30-39; 40-49; 50-59; 60-69; 70-79; 80-89; 90-99; 100+ | S22: The estimated age of the asset in years. Only use this field if the InstallationYear and InstallationDate values are unknown. Possible values: ||0-9 ||10-19 ||20-29 ||30-39 ||40-49 ||50-59 ||60-69 ||70-79 ||80-89 ||90-99 ||100+ ||This field OR InstallationDate OR InstallationYear is required. | T22: No | U22: This field name is used to estimate the age of the asset should installation date or year be unknown. However, when PG&E does not accurately know the installation date or year, this estimate would be subject to inaccuracies. Therefore, the value is unknown if installation date and year are null. | V22: The procurement is to focus efforts on the collection of the Installation Date field. Collecting that field would allow PG&E to provide the Installation Date and Year fields. Then, per OEIS GIS Data Standard requirement guidance, EstimatedAge would not be required for submission. Please see the installation date procurement actions provided under the Installation Date field name. | W22: See the 'Estimated delivery timeframe' explanation provided under the Installation Date field name. | X22: No | Y22: Optional | Z22: Yes | AA22: Would need to do some data manipulation to estimate year installed of the conductor by averaging year installed of associated poles nearby. no, possibly for OH. Not possible for UG. Manual cleansing may be needed | AB22: PrimaryDistributionLine.EstimatedAge
A23: Asset Line | B23: Primary Distribution Line | C23: UsefulLifespan | J23: =CONCATENATE(SUBSTITUTE(B23," ",""),".",SUBSTITUTE(C23," ","")) -> PrimaryDistributionLine.UsefulLifespan | K23: =J23=AB23 -> TRUE | L23: =_xlfn.XLOOKUP(J23,'Field Complete (Q1 2026)'!H:H,'Field Complete (Q1 2026)'!F:F,"") -> 0 | M23: Primary Distribution Line | N23: 21 | O23: UsefulLifespan | P23: Useful Lifespan | Q23: Integer(4) | S23: The number of years an asset is expected to have a useful functioning existence upon initial installation. This field is required. | T23: No | U23: This data is unavailable. There are many different manufactures for various assets and useful lifespan is not a data point commonly provided. An assets' lifespan is dependent on a number of factors including weather, installation location, animal interaction, etc. It is not uncommon for some assets to function in the field for 50+ years while others, like surge arrestors, last until struck by lightning as designed. PG&E replaces assets as needed with a risk-based approach. Replacements may result from but are not limited to the following: failures, standard changes, recalls, asset management analysis, or if inspections deem so. | V23: Due to the reasons provided in the Availability Explanations, PG&E does not currently plan to provide this information in upcoming quarterly submissions. PG&E will continue to follow standards and procedures as well as risk based analysis around the different equipment types and when they are to be replaced. | W23: See 'Data procurement actions' | X23: No | Y23: Operational decision made | Z23: Yes | AA23: Useful lifespan differs depending on size and type of conductor and region/area the conductor is in | AB23: PrimaryDistributionLine.UsefulLifespan
A24: Asset Line | B24: Primary Distribution Line | C24: AmpacityRating | J24: =CONCATENATE(SUBSTITUTE(B24," ",""),".",SUBSTITUTE(C24," ","")) -> PrimaryDistributionLine.AmpacityRating | K24: =J24=AB24 -> TRUE | L24: =_xlfn.XLOOKUP(J24,'Field Complete (Q1 2026)'!H:H,'Field Complete (Q1 2026)'!F:F,"") -> 0.4098 | M24: Primary Distribution Line | N24: 22 | O24: AmpacityRating | P24: Ampacity Rating (A) | Q24: Single(4) | S24: Nominal ampacity rating of the conductor in amperes. This field is required. | T24: Partial | U24: PG&E possesses this information, however, it is not systematically stored with individual assets in PG&E's systems of record. Rather, this information resides in documentation of Industry Standards (i.e., National Electric Code). AmpacityRating data was obtained by cross-referencing existing data about line assets (e.g. - Conductor Material, Conductor Size, Insulation Material, Overhead or Underground Status) to determine the associated ampacity rating for each line when possible. This information has been derived from PG&E Standards and Manufacturer documentation for the specific sizes, materials, and insulation types for each conductor type. Field validations for accuracy have not been performed. | V24: To incorporate this information into PG&E's quarterly submission, GIS would need to collaborate with Standards to develop lookup tables. | W24: Developing this lookup table would likely be a multi-week effort if prioritized by the stakeholders involved. These resources also contribute to other OEIS-related efforts | X24: No | Y24: Data provided | Z24: Yes | AA24: Guidance previously provided: Use lookup table from Standards with conductor size/type and ampacity or obtain information from CYME. This also would address 100% of the data field requested. Lookups from Standards with conductor size/type and ampacity or obtain information from CYME. | AB24: PrimaryDistributionLine.AmpacityRating
A25: Asset Line | B25: Primary Distribution Line | C25: OverallUtilityRisk | J25: =CONCATENATE(SUBSTITUTE(B25," ",""),".",SUBSTITUTE(C25," ","")) -> PrimaryDistributionLine.OverallUtilityRisk | K25: =J25=AB25 -> TRUE | L25: =_xlfn.XLOOKUP(J25,'Field Complete (Q1 2026)'!H:H,'Field Complete (Q1 2026)'!F:F,"") -> 0 | M25: Primary Distribution Line | N25: 23 | O25: OverallUtilityRisk | P25: Overall Utility Risk | Q25: Single(4) | S25: Overall risk calculated for the segment as required in WMP guidelines section 4. Note that the electrical corporation is not required to calculate risk for lines vs. support structures, only to do one or the other. Depending on the electrical corporation’s approach, it may report risk for line segments for some or all of its infrastructure, or it may calculate for both. This field is required IF the electrical corporation performs its risk ranking on primary distribution lines (rather than on support structures only). | T25: No | U25: Overall risk calculated as required in WMP guidelines are performed at the support structure. Therefore this field is intentionally left blank. | V25: N/A - see availability explanations | W25: N/A - see availability explanations | X25: Yes - Could be leveraged by bad actor to determine infrastructure more at risk. Physical facility, cyber-security sensitive, or critical energy infrastructure data. (See 18 C.F.R. § 388.113, see also Govt. Code § 6254(k), (ab); 6 U.S.C. § 131; 6 CFR § 29.2.) | Y25: Operational decision made | Z25: Yes | AB25: PrimaryDistributionLine.OverallUtilityRisk
A26: Asset Line | B26: Primary Distribution Line | C26: IgnitionRisk | J26: =CONCATENATE(SUBSTITUTE(B26," ",""),".",SUBSTITUTE(C26," ","")) -> PrimaryDistributionLine.IgnitionRisk | K26: =J26=AB26 -> TRUE | L26: =_xlfn.XLOOKUP(J26,'Field Complete (Q1 2026)'!H:H,'Field Complete (Q1 2026)'!F:F,"") -> 0 | M26: Primary Distribution Line | N26: 24 | O26: IgnitionRisk | P26: Ignition Risk | Q26: Single(4) | S26: Ignition risk (component of overall risk) calculated for the segment as required in WMP guidelines section 4. Note that the electrical corporation is not required to calculate risk for lines vs. support structures, only to do one or the other. Depending on the electrical corporation’s approach, it may report risk for line segments for some or all of its infrastructure, or it may calculate for both. This field is required IF the electrical corporation performs its risk ranking on primary distribution lines (rather than on support structures only). | T26: No | U26: Overall risk calculated as required in WMP guidelines are performed at the support structure. Therefore this field is intentionally left blank. | V26: N/A - see availability explanations | W26: N/A - see availability explanations | X26: Yes - Could be leveraged by bad actor to determine infrastructure more at risk. Physical facility, cyber-security sensitive, or critical energy infrastructure data. (See 18 C.F.R. § 388.113, see also Govt. Code § 6254(k), (ab); 6 U.S.C. § 131; 6 CFR § 29.2.) | Y26: Operational decision made | Z26: Yes | AB26: PrimaryDistributionLine.IgnitionRisk
A27: Asset Line | B27: Primary Distribution Line | C27: PSPSRisk | J27: =CONCATENATE(SUBSTITUTE(B27," ",""),".",SUBSTITUTE(C27," ","")) -> PrimaryDistributionLine.PSPSRisk | K27: =J27=AB27 -> TRUE | L27: =_xlfn.XLOOKUP(J27,'Field Complete (Q1 2026)'!H:H,'Field Complete (Q1 2026)'!F:F,"") -> 0 | M27: Primary Distribution Line | N27: 25 | O27: PSPSRisk | P27: PSPS Risk | Q27: Single(4) | S27: PSPS Risk (component of overall risk) calculated for the segment as required in WMP guidelines section 4. Note that the electrical corporation is not required to calculate risk for lines vs. support structures, only to do one or the other. Depending on the electrical corporation’s approach, it may report risk for line segments for some or all of its infrastructure, or it may calculate for both. This field is required IF the electrical corporation performs its risk ranking on primary distribution lines (rather than on support structures only). | T27: No | U27: Overall risk calculated as required in WMP guidelines are performed at the support structure. Therefore this field is intentionally left blank. | V27: N/A - see availability explanations | W27: N/A - see availability explanations | X27: Yes - Could be leveraged by bad actor to determine infrastructure more at risk. Physical facility, cyber-security sensitive, or critical energy infrastructure data. (See 18 C.F.R. § 388.113, see also Govt. Code § 6254(k), (ab); 6 U.S.C. § 131; 6 CFR § 29.2.) | Y27: Operational decision made | Z27: Yes | AB27: PrimaryDistributionLine.PSPSRisk
A28: Asset Line | B28: Secondary Distribution Line | C28: SegmentID | J28: =CONCATENATE(SUBSTITUTE(B28," ",""),".",SUBSTITUTE(C28," ","")) -> SecondaryDistributionLine.SegmentID | K28: =J28=AB28 -> TRUE | L28: =_xlfn.XLOOKUP(J28,'Field Complete (Q1 2026)'!H:H,'Field Complete (Q1 2026)'!F:F,"") -> 0 | M28: Secondary Distribution Line | N28: 1 | O28: SegmentID | P28: Segment ID | Q28: String(50) | S28: Unique ID of circuit segment. Must be a unique value that identifies this portion of the circuit and a traceable stable ID within the electrical corporation’s operations/processes. Primary Key for the feature class. Unless the electrical corporation does not uniquely identify segments with persistent IDs. This field is required IF the electrical corporation has persistent stable IDs for circuit segments. A segment may be anything more granular than a circuit, including a single span. | T28: No | U28: Where available, PG&E is providing CircuitID as the foreign key to the asset point features. The electrical corporation does not have persistent unique segment IDs. | V28: N/A - please see availability explanation | W28: N/A - please see availability explanation | X28: No | Y28: Optional | Z28: Yes | AB28: SecondaryDistributionLine.SegmentID
A29: Asset Line | B29: Secondary Distribution Line | C29: CircuitID | J29: =CONCATENATE(SUBSTITUTE(B29," ",""),".",SUBSTITUTE(C29," ","")) -> SecondaryDistributionLine.CircuitID | K29: =J29=AB29 -> TRUE | L29: =_xlfn.XLOOKUP(J29,'Field Complete (Q1 2026)'!H:H,'Field Complete (Q1 2026)'!F:F,"") -> 0.9913 | M29: Secondary Distribution Line | N29: 2 | O29: CircuitID | P29: Circuit ID | Q29: String(50) | S29: Unique ID for a specific circuit. Must be a traceable stable ID within the electrical corporation’s operations/processes. This ID is expected to be based on the circuit name of the secondary line’s associated primary distribution line. Primary Key for the feature class if the electrical corporation does not uniquely identify segments with persistent IDs. This field is required. | T29: Partial | U29: This attribute contains the majority of the required data. There are several potential reasons why this data may not be present. For example, data may have been mis-captured originally or it may not export, join, or otherwise translate as intended when preparing the FGDB. | V29: Majority of data is submitted for this field. PG&E's focus is currently on addressing larger data gaps and enhancements to reporting quality. Once these objectives are met, PG&E can re-assess actions needed for 100% complete data for this field | W29: Majority of data is submitted for this field. PG&E's focus is currently on addressing larger data gaps and enhancements to reporting quality. Once these objectives are met, PG&E can re-assess actions needed for 100% complete data for this field. PG&E is exploring long-term IT and process-oriented solutions to produce the OEIS GIS Standard, with the potential to connect formerly disparate data sources. | X29: No | Y29: Data provided | Z29: Yes | AB29: SecondaryDistributionLine.CircuitID
A30: Asset Line | B30: Secondary Distribution Line | C30: UtilityID | J30: =CONCATENATE(SUBSTITUTE(B30," ",""),".",SUBSTITUTE(C30," ","")) -> SecondaryDistributionLine.UtilityID | K30: =J30=AB30 -> TRUE | L30: =_xlfn.XLOOKUP(J30,'Field Complete (Q1 2026)'!H:H,'Field Complete (Q1 2026)'!F:F,"") -> 1 | M30: Secondary Distribution Line | N30: 3 | O30: UtilityID | P30: Utility ID | Q30: String(10) | R30: BVES; HWT; Liberty; LS Power; PacifiCorp; PG&E; SCE; SDG&E; TBC | S30: Standardized identification name of the electrical corporation. Possible values: ||BVES ||HWT ||Liberty ||LS Power ||PacifiCorp ||PG&E ||SCE ||SDG&E ||TBC ||This field is required. | T30: Yes | U30: N/A | V30: N/A | W30: N/A | X30: No | Y30: Data provided | Z30: Yes | AB30: SecondaryDistributionLine.UtilityID
A31: Asset Line | B31: Secondary Distribution Line | C31: SubstationID | J31: =CONCATENATE(SUBSTITUTE(B31," ",""),".",SUBSTITUTE(C31," ","")) -> SecondaryDistributionLine.SubstationID | K31: =J31=AB31 -> TRUE | L31: =_xlfn.XLOOKUP(J31,'Field Complete (Q1 2026)'!H:H,'Field Complete (Q1 2026)'!F:F,"") -> 0.9911 | M31: Secondary Distribution Line | N31: 4 | O31: SubstationID | P31: Substation ID | Q31: String(50) | S31: ID of substation associated with asset. Foreign key to the Substation feature. This field is required. | T31: Partial | U31: This attribute contains the majority of the required data. There are several potential reasons why this data may not be present. For example, data may have been mis-captured originally or it may not export, join, or otherwise translate as intended when preparing the FGDB. | V31: Majority of data is submitted for this field. PG&E's focus is currently on addressing larger data gaps and enhancements to reporting quality. Once these objectives are met, PG&E can re-assess actions needed for 100% complete data for this field PG&E is exploring long-term IT and process-oriented solutions to produce the OEIS GIS Standard, with the potential to connect formerly disparate data sources | W31: PG&E is taking actions to enhance the GIS Data Standard submission on a quarterly basis. Addressing the small percentage of missing values for this attribute will be explored after the overall submission product achieves a higher quality and becomes more sustainable. | X31: Yes - Substation information are identified as confidential Physical facility, cyber-security sensitive, or critical energy infrastructure data protected from disclosure. (See 18 C.F.R. § 388.113, see also Govt. Code § 6254(k), (ab); 6 U.S.C. § 131; 6 CFR § 29.2.) | Y31: Data provided | Z31: Yes | AB31: SecondaryDistributionLine.SubstationID
A32: Asset Line | B32: Secondary Distribution Line | C32: CircuitName | J32: =CONCATENATE(SUBSTITUTE(B32," ",""),".",SUBSTITUTE(C32," ","")) -> SecondaryDistributionLine.CircuitName | K32: =J32=AB32 -> TRUE | L32: =_xlfn.XLOOKUP(J32,'Field Complete (Q1 2026)'!H:H,'Field Complete (Q1 2026)'!F:F,"") -> 0.9913 | M32: Secondary Distribution Line | N32: 5 | O32: CircuitName | P32: Circuit Name | Q32: String(255) | S32: Name of circuit associated with asset. This name is expected to be based on the circuit name of the secondary line’s associated primary distribution line. Leave null if there is no unique circuit name that is different than the circuit ID. There is no need to repeat CircuitID values in this field. This field is optional. | T32: Partial | U32: This attribute contains the majority of the required data. There are several potential reasons why this data may not be present. For example, data may have been mis-captured originally or it may not export, join, or otherwise translate as intended when preparing the FGDB. | V32: Majority of data is submitted for this field. PG&E's focus is currently on addressing larger data gaps and enhancements to reporting quality. Once these objectives are met, PG&E can re-assess actions needed for 100% complete data for this field | W32: PG&E is taking actions to enhance the GIS Data Standard submission on a quarterly basis. Addressing the small percentage of missing values for this attribute will be explored after the overall submission product achieves a higher quality and becomes more sustainable. | X32: No | Y32: Data provided | Z32: Yes | AB32: SecondaryDistributionLine.CircuitName
A33: Asset Line | B33: Secondary Distribution Line | C33: ConductorType | J33: =CONCATENATE(SUBSTITUTE(B33," ",""),".",SUBSTITUTE(C33," ","")) -> SecondaryDistributionLine.ConductorType | K33: =J33=AB33 -> TRUE | L33: =_xlfn.XLOOKUP(J33,'Field Complete (Q1 2026)'!H:H,'Field Complete (Q1 2026)'!F:F,"") -> 0.6502 | M33: Secondary Distribution Line | N33: 6 | O33: ConductorType | P33: Conductor Type | Q33: String(30) | R33: Open wire; Duplex; Triplex; Quadruplex; Other, see comment | S33: Type of conductor. Possible values: ||Open wire ||Duplex ||Triplex ||Quadruplex ||Other, see comment ||This field is required. | T33: Partial | U33: Before 2021, this level of detail was not always captured by field personnel. However, there is currently a mandate and program in place to note and replace open wire conductor types. | V33: As damages are being inspected, if there is an open wire conductor type, it will be noted and then replaced with a different kind of conductor (e.g., ACSR Triplex). Once replaced, the new conductor type will be captured and stored in a system of record. | W33: As data is collected more data on the open wire replacement program will be available and the OEIS would see this percentage value gradually increase. | X33: No | Y33: Data provided | Z33: Yes | AA33: CAP - Tim is the owner of this | AB33: SecondaryDistributionLine.ConductorType
A34: Asset Line | B34: Secondary Distribution Line | C34: ConductorTypeComment | J34: =CONCATENATE(SUBSTITUTE(B34," ",""),".",SUBSTITUTE(C34," ","")) -> SecondaryDistributionLine.ConductorTypeComment | K34: =J34=AB34 -> TRUE | L34: =_xlfn.XLOOKUP(J34,'Field Complete (Q1 2026)'!H:H,'Field Complete (Q1 2026)'!F:F,"") -> 0.1039 | M34: Secondary Distribution Line | N34: 7 | O34: ConductorTypeComment | P34: Conductor Type Comment | Q34: String(30) | S34: Conductor type not listed in the options above. This field is required IF ConductorType is “Other, see comment”. | T34: Partial | U34: Comments are used as needed | V34: N/A | W34: N/A | X34: No | Y34: Optional | Z34: Yes | AB34: SecondaryDistributionLine.ConductorTypeComment
A35: Asset Line | B35: Secondary Distribution Line | C35: AssetLocation | J35: =CONCATENATE(SUBSTITUTE(B35," ",""),".",SUBSTITUTE(C35," ","")) -> SecondaryDistributionLine.AssetLocation | K35: =J35=AB35 -> TRUE | L35: =_xlfn.XLOOKUP(J35,'Field Complete (Q1 2026)'!H:H,'Field Complete (Q1 2026)'!F:F,"") -> 1 | M35: Secondary Distribution Line | N35: 8 | O35: AssetLocation | P35: Asset Location | Q35: String(20) | R35: Overhead; Underground | S35: Is the asset overhead or underground? Possible values: ||Overhead ||Underground ||ISSUE: Blank Record included in pdf This field is required. | T35: Yes | U35: N/A | V35: N/A | W35: N/A | X35: No | Y35: Data provided | Z35: Yes | AB35: SecondaryDistributionLine.AssetLocation
A36: Asset Line | B36: Secondary Distribution Line | C36: SubstationName | J36: =CONCATENATE(SUBSTITUTE(B36," ",""),".",SUBSTITUTE(C36," ","")) -> SecondaryDistributionLine.SubstationName | K36: =J36=AB36 -> TRUE | L36: =_xlfn.XLOOKUP(J36,'Field Complete (Q1 2026)'!H:H,'Field Complete (Q1 2026)'!F:F,"") -> 0.9913 | M36: Secondary Distribution Line | N36: 9 | O36: SubstationName | P36: Substation Name | Q36: String(50) | S36: Name of substation associated with asset. This field is optional. | T36: Partial | U36: This attribute contains the majority of the required data. There are several potential reasons why this data may not be present. For example, data may have been mis-captured originally or it may not export, join, or otherwise translate as intended when preparing the FGDB. | V36: Majority of data is submitted for this field. PG&E's focus is currently on addressing larger data gaps and enhancements to reporting quality. Once these objectives are met, PG&E can re-assess actions needed for 100% complete data for this field | W36: PG&E is taking actions to enhance the GIS Data Standard submission on a quarterly basis. Addressing the small percentage of missing values for this attribute will be explored after the overall submission product achieves a higher quality and becomes more sustainable. | X36: Yes - Substation information are identified as confidential Physical facility, cyber-security sensitive, or critical energy infrastructure data protected from disclosure. (See 18 C.F.R. § 388.113, see also Govt. Code § 6254(k), (ab); 6 U.S.C. § 131; 6 CFR § 29.2.) | Y36: Data provided | Z36: Yes | AB36: SecondaryDistributionLine.SubstationName
A37: Asset Line | B37: Secondary Distribution Line | C37: ConductorMaterial | J37: =CONCATENATE(SUBSTITUTE(B37," ",""),".",SUBSTITUTE(C37," ","")) -> SecondaryDistributionLine.ConductorMaterial | K37: =J37=AB37 -> TRUE | L37: =_xlfn.XLOOKUP(J37,'Field Complete (Q1 2026)'!H:H,'Field Complete (Q1 2026)'!F:F,"") -> 0.7059 | M37: Secondary Distribution Line | N37: 10 | O37: ConductorMaterial | P37: Conductor Material | Q37: String(50) | R37: All aluminum conductor (AAC); All aluminum alloy conductor (AAAC); Aluminum conductor aluminum reinforced (ACAR); Aluminum conductor steel reinforced (ACSR); Aluminum conductor steel supported (ACSS); Copper (Cu); Other, see comment | S37: Conductor material. Possible values: ||All aluminum conductor (AAC) ||All aluminum alloy conductor (AAAC) ||Aluminum conductor aluminum reinforced (ACAR) ||Aluminum conductor steel reinforced (ACSR) ||Aluminum conductor steel supported (ACSS) ||Copper (Cu) ||Other, see comment ||This field is required. | T37: Partial | U37: PG&E does have this data, but it is limited with what is available within a centralized system of record that can be extracted and related to other data for quarterly submissions. | V37: PG&E is exploring long-term IT and process-oriented solutions to produce the OEIS GIS Standard, with the potential to connect formerly disparate data sources. | W37: PG&E is taking actions to enhance the GIS Data Standard submission on a quarterly basis. The integration of this field will depend on developments to process and technology integration. | X37: No | Y37: Data provided | Z37: Yes | AB37: SecondaryDistributionLine.ConductorMaterial
A38: Asset Line | B38: Secondary Distribution Line | C38: ConductorMaterialComment | J38: =CONCATENATE(SUBSTITUTE(B38," ",""),".",SUBSTITUTE(C38," ","")) -> SecondaryDistributionLine.ConductorMaterialComment | K38: =J38=AB38 -> TRUE | L38: =_xlfn.XLOOKUP(J38,'Field Complete (Q1 2026)'!H:H,'Field Complete (Q1 2026)'!F:F,"") -> 0.2807 | M38: Secondary Distribution Line | N38: 11 | O38: ConductorMaterialComment | P38: Conductor Material Comment | Q38: String(50) | S38: Conductor material not listed in the options above. This field is required IF ConductorMaterial is “Other, see comment”. | T38: Yes | U38: PG&E has added any needed comments per the instructions on using the "other" possible value . Any null values present are because a comment is not needed. | V38: N/A | W38: N/A | X38: No | Y38: Optional | Z38: Yes | AB38: SecondaryDistributionLine.ConductorMaterialComment
A39: Asset Line | B39: Secondary Distribution Line | C39: ConductorSize | J39: =CONCATENATE(SUBSTITUTE(B39," ",""),".",SUBSTITUTE(C39," ","")) -> SecondaryDistributionLine.ConductorSize | K39: =J39=AB39 -> TRUE | L39: =_xlfn.XLOOKUP(J39,'Field Complete (Q1 2026)'!H:H,'Field Complete (Q1 2026)'!F:F,"") -> 0.91 | M39: Secondary Distribution Line | N39: 12 | O39: ConductorSize | P39: Conductor Size | Q39: String(30) | S39: Size of conductor (e.g., No. 4 Cu or 1/0 ACSR). This field is required. | T39: Partial | U39: This attribute contains the majority of the required data. PG&E data is limited to what is available within a centralized system of record that can be extracted and related to other data for quarterly submissions. | V39: Majority of data is submitted for this field. PG&E's focus is currently on addressing larger data gaps and enhancements to reporting quality. Once these objectives are met, PG&E can re-assess actions needed for 100% complete data for this field | W39: PG&E is taking actions to enhance the GIS Data Standard submission on a quarterly basis. Addressing the small percentage of missing values for this attribute will be explored after the overall submission product achieves a higher quality and becomes more sustainable. | X39: No | Y39: Data provided | Z39: Yes | AB39: SecondaryDistributionLine.ConductorSize
