Workbook

Sheet READ ME FIRST
B1: Quarterly Initiative Update - WMP Initiative Status Updates
B4: Instructions for use
B5: 1 | C5: Update progress on WMP Initiatives on "Initiatives" sheet by populating columns A through AB. Progress currently filled in is an example. Yellow cells indicate information that needs to be filled out or confirmed by utility. WMP initiatives that are not already listed in the "Initiatives" sheet shall be added as separate line items on the "Initiatives" sheet. Quantitative information, included initiative targets, the units of said targets and subsequent progress are reported in columns L through U with qualitative targets and progress described in columns V through Z.
B6: 2 | C6: WSD Compliance will reach out to follow up on which Initiatives require documentation for auditing, indicated in columns AD and AE in the "Initiatives" sheet. For those initiatives requiring audit documentation, please fill out columns AF through AH. Please be sure to link to a Kiteworks folder in column AF.
B7: 3 | C7: Definitions for each field are provided in the table below starting in row 17 - READ BEFORE INPUTTING DATA
B8: 4 | C8: WSD Compliance will contact the electrical corporation with any follow-up questions regarding audits
B11: Update the below table to establish which year, quarter, month of the WMP cycle this submission represents
B12: Utility | D12: BVES
B13: Report Year | D13: 2022
B14: Report Quarter | D14: Q1
B15: Submission Date | D15: 44683
B17: Definition of fields
C19: Column | D19: Column name | E19: Definition | F19: Input type | G19: Submission in which to be completed
C20: A | D20: UtilityID | E20: Standardized ID of utility (PGE, SCE, SDGE, BVES, LU, PC, HWT, or TBC) - auto populated by utility field above | F20: Text | G20: Q1
C21: B | D21: Submission Date | E21: Autogenerated based on submission date field above | F21: Date | G21: Q1
C22: C | D22: WMPInitiativeCategory | E22: One of the 10 initiative categories in the WMP | F22: Text | G22: Q1
C23: D | D23: WMPInitiativeCategory# | E23: Autogenerated based on initiative category | F23: Numeric | G23: Q1
C24: E | D24: WMPInitiativeActivity | E24: The relevant WMP activity classification for the initiative. If this initiative applies to an activity not presented, mark "other" | F24: Text | G24: Q1
C25: F | D25: ActivityNameifOther | E25: If activity was "other", then provide the name of the appropriate activity. Should match an activity name in utility's WMP (Table 12) | F25: Text | G25: Q1
C26: G | D26: WMPInitiativeActivity# | E26: Autogenerated based on initiative activity. Will be number or name of activity if activity was marked as "other" | F26: Numeric/Text | G26: Q1
C27: H | D27: UtilityInitiativeName | E27: Utility name for initiative | F27: Text | G27: Q1
C28: I | D28: InitiativeActivityID | E28: ID for the utility initiative. Must be unique to a utility's Initiative activity across submissions. If this initiative is also reported in the initiatives feature class for Grid hardening, Asset inspections, or vegetation management and inspections, then this ID should also connect to the ID in the corresponding initiative feature class (Fields "GhlogID", "AiLogID", "VmiLogID", "VmpLogID", and "OiLogID") | F28: Text | G28: Q1
C29: J | D29: WMPInitiativeCode | E29: Unique ID of the initiative. Must be unique for each initiative for each utility for each year. Follows the format “[UtilityID]_ [WMPInitiativeCategory]_[ WMPInitiativeActivity]_[InitiativeActivityID]_[Year four digit number (e.g., “2021”)]”. For example the code “PGE_Vegetation Management & Inspections_Substation vegetation management _001_2021” would be where utility is PG&E, Initiative category is Vegetation Management & Inspections, activity is Substation vegetation management, unique initiative ID is 001 and the year is 2021 | F29: Text | G29: Q1
C30: K | D30: WMPPageNumber | E30: Page of most recent WMP where initiative is detailed. If the initiative is detailed on multiple pages, put the first page | F30: Numeric | G30: Q1
... C47: AB | D47: CorrectiveActionsIfDelayed | E47: If initiative is delayed based on reported target vs progress (e.g., reported QuantProgress for Q1 was significantly below the ProjectedQuantProgress for Q1), detail corrective actions | F47: Text | G47: As needed
C48: AC-onwards is managed by WSD; columns AF-AH will only be completed by utility upon WSD request

Sheet Initiatives
A1: UtilityID | B1: Submission Date | C1: WMPInitiativeCategory | D1: WMPInitiativeCategory# | E1: WMPInitiativeActivity | F1: ActivityNameifOther | G1: WMPInitiativeActivity# | H1: UtilityInitiativeName | I1: InitiativeActivityID | J1: WMPInitiativeCode | K1: WMPPageNumber | L1: QuantTargetUnits | M1: AnnualQuantTarget | N1: ProjectedQuantProgressQ1 | O1: ProjectedQuantProgressQ1-2 | P1: ProjectedQuantProgressQ1-3 | Q1: ProjectedQuantProgressQ1-4 | R1: QuantActualProgressQ1 | S1: QuantActualProgressQ1-2 | T1: QuantActualProgressQ1-3 | U1: QuantActualProgressQ1-4 | V1: AnnualQualTarget | W1: QualActualProgressQ1 | X1: QualActualProgressQ1-2 | Y1: QualActualProgressQ1-3 | Z1: QualActualProgressQ1-4 | AA1: Status | AB1: CorrectiveActionsIfDelayed | AC1: REFERENCE: Compliance Branch Requirements --> | AD1: Audit | AE1: Audit File Documentation Requested | AF1: FolderLink | AG1: PersonInChargeName | AH1: PersonInChargeEmail
A2: ='READ ME FIRST'!$D$12 -> BVES | B2: ='READ ME FIRST'!$D$15 -> 44683 | C2: Risk Assessment & Mapping | D2: =IF(Table2[[#This Row],[WMPInitiativeCategory]]="", "",INDEX('Initiative mapping-DO NOT EDIT'!$H$3:$H$12, MATCH(Table2[[#This Row],[WMPInitiativeCategory]],'Initiative mapping-DO NOT EDIT'!$G$3:$G$12,0))) -> 7.3.1. | E2: A summarized risk map that shows the overall ignition probability and estimated wildfire consequence along the electric lines and equipment | G2: =IF(Table2[[#This Row],[WMPInitiativeActivity]]="","x",IF(Table2[[#This Row],[WMPInitiativeActivity]]="other", Table2[[#This Row],[ActivityNameifOther]], INDEX('Initiative mapping-DO NOT EDIT'!$C$3:$C$91,MATCH(Table2[[#This Row],[WMPInitiativeActivity]],'Initiative mapping-DO NOT EDIT'!$D$3:$D$91,0)))) -> 1 | H2: Ignition Probability & Wildfire Consequence Mapping | I2: BVRAM-001-1 | J2: =_xlfn.CONCAT([1]!Table2[[#This Row],[UtilityID]],"_", [1]!Table2[[#This Row],[WMPInitiativeCategory]],"_", IF([1]!Table2[[#This Row],[WMPInitiativeActivity]]="","x",IF([1]!Table2[[#This Row],[WMPInitiativeActivity]]="other", [1]!Table2[[#This Row],[ActivityNameifOther]], [1]!Table2[[#This Row],[WMPInitiativeActivity]])),"_",[1]!Table2[[#This Row],[InitiativeActivityID]], "_",YEAR([1]!Table2[[#This Row],[Submission Date]])) -> BVES_Risk Assessment & Mapping_A summarized risk map that shows the overall ignition probability and estimated wildfire consequence along the electric lines and equipment _BVRAM-001-1_2022 | K2: 99 | L2: NA | M2: NA | N2: NA | O2: NA | P2: NA | Q2: NA | R2: NA | S2: NA | T2: NA | V2: NA | W2: NA | X2: NA | Y2: NA | AA2: Completed | AB2: NA
A3: ='READ ME FIRST'!$D$12 -> BVES | B3: ='READ ME FIRST'!$D$15 -> 44683 | C3: Risk Assessment & Mapping | D3: =IF(Table2[[#This Row],[WMPInitiativeCategory]]="", "",INDEX('Initiative mapping-DO NOT EDIT'!$H$3:$H$12, MATCH(Table2[[#This Row],[WMPInitiativeCategory]],'Initiative mapping-DO NOT EDIT'!$G$3:$G$12,0))) -> 7.3.1. | E3: Climate-driven risk map and modelling based on various relevant weather scenarios | G3: =IF(Table2[[#This Row],[WMPInitiativeActivity]]="","x",IF(Table2[[#This Row],[WMPInitiativeActivity]]="other", Table2[[#This Row],[ActivityNameifOther]], INDEX('Initiative mapping-DO NOT EDIT'!$C$3:$C$91,MATCH(Table2[[#This Row],[WMPInitiativeActivity]],'Initiative mapping-DO NOT EDIT'!$D$3:$D$91,0)))) -> 2 | H3: Ignition Probability & Wildfire Consequence Mapping | I3: BVRAM-001-2 | J3: =_xlfn.CONCAT([1]!Table2[[#This Row],[UtilityID]],"_", [1]!Table2[[#This Row],[WMPInitiativeCategory]],"_", IF([1]!Table2[[#This Row],[WMPInitiativeActivity]]="","x",IF([1]!Table2[[#This Row],[WMPInitiativeActivity]]="other", [1]!Table2[[#This Row],[ActivityNameifOther]], [1]!Table2[[#This Row],[WMPInitiativeActivity]])),"_",[1]!Table2[[#This Row],[InitiativeActivityID]], "_",YEAR([1]!Table2[[#This Row],[Submission Date]])) -> BVES_Risk Assessment & Mapping_Climate-driven risk map and modelling based on various relevant weather scenarios _BVRAM-001-2_2022 | K3: 99 | L3: NA | M3: NA | N3: NA | O3: NA | P3: NA | Q3: NA | R3: NA | S3: NA | T3: NA | V3: NA | W3: NA | X3: NA | Y3: NA | AA3: Completed | AB3: NA
A4: ='READ ME FIRST'!$D$12 -> BVES | B4: ='READ ME FIRST'!$D$15 -> 44683 | C4: Risk Assessment & Mapping | D4: =IF(Table2[[#This Row],[WMPInitiativeCategory]]="", "",INDEX('Initiative mapping-DO NOT EDIT'!$H$3:$H$12, MATCH(Table2[[#This Row],[WMPInitiativeCategory]],'Initiative mapping-DO NOT EDIT'!$G$3:$G$12,0))) -> 7.3.1. | E4: Ignition probability mapping showing the probability of ignition along the electric lines and equipment | G4: =IF(Table2[[#This Row],[WMPInitiativeActivity]]="","x",IF(Table2[[#This Row],[WMPInitiativeActivity]]="other", Table2[[#This Row],[ActivityNameifOther]], INDEX('Initiative mapping-DO NOT EDIT'!$C$3:$C$91,MATCH(Table2[[#This Row],[WMPInitiativeActivity]],'Initiative mapping-DO NOT EDIT'!$D$3:$D$91,0)))) -> 3 | H4: Ignition Probability & Wildfire Consequence Mapping | I4: BVRAM-001-3 | J4: =_xlfn.CONCAT([1]!Table2[[#This Row],[UtilityID]],"_", [1]!Table2[[#This Row],[WMPInitiativeCategory]],"_", IF([1]!Table2[[#This Row],[WMPInitiativeActivity]]="","x",IF([1]!Table2[[#This Row],[WMPInitiativeActivity]]="other", [1]!Table2[[#This Row],[ActivityNameifOther]], [1]!Table2[[#This Row],[WMPInitiativeActivity]])),"_",[1]!Table2[[#This Row],[InitiativeActivityID]], "_",YEAR([1]!Table2[[#This Row],[Submission Date]])) -> BVES_Risk Assessment & Mapping_Ignition probability mapping showing the probability of ignition along the electric lines and equipment _BVRAM-001-3_2022 | K4: 99 | L4: NA | M4: NA | N4: NA | O4: NA | P4: NA | Q4: NA | R4: NA | S4: NA | T4: NA | V4: NA | W4: NA | X4: NA | Y4: NA | AA4: Completed | AB4: NA
A5: ='READ ME FIRST'!$D$12 -> BVES | B5: ='READ ME FIRST'!$D$15 -> 44683 | C5: Risk Assessment & Mapping | D5: =IF(Table2[[#This Row],[WMPInitiativeCategory]]="", "",INDEX('Initiative mapping-DO NOT EDIT'!$H$3:$H$12, MATCH(Table2[[#This Row],[WMPInitiativeCategory]],'Initiative mapping-DO NOT EDIT'!$G$3:$G$12,0))) -> 7.3.1. | E5: Initiative mapping and estimation of wildfire and PSPS risk-reduction impact | G5: =IF(Table2[[#This Row],[WMPInitiativeActivity]]="","x",IF(Table2[[#This Row],[WMPInitiativeActivity]]="other", Table2[[#This Row],[ActivityNameifOther]], INDEX('Initiative mapping-DO NOT EDIT'!$C$3:$C$91,MATCH(Table2[[#This Row],[WMPInitiativeActivity]],'Initiative mapping-DO NOT EDIT'!$D$3:$D$91,0)))) -> 4 | H5: Ignition Probability & Wildfire Consequence Mapping | I5: BVRAM-001-4 | J5: =_xlfn.CONCAT([1]!Table2[[#This Row],[UtilityID]],"_", [1]!Table2[[#This Row],[WMPInitiativeCategory]],"_", IF([1]!Table2[[#This Row],[WMPInitiativeActivity]]="","x",IF([1]!Table2[[#This Row],[WMPInitiativeActivity]]="other", [1]!Table2[[#This Row],[ActivityNameifOther]], [1]!Table2[[#This Row],[WMPInitiativeActivity]])),"_",[1]!Table2[[#This Row],[InitiativeActivityID]], "_",YEAR([1]!Table2[[#This Row],[Submission Date]])) -> BVES_Risk Assessment & Mapping_Initiative mapping and estimation of wildfire and PSPS risk-reduction impact _BVRAM-001-4_2022 | K5: 99 | L5: NA | M5: NA | N5: NA | O5: NA | P5: NA | Q5: NA | R5: NA | S5: NA | T5: NA | V5: NA | W5: NA | X5: NA | Y5: NA | AA5: In Progress | AB5: NA
A6: ='READ ME FIRST'!$D$12 -> BVES | B6: ='READ ME FIRST'!$D$15 -> 44683 | C6: Risk Assessment & Mapping | D6: =IF(Table2[[#This Row],[WMPInitiativeCategory]]="", "",INDEX('Initiative mapping-DO NOT EDIT'!$H$3:$H$12, MATCH(Table2[[#This Row],[WMPInitiativeCategory]],'Initiative mapping-DO NOT EDIT'!$G$3:$G$12,0))) -> 7.3.1. | E6: Match drop simulations showing the potential wildfire consequence of ignitions that occur along the electric lines and equipment | G6: =IF(Table2[[#This Row],[WMPInitiativeActivity]]="","x",IF(Table2[[#This Row],[WMPInitiativeActivity]]="other", Table2[[#This Row],[ActivityNameifOther]], INDEX('Initiative mapping-DO NOT EDIT'!$C$3:$C$91,MATCH(Table2[[#This Row],[WMPInitiativeActivity]],'Initiative mapping-DO NOT EDIT'!$D$3:$D$91,0)))) -> 5 | H6: Ignition Probability & Wildfire Consequence Mapping | I6: BVRAM-001-5 | J6: =_xlfn.CONCAT([1]!Table2[[#This Row],[UtilityID]],"_", [1]!Table2[[#This Row],[WMPInitiativeCategory]],"_", IF([1]!Table2[[#This Row],[WMPInitiativeActivity]]="","x",IF([1]!Table2[[#This Row],[WMPInitiativeActivity]]="other", [1]!Table2[[#This Row],[ActivityNameifOther]], [1]!Table2[[#This Row],[WMPInitiativeActivity]])),"_",[1]!Table2[[#This Row],[InitiativeActivityID]], "_",YEAR([1]!Table2[[#This Row],[Submission Date]])) -> BVES_Risk Assessment & Mapping_Match drop simulations showing the potential wildfire consequence of ignitions that occur along the electric lines and equipment _BVRAM-001-5_2022 | K6: 99 | L6: NA | M6: NA | N6: NA | O6: NA | P6: NA | Q6: NA | R6: NA | S6: NA | T6: NA | V6: NA | W6: NA | X6: NA | Y6: NA | AA6: Completed | AB6: NA
A7: ='READ ME FIRST'!$D$12 -> BVES | B7: ='READ ME FIRST'!$D$15 -> 44683 | C7: Situational Awareness & Forecasting | D7: =IF(Table2[[#This Row],[WMPInitiativeCategory]]="", "",INDEX('Initiative mapping-DO NOT EDIT'!$H$3:$H$12, MATCH(Table2[[#This Row],[WMPInitiativeCategory]],'Initiative mapping-DO NOT EDIT'!$G$3:$G$12,0))) -> 7.3.2. | E7: Advanced weather monitoring and weather stations | G7: =IF(Table2[[#This Row],[WMPInitiativeActivity]]="","x",IF(Table2[[#This Row],[WMPInitiativeActivity]]="other", Table2[[#This Row],[ActivityNameifOther]], INDEX('Initiative mapping-DO NOT EDIT'!$C$3:$C$91,MATCH(Table2[[#This Row],[WMPInitiativeActivity]],'Initiative mapping-DO NOT EDIT'!$D$3:$D$91,0)))) -> 1 | H7: Situational Awareness Hardware Program | I7: BVSAF-001-1 | J7: =_xlfn.CONCAT([1]!Table2[[#This Row],[UtilityID]],"_", [1]!Table2[[#This Row],[WMPInitiativeCategory]],"_", IF([1]!Table2[[#This Row],[WMPInitiativeActivity]]="","x",IF([1]!Table2[[#This Row],[WMPInitiativeActivity]]="other", [1]!Table2[[#This Row],[ActivityNameifOther]], [1]!Table2[[#This Row],[WMPInitiativeActivity]])),"_",[1]!Table2[[#This Row],[InitiativeActivityID]], "_",YEAR([1]!Table2[[#This Row],[Submission Date]])) -> BVES_Situational Awareness & Forecasting_Advanced weather monitoring and weather stations _BVSAF-001-1_2022 | K7: 103 | L7: Number of Weather Stations Installed | M7: 0 | N7: 0 | O7: 0 | P7: 0 | Q7: 0 | R7: 0 | S7: 0 | T7: 0 | V7: NA | W7: NA | X7: NA | Y7: NA | AA7: Completed | AB7: NA
A8: ='READ ME FIRST'!$D$12 -> BVES | B8: ='READ ME FIRST'!$D$15 -> 44683 | C8: Situational Awareness & Forecasting | D8: =IF(Table2[[#This Row],[WMPInitiativeCategory]]="", "",INDEX('Initiative mapping-DO NOT EDIT'!$H$3:$H$12, MATCH(Table2[[#This Row],[WMPInitiativeCategory]],'Initiative mapping-DO NOT EDIT'!$G$3:$G$12,0))) -> 7.3.2. | E8: Continuous monitoring sensors | G8: =IF(Table2[[#This Row],[WMPInitiativeActivity]]="","x",IF(Table2[[#This Row],[WMPInitiativeActivity]]="other", Table2[[#This Row],[ActivityNameifOther]], INDEX('Initiative mapping-DO NOT EDIT'!$C$3:$C$91,MATCH(Table2[[#This Row],[WMPInitiativeActivity]],'Initiative mapping-DO NOT EDIT'!$D$3:$D$91,0)))) -> 2 | H8: Situational Awareness Hardware Program | I8: BVSAF-001-2 | J8: =_xlfn.CONCAT([1]!Table2[[#This Row],[UtilityID]],"_", [1]!Table2[[#This Row],[WMPInitiativeCategory]],"_", IF([1]!Table2[[#This Row],[WMPInitiativeActivity]]="","x",IF([1]!Table2[[#This Row],[WMPInitiativeActivity]]="other", [1]!Table2[[#This Row],[ActivityNameifOther]], [1]!Table2[[#This Row],[WMPInitiativeActivity]])),"_",[1]!Table2[[#This Row],[InitiativeActivityID]], "_",YEAR([1]!Table2[[#This Row],[Submission Date]])) -> BVES_Situational Awareness & Forecasting_Continuous monitoring sensors _BVSAF-001-2_2022 | K8: 104 | L8: Number of HD Cameras Installed | M8: 0 | N8: 0 | O8: 0 | P8: 0 | Q8: 0 | R8: 0 | S8: 0 | T8: 0 | V8: NA | W8: NA | X8: NA | Y8: NA | AA8: Completed | AB8: NA
A9: ='READ ME FIRST'!$D$12 -> BVES | B9: ='READ ME FIRST'!$D$15 -> 44683 | C9: Situational Awareness & Forecasting | D9: =IF(Table2[[#This Row],[WMPInitiativeCategory]]="", "",INDEX('Initiative mapping-DO NOT EDIT'!$H$3:$H$12, MATCH(Table2[[#This Row],[WMPInitiativeCategory]],'Initiative mapping-DO NOT EDIT'!$G$3:$G$12,0))) -> 7.3.2. | E9: Fault indicators for detecting faults on electric lines and equipment | G9: =IF(Table2[[#This Row],[WMPInitiativeActivity]]="","x",IF(Table2[[#This Row],[WMPInitiativeActivity]]="other", Table2[[#This Row],[ActivityNameifOther]], INDEX('Initiative mapping-DO NOT EDIT'!$C$3:$C$91,MATCH(Table2[[#This Row],[WMPInitiativeActivity]],'Initiative mapping-DO NOT EDIT'!$D$3:$D$91,0)))) -> 3 | H9: Situational Awareness Hardware Program | I9: BVSAF-001-3 | J9: =_xlfn.CONCAT([1]!Table2[[#This Row],[UtilityID]],"_", [1]!Table2[[#This Row],[WMPInitiativeCategory]],"_", IF([1]!Table2[[#This Row],[WMPInitiativeActivity]]="","x",IF([1]!Table2[[#This Row],[WMPInitiativeActivity]]="other", [1]!Table2[[#This Row],[ActivityNameifOther]], [1]!Table2[[#This Row],[WMPInitiativeActivity]])),"_",[1]!Table2[[#This Row],[InitiativeActivityID]], "_",YEAR([1]!Table2[[#This Row],[Submission Date]])) -> BVES_Situational Awareness & Forecasting_Fault indicators for detecting faults on electric lines and equipment _BVSAF-001-3_2022 | K9: 130 | L9: Number of Fault Indicators | M9: 50 | N9: 0 | O9: 0 | P9: 20 | Q9: 50 | R9: 0 | S9: 0 | T9: 75 | V9: NA | W9: NA | X9: NA | Y9: NA | AA9: In Progress | AB9: NA
A10: ='READ ME FIRST'!$D$12 -> BVES | B10: ='READ ME FIRST'!$D$15 -> 44683 | C10: Situational Awareness & Forecasting | D10: =IF(Table2[[#This Row],[WMPInitiativeCategory]]="", "",INDEX('Initiative mapping-DO NOT EDIT'!$H$3:$H$12, MATCH(Table2[[#This Row],[WMPInitiativeCategory]],'Initiative mapping-DO NOT EDIT'!$G$3:$G$12,0))) -> 7.3.2. | E10: Forecast of a fire risk index, fire potential index, or similar | G10: =IF(Table2[[#This Row],[WMPInitiativeActivity]]="","x",IF(Table2[[#This Row],[WMPInitiativeActivity]]="other", Table2[[#This Row],[ActivityNameifOther]], INDEX('Initiative mapping-DO NOT EDIT'!$C$3:$C$91,MATCH(Table2[[#This Row],[WMPInitiativeActivity]],'Initiative mapping-DO NOT EDIT'!$D$3:$D$91,0)))) -> 4 | H10: Weather Consultant | I10: BVSAF-003-2 | J10: =_xlfn.CONCAT([1]!Table2[[#This Row],[UtilityID]],"_", [1]!Table2[[#This Row],[WMPInitiativeCategory]],"_", IF([1]!Table2[[#This Row],[WMPInitiativeActivity]]="","x",IF([1]!Table2[[#This Row],[WMPInitiativeActivity]]="other", [1]!Table2[[#This Row],[ActivityNameifOther]], [1]!Table2[[#This Row],[WMPInitiativeActivity]])),"_",[1]!Table2[[#This Row],[InitiativeActivityID]], "_",YEAR([1]!Table2[[#This Row],[Submission Date]])) -> BVES_Situational Awareness & Forecasting_Forecast of a fire risk index, fire potential index, or similar _BVSAF-003-2_2022 | K10: 99 | L10: NA | M10: NA | N10: NA | O10: NA | P10: NA | Q10: NA | R10: NA | S10: NA | T10: NA | V10: NA | W10: NA | X10: NA | Y10: NA | AA10: Completed | AB10: NA
A11: ='READ ME FIRST'!$D$12 -> BVES | B11: ='READ ME FIRST'!$D$15 -> 44683 | C11: Situational Awareness & Forecasting | D11: =IF(Table2[[#This Row],[WMPInitiativeCategory]]="", "",INDEX('Initiative mapping-DO NOT EDIT'!$H$3:$H$12, MATCH(Table2[[#This Row],[WMPInitiativeCategory]],'Initiative mapping-DO NOT EDIT'!$G$3:$G$12,0))) -> 7.3.2. | E11: Personnel monitoring areas of electric lines and equipment in elevated fire risk conditions | G11: =IF(Table2[[#This Row],[WMPInitiativeActivity]]="","x",IF(Table2[[#This Row],[WMPInitiativeActivity]]="other", Table2[[#This Row],[ActivityNameifOther]], INDEX('Initiative mapping-DO NOT EDIT'!$C$3:$C$91,MATCH(Table2[[#This Row],[WMPInitiativeActivity]],'Initiative mapping-DO NOT EDIT'!$D$3:$D$91,0)))) -> 5 | H11: Grid Operations & Protocol | I11: BVSAF-002 | J11: =_xlfn.CONCAT([1]!Table2[[#This Row],[UtilityID]],"_", [1]!Table2[[#This Row],[WMPInitiativeCategory]],"_", IF([1]!Table2[[#This Row],[WMPInitiativeActivity]]="","x",IF([1]!Table2[[#This Row],[WMPInitiativeActivity]]="other", [1]!Table2[[#This Row],[ActivityNameifOther]], [1]!Table2[[#This Row],[WMPInitiativeActivity]])),"_",[1]!Table2[[#This Row],[InitiativeActivityID]], "_",YEAR([1]!Table2[[#This Row],[Submission Date]])) -> BVES_Situational Awareness & Forecasting_Personnel monitoring areas of electric lines and equipment in elevated fire risk conditions _BVSAF-002_2022 | K11: 128 | L11: NA | M11: NA | N11: NA | O11: NA | P11: NA | Q11: NA | R11: NA | S11: NA | T11: NA | V11: Sufficient resources during high risk conditions | W11: No high risk events occurred | X11: No high risk events occurred | Y11: No high risk events occurred | AA11: In Progress | AB11: NA
A12: ='READ ME FIRST'!$D$12 -> BVES | B12: ='READ ME FIRST'!$D$15 -> 44683 | C12: Situational Awareness & Forecasting | D12: =IF(Table2[[#This Row],[WMPInitiativeCategory]]="", "",INDEX('Initiative mapping-DO NOT EDIT'!$H$3:$H$12, MATCH(Table2[[#This Row],[WMPInitiativeCategory]],'Initiative mapping-DO NOT EDIT'!$G$3:$G$12,0))) -> 7.3.2. | E12: Weather forecasting and estimating impacts on electric lines and equipment | G12: =IF(Table2[[#This Row],[WMPInitiativeActivity]]="","x",IF(Table2[[#This Row],[WMPInitiativeActivity]]="other", Table2[[#This Row],[ActivityNameifOther]], INDEX('Initiative mapping-DO NOT EDIT'!$C$3:$C$91,MATCH(Table2[[#This Row],[WMPInitiativeActivity]],'Initiative mapping-DO NOT EDIT'!$D$3:$D$91,0)))) -> 6 | H12: Weather Consultant | I12: BVSAF-003-1 | J12: =_xlfn.CONCAT([1]!Table2[[#This Row],[UtilityID]],"_", [1]!Table2[[#This Row],[WMPInitiativeCategory]],"_", IF([1]!Table2[[#This Row],[WMPInitiativeActivity]]="","x",IF([1]!Table2[[#This Row],[WMPInitiativeActivity]]="other", [1]!Table2[[#This Row],[ActivityNameifOther]], [1]!Table2[[#This Row],[WMPInitiativeActivity]])),"_",[1]!Table2[[#This Row],[InitiativeActivityID]], "_",YEAR([1]!Table2[[#This Row],[Submission Date]])) -> BVES_Situational Awareness & Forecasting_Weather forecasting and estimating impacts on electric lines and equipment _BVSAF-003-1_2022 | K12: 130 | L12: NA | M12: NA | N12: NA | O12: NA | P12: NA | Q12: NA | R12: NA | S12: NA | T12: NA | V12: Consulting support for weather forecasting & analysis | W12: Support requirement met | X12: Support requirement met | Y12: Support requirement met | AA12: In Progress | AB12: NA
A13: ='READ ME FIRST'!$D$12 -> BVES | B13: ='READ ME FIRST'!$D$15 -> 44683 | C13: Grid Design & System Hardening | D13: =IF(Table2[[#This Row],[WMPInitiativeCategory]]="", "",INDEX('Initiative mapping-DO NOT EDIT'!$H$3:$H$12, MATCH(Table2[[#This Row],[WMPInitiativeCategory]],'Initiative mapping-DO NOT EDIT'!$G$3:$G$12,0))) -> 7.3.3. | E13: Capacitor maintenance and replacement program | G13: =IF(Table2[[#This Row],[WMPInitiativeActivity]]="","x",IF(Table2[[#This Row],[WMPInitiativeActivity]]="other", Table2[[#This Row],[ActivityNameifOther]], INDEX('Initiative mapping-DO NOT EDIT'!$C$3:$C$91,MATCH(Table2[[#This Row],[WMPInitiativeActivity]],'Initiative mapping-DO NOT EDIT'!$D$3:$D$91,0)))) -> 1 | H13: Program covered under ongoing maintenance of subtransmission and distribution facilities. There is not a separate WMP initiative. | I13: BVGDSH-001 | J13: =_xlfn.CONCAT([1]!Table2[[#This Row],[UtilityID]],"_", [1]!Table2[[#This Row],[WMPInitiativeCategory]],"_", IF([1]!Table2[[#This Row],[WMPInitiativeActivity]]="","x",IF([1]!Table2[[#This Row],[WMPInitiativeActivity]]="other", [1]!Table2[[#This Row],[ActivityNameifOther]], [1]!Table2[[#This Row],[WMPInitiativeActivity]])),"_",[1]!Table2[[#This Row],[InitiativeActivityID]], "_",YEAR([1]!Table2[[#This Row],[Submission Date]])) -> BVES_Grid Design & System Hardening_Capacitor maintenance and replacement program _BVGDSH-001_2022 | K13: NA | L13: NA | M13: NA | N13: NA | O13: NA | P13: NA | Q13: NA | R13: NA | S13: NA | T13: NA | V13: NA | W13: NA | X13: NA | Y13: NA | AA13: Completed | AB13: NA
A14: ='READ ME FIRST'!$D$12 -> BVES | B14: ='READ ME FIRST'!$D$15 -> 44683 | C14: Grid Design & System Hardening | D14: =IF(Table2[[#This Row],[WMPInitiativeCategory]]="", "",INDEX('Initiative mapping-DO NOT EDIT'!$H$3:$H$12, MATCH(Table2[[#This Row],[WMPInitiativeCategory]],'Initiative mapping-DO NOT EDIT'!$G$3:$G$12,0))) -> 7.3.3. | E14: Circuit breaker maintenance and installation to de-energize lines upon detecting a fault | G14: =IF(Table2[[#This Row],[WMPInitiativeActivity]]="","x",IF(Table2[[#This Row],[WMPInitiativeActivity]]="other", Table2[[#This Row],[ActivityNameifOther]], INDEX('Initiative mapping-DO NOT EDIT'!$C$3:$C$91,MATCH(Table2[[#This Row],[WMPInitiativeActivity]],'Initiative mapping-DO NOT EDIT'!$D$3:$D$91,0)))) -> 2 | H14: Program covered under ongoing maintenance of subtransmission and distribution facilities. There is not a separate WMP initiative. | I14: BVGDSH-002 | J14: =_xlfn.CONCAT([1]!Table2[[#This Row],[UtilityID]],"_", [1]!Table2[[#This Row],[WMPInitiativeCategory]],"_", IF([1]!Table2[[#This Row],[WMPInitiativeActivity]]="","x",IF([1]!Table2[[#This Row],[WMPInitiativeActivity]]="other", [1]!Table2[[#This Row],[ActivityNameifOther]], [1]!Table2[[#This Row],[WMPInitiativeActivity]])),"_",[1]!Table2[[#This Row],[InitiativeActivityID]], "_",YEAR([1]!Table2[[#This Row],[Submission Date]])) -> BVES_Grid Design & System Hardening_Circuit breaker maintenance and installation to de-energize lines upon detecting a fault _BVGDSH-002_2022 | K14: NA | L14: NA | M14: NA | N14: NA | O14: NA | P14: NA | Q14: NA | R14: NA | S14: NA | T14: NA | V14: NA | W14: NA | X14: NA | Y14: NA | AA14: NA | AB14: NA
A15: ='READ ME FIRST'!$D$12 -> BVES | B15: ='READ ME FIRST'!$D$15 -> 44683 | C15: Grid Design & System Hardening | D15: =IF(Table2[[#This Row],[WMPInitiativeCategory]]="", "",INDEX('Initiative mapping-DO NOT EDIT'!$H$3:$H$12, MATCH(Table2[[#This Row],[WMPInitiativeCategory]],'Initiative mapping-DO NOT EDIT'!$G$3:$G$12,0))) -> 7.3.3. | E15: Covered conductor installation | G15: =IF(Table2[[#This Row],[WMPInitiativeActivity]]="","x",IF(Table2[[#This Row],[WMPInitiativeActivity]]="other", Table2[[#This Row],[ActivityNameifOther]], INDEX('Initiative mapping-DO NOT EDIT'!$C$3:$C$91,MATCH(Table2[[#This Row],[WMPInitiativeActivity]],'Initiative mapping-DO NOT EDIT'!$D$3:$D$91,0)))) -> 3 | H15: Covered Conductor Replacement Program | I15: BVGDSH-003-1 | J15: =_xlfn.CONCAT([1]!Table2[[#This Row],[UtilityID]],"_", [1]!Table2[[#This Row],[WMPInitiativeCategory]],"_", IF([1]!Table2[[#This Row],[WMPInitiativeActivity]]="","x",IF([1]!Table2[[#This Row],[WMPInitiativeActivity]]="other", [1]!Table2[[#This Row],[ActivityNameifOther]], [1]!Table2[[#This Row],[WMPInitiativeActivity]])),"_",[1]!Table2[[#This Row],[InitiativeActivityID]], "_",YEAR([1]!Table2[[#This Row],[Submission Date]])) -> BVES_Grid Design & System Hardening_Covered conductor installation _BVGDSH-003-1_2022 | K15: 114 | L15: Circuit Miles Hardened | M15: 12.9 | N15: 0 | O15: 4.3 | P15: 8.6 | Q15: 12.9 | R15: 2.3 | S15: 7.02 | T15: 10.35 | V15: NA | W15: NA | X15: NA | Y15: NA | AA15: In Progress | AB15: NA
A16: ='READ ME FIRST'!$D$12 -> BVES | B16: ='READ ME FIRST'!$D$15 -> 44683 | C16: Grid Design & System Hardening | D16: =IF(Table2[[#This Row],[WMPInitiativeCategory]]="", "",INDEX('Initiative mapping-DO NOT EDIT'!$H$3:$H$12, MATCH(Table2[[#This Row],[WMPInitiativeCategory]],'Initiative mapping-DO NOT EDIT'!$G$3:$G$12,0))) -> 7.3.3. | E16: Covered conductor installation | G16: =IF(Table2[[#This Row],[WMPInitiativeActivity]]="","x",IF(Table2[[#This Row],[WMPInitiativeActivity]]="other", Table2[[#This Row],[ActivityNameifOther]], INDEX('Initiative mapping-DO NOT EDIT'!$C$3:$C$91,MATCH(Table2[[#This Row],[WMPInitiativeActivity]],'Initiative mapping-DO NOT EDIT'!$D$3:$D$91,0)))) -> 3 | H16: Covered Conductor Replacement Program - Radford | I16: BVGDSH-003-2 | J16: =_xlfn.CONCAT([1]!Table2[[#This Row],[UtilityID]],"_", [1]!Table2[[#This Row],[WMPInitiativeCategory]],"_", IF([1]!Table2[[#This Row],[WMPInitiativeActivity]]="","x",IF([1]!Table2[[#This Row],[WMPInitiativeActivity]]="other", [1]!Table2[[#This Row],[ActivityNameifOther]], [1]!Table2[[#This Row],[WMPInitiativeActivity]])),"_",[1]!Table2[[#This Row],[InitiativeActivityID]], "_",YEAR([1]!Table2[[#This Row],[Submission Date]])) -> BVES_Grid Design & System Hardening_Covered conductor installation _BVGDSH-003-2_2022 | L16: Circuit Miles Hardened | M16: 2.7 | N16: 0 | O16: 0 | P16: 1 | Q16: 2.7 | R16: 0 | S16: 0 | T16: 0 | V16: NA | W16: NA | X16: NA | Y16: NA | AA16: In Progress | AB16: Awaiting Permits
A17: ='READ ME FIRST'!$D$12 -> BVES | B17: ='READ ME FIRST'!$D$15 -> 44683 | C17: Grid Design & System Hardening | D17: =IF(Table2[[#This Row],[WMPInitiativeCategory]]="", "",INDEX('Initiative mapping-DO NOT EDIT'!$H$3:$H$12, MATCH(Table2[[#This Row],[WMPInitiativeCategory]],'Initiative mapping-DO NOT EDIT'!$G$3:$G$12,0))) -> 7.3.3. | E17: Covered conductor maintenance | G17: =IF(Table2[[#This Row],[WMPInitiativeActivity]]="","x",IF(Table2[[#This Row],[WMPInitiativeActivity]]="other", Table2[[#This Row],[ActivityNameifOther]], INDEX('Initiative mapping-DO NOT EDIT'!$C$3:$C$91,MATCH(Table2[[#This Row],[WMPInitiativeActivity]],'Initiative mapping-DO NOT EDIT'!$D$3:$D$91,0)))) -> 4 | H17: Program covered under ongoing maintenance of subtransmission and distribution facilities. There is not a separate WMP initiative. | I17: BVGDSH-004 | J17: =_xlfn.CONCAT([1]!Table2[[#This Row],[UtilityID]],"_", [1]!Table2[[#This Row],[WMPInitiativeCategory]],"_", IF([1]!Table2[[#This Row],[WMPInitiativeActivity]]="","x",IF([1]!Table2[[#This Row],[WMPInitiativeActivity]]="other", [1]!Table2[[#This Row],[ActivityNameifOther]], [1]!Table2[[#This Row],[WMPInitiativeActivity]])),"_",[1]!Table2[[#This Row],[InitiativeActivityID]], "_",YEAR([1]!Table2[[#This Row],[Submission Date]])) -> BVES_Grid Design & System Hardening_Covered conductor maintenance _BVGDSH-004_2022 | K17: NA | L17: NA | M17: NA | N17: NA | O17: NA | P17: NA | Q17: NA | R17: NA | S17: NA | T17: NA | V17: NA | W17: NA | X17: NA | Y17: NA | AA17: NA | AB17: NA
A18: ='READ ME FIRST'!$D$12 -> BVES | B18: ='READ ME FIRST'!$D$15 -> 44683 | C18: Grid Design & System Hardening | D18: =IF(Table2[[#This Row],[WMPInitiativeCategory]]="", "",INDEX('Initiative mapping-DO NOT EDIT'!$H$3:$H$12, MATCH(Table2[[#This Row],[WMPInitiativeCategory]],'Initiative mapping-DO NOT EDIT'!$G$3:$G$12,0))) -> 7.3.3. | E18: Crossarm maintenance, repair, and replacement | G18: =IF(Table2[[#This Row],[WMPInitiativeActivity]]="","x",IF(Table2[[#This Row],[WMPInitiativeActivity]]="other", Table2[[#This Row],[ActivityNameifOther]], INDEX('Initiative mapping-DO NOT EDIT'!$C$3:$C$91,MATCH(Table2[[#This Row],[WMPInitiativeActivity]],'Initiative mapping-DO NOT EDIT'!$D$3:$D$91,0)))) -> 5 | H18: Program covered under ongoing maintenance of subtransmission and distribution facilities. There is not a separate WMP initiative. | I18: BVGDSH-005 | J18: =_xlfn.CONCAT([1]!Table2[[#This Row],[UtilityID]],"_", [1]!Table2[[#This Row],[WMPInitiativeCategory]],"_", IF([1]!Table2[[#This Row],[WMPInitiativeActivity]]="","x",IF([1]!Table2[[#This Row],[WMPInitiativeActivity]]="other", [1]!Table2[[#This Row],[ActivityNameifOther]], [1]!Table2[[#This Row],[WMPInitiativeActivity]])),"_",[1]!Table2[[#This Row],[InitiativeActivityID]], "_",YEAR([1]!Table2[[#This Row],[Submission Date]])) -> BVES_Grid Design & System Hardening_Crossarm maintenance, repair, and replacement _BVGDSH-005_2022 | K18: NA | L18: NA | M18: NA | N18: NA | O18: NA | P18: NA | Q18: NA | R18: NA | S18: NA | T18: NA | V18: NA | W18: NA | X18: NA | Y18: NA | AA18: NA | AB18: NA
A19: ='READ ME FIRST'!$D$12 -> BVES | B19: ='READ ME FIRST'!$D$15 -> 44683 | C19: Grid Design & System Hardening | D19: =IF(Table2[[#This Row],[WMPInitiativeCategory]]="", "",INDEX('Initiative mapping-DO NOT EDIT'!$H$3:$H$12, MATCH(Table2[[#This Row],[WMPInitiativeCategory]],'Initiative mapping-DO NOT EDIT'!$G$3:$G$12,0))) -> 7.3.3. | E19: Distribution pole replacement and reinforcement, including with composite poles | G19: =IF(Table2[[#This Row],[WMPInitiativeActivity]]="","x",IF(Table2[[#This Row],[WMPInitiativeActivity]]="other", Table2[[#This Row],[ActivityNameifOther]], INDEX('Initiative mapping-DO NOT EDIT'!$C$3:$C$91,MATCH(Table2[[#This Row],[WMPInitiativeActivity]],'Initiative mapping-DO NOT EDIT'!$D$3:$D$91,0)))) -> 6 | H19: Distribution Pole Repalcement and Reforcement – GO 95 Projects (7.3.3.6.1) | I19: BVGDSH-015-2 | J19: =_xlfn.CONCAT([1]!Table2[[#This Row],[UtilityID]],"_", [1]!Table2[[#This Row],[WMPInitiativeCategory]],"_", IF([1]!Table2[[#This Row],[WMPInitiativeActivity]]="","x",IF([1]!Table2[[#This Row],[WMPInitiativeActivity]]="other", [1]!Table2[[#This Row],[ActivityNameifOther]], [1]!Table2[[#This Row],[WMPInitiativeActivity]])),"_",[1]!Table2[[#This Row],[InitiativeActivityID]], "_",YEAR([1]!Table2[[#This Row],[Submission Date]])) -> BVES_Grid Design & System Hardening_Distribution pole replacement and reinforcement, including with composite poles _BVGDSH-015-2_2022 | K19: 113 | L19: NA | M19: NA | N19: NA | O19: NA | P19: NA | Q19: NA | R19: NA | S19: NA | T19: NA | V19: NA | W19: NA | X19: NA | Y19: NA | AA19: In Progress | AB19: NA
A20: ='READ ME FIRST'!$D$12 -> BVES | B20: ='READ ME FIRST'!$D$15 -> 44683 | C20: Grid Design & System Hardening | D20: =IF(Table2[[#This Row],[WMPInitiativeCategory]]="", "",INDEX('Initiative mapping-DO NOT EDIT'!$H$3:$H$12, MATCH(Table2[[#This Row],[WMPInitiativeCategory]],'Initiative mapping-DO NOT EDIT'!$G$3:$G$12,0))) -> 7.3.3. | E20: Distribution pole replacement and reinforcement, including with composite poles | G20: =IF(Table2[[#This Row],[WMPInitiativeActivity]]="","x",IF(Table2[[#This Row],[WMPInitiativeActivity]]="other", Table2[[#This Row],[ActivityNameifOther]], INDEX('Initiative mapping-DO NOT EDIT'!$C$3:$C$91,MATCH(Table2[[#This Row],[WMPInitiativeActivity]],'Initiative mapping-DO NOT EDIT'!$D$3:$D$91,0)))) -> 6 | H20: Covered Conductor Project - Radford Line | I20: BVGDSH-015-4 | J20: =_xlfn.CONCAT([1]!Table2[[#This Row],[UtilityID]],"_", [1]!Table2[[#This Row],[WMPInitiativeCategory]],"_", IF([1]!Table2[[#This Row],[WMPInitiativeActivity]]="","x",IF([1]!Table2[[#This Row],[WMPInitiativeActivity]]="other", [1]!Table2[[#This Row],[ActivityNameifOther]], [1]!Table2[[#This Row],[WMPInitiativeActivity]])),"_",[1]!Table2[[#This Row],[InitiativeActivityID]], "_",YEAR([1]!Table2[[#This Row],[Submission Date]])) -> BVES_Grid Design & System Hardening_Distribution pole replacement and reinforcement, including with composite poles _BVGDSH-015-4_2022 | L20: NA | M20: NA | N20: NA | O20: NA | P20: NA | Q20: NA | R20: NA | S20: NA | T20: NA | V20: NA | W20: NA | X20: NA | Y20: NA | AA20: In Progress | AB20: NA
A21: ='READ ME FIRST'!$D$12 -> BVES | B21: ='READ ME FIRST'!$D$15 -> 44683 | C21: Grid Design & System Hardening | D21: =IF(Table2[[#This Row],[WMPInitiativeCategory]]="", "",INDEX('Initiative mapping-DO NOT EDIT'!$H$3:$H$12, MATCH(Table2[[#This Row],[WMPInitiativeCategory]],'Initiative mapping-DO NOT EDIT'!$G$3:$G$12,0))) -> 7.3.3. | E21: Distribution pole replacement and reinforcement, including with composite poles | G21: =IF(Table2[[#This Row],[WMPInitiativeActivity]]="","x",IF(Table2[[#This Row],[WMPInitiativeActivity]]="other", Table2[[#This Row],[ActivityNameifOther]], INDEX('Initiative mapping-DO NOT EDIT'!$C$3:$C$91,MATCH(Table2[[#This Row],[WMPInitiativeActivity]],'Initiative mapping-DO NOT EDIT'!$D$3:$D$91,0)))) -> 6 | H21: Evacuation Route Hardening Program - Pilot | I21: BVGDSH-015-5 | J21: =_xlfn.CONCAT([1]!Table2[[#This Row],[UtilityID]],"_", [1]!Table2[[#This Row],[WMPInitiativeCategory]],"_", IF([1]!Table2[[#This Row],[WMPInitiativeActivity]]="","x",IF([1]!Table2[[#This Row],[WMPInitiativeActivity]]="other", [1]!Table2[[#This Row],[ActivityNameifOther]], [1]!Table2[[#This Row],[WMPInitiativeActivity]])),"_",[1]!Table2[[#This Row],[InitiativeActivityID]], "_",YEAR([1]!Table2[[#This Row],[Submission Date]])) -> BVES_Grid Design & System Hardening_Distribution pole replacement and reinforcement, including with composite poles _BVGDSH-015-5_2022 | L21: Poles Hardened | M21: 0 | N21: 0 | O21: 0 | P21: 0 | Q21: 0 | R21: 0 | S21: 0 | T21: 0 | V21: NA | W21: NA | X21: NA | Y21: NA | AA21: Completed | AB21: NA
A22: ='READ ME FIRST'!$D$12 -> BVES | B22: ='READ ME FIRST'!$D$15 -> 44683 | C22: Grid Design & System Hardening | D22: =IF(Table2[[#This Row],[WMPInitiativeCategory]]="", "",INDEX('Initiative mapping-DO NOT EDIT'!$H$3:$H$12, MATCH(Table2[[#This Row],[WMPInitiativeCategory]],'Initiative mapping-DO NOT EDIT'!$G$3:$G$12,0))) -> 7.3.3. | E22: Distribution pole replacement and reinforcement, including with composite poles | G22: =IF(Table2[[#This Row],[WMPInitiativeActivity]]="","x",IF(Table2[[#This Row],[WMPInitiativeActivity]]="other", Table2[[#This Row],[ActivityNameifOther]], INDEX('Initiative mapping-DO NOT EDIT'!$C$3:$C$91,MATCH(Table2[[#This Row],[WMPInitiativeActivity]],'Initiative mapping-DO NOT EDIT'!$D$3:$D$91,0)))) -> 6 | H22: Evacuation Route Hardening Program | I22: BVGDSH-015-6 | J22: =_xlfn.CONCAT([1]!Table2[[#This Row],[UtilityID]],"_", [1]!Table2[[#This Row],[WMPInitiativeCategory]],"_", IF([1]!Table2[[#This Row],[WMPInitiativeActivity]]="","x",IF([1]!Table2[[#This Row],[WMPInitiativeActivity]]="other", [1]!Table2[[#This Row],[ActivityNameifOther]], [1]!Table2[[#This Row],[WMPInitiativeActivity]])),"_",[1]!Table2[[#This Row],[InitiativeActivityID]], "_",YEAR([1]!Table2[[#This Row],[Submission Date]])) -> BVES_Grid Design & System Hardening_Distribution pole replacement and reinforcement, including with composite poles _BVGDSH-015-6_2022 | L22: Poles Hardened | M22: 412 | N22: 350 | O22: 412 | P22: 412 | Q22: 412 | R22: 412 | S22: 412 | T22: 583 | V22: NA | W22: NA | X22: NA | Y22: NA | AA22: In Progress | AB22: NA
A23: ='READ ME FIRST'!$D$12 -> BVES | B23: ='READ ME FIRST'!$D$15 -> 44683 | C23: Grid Design & System Hardening | D23: =IF(Table2[[#This Row],[WMPInitiativeCategory]]="", "",INDEX('Initiative mapping-DO NOT EDIT'!$H$3:$H$12, MATCH(Table2[[#This Row],[WMPInitiativeCategory]],'Initiative mapping-DO NOT EDIT'!$G$3:$G$12,0))) -> 7.3.3. | E23: Expulsion fuse replacement | G23: =IF(Table2[[#This Row],[WMPInitiativeActivity]]="","x",IF(Table2[[#This Row],[WMPInitiativeActivity]]="other", Table2[[#This Row],[ActivityNameifOther]], INDEX('Initiative mapping-DO NOT EDIT'!$C$3:$C$91,MATCH(Table2[[#This Row],[WMPInitiativeActivity]],'Initiative mapping-DO NOT EDIT'!$D$3:$D$91,0)))) -> 7 | H23: Fuse Replacement Program | I23: BVGDSH-006 | J23: =_xlfn.CONCAT([1]!Table2[[#This Row],[UtilityID]],"_", [1]!Table2[[#This Row],[WMPInitiativeCategory]],"_", IF([1]!Table2[[#This Row],[WMPInitiativeActivity]]="","x",IF([1]!Table2[[#This Row],[WMPInitiativeActivity]]="other", [1]!Table2[[#This Row],[ActivityNameifOther]], [1]!Table2[[#This Row],[WMPInitiativeActivity]])),"_",[1]!Table2[[#This Row],[InitiativeActivityID]], "_",YEAR([1]!Table2[[#This Row],[Submission Date]])) -> BVES_Grid Design & System Hardening_Expulsion fuse replacement _BVGDSH-006_2022 | K23: 110 | L23: Number of Fuses Replaced | M23: 0 | N23: 0 | O23: 0 | P23: 0 | Q23: 0 | R23: 0 | S23: 0 | T23: 0 | V23: NA | W23: NA | X23: NA | Y23: NA | AA23: Completed | AB23: NA
A24: ='READ ME FIRST'!$D$12 -> BVES | B24: ='READ ME FIRST'!$D$15 -> 44683 | C24: Grid Design & System Hardening | D24: =IF(Table2[[#This Row],[WMPInitiativeCategory]]="", "",INDEX('Initiative mapping-DO NOT EDIT'!$H$3:$H$12, MATCH(Table2[[#This Row],[WMPInitiativeCategory]],'Initiative mapping-DO NOT EDIT'!$G$3:$G$12,0))) -> 7.3.3. | E24: Grid topology improvements to mitigate or reduce PSPS events | G24: =IF(Table2[[#This Row],[WMPInitiativeActivity]]="","x",IF(Table2[[#This Row],[WMPInitiativeActivity]]="other", Table2[[#This Row],[ActivityNameifOther]], INDEX('Initiative mapping-DO NOT EDIT'!$C$3:$C$91,MATCH(Table2[[#This Row],[WMPInitiativeActivity]],'Initiative mapping-DO NOT EDIT'!$D$3:$D$91,0)))) -> 8 | H24: Grid Topology Improvements | I24: BVGDSH-007-1 | J24: =_xlfn.CONCAT([1]!Table2[[#This Row],[UtilityID]],"_", [1]!Table2[[#This Row],[WMPInitiativeCategory]],"_", IF([1]!Table2[[#This Row],[WMPInitiativeActivity]]="","x",IF([1]!Table2[[#This Row],[WMPInitiativeActivity]]="other", [1]!Table2[[#This Row],[ActivityNameifOther]], [1]!Table2[[#This Row],[WMPInitiativeActivity]])),"_",[1]!Table2[[#This Row],[InitiativeActivityID]], "_",YEAR([1]!Table2[[#This Row],[Submission Date]])) -> BVES_Grid Design & System Hardening_Grid topology improvements to mitigate or reduce PSPS events _BVGDSH-007-1_2022 | K24: 59 | L24: # of Sectional Devices Installed Divided by # of Sectional Devices Needed | M24: 0 | N24: 0 | O24: 0 | P24: 0 | Q24: 0 | R24: 0 | S24: 0 | T24: 0 | V24: NA | W24: NA | X24: NA | Y24: NA | AA24: Completed | AB24: NA
A25: ='READ ME FIRST'!$D$12 -> BVES | B25: ='READ ME FIRST'!$D$15 -> 44683 | C25: Grid Design & System Hardening | D25: =IF(Table2[[#This Row],[WMPInitiativeCategory]]="", "",INDEX('Initiative mapping-DO NOT EDIT'!$H$3:$H$12, MATCH(Table2[[#This Row],[WMPInitiativeCategory]],'Initiative mapping-DO NOT EDIT'!$G$3:$G$12,0))) -> 7.3.3. | E25: Installation of system automation equipment | G25: =IF(Table2[[#This Row],[WMPInitiativeActivity]]="","x",IF(Table2[[#This Row],[WMPInitiativeActivity]]="other", Table2[[#This Row],[ActivityNameifOther]], INDEX('Initiative mapping-DO NOT EDIT'!$C$3:$C$91,MATCH(Table2[[#This Row],[WMPInitiativeActivity]],'Initiative mapping-DO NOT EDIT'!$D$3:$D$91,0)))) -> 9 | H25: Grid Automation Program | I25: BVGDSH-008-1 | J25: =_xlfn.CONCAT([1]!Table2[[#This Row],[UtilityID]],"_", [1]!Table2[[#This Row],[WMPInitiativeCategory]],"_", IF([1]!Table2[[#This Row],[WMPInitiativeActivity]]="","x",IF([1]!Table2[[#This Row],[WMPInitiativeActivity]]="other", [1]!Table2[[#This Row],[ActivityNameifOther]], [1]!Table2[[#This Row],[WMPInitiativeActivity]])),"_",[1]!Table2[[#This Row],[InitiativeActivityID]], "_",YEAR([1]!Table2[[#This Row],[Submission Date]])) -> BVES_Grid Design & System Hardening_Installation of system automation equipment _BVGDSH-008-1_2022 | K25: 102 | L25: Number of Subsations connected to SCADA | M25: 2 | N25: 0 | O25: 0 | P25: 1 | Q25: 2 | R25: 0 | S25: 1 | T25: 2 | V25: NA | W25: NA | X25: NA | Y25: NA | AA25: In Progress | AB25: NA
A26: ='READ ME FIRST'!$D$12 -> BVES | B26: ='READ ME FIRST'!$D$15 -> 44683 | C26: Grid Design & System Hardening | D26: =IF(Table2[[#This Row],[WMPInitiativeCategory]]="", "",INDEX('Initiative mapping-DO NOT EDIT'!$H$3:$H$12, MATCH(Table2[[#This Row],[WMPInitiativeCategory]],'Initiative mapping-DO NOT EDIT'!$G$3:$G$12,0))) -> 7.3.3. | E26: Installation of system automation equipment | G26: =IF(Table2[[#This Row],[WMPInitiativeActivity]]="","x",IF(Table2[[#This Row],[WMPInitiativeActivity]]="other", Table2[[#This Row],[ActivityNameifOther]], INDEX('Initiative mapping-DO NOT EDIT'!$C$3:$C$91,MATCH(Table2[[#This Row],[WMPInitiativeActivity]],'Initiative mapping-DO NOT EDIT'!$D$3:$D$91,0)))) -> 9 | H26: Grid Automation Program // FLISR | J26: =_xlfn.CONCAT([1]!Table2[[#This Row],[UtilityID]],"_", [1]!Table2[[#This Row],[WMPInitiativeCategory]],"_", IF([1]!Table2[[#This Row],[WMPInitiativeActivity]]="","x",IF([1]!Table2[[#This Row],[WMPInitiativeActivity]]="other", [1]!Table2[[#This Row],[ActivityNameifOther]], [1]!Table2[[#This Row],[WMPInitiativeActivity]])),"_",[1]!Table2[[#This Row],[InitiativeActivityID]], "_",YEAR([1]!Table2[[#This Row],[Submission Date]])) -> BVES_Grid Design & System Hardening_Installation of system automation equipment __2022 | L26: NA | M26: NA | N26: NA | O26: NA | P26: NA | Q26: NA | R26: NA | S26: NA | T26: NA | V26: System Instillation and Project Completion | W26: Project effort continue | X26: Project effort continue | Y26: Project effort continue | AA26: NA | AB26: NA
A27: ='READ ME FIRST'!$D$12 -> BVES | B27: ='READ ME FIRST'!$D$15 -> 44683 | C27: Grid Design & System Hardening | D27: =IF(Table2[[#This Row],[WMPInitiativeCategory]]="", "",INDEX('Initiative mapping-DO NOT EDIT'!$H$3:$H$12, MATCH(Table2[[#This Row],[WMPInitiativeCategory]],'Initiative mapping-DO NOT EDIT'!$G$3:$G$12,0))) -> 7.3.3. | E27: Installation of system automation equipment | G27: =IF(Table2[[#This Row],[WMPInitiativeActivity]]="","x",IF(Table2[[#This Row],[WMPInitiativeActivity]]="other", Table2[[#This Row],[ActivityNameifOther]], INDEX('Initiative mapping-DO NOT EDIT'!$C$3:$C$91,MATCH(Table2[[#This Row],[WMPInitiativeActivity]],'Initiative mapping-DO NOT EDIT'!$D$3:$D$91,0)))) -> 9 | H27: Grid Automation Program // Fuse Trip Saver | J27: =_xlfn.CONCAT([1]!Table2[[#This Row],[UtilityID]],"_", [1]!Table2[[#This Row],[WMPInitiativeCategory]],"_", IF([1]!Table2[[#This Row],[WMPInitiativeActivity]]="","x",IF([1]!Table2[[#This Row],[WMPInitiativeActivity]]="other", [1]!Table2[[#This Row],[ActivityNameifOther]], [1]!Table2[[#This Row],[WMPInitiativeActivity]])),"_",[1]!Table2[[#This Row],[InitiativeActivityID]], "_",YEAR([1]!Table2[[#This Row],[Submission Date]])) -> BVES_Grid Design & System Hardening_Installation of system automation equipment __2022 | L27: NA | M27: NA | N27: NA | O27: NA | P27: NA | Q27: NA | R27: NA | S27: NA | T27: NA | V27: NA | W27: NA | X27: NA | Y27: NA | AA27: NA | AB27: NA
A28: ='READ ME FIRST'!$D$12 -> BVES | B28: ='READ ME FIRST'!$D$15 -> 44683 | C28: Grid Design & System Hardening | D28: =IF(Table2[[#This Row],[WMPInitiativeCategory]]="", "",INDEX('Initiative mapping-DO NOT EDIT'!$H$3:$H$12, MATCH(Table2[[#This Row],[WMPInitiativeCategory]],'Initiative mapping-DO NOT EDIT'!$G$3:$G$12,0))) -> 7.3.3. | E28: Maintenance, repair, and replacement of connectors, including hotline clamps | G28: =IF(Table2[[#This Row],[WMPInitiativeActivity]]="","x",IF(Table2[[#This Row],[WMPInitiativeActivity]]="other", Table2[[#This Row],[ActivityNameifOther]], INDEX('Initiative mapping-DO NOT EDIT'!$C$3:$C$91,MATCH(Table2[[#This Row],[WMPInitiativeActivity]],'Initiative mapping-DO NOT EDIT'!$D$3:$D$91,0)))) -> 10 | H28: Program covered under ongoing maintenance of subtransmission and distribution facilities. There is not a separate WMP initiative. | I28: BVGDSH-009 | J28: =_xlfn.CONCAT([1]!Table2[[#This Row],[UtilityID]],"_", [1]!Table2[[#This Row],[WMPInitiativeCategory]],"_", IF([1]!Table2[[#This Row],[WMPInitiativeActivity]]="","x",IF([1]!Table2[[#This Row],[WMPInitiativeActivity]]="other", [1]!Table2[[#This Row],[ActivityNameifOther]], [1]!Table2[[#This Row],[WMPInitiativeActivity]])),"_",[1]!Table2[[#This Row],[InitiativeActivityID]], "_",YEAR([1]!Table2[[#This Row],[Submission Date]])) -> BVES_Grid Design & System Hardening_Maintenance, repair, and replacement of connectors, including hotline clamps _BVGDSH-009_2022 | K28: NA | L28: NA | M28: NA | N28: NA | O28: NA | P28: NA | Q28: NA | R28: NA | S28: NA | T28: NA | V28: NA | W28: NA | X28: NA | Y28: NA | AA28: NA | AB28: NA
A29: ='READ ME FIRST'!$D$12 -> BVES | B29: ='READ ME FIRST'!$D$15 -> 44683 | C29: Grid Design & System Hardening | D29: =IF(Table2[[#This Row],[WMPInitiativeCategory]]="", "",INDEX('Initiative mapping-DO NOT EDIT'!$H$3:$H$12, MATCH(Table2[[#This Row],[WMPInitiativeCategory]],'Initiative mapping-DO NOT EDIT'!$G$3:$G$12,0))) -> 7.3.3. | E29: Mitigation of impact on customers and other residents affected during PSPS event | G29: =IF(Table2[[#This Row],[WMPInitiativeActivity]]="","x",IF(Table2[[#This Row],[WMPInitiativeActivity]]="other", Table2[[#This Row],[ActivityNameifOther]], INDEX('Initiative mapping-DO NOT EDIT'!$C$3:$C$91,MATCH(Table2[[#This Row],[WMPInitiativeActivity]],'Initiative mapping-DO NOT EDIT'!$D$3:$D$91,0)))) -> 11 | H29: Energy Storage Project | I29: BVGDSH-010 | J29: =_xlfn.CONCAT([1]!Table2[[#This Row],[UtilityID]],"_", [1]!Table2[[#This Row],[WMPInitiativeCategory]],"_", IF([1]!Table2[[#This Row],[WMPInitiativeActivity]]="","x",IF([1]!Table2[[#This Row],[WMPInitiativeActivity]]="other", [1]!Table2[[#This Row],[ActivityNameifOther]], [1]!Table2[[#This Row],[WMPInitiativeActivity]])),"_",[1]!Table2[[#This Row],[InitiativeActivityID]], "_",YEAR([1]!Table2[[#This Row],[Submission Date]])) -> BVES_Grid Design & System Hardening_Mitigation of impact on customers and other residents affected during PSPS event _BVGDSH-010_2022 | K29: 60 | L29: NA | M29: NA | N29: NA | O29: NA | P29: NA | Q29: NA | R29: NA | S29: NA | T29: NA | V29: BVES plans to install a 8MW/4MWh battery storage system in 2023 | W29: Internal discussions for siting and permitting needs ahead of construction plan | X29: Internal discussions for siting and permitting needs ahead of construction plan | Y29: Internal discussions for siting and permitting needs ahead of construction plan | AA29: In Progress | AB29: NA
A30: ='READ ME FIRST'!$D$12 -> BVES | B30: ='READ ME FIRST'!$D$15 -> 44683 | C30: Grid Design & System Hardening | D30: =IF(Table2[[#This Row],[WMPInitiativeCategory]]="", "",INDEX('Initiative mapping-DO NOT EDIT'!$H$3:$H$12, MATCH(Table2[[#This Row],[WMPInitiativeCategory]],'Initiative mapping-DO NOT EDIT'!$G$3:$G$12,0))) -> 7.3.3. | E30: Mitigation of impact on customers and other residents affected during PSPS event | G30: =IF(Table2[[#This Row],[WMPInitiativeActivity]]="","x",IF(Table2[[#This Row],[WMPInitiativeActivity]]="other", Table2[[#This Row],[ActivityNameifOther]], INDEX('Initiative mapping-DO NOT EDIT'!$C$3:$C$91,MATCH(Table2[[#This Row],[WMPInitiativeActivity]],'Initiative mapping-DO NOT EDIT'!$D$3:$D$91,0)))) -> 11 | H30: BVPP Phase 4 Upgrade Project | J30: =_xlfn.CONCAT([1]!Table2[[#This Row],[UtilityID]],"_", [1]!Table2[[#This Row],[WMPInitiativeCategory]],"_", IF([1]!Table2[[#This Row],[WMPInitiativeActivity]]="","x",IF([1]!Table2[[#This Row],[WMPInitiativeActivity]]="other", [1]!Table2[[#This Row],[ActivityNameifOther]], [1]!Table2[[#This Row],[WMPInitiativeActivity]])),"_",[1]!Table2[[#This Row],[InitiativeActivityID]], "_",YEAR([1]!Table2[[#This Row],[Submission Date]])) -> BVES_Grid Design & System Hardening_Mitigation of impact on customers and other residents affected during PSPS event __2022 | L30: NA | M30: NA | N30: NA | O30: NA | P30: NA | Q30: NA | R30: NA | S30: NA | T30: NA | V30: NA | W30: NA | X30: NA | Y30: NA | AA30: NA | AB30: NA
A31: ='READ ME FIRST'!$D$12 -> BVES | B31: ='READ ME FIRST'!$D$15 -> 44683 | C31: Grid Design & System Hardening | D31: =IF(Table2[[#This Row],[WMPInitiativeCategory]]="", "",INDEX('Initiative mapping-DO NOT EDIT'!$H$3:$H$12, MATCH(Table2[[#This Row],[WMPInitiativeCategory]],'Initiative mapping-DO NOT EDIT'!$G$3:$G$12,0))) -> 7.3.3. | E31: Other corrective action | G31: =IF(Table2[[#This Row],[WMPInitiativeActivity]]="","x",IF(Table2[[#This Row],[WMPInitiativeActivity]]="other", Table2[[#This Row],[ActivityNameifOther]], INDEX('Initiative mapping-DO NOT EDIT'!$C$3:$C$91,MATCH(Table2[[#This Row],[WMPInitiativeActivity]],'Initiative mapping-DO NOT EDIT'!$D$3:$D$91,0)))) -> 12 | H31: Tree Attachment Removal Program | I31: BVGDSH-013 | J31: =_xlfn.CONCAT([1]!Table2[[#This Row],[UtilityID]],"_", [1]!Table2[[#This Row],[WMPInitiativeCategory]],"_", IF([1]!Table2[[#This Row],[WMPInitiativeActivity]]="","x",IF([1]!Table2[[#This Row],[WMPInitiativeActivity]]="other", [1]!Table2[[#This Row],[ActivityNameifOther]], [1]!Table2[[#This Row],[WMPInitiativeActivity]])),"_",[1]!Table2[[#This Row],[InitiativeActivityID]], "_",YEAR([1]!Table2[[#This Row],[Submission Date]])) -> BVES_Grid Design & System Hardening_Other corrective action _BVGDSH-013_2022 | K31: 68 | L31: Tree Attachment Removal | M31: 80 | N31: 0 | O31: 0 | P31: 0 | Q31: 80 | R31: 0 | S31: 2 | T31: 51 | V31: NA | W31: NA | X31: NA | Y31: NA | AA31: In Progress | AB31: NA
A32: ='READ ME FIRST'!$D$12 -> BVES | B32: ='READ ME FIRST'!$D$15 -> 44683 | C32: Grid Design & System Hardening | D32: =IF(Table2[[#This Row],[WMPInitiativeCategory]]="", "",INDEX('Initiative mapping-DO NOT EDIT'!$H$3:$H$12, MATCH(Table2[[#This Row],[WMPInitiativeCategory]],'Initiative mapping-DO NOT EDIT'!$G$3:$G$12,0))) -> 7.3.3. | E32: Other corrective action | G32: =IF(Table2[[#This Row],[WMPInitiativeActivity]]="","x",IF(Table2[[#This Row],[WMPInitiativeActivity]]="other", Table2[[#This Row],[ActivityNameifOther]], INDEX('Initiative mapping-DO NOT EDIT'!$C$3:$C$91,MATCH(Table2[[#This Row],[WMPInitiativeActivity]],'Initiative mapping-DO NOT EDIT'!$D$3:$D$91,0)))) -> 12 | H32: Evacuation Route Hardening | I32: BVGDSH-014 | J32: =_xlfn.CONCAT([1]!Table2[[#This Row],[UtilityID]],"_", [1]!Table2[[#This Row],[WMPInitiativeCategory]],"_", IF([1]!Table2[[#This Row],[WMPInitiativeActivity]]="","x",IF([1]!Table2[[#This Row],[WMPInitiativeActivity]]="other", [1]!Table2[[#This Row],[ActivityNameifOther]], [1]!Table2[[#This Row],[WMPInitiativeActivity]])),"_",[1]!Table2[[#This Row],[InitiativeActivityID]], "_",YEAR([1]!Table2[[#This Row],[Submission Date]])) -> BVES_Grid Design & System Hardening_Other corrective action _BVGDSH-014_2022 | K32: 69 | L32: Poles Hardened | M32: 412 | N32: 350 | O32: 412 | P32: 412 | Q32: 412 | R32: 412 | S32: 412 | T32: 583 | V32: NA | W32: NA | X32: NA | Y32: NA | AA32: In Progress | AB32: NA
A33: ='READ ME FIRST'!$D$12 -> BVES | B33: ='READ ME FIRST'!$D$15 -> 44683 | C33: Grid Design & System Hardening | D33: =IF(Table2[[#This Row],[WMPInitiativeCategory]]="", "",INDEX('Initiative mapping-DO NOT EDIT'!$H$3:$H$12, MATCH(Table2[[#This Row],[WMPInitiativeCategory]],'Initiative mapping-DO NOT EDIT'!$G$3:$G$12,0))) -> 7.3.3. | E33: Pole loading infrastructure hardening and replacement program based on pole loading assessment program | G33: =IF(Table2[[#This Row],[WMPInitiativeActivity]]="","x",IF(Table2[[#This Row],[WMPInitiativeActivity]]="other", Table2[[#This Row],[ActivityNameifOther]], INDEX('Initiative mapping-DO NOT EDIT'!$C$3:$C$91,MATCH(Table2[[#This Row],[WMPInitiativeActivity]],'Initiative mapping-DO NOT EDIT'!$D$3:$D$91,0)))) -> 13 | H33: Pole Loading & Replacement Program | I33: BVGDSH-015-1 | J33: =_xlfn.CONCAT([1]!Table2[[#This Row],[UtilityID]],"_", [1]!Table2[[#This Row],[WMPInitiativeCategory]],"_", IF([1]!Table2[[#This Row],[WMPInitiativeActivity]]="","x",IF([1]!Table2[[#This Row],[WMPInitiativeActivity]]="other", [1]!Table2[[#This Row],[ActivityNameifOther]], [1]!Table2[[#This Row],[WMPInitiativeActivity]])),"_",[1]!Table2[[#This Row],[InitiativeActivityID]], "_",YEAR([1]!Table2[[#This Row],[Submission Date]])) -> BVES_Grid Design & System Hardening_Pole loading infrastructure hardening and replacement program based on pole loading assessment program _BVGDSH-015-1_2022 | K33: 113 | L33: Number of Poles Replaced | M33: 165 | N33: 10 | O33: 40 | P33: 100 | Q33: 165 | R33: 16 | S33: 71 | T33: 179 | V33: NA | W33: NA | X33: NA | Y33: NA | AA33: In Progress | AB33: NA
A34: ='READ ME FIRST'!$D$12 -> BVES | B34: ='READ ME FIRST'!$D$15 -> 44683 | C34: Grid Design & System Hardening | D34: =IF(Table2[[#This Row],[WMPInitiativeCategory]]="", "",INDEX('Initiative mapping-DO NOT EDIT'!$H$3:$H$12, MATCH(Table2[[#This Row],[WMPInitiativeCategory]],'Initiative mapping-DO NOT EDIT'!$G$3:$G$12,0))) -> 7.3.3. | E34: Transformers maintenance and replacement | G34: =IF(Table2[[#This Row],[WMPInitiativeActivity]]="","x",IF(Table2[[#This Row],[WMPInitiativeActivity]]="other", Table2[[#This Row],[ActivityNameifOther]], INDEX('Initiative mapping-DO NOT EDIT'!$C$3:$C$91,MATCH(Table2[[#This Row],[WMPInitiativeActivity]],'Initiative mapping-DO NOT EDIT'!$D$3:$D$91,0)))) -> 14 | H34: Program covered under ongoing maintenance of subtransmission and distribution facilities. There is not a separate WMP initiative. | I34: BVGDSH-016 | J34: =_xlfn.CONCAT([1]!Table2[[#This Row],[UtilityID]],"_", [1]!Table2[[#This Row],[WMPInitiativeCategory]],"_", IF([1]!Table2[[#This Row],[WMPInitiativeActivity]]="","x",IF([1]!Table2[[#This Row],[WMPInitiativeActivity]]="other", [1]!Table2[[#This Row],[ActivityNameifOther]], [1]!Table2[[#This Row],[WMPInitiativeActivity]])),"_",[1]!Table2[[#This Row],[InitiativeActivityID]], "_",YEAR([1]!Table2[[#This Row],[Submission Date]])) -> BVES_Grid Design & System Hardening_Transformers maintenance and replacement _BVGDSH-016_2022 | K34: NA | L34: NA | M34: NA | N34: NA | O34: NA | P34: NA | Q34: NA | R34: NA | S34: NA | T34: NA | V34: NA | W34: NA | X34: NA | Y34: NA | AA34: NA | AB34: NA
A35: ='READ ME FIRST'!$D$12 -> BVES | B35: ='READ ME FIRST'!$D$15 -> 44683 | C35: Grid Design & System Hardening | D35: =IF(Table2[[#This Row],[WMPInitiativeCategory]]="", "",INDEX('Initiative mapping-DO NOT EDIT'!$H$3:$H$12, MATCH(Table2[[#This Row],[WMPInitiativeCategory]],'Initiative mapping-DO NOT EDIT'!$G$3:$G$12,0))) -> 7.3.3. | E35: Transmission tower maintenance and replacement | G35: =IF(Table2[[#This Row],[WMPInitiativeActivity]]="","x",IF(Table2[[#This Row],[WMPInitiativeActivity]]="other", Table2[[#This Row],[ActivityNameifOther]], INDEX('Initiative mapping-DO NOT EDIT'!$C$3:$C$91,MATCH(Table2[[#This Row],[WMPInitiativeActivity]],'Initiative mapping-DO NOT EDIT'!$D$3:$D$91,0)))) -> 15 | H35: BVES does not have any transmission level assets and maintains a subtransmission line (34.5kV) that is treated as a higher voltage asset. | I35: BVGDSH-017 | J35: =_xlfn.CONCAT([1]!Table2[[#This Row],[UtilityID]],"_", [1]!Table2[[#This Row],[WMPInitiativeCategory]],"_", IF([1]!Table2[[#This Row],[WMPInitiativeActivity]]="","x",IF([1]!Table2[[#This Row],[WMPInitiativeActivity]]="other", [1]!Table2[[#This Row],[ActivityNameifOther]], [1]!Table2[[#This Row],[WMPInitiativeActivity]])),"_",[1]!Table2[[#This Row],[InitiativeActivityID]], "_",YEAR([1]!Table2[[#This Row],[Submission Date]])) -> BVES_Grid Design & System Hardening_Transmission tower maintenance and replacement _BVGDSH-017_2022 | K35: NA | L35: NA | M35: NA | N35: NA | O35: NA | P35: NA | Q35: NA | R35: NA | S35: NA | T35: NA | V35: NA | W35: NA | X35: NA | Y35: NA | AA35: NA | AB35: NA
A36: ='READ ME FIRST'!$D$12 -> BVES | B36: ='READ ME FIRST'!$D$15 -> 44683 | C36: Grid Design & System Hardening | D36: =IF(Table2[[#This Row],[WMPInitiativeCategory]]="", "",INDEX('Initiative mapping-DO NOT EDIT'!$H$3:$H$12, MATCH(Table2[[#This Row],[WMPInitiativeCategory]],'Initiative mapping-DO NOT EDIT'!$G$3:$G$12,0))) -> 7.3.3. | E36: Undergrounding of electric lines and/or equipment | G36: =IF(Table2[[#This Row],[WMPInitiativeActivity]]="","x",IF(Table2[[#This Row],[WMPInitiativeActivity]]="other", Table2[[#This Row],[ActivityNameifOther]], INDEX('Initiative mapping-DO NOT EDIT'!$C$3:$C$91,MATCH(Table2[[#This Row],[WMPInitiativeActivity]],'Initiative mapping-DO NOT EDIT'!$D$3:$D$91,0)))) -> 16 | H36: Ongoing Routine Undergrounding Projects | I36: BVGDSH-018 | J36: =_xlfn.CONCAT([1]!Table2[[#This Row],[UtilityID]],"_", [1]!Table2[[#This Row],[WMPInitiativeCategory]],"_", IF([1]!Table2[[#This Row],[WMPInitiativeActivity]]="","x",IF([1]!Table2[[#This Row],[WMPInitiativeActivity]]="other", [1]!Table2[[#This Row],[ActivityNameifOther]], [1]!Table2[[#This Row],[WMPInitiativeActivity]])),"_",[1]!Table2[[#This Row],[InitiativeActivityID]], "_",YEAR([1]!Table2[[#This Row],[Submission Date]])) -> BVES_Grid Design & System Hardening_Undergrounding of electric lines and/or equipment _BVGDSH-018_2022 | K36: NA | L36: NA | M36: NA | N36: NA | O36: NA | P36: NA | Q36: NA | R36: NA | S36: NA | T36: NA | V36: Continued evaluation of need | W36: Need Considered | X36: Need Considered | Y36: Need Considered | AA36: In Progress | AB36: NA
