Workbook

Sheet READ ME FIRST
B1: Quarterly Initiative Update - WMP Initiative Status Updates
B4: Instructions for use
B5: 1 | C5: Update progress on WMP Initiatives on "Initiatives" sheet by populating columns A through AB. Progress currently filled in is an example. Yellow cells indicate information that needs to be filled out or confirmed by utility. WMP initiatives that are not already listed in the "Initiatives" sheet shall be added as separate line items on the "Initiatives" sheet. Quantitative information, included initiative targets, the units of said targets and subsequent progress are reported in columns L through U with qualitative targets and progress described in columns V through Z.
B6: 2 | C6: WSD Compliance will reach out to follow up on which Initiatives require documentation for auditing, indicated in columns AD and AE in the "Initiatives" sheet. For those initiatives requiring audit documentation, please fill out columns AF through AH. Please be sure to link to a Kiteworks folder in column AF.
B7: 3 | C7: Definitions for each field are provided in the table below starting in row 17 - READ BEFORE INPUTTING DATA
B8: 4 | C8: WSD Compliance will contact the electrical corporation with any follow-up questions regarding audits
B11: Update the below table to establish which year, quarter, month of the WMP cycle this submission represents
B12: Utility | D12: BVES
B13: Report Year | D13: 2022
B14: Report Quarter | D14: Q1
B15: Submission Date | D15: 44683
B17: Definition of fields
C19: Column | D19: Column name | E19: Definition | F19: Input type | G19: Submission in which to be completed
C20: A | D20: UtilityID | E20: Standardized ID of utility (PGE, SCE, SDGE, BVES, LU, PC, HWT, or TBC) - auto populated by utility field above | F20: Text | G20: Q1
C21: B | D21: Submission Date | E21: Autogenerated based on submission date field above | F21: Date | G21: Q1
C22: C | D22: WMPInitiativeCategory | E22: One of the 10 initiative categories in the WMP | F22: Text | G22: Q1
C23: D | D23: WMPInitiativeCategory# | E23: Autogenerated based on initiative category | F23: Numeric | G23: Q1
C24: E | D24: WMPInitiativeActivity | E24: The relevant WMP activity classification for the initiative. If this initiative applies to an activity not presented, mark "other" | F24: Text | G24: Q1
C25: F | D25: ActivityNameifOther | E25: If activity was "other", then provide the name of the appropriate activity. Should match an activity name in utility's WMP (Table 12) | F25: Text | G25: Q1
C26: G | D26: WMPInitiativeActivity# | E26: Autogenerated based on initiative activity. Will be number or name of activity if activity was marked as "other" | F26: Numeric/Text | G26: Q1
C27: H | D27: UtilityInitiativeName | E27: Utility name for initiative | F27: Text | G27: Q1
C28: I | D28: InitiativeActivityID | E28: ID for the utility initiative. Must be unique to a utility's Initiative activity across submissions. If this initiative is also reported in the initiatives feature class for Grid hardening, Asset inspections, or vegetation management and inspections, then this ID should also connect to the ID in the corresponding initiative feature class (Fields "GhlogID", "AiLogID", "VmiLogID", "VmpLogID", and "OiLogID") | F28: Text | G28: Q1
C29: J | D29: WMPInitiativeCode | E29: Unique ID of the initiative. Must be unique for each initiative for each utility for each year. Follows the format “[UtilityID]_ [WMPInitiativeCategory]_[ WMPInitiativeActivity]_[InitiativeActivityID]_[Year four digit number (e.g., “2021”)]”. For example the code “PGE_Vegetation Management & Inspections_Substation vegetation management _001_2021” would be where utility is PG&E, Initiative category is Vegetation Management & Inspections, activity is Substation vegetation management, unique initiative ID is 001 and the year is 2021 | F29: Text | G29: Q1
C30: K | D30: WMPPageNumber | E30: Page of most recent WMP where initiative is detailed. If the initiative is detailed on multiple pages, put the first page | F30: Numeric | G30: Q1
... C47: AB | D47: CorrectiveActionsIfDelayed | E47: If initiative is delayed based on reported target vs progress (e.g., reported QuantProgress for Q1 was significantly below the ProjectedQuantProgress for Q1), detail corrective actions | F47: Text | G47: As needed
C48: AC-onwards is managed by WSD; columns AF-AH will only be completed by utility upon WSD request

Sheet Initiatives
A1: UtilityID | B1: Submission Date | C1: WMPInitiativeCategory | D1: WMPInitiativeCategory# | E1: WMPInitiativeActivity | F1: ActivityNameifOther | G1: WMPInitiativeActivity# | H1: UtilityInitiativeName | I1: InitiativeActivityID | J1: WMPInitiativeCode | K1: WMPPageNumber | L1: QuantTargetUnits | M1: AnnualQuantTarget | N1: ProjectedQuantProgressQ1 | O1: ProjectedQuantProgressQ1-2 | P1: ProjectedQuantProgressQ1-3 | Q1: ProjectedQuantProgressQ1-4 | R1: QuantActualProgressQ1 | S1: QuantActualProgressQ1-2 | T1: QuantActualProgressQ1-3 | U1: QuantActualProgressQ1-4 | V1: AnnualQualTarget | W1: QualActualProgressQ1 | X1: QualActualProgressQ1-2 | Y1: QualActualProgressQ1-3 | Z1: QualActualProgressQ1-4 | AA1: Status | AB1: CorrectiveActionsIfDelayed | AC1: REFERENCE: Compliance Branch Requirements --> | AD1: Audit | AE1: Audit File Documentation Requested | AF1: FolderLink | AG1: PersonInChargeName | AH1: PersonInChargeEmail
A2: ='READ ME FIRST'!$D$12 -> BVES | B2: ='READ ME FIRST'!$D$15 -> 44683 | C2: Risk Assessment & Mapping | D2: =IF(Table2[[#This Row],[WMPInitiativeCategory]]="", "",INDEX('Initiative mapping-DO NOT EDIT'!$H$3:$H$12, MATCH(Table2[[#This Row],[WMPInitiativeCategory]],'Initiative mapping-DO NOT EDIT'!$G$3:$G$12,0))) -> 7.3.1. | E2: A summarized risk map that shows the overall ignition probability and estimated wildfire consequence along the electric lines and equipment | G2: =IF(Table2[[#This Row],[WMPInitiativeActivity]]="","x",IF(Table2[[#This Row],[WMPInitiativeActivity]]="other", Table2[[#This Row],[ActivityNameifOther]], INDEX('Initiative mapping-DO NOT EDIT'!$C$3:$C$91,MATCH(Table2[[#This Row],[WMPInitiativeActivity]],'Initiative mapping-DO NOT EDIT'!$D$3:$D$91,0)))) -> 1 | H2: Ignition Probability & Wildfire Consequence Mapping | I2: BVRAM-001-1 | J2: =_xlfn.CONCAT([1]!Table2[[#This Row],[UtilityID]],"_", [1]!Table2[[#This Row],[WMPInitiativeCategory]],"_", IF([1]!Table2[[#This Row],[WMPInitiativeActivity]]="","x",IF([1]!Table2[[#This Row],[WMPInitiativeActivity]]="other", [1]!Table2[[#This Row],[ActivityNameifOther]], [1]!Table2[[#This Row],[WMPInitiativeActivity]])),"_",[1]!Table2[[#This Row],[InitiativeActivityID]], "_",YEAR([1]!Table2[[#This Row],[Submission Date]])) -> BVES_Risk Assessment & Mapping_A summarized risk map that shows the overall ignition probability and estimated wildfire consequence along the electric lines and equipment _BVRAM-001-1_2022 | K2: 99 | L2: NA | M2: NA | N2: NA | O2: NA | P2: NA | Q2: NA | R2: NA | S2: NA | T2: NA | V2: NA | W2: NA | X2: NA | Y2: NA | AA2: Completed | AB2: NA
A3: ='READ ME FIRST'!$D$12 -> BVES | B3: ='READ ME FIRST'!$D$15 -> 44683 | C3: Risk Assessment & Mapping | D3: =IF(Table2[[#This Row],[WMPInitiativeCategory]]="", "",INDEX('Initiative mapping-DO NOT EDIT'!$H$3:$H$12, MATCH(Table2[[#This Row],[WMPInitiativeCategory]],'Initiative mapping-DO NOT EDIT'!$G$3:$G$12,0))) -> 7.3.1. | E3: Climate-driven risk map and modelling based on various relevant weather scenarios | G3: =IF(Table2[[#This Row],[WMPInitiativeActivity]]="","x",IF(Table2[[#This Row],[WMPInitiativeActivity]]="other", Table2[[#This Row],[ActivityNameifOther]], INDEX('Initiative mapping-DO NOT EDIT'!$C$3:$C$91,MATCH(Table2[[#This Row],[WMPInitiativeActivity]],'Initiative mapping-DO NOT EDIT'!$D$3:$D$91,0)))) -> 2 | H3: Ignition Probability & Wildfire Consequence Mapping | I3: BVRAM-001-2 | J3: =_xlfn.CONCAT([1]!Table2[[#This Row],[UtilityID]],"_", [1]!Table2[[#This Row],[WMPInitiativeCategory]],"_", IF([1]!Table2[[#This Row],[WMPInitiativeActivity]]="","x",IF([1]!Table2[[#This Row],[WMPInitiativeActivity]]="other", [1]!Table2[[#This Row],[ActivityNameifOther]], [1]!Table2[[#This Row],[WMPInitiativeActivity]])),"_",[1]!Table2[[#This Row],[InitiativeActivityID]], "_",YEAR([1]!Table2[[#This Row],[Submission Date]])) -> BVES_Risk Assessment & Mapping_Climate-driven risk map and modelling based on various relevant weather scenarios _BVRAM-001-2_2022 | K3: 99 | L3: NA | M3: NA | N3: NA | O3: NA | P3: NA | Q3: NA | R3: NA | S3: NA | T3: NA | V3: NA | W3: NA | X3: NA | Y3: NA | AA3: Completed | AB3: NA
A4: ='READ ME FIRST'!$D$12 -> BVES | B4: ='READ ME FIRST'!$D$15 -> 44683 | C4: Risk Assessment & Mapping | D4: =IF(Table2[[#This Row],[WMPInitiativeCategory]]="", "",INDEX('Initiative mapping-DO NOT EDIT'!$H$3:$H$12, MATCH(Table2[[#This Row],[WMPInitiativeCategory]],'Initiative mapping-DO NOT EDIT'!$G$3:$G$12,0))) -> 7.3.1. | E4: Ignition probability mapping showing the probability of ignition along the electric lines and equipment | G4: =IF(Table2[[#This Row],[WMPInitiativeActivity]]="","x",IF(Table2[[#This Row],[WMPInitiativeActivity]]="other", Table2[[#This Row],[ActivityNameifOther]], INDEX('Initiative mapping-DO NOT EDIT'!$C$3:$C$91,MATCH(Table2[[#This Row],[WMPInitiativeActivity]],'Initiative mapping-DO NOT EDIT'!$D$3:$D$91,0)))) -> 3 | H4: Ignition Probability & Wildfire Consequence Mapping | I4: BVRAM-001-3 | J4: =_xlfn.CONCAT([1]!Table2[[#This Row],[UtilityID]],"_", [1]!Table2[[#This Row],[WMPInitiativeCategory]],"_", IF([1]!Table2[[#This Row],[WMPInitiativeActivity]]="","x",IF([1]!Table2[[#This Row],[WMPInitiativeActivity]]="other", [1]!Table2[[#This Row],[ActivityNameifOther]], [1]!Table2[[#This Row],[WMPInitiativeActivity]])),"_",[1]!Table2[[#This Row],[InitiativeActivityID]], "_",YEAR([1]!Table2[[#This Row],[Submission Date]])) -> BVES_Risk Assessment & Mapping_Ignition probability mapping showing the probability of ignition along the electric lines and equipment _BVRAM-001-3_2022 | K4: 99 | L4: NA | M4: NA | N4: NA | O4: NA | P4: NA | Q4: NA | R4: NA | S4: NA | T4: NA | V4: NA | W4: NA | X4: NA | Y4: NA | AA4: Completed | AB4: NA
A5: ='READ ME FIRST'!$D$12 -> BVES | B5: ='READ ME FIRST'!$D$15 -> 44683 | C5: Risk Assessment & Mapping | D5: =IF(Table2[[#This Row],[WMPInitiativeCategory]]="", "",INDEX('Initiative mapping-DO NOT EDIT'!$H$3:$H$12, MATCH(Table2[[#This Row],[WMPInitiativeCategory]],'Initiative mapping-DO NOT EDIT'!$G$3:$G$12,0))) -> 7.3.1. | E5: Initiative mapping and estimation of wildfire and PSPS risk-reduction impact | G5: =IF(Table2[[#This Row],[WMPInitiativeActivity]]="","x",IF(Table2[[#This Row],[WMPInitiativeActivity]]="other", Table2[[#This Row],[ActivityNameifOther]], INDEX('Initiative mapping-DO NOT EDIT'!$C$3:$C$91,MATCH(Table2[[#This Row],[WMPInitiativeActivity]],'Initiative mapping-DO NOT EDIT'!$D$3:$D$91,0)))) -> 4 | H5: Ignition Probability & Wildfire Consequence Mapping | I5: BVRAM-001-4 | J5: =_xlfn.CONCAT([1]!Table2[[#This Row],[UtilityID]],"_", [1]!Table2[[#This Row],[WMPInitiativeCategory]],"_", IF([1]!Table2[[#This Row],[WMPInitiativeActivity]]="","x",IF([1]!Table2[[#This Row],[WMPInitiativeActivity]]="other", [1]!Table2[[#This Row],[ActivityNameifOther]], [1]!Table2[[#This Row],[WMPInitiativeActivity]])),"_",[1]!Table2[[#This Row],[InitiativeActivityID]], "_",YEAR([1]!Table2[[#This Row],[Submission Date]])) -> BVES_Risk Assessment & Mapping_Initiative mapping and estimation of wildfire and PSPS risk-reduction impact _BVRAM-001-4_2022 | K5: 99 | L5: NA | M5: NA | N5: NA | O5: NA | P5: NA | Q5: NA | R5: NA | S5: NA | T5: NA | V5: NA | W5: NA | X5: NA | Y5: NA | AA5: In Progress | AB5: NA
A6: ='READ ME FIRST'!$D$12 -> BVES | B6: ='READ ME FIRST'!$D$15 -> 44683 | C6: Risk Assessment & Mapping | D6: =IF(Table2[[#This Row],[WMPInitiativeCategory]]="", "",INDEX('Initiative mapping-DO NOT EDIT'!$H$3:$H$12, MATCH(Table2[[#This Row],[WMPInitiativeCategory]],'Initiative mapping-DO NOT EDIT'!$G$3:$G$12,0))) -> 7.3.1. | E6: Match drop simulations showing the potential wildfire consequence of ignitions that occur along the electric lines and equipment | G6: =IF(Table2[[#This Row],[WMPInitiativeActivity]]="","x",IF(Table2[[#This Row],[WMPInitiativeActivity]]="other", Table2[[#This Row],[ActivityNameifOther]], INDEX('Initiative mapping-DO NOT EDIT'!$C$3:$C$91,MATCH(Table2[[#This Row],[WMPInitiativeActivity]],'Initiative mapping-DO NOT EDIT'!$D$3:$D$91,0)))) -> 5 | H6: Ignition Probability & Wildfire Consequence Mapping | I6: BVRAM-001-5 | J6: =_xlfn.CONCAT([1]!Table2[[#This Row],[UtilityID]],"_", [1]!Table2[[#This Row],[WMPInitiativeCategory]],"_", IF([1]!Table2[[#This Row],[WMPInitiativeActivity]]="","x",IF([1]!Table2[[#This Row],[WMPInitiativeActivity]]="other", [1]!Table2[[#This Row],[ActivityNameifOther]], [1]!Table2[[#This Row],[WMPInitiativeActivity]])),"_",[1]!Table2[[#This Row],[InitiativeActivityID]], "_",YEAR([1]!Table2[[#This Row],[Submission Date]])) -> BVES_Risk Assessment & Mapping_Match drop simulations showing the potential wildfire consequence of ignitions that occur along the electric lines and equipment _BVRAM-001-5_2022 | K6: 99 | L6: NA | M6: NA | N6: NA | O6: NA | P6: NA | Q6: NA | R6: NA | S6: NA | T6: NA | V6: NA | W6: NA | X6: NA | Y6: NA | AA6: Completed | AB6: NA
A7: ='READ ME FIRST'!$D$12 -> BVES | B7: ='READ ME FIRST'!$D$15 -> 44683 | C7: Situational Awareness & Forecasting | D7: =IF(Table2[[#This Row],[WMPInitiativeCategory]]="", "",INDEX('Initiative mapping-DO NOT EDIT'!$H$3:$H$12, MATCH(Table2[[#This Row],[WMPInitiativeCategory]],'Initiative mapping-DO NOT EDIT'!$G$3:$G$12,0))) -> 7.3.2. | E7: Advanced weather monitoring and weather stations | G7: =IF(Table2[[#This Row],[WMPInitiativeActivity]]="","x",IF(Table2[[#This Row],[WMPInitiativeActivity]]="other", Table2[[#This Row],[ActivityNameifOther]], INDEX('Initiative mapping-DO NOT EDIT'!$C$3:$C$91,MATCH(Table2[[#This Row],[WMPInitiativeActivity]],'Initiative mapping-DO NOT EDIT'!$D$3:$D$91,0)))) -> 1 | H7: Situational Awareness Hardware Program | I7: BVSAF-001-1 | J7: =_xlfn.CONCAT([1]!Table2[[#This Row],[UtilityID]],"_", [1]!Table2[[#This Row],[WMPInitiativeCategory]],"_", IF([1]!Table2[[#This Row],[WMPInitiativeActivity]]="","x",IF([1]!Table2[[#This Row],[WMPInitiativeActivity]]="other", [1]!Table2[[#This Row],[ActivityNameifOther]], [1]!Table2[[#This Row],[WMPInitiativeActivity]])),"_",[1]!Table2[[#This Row],[InitiativeActivityID]], "_",YEAR([1]!Table2[[#This Row],[Submission Date]])) -> BVES_Situational Awareness & Forecasting_Advanced weather monitoring and weather stations _BVSAF-001-1_2022 | K7: 103 | L7: Number of Weather Stations Installed | M7: 0 | N7: 0 | O7: 0 | P7: 0 | Q7: 0 | R7: 0 | S7: 0 | T7: 0 | V7: NA | W7: NA | X7: NA | Y7: NA | AA7: Completed | AB7: NA
A8: ='READ ME FIRST'!$D$12 -> BVES | B8: ='READ ME FIRST'!$D$15 -> 44683 | C8: Situational Awareness & Forecasting | D8: =IF(Table2[[#This Row],[WMPInitiativeCategory]]="", "",INDEX('Initiative mapping-DO NOT EDIT'!$H$3:$H$12, MATCH(Table2[[#This Row],[WMPInitiativeCategory]],'Initiative mapping-DO NOT EDIT'!$G$3:$G$12,0))) -> 7.3.2. | E8: Continuous monitoring sensors | G8: =IF(Table2[[#This Row],[WMPInitiativeActivity]]="","x",IF(Table2[[#This Row],[WMPInitiativeActivity]]="other", Table2[[#This Row],[ActivityNameifOther]], INDEX('Initiative mapping-DO NOT EDIT'!$C$3:$C$91,MATCH(Table2[[#This Row],[WMPInitiativeActivity]],'Initiative mapping-DO NOT EDIT'!$D$3:$D$91,0)))) -> 2 | H8: Situational Awareness Hardware Program | I8: BVSAF-001-2 | J8: =_xlfn.CONCAT([1]!Table2[[#This Row],[UtilityID]],"_", [1]!Table2[[#This Row],[WMPInitiativeCategory]],"_", IF([1]!Table2[[#This Row],[WMPInitiativeActivity]]="","x",IF([1]!Table2[[#This Row],[WMPInitiativeActivity]]="other", [1]!Table2[[#This Row],[ActivityNameifOther]], [1]!Table2[[#This Row],[WMPInitiativeActivity]])),"_",[1]!Table2[[#This Row],[InitiativeActivityID]], "_",YEAR([1]!Table2[[#This Row],[Submission Date]])) -> BVES_Situational Awareness & Forecasting_Continuous monitoring sensors _BVSAF-001-2_2022 | K8: 104 | L8: Number of HD Cameras Installed | M8: 0 | N8: 0 | O8: 0 | P8: 0 | Q8: 0 | R8: 0 | S8: 0 | T8: 0 | V8: NA | W8: NA | X8: NA | Y8: NA | AA8: Completed | AB8: NA
A9: ='READ ME FIRST'!$D$12 -> BVES | B9: ='READ ME FIRST'!$D$15 -> 44683 | C9: Situational Awareness & Forecasting | D9: =IF(Table2[[#This Row],[WMPInitiativeCategory]]="", "",INDEX('Initiative mapping-DO NOT EDIT'!$H$3:$H$12, MATCH(Table2[[#This Row],[WMPInitiativeCategory]],'Initiative mapping-DO NOT EDIT'!$G$3:$G$12,0))) -> 7.3.2. | E9: Fault indicators for detecting faults on electric lines and equipment | G9: =IF(Table2[[#This Row],[WMPInitiativeActivity]]="","x",IF(Table2[[#This Row],[WMPInitiativeActivity]]="other", Table2[[#This Row],[ActivityNameifOther]], INDEX('Initiative mapping-DO NOT EDIT'!$C$3:$C$91,MATCH(Table2[[#This Row],[WMPInitiativeActivity]],'Initiative mapping-DO NOT EDIT'!$D$3:$D$91,0)))) -> 3 | H9: Situational Awareness Hardware Program | I9: BVSAF-001-3 | J9: =_xlfn.CONCAT([1]!Table2[[#This Row],[UtilityID]],"_", [1]!Table2[[#This Row],[WMPInitiativeCategory]],"_", IF([1]!Table2[[#This Row],[WMPInitiativeActivity]]="","x",IF([1]!Table2[[#This Row],[WMPInitiativeActivity]]="other", [1]!Table2[[#This Row],[ActivityNameifOther]], [1]!Table2[[#This Row],[WMPInitiativeActivity]])),"_",[1]!Table2[[#This Row],[InitiativeActivityID]], "_",YEAR([1]!Table2[[#This Row],[Submission Date]])) -> BVES_Situational Awareness & Forecasting_Fault indicators for detecting faults on electric lines and equipment _BVSAF-001-3_2022 | K9: 130 | L9: Number of Fault Indicators | M9: 50 | N9: 0 | O9: 0 | P9: 20 | Q9: 50 | R9: 0 | S9: 0 | T9: 75 | V9: NA | W9: NA | X9: NA | Y9: NA | AA9: In Progress | AB9: NA
A10: ='READ ME FIRST'!$D$12 -> BVES | B10: ='READ ME FIRST'!$D$15 -> 44683 | C10: Situational Awareness & Forecasting | D10: =IF(Table2[[#This Row],[WMPInitiativeCategory]]="", "",INDEX('Initiative mapping-DO NOT EDIT'!$H$3:$H$12, MATCH(Table2[[#This Row],[WMPInitiativeCategory]],'Initiative mapping-DO NOT EDIT'!$G$3:$G$12,0))) -> 7.3.2. | E10: Forecast of a fire risk index, fire potential index, or similar | G10: =IF(Table2[[#This Row],[WMPInitiativeActivity]]="","x",IF(Table2[[#This Row],[WMPInitiativeActivity]]="other", Table2[[#This Row],[ActivityNameifOther]], INDEX('Initiative mapping-DO NOT EDIT'!$C$3:$C$91,MATCH(Table2[[#This Row],[WMPInitiativeActivity]],'Initiative mapping-DO NOT EDIT'!$D$3:$D$91,0)))) -> 4 | H10: Weather Consultant | I10: BVSAF-003-2 | J10: =_xlfn.CONCAT([1]!Table2[[#This Row],[UtilityID]],"_", [1]!Table2[[#This Row],[WMPInitiativeCategory]],"_", IF([1]!Table2[[#This Row],[WMPInitiativeActivity]]="","x",IF([1]!Table2[[#This Row],[WMPInitiativeActivity]]="other", [1]!Table2[[#This Row],[ActivityNameifOther]], [1]!Table2[[#This Row],[WMPInitiativeActivity]])),"_",[1]!Table2[[#This Row],[InitiativeActivityID]], "_",YEAR([1]!Table2[[#This Row],[Submission Date]])) -> BVES_Situational Awareness & Forecasting_Forecast of a fire risk index, fire potential index, or similar _BVSAF-003-2_2022 | K10: 99 | L10: NA | M10: NA | N10: NA | O10: NA | P10: NA | Q10: NA | R10: NA | S10: NA | T10: NA | V10: NA | W10: NA | X10: NA | Y10: NA | AA10: Completed | AB10: NA
A11: ='READ ME FIRST'!$D$12 -> BVES | B11: ='READ ME FIRST'!$D$15 -> 44683 | C11: Situational Awareness & Forecasting | D11: =IF(Table2[[#This Row],[WMPInitiativeCategory]]="", "",INDEX('Initiative mapping-DO NOT EDIT'!$H$3:$H$12, MATCH(Table2[[#This Row],[WMPInitiativeCategory]],'Initiative mapping-DO NOT EDIT'!$G$3:$G$12,0))) -> 7.3.2. | E11: Personnel monitoring areas of electric lines and equipment in elevated fire risk conditions | G11: =IF(Table2[[#This Row],[WMPInitiativeActivity]]="","x",IF(Table2[[#This Row],[WMPInitiativeActivity]]="other", Table2[[#This Row],[ActivityNameifOther]], INDEX('Initiative mapping-DO NOT EDIT'!$C$3:$C$91,MATCH(Table2[[#This Row],[WMPInitiativeActivity]],'Initiative mapping-DO NOT EDIT'!$D$3:$D$91,0)))) -> 5 | H11: Grid Operations & Protocol | I11: BVSAF-002 | J11: =_xlfn.CONCAT([1]!Table2[[#This Row],[UtilityID]],"_", [1]!Table2[[#This Row],[WMPInitiativeCategory]],"_", IF([1]!Table2[[#This Row],[WMPInitiativeActivity]]="","x",IF([1]!Table2[[#This Row],[WMPInitiativeActivity]]="other", [1]!Table2[[#This Row],[ActivityNameifOther]], [1]!Table2[[#This Row],[WMPInitiativeActivity]])),"_",[1]!Table2[[#This Row],[InitiativeActivityID]], "_",YEAR([1]!Table2[[#This Row],[Submission Date]])) -> BVES_Situational Awareness & Forecasting_Personnel monitoring areas of electric lines and equipment in elevated fire risk conditions _BVSAF-002_2022 | K11: 128 | L11: NA | M11: NA | N11: NA | O11: NA | P11: NA | Q11: NA | R11: NA | S11: NA | T11: NA | V11: Sufficient resources during high risk conditions | W11: No high risk events occurred | X11: No high risk events occurred | Y11: No high risk events occurred | AA11: In Progress | AB11: NA
A12: ='READ ME FIRST'!$D$12 -> BVES | B12: ='READ ME FIRST'!$D$15 -> 44683 | C12: Situational Awareness & Forecasting | D12: =IF(Table2[[#This Row],[WMPInitiativeCategory]]="", "",INDEX('Initiative mapping-DO NOT EDIT'!$H$3:$H$12, MATCH(Table2[[#This Row],[WMPInitiativeCategory]],'Initiative mapping-DO NOT EDIT'!$G$3:$G$12,0))) -> 7.3.2. | E12: Weather forecasting and estimating impacts on electric lines and equipment | G12: =IF(Table2[[#This Row],[WMPInitiativeActivity]]="","x",IF(Table2[[#This Row],[WMPInitiativeActivity]]="other", Table2[[#This Row],[ActivityNameifOther]], INDEX('Initiative mapping-DO NOT EDIT'!$C$3:$C$91,MATCH(Table2[[#This Row],[WMPInitiativeActivity]],'Initiative mapping-DO NOT EDIT'!$D$3:$D$91,0)))) -> 6 | H12: Weather Consultant | I12: BVSAF-003-1 | J12: =_xlfn.CONCAT([1]!Table2[[#This Row],[UtilityID]],"_", [1]!Table2[[#This Row],[WMPInitiativeCategory]],"_", IF([1]!Table2[[#This Row],[WMPInitiativeActivity]]="","x",IF([1]!Table2[[#This Row],[WMPInitiativeActivity]]="other", [1]!Table2[[#This Row],[ActivityNameifOther]], [1]!Table2[[#This Row],[WMPInitiativeActivity]])),"_",[1]!Table2[[#This Row],[InitiativeActivityID]], "_",YEAR([1]!Table2[[#This Row],[Submission Date]])) -> BVES_Situational Awareness & Forecasting_Weather forecasting and estimating impacts on electric lines and equipment _BVSAF-003-1_2022 | K12: 130 | L12: NA | M12: NA | N12: NA | O12: NA | P12: NA | Q12: NA | R12: NA | S12: NA | T12: NA | V12: Consulting support for weather forecasting & analysis | W12: Support requirement met | X12: Support requirement met | Y12: Support requirement met | AA12: In Progress | AB12: NA
A13: ='READ ME FIRST'!$D$12 -> BVES | B13: ='READ ME FIRST'!$D$15 -> 44683 | C13: Grid Design & System Hardening | D13: =IF(Table2[[#This Row],[WMPInitiativeCategory]]="", "",INDEX('Initiative mapping-DO NOT EDIT'!$H$3:$H$12, MATCH(Table2[[#This Row],[WMPInitiativeCategory]],'Initiative mapping-DO NOT EDIT'!$G$3:$G$12,0))) -> 7.3.3. | E13: Capacitor maintenance and replacement program | G13: =IF(Table2[[#This Row],[WMPInitiativeActivity]]="","x",IF(Table2[[#This Row],[WMPInitiativeActivity]]="other", Table2[[#This Row],[ActivityNameifOther]], INDEX('Initiative mapping-DO NOT EDIT'!$C$3:$C$91,MATCH(Table2[[#This Row],[WMPInitiativeActivity]],'Initiative mapping-DO NOT EDIT'!$D$3:$D$91,0)))) -> 1 | H13: Program covered under ongoing maintenance of subtransmission and distribution facilities. There is not a separate WMP initiative. | I13: BVGDSH-001 | J13: =_xlfn.CONCAT([1]!Table2[[#This Row],[UtilityID]],"_", [1]!Table2[[#This Row],[WMPInitiativeCategory]],"_", IF([1]!Table2[[#This Row],[WMPInitiativeActivity]]="","x",IF([1]!Table2[[#This Row],[WMPInitiativeActivity]]="other", [1]!Table2[[#This Row],[ActivityNameifOther]], [1]!Table2[[#This Row],[WMPInitiativeActivity]])),"_",[1]!Table2[[#This Row],[InitiativeActivityID]], "_",YEAR([1]!Table2[[#This Row],[Submission Date]])) -> BVES_Grid Design & System Hardening_Capacitor maintenance and replacement program _BVGDSH-001_2022 | K13: NA | L13: NA | M13: NA | N13: NA | O13: NA | P13: NA | Q13: NA | R13: NA | S13: NA | T13: NA | V13: NA | W13: NA | X13: NA | Y13: NA | AA13: Completed | AB13: NA
A14: ='READ ME FIRST'!$D$12 -> BVES | B14: ='READ ME FIRST'!$D$15 -> 44683 | C14: Grid Design & System Hardening | D14: =IF(Table2[[#This Row],[WMPInitiativeCategory]]="", "",INDEX('Initiative mapping-DO NOT EDIT'!$H$3:$H$12, MATCH(Table2[[#This Row],[WMPInitiativeCategory]],'Initiative mapping-DO NOT EDIT'!$G$3:$G$12,0))) -> 7.3.3. | E14: Circuit breaker maintenance and installation to de-energize lines upon detecting a fault | G14: =IF(Table2[[#This Row],[WMPInitiativeActivity]]="","x",IF(Table2[[#This Row],[WMPInitiativeActivity]]="other", Table2[[#This Row],[ActivityNameifOther]], INDEX('Initiative mapping-DO NOT EDIT'!$C$3:$C$91,MATCH(Table2[[#This Row],[WMPInitiativeActivity]],'Initiative mapping-DO NOT EDIT'!$D$3:$D$91,0)))) -> 2 | H14: Program covered under ongoing maintenance of subtransmission and distribution facilities. There is not a separate WMP initiative. | I14: BVGDSH-002 | J14: =_xlfn.CONCAT([1]!Table2[[#This Row],[UtilityID]],"_", [1]!Table2[[#This Row],[WMPInitiativeCategory]],"_", IF([1]!Table2[[#This Row],[WMPInitiativeActivity]]="","x",IF([1]!Table2[[#This Row],[WMPInitiativeActivity]]="other", [1]!Table2[[#This Row],[ActivityNameifOther]], [1]!Table2[[#This Row],[WMPInitiativeActivity]])),"_",[1]!Table2[[#This Row],[InitiativeActivityID]], "_",YEAR([1]!Table2[[#This Row],[Submission Date]])) -> BVES_Grid Design & System Hardening_Circuit breaker maintenance and installation to de-energize lines upon detecting a fault _BVGDSH-002_2022 | K14: NA | L14: NA | M14: NA | N14: NA | O14: NA | P14: NA | Q14: NA | R14: NA | S14: NA | T14: NA | V14: NA | W14: NA | X14: NA | Y14: NA | AA14: NA | AB14: NA
A15: ='READ ME FIRST'!$D$12 -> BVES | B15: ='READ ME FIRST'!$D$15 -> 44683 | C15: Grid Design & System Hardening | D15: =IF(Table2[[#This Row],[WMPInitiativeCategory]]="", "",INDEX('Initiative mapping-DO NOT EDIT'!$H$3:$H$12, MATCH(Table2[[#This Row],[WMPInitiativeCategory]],'Initiative mapping-DO NOT EDIT'!$G$3:$G$12,0))) -> 7.3.3. | E15: Covered conductor installation | G15: =IF(Table2[[#This Row],[WMPInitiativeActivity]]="","x",IF(Table2[[#This Row],[WMPInitiativeActivity]]="other", Table2[[#This Row],[ActivityNameifOther]], INDEX('Initiative mapping-DO NOT EDIT'!$C$3:$C$91,MATCH(Table2[[#This Row],[WMPInitiativeActivity]],'Initiative mapping-DO NOT EDIT'!$D$3:$D$91,0)))) -> 3 | H15: Covered Conductor Replacement Program | I15: BVGDSH-003-1 | J15: =_xlfn.CONCAT([1]!Table2[[#This Row],[UtilityID]],"_", [1]!Table2[[#This Row],[WMPInitiativeCategory]],"_", IF([1]!Table2[[#This Row],[WMPInitiativeActivity]]="","x",IF([1]!Table2[[#This Row],[WMPInitiativeActivity]]="other", [1]!Table2[[#This Row],[ActivityNameifOther]], [1]!Table2[[#This Row],[WMPInitiativeActivity]])),"_",[1]!Table2[[#This Row],[InitiativeActivityID]], "_",YEAR([1]!Table2[[#This Row],[Submission Date]])) -> BVES_Grid Design & System Hardening_Covered conductor installation _BVGDSH-003-1_2022 | K15: 114 | L15: Circuit Miles Hardened | M15: 12.9 | N15: 0 | O15: 4.3 | P15: 8.6 | Q15: 12.9 | R15: 2.3 | S15: 7.02 | T15: 10.35 | V15: NA | W15: NA | X15: NA | Y15: NA | AA15: In Progress | AB15: NA
A16: ='READ ME FIRST'!$D$12 -> BVES | B16: ='READ ME FIRST'!$D$15 -> 44683 | C16: Grid Design & System Hardening | D16: =IF(Table2[[#This Row],[WMPInitiativeCategory]]="", "",INDEX('Initiative mapping-DO NOT EDIT'!$H$3:$H$12, MATCH(Table2[[#This Row],[WMPInitiativeCategory]],'Initiative mapping-DO NOT EDIT'!$G$3:$G$12,0))) -> 7.3.3. | E16: Covered conductor installation | G16: =IF(Table2[[#This Row],[WMPInitiativeActivity]]="","x",IF(Table2[[#This Row],[WMPInitiativeActivity]]="other", Table2[[#This Row],[ActivityNameifOther]], INDEX('Initiative mapping-DO NOT EDIT'!$C$3:$C$91,MATCH(Table2[[#This Row],[WMPInitiativeActivity]],'Initiative mapping-DO NOT EDIT'!$D$3:$D$91,0)))) -> 3 | H16: Covered Conductor Replacement Program - Radford | I16: BVGDSH-003-2 | J16: =_xlfn.CONCAT([1]!Table2[[#This Row],[UtilityID]],"_", [1]!Table2[[#This Row],[WMPInitiativeCategory]],"_", IF([1]!Table2[[#This Row],[WMPInitiativeActivity]]="","x",IF([1]!Table2[[#This Row],[WMPInitiativeActivity]]="other", [1]!Table2[[#This Row],[ActivityNameifOther]], [1]!Table2[[#This Row],[WMPInitiativeActivity]])),"_",[1]!Table2[[#This Row],[InitiativeActivityID]], "_",YEAR([1]!Table2[[#This Row],[Submission Date]])) -> BVES_Grid Design & System Hardening_Covered conductor installation _BVGDSH-003-2_2022 | L16: Circuit Miles Hardened | M16: 2.7 | N16: 0 | O16: 0 | P16: 1 | Q16: 2.7 | R16: 0 | S16: 0 | T16: 0 | V16: NA | W16: NA | X16: NA | Y16: NA | AA16: In Progress | AB16: Awaiting Permits
A17: ='READ ME FIRST'!$D$12 -> BVES | B17: ='READ ME FIRST'!$D$15 -> 44683 | C17: Grid Design & System Hardening | D17: =IF(Table2[[#This Row],[WMPInitiativeCategory]]="", "",INDEX('Initiative mapping-DO NOT EDIT'!$H$3:$H$12, MATCH(Table2[[#This Row],[WMPInitiativeCategory]],'Initiative mapping-DO NOT EDIT'!$G$3:$G$12,0))) -> 7.3.3. | E17: Covered conductor maintenance | G17: =IF(Table2[[#This Row],[WMPInitiativeActivity]]="","x",IF(Table2[[#This Row],[WMPInitiativeActivity]]="other", Table2[[#This Row],[ActivityNameifOther]], INDEX('Initiative mapping-DO NOT EDIT'!$C$3:$C$91,MATCH(Table2[[#This Row],[WMPInitiativeActivity]],'Initiative mapping-DO NOT EDIT'!$D$3:$D$91,0)))) -> 4 | H17: Program covered under ongoing maintenance of subtransmission and distribution facilities. There is not a separate WMP initiative. | I17: BVGDSH-004 | J17: =_xlfn.CONCAT([1]!Table2[[#This Row],[UtilityID]],"_", [1]!Table2[[#This Row],[WMPInitiativeCategory]],"_", IF([1]!Table2[[#This Row],[WMPInitiativeActivity]]="","x",IF([1]!Table2[[#This Row],[WMPInitiativeActivity]]="other", [1]!Table2[[#This Row],[ActivityNameifOther]], [1]!Table2[[#This Row],[WMPInitiativeActivity]])),"_",[1]!Table2[[#This Row],[InitiativeActivityID]], "_",YEAR([1]!Table2[[#This Row],[Submission Date]])) -> BVES_Grid Design & System Hardening_Covered conductor maintenance _BVGDSH-004_2022 | K17: NA | L17: NA | M17: NA | N17: NA | O17: NA | P17: NA | Q17: NA | R17: NA | S17: NA | T17: NA | V17: NA | W17: NA | X17: NA | Y17: NA | AA17: NA | AB17: NA
A18: ='READ ME FIRST'!$D$12 -> BVES | B18: ='READ ME FIRST'!$D$15 -> 44683 | C18: Grid Design & System Hardening | D18: =IF(Table2[[#This Row],[WMPInitiativeCategory]]="", "",INDEX('Initiative mapping-DO NOT EDIT'!$H$3:$H$12, MATCH(Table2[[#This Row],[WMPInitiativeCategory]],'Initiative mapping-DO NOT EDIT'!$G$3:$G$12,0))) -> 7.3.3. | E18: Crossarm maintenance, repair, and replacement | G18: =IF(Table2[[#This Row],[WMPInitiativeActivity]]="","x",IF(Table2[[#This Row],[WMPInitiativeActivity]]="other", Table2[[#This Row],[ActivityNameifOther]], INDEX('Initiative mapping-DO NOT EDIT'!$C$3:$C$91,MATCH(Table2[[#This Row],[WMPInitiativeActivity]],'Initiative mapping-DO NOT EDIT'!$D$3:$D$91,0)))) -> 5 | H18: Program covered under ongoing maintenance of subtransmission and distribution facilities. There is not a separate WMP initiative. | I18: BVGDSH-005 | J18: =_xlfn.CONCAT([1]!Table2[[#This Row],[UtilityID]],"_", [1]!Table2[[#This Row],[WMPInitiativeCategory]],"_", IF([1]!Table2[[#This Row],[WMPInitiativeActivity]]="","x",IF([1]!Table2[[#This Row],[WMPInitiativeActivity]]="other", [1]!Table2[[#This Row],[ActivityNameifOther]], [1]!Table2[[#This Row],[WMPInitiativeActivity]])),"_",[1]!Table2[[#This Row],[InitiativeActivityID]], "_",YEAR([1]!Table2[[#This Row],[Submission Date]])) -> BVES_Grid Design & System Hardening_Crossarm maintenance, repair, and replacement _BVGDSH-005_2022 | K18: NA | L18: NA | M18: NA | N18: NA | O18: NA | P18: NA | Q18: NA | R18: NA | S18: NA | T18: NA | V18: NA | W18: NA | X18: NA | Y18: NA | AA18: NA | AB18: NA
A19: ='READ ME FIRST'!$D$12 -> BVES | B19: ='READ ME FIRST'!$D$15 -> 44683 | C19: Grid Design & System Hardening | D19: =IF(Table2[[#This Row],[WMPInitiativeCategory]]="", "",INDEX('Initiative mapping-DO NOT EDIT'!$H$3:$H$12, MATCH(Table2[[#This Row],[WMPInitiativeCategory]],'Initiative mapping-DO NOT EDIT'!$G$3:$G$12,0))) -> 7.3.3. | E19: Distribution pole replacement and reinforcement, including with composite poles | G19: =IF(Table2[[#This Row],[WMPInitiativeActivity]]="","x",IF(Table2[[#This Row],[WMPInitiativeActivity]]="other", Table2[[#This Row],[ActivityNameifOther]], INDEX('Initiative mapping-DO NOT EDIT'!$C$3:$C$91,MATCH(Table2[[#This Row],[WMPInitiativeActivity]],'Initiative mapping-DO NOT EDIT'!$D$3:$D$91,0)))) -> 6 | H19: Distribution Pole Repalcement and Reforcement – GO 95 Projects (7.3.3.6.1) | I19: BVGDSH-015-2 | J19: =_xlfn.CONCAT([1]!Table2[[#This Row],[UtilityID]],"_", [1]!Table2[[#This Row],[WMPInitiativeCategory]],"_", IF([1]!Table2[[#This Row],[WMPInitiativeActivity]]="","x",IF([1]!Table2[[#This Row],[WMPInitiativeActivity]]="other", [1]!Table2[[#This Row],[ActivityNameifOther]], [1]!Table2[[#This Row],[WMPInitiativeActivity]])),"_",[1]!Table2[[#This Row],[InitiativeActivityID]], "_",YEAR([1]!Table2[[#This Row],[Submission Date]])) -> BVES_Grid Design & System Hardening_Distribution pole replacement and reinforcement, including with composite poles _BVGDSH-015-2_2022 | K19: 113 | L19: NA | M19: NA | N19: NA | O19: NA | P19: NA | Q19: NA | R19: NA | S19: NA | T19: NA | V19: NA | W19: NA | X19: NA | Y19: NA | AA19: In Progress | AB19: NA
A20: ='READ ME FIRST'!$D$12 -> BVES | B20: ='READ ME FIRST'!$D$15 -> 44683 | C20: Grid Design & System Hardening | D20: =IF(Table2[[#This Row],[WMPInitiativeCategory]]="", "",INDEX('Initiative mapping-DO NOT EDIT'!$H$3:$H$12, MATCH(Table2[[#This Row],[WMPInitiativeCategory]],'Initiative mapping-DO NOT EDIT'!$G$3:$G$12,0))) -> 7.3.3. | E20: Distribution pole replacement and reinforcement, including with composite poles | G20: =IF(Table2[[#This Row],[WMPInitiativeActivity]]="","x",IF(Table2[[#This Row],[WMPInitiativeActivity]]="other", Table2[[#This Row],[ActivityNameifOther]], INDEX('Initiative mapping-DO NOT EDIT'!$C$3:$C$91,MATCH(Table2[[#This Row],[WMPInitiativeActivity]],'Initiative mapping-DO NOT EDIT'!$D$3:$D$91,0)))) -> 6 | H20: Covered Conductor Project - Radford Line | I20: BVGDSH-015-4 | J20: =_xlfn.CONCAT([1]!Table2[[#This Row],[UtilityID]],"_", [1]!Table2[[#This Row],[WMPInitiativeCategory]],"_", IF([1]!Table2[[#This Row],[WMPInitiativeActivity]]="","x",IF([1]!Table2[[#This Row],[WMPInitiativeActivity]]="other", [1]!Table2[[#This Row],[ActivityNameifOther]], [1]!Table2[[#This Row],[WMPInitiativeActivity]])),"_",[1]!Table2[[#This Row],[InitiativeActivityID]], "_",YEAR([1]!Table2[[#This Row],[Submission Date]])) -> BVES_Grid Design & System Hardening_Distribution pole replacement and reinforcement, including with composite poles _BVGDSH-015-4_2022 | L20: NA | M20: NA | N20: NA | O20: NA | P20: NA | Q20: NA | R20: NA | S20: NA | T20: NA | V20: NA | W20: NA | X20: NA | Y20: NA | AA20: In Progress | AB20: NA
A21: ='READ ME FIRST'!$D$12 -> BVES | B21: ='READ ME FIRST'!$D$15 -> 44683 | C21: Grid Design & System Hardening | D21: =IF(Table2[[#This Row],[WMPInitiativeCategory]]="", "",INDEX('Initiative mapping-DO NOT EDIT'!$H$3:$H$12, MATCH(Table2[[#This Row],[WMPInitiativeCategory]],'Initiative mapping-DO NOT EDIT'!$G$3:$G$12,0))) -> 7.3.3. | E21: Distribution pole replacement and reinforcement, including with composite poles | G21: =IF(Table2[[#This Row],[WMPInitiativeActivity]]="","x",IF(Table2[[#This Row],[WMPInitiativeActivity]]="other", Table2[[#This Row],[ActivityNameifOther]], INDEX('Initiative mapping-DO NOT EDIT'!$C$3:$C$91,MATCH(Table2[[#This Row],[WMPInitiativeActivity]],'Initiative mapping-DO NOT EDIT'!$D$3:$D$91,0)))) -> 6 | H21: Evacuation Route Hardening Program - Pilot | I21: BVGDSH-015-5 | J21: =_xlfn.CONCAT([1]!Table2[[#This Row],[UtilityID]],"_", [1]!Table2[[#This Row],[WMPInitiativeCategory]],"_", IF([1]!Table2[[#This Row],[WMPInitiativeActivity]]="","x",IF([1]!Table2[[#This Row],[WMPInitiativeActivity]]="other", [1]!Table2[[#This Row],[ActivityNameifOther]], [1]!Table2[[#This Row],[WMPInitiativeActivity]])),"_",[1]!Table2[[#This Row],[InitiativeActivityID]], "_",YEAR([1]!Table2[[#This Row],[Submission Date]])) -> BVES_Grid Design & System Hardening_Distribution pole replacement and reinforcement, including with composite poles _BVGDSH-015-5_2022 | L21: Poles Hardened | M21: 0 | N21: 0 | O21: 0 | P21: 0 | Q21: 0 | R21: 0 | S21: 0 | T21: 0 | V21: NA | W21: NA | X21: NA | Y21: NA | AA21: Completed | AB21: NA
A22: ='READ ME FIRST'!$D$12 -> BVES | B22: ='READ ME FIRST'!$D$15 -> 44683 | C22: Grid Design & System Hardening | D22: =IF(Table2[[#This Row],[WMPInitiativeCategory]]="", "",INDEX('Initiative mapping-DO NOT EDIT'!$H$3:$H$12, MATCH(Table2[[#This Row],[WMPInitiativeCategory]],'Initiative mapping-DO NOT EDIT'!$G$3:$G$12,0))) -> 7.3.3. | E22: Distribution pole replacement and reinforcement, including with composite poles | G22: =IF(Table2[[#This Row],[WMPInitiativeActivity]]="","x",IF(Table2[[#This Row],[WMPInitiativeActivity]]="other", Table2[[#This Row],[ActivityNameifOther]], INDEX('Initiative mapping-DO NOT EDIT'!$C$3:$C$91,MATCH(Table2[[#This Row],[WMPInitiativeActivity]],'Initiative mapping-DO NOT EDIT'!$D$3:$D$91,0)))) -> 6 | H22: Evacuation Route Hardening Program | I22: BVGDSH-015-6 | J22: =_xlfn.CONCAT([1]!Table2[[#This Row],[UtilityID]],"_", [1]!Table2[[#This Row],[WMPInitiativeCategory]],"_", IF([1]!Table2[[#This Row],[WMPInitiativeActivity]]="","x",IF([1]!Table2[[#This Row],[WMPInitiativeActivity]]="other", [1]!Table2[[#This Row],[ActivityNameifOther]], [1]!Table2[[#This Row],[WMPInitiativeActivity]])),"_",[1]!Table2[[#This Row],[InitiativeActivityID]], "_",YEAR([1]!Table2[[#This Row],[Submission Date]])) -> BVES_Grid Design & System Hardening_Distribution pole replacement and reinforcement, including with composite poles _BVGDSH-015-6_2022 | L22: Poles Hardened | M22: 412 | N22: 350 | O22: 412 | P22: 412 | Q22: 412 | R22: 412 | S22: 412 | T22: 583 | V22: NA | W22: NA | X22: NA | Y22: NA | AA22: In Progress | AB22: NA
A23: ='READ ME FIRST'!$D$12 -> BVES | B23: ='READ ME FIRST'!$D$15 -> 44683 | C23: Grid Design & System Hardening | D23: =IF(Table2[[#This Row],[WMPInitiativeCategory]]="", "",INDEX('Initiative mapping-DO NOT EDIT'!$H$3:$H$12, MATCH(Table2[[#This Row],[WMPInitiativeCategory]],'Initiative mapping-DO NOT EDIT'!$G$3:$G$12,0))) -> 7.3.3. | E23: Expulsion fuse replacement | G23: =IF(Table2[[#This Row],[WMPInitiativeActivity]]="","x",IF(Table2[[#This Row],[WMPInitiativeActivity]]="other", Table2[[#This Row],[ActivityNameifOther]], INDEX('Initiative mapping-DO NOT EDIT'!$C$3:$C$91,MATCH(Table2[[#This Row],[WMPInitiativeActivity]],'Initiative mapping-DO NOT EDIT'!$D$3:$D$91,0)))) -> 7 | H23: Fuse Replacement Program | I23: BVGDSH-006 | J23: =_xlfn.CONCAT([1]!Table2[[#This Row],[UtilityID]],"_", [1]!Table2[[#This Row],[WMPInitiativeCategory]],"_", IF([1]!Table2[[#This Row],[WMPInitiativeActivity]]="","x",IF([1]!Table2[[#This Row],[WMPInitiativeActivity]]="other", [1]!Table2[[#This Row],[ActivityNameifOther]], [1]!Table2[[#This Row],[WMPInitiativeActivity]])),"_",[1]!Table2[[#This Row],[InitiativeActivityID]], "_",YEAR([1]!Table2[[#This Row],[Submission Date]])) -> BVES_Grid Design & System Hardening_Expulsion fuse replacement _BVGDSH-006_2022 | K23: 110 | L23: Number of Fuses Replaced | M23: 0 | N23: 0 | O23: 0 | P23: 0 | Q23: 0 | R23: 0 | S23: 0 | T23: 0 | V23: NA | W23: NA | X23: NA | Y23: NA | AA23: Completed | AB23: NA
A24: ='READ ME FIRST'!$D$12 -> BVES | B24: ='READ ME FIRST'!$D$15 -> 44683 | C24: Grid Design & System Hardening | D24: =IF(Table2[[#This Row],[WMPInitiativeCategory]]="", "",INDEX('Initiative mapping-DO NOT EDIT'!$H$3:$H$12, MATCH(Table2[[#This Row],[WMPInitiativeCategory]],'Initiative mapping-DO NOT EDIT'!$G$3:$G$12,0))) -> 7.3.3. | E24: Grid topology improvements to mitigate or reduce PSPS events | G24: =IF(Table2[[#This Row],[WMPInitiativeActivity]]="","x",IF(Table2[[#This Row],[WMPInitiativeActivity]]="other", Table2[[#This Row],[ActivityNameifOther]], INDEX('Initiative mapping-DO NOT EDIT'!$C$3:$C$91,MATCH(Table2[[#This Row],[WMPInitiativeActivity]],'Initiative mapping-DO NOT EDIT'!$D$3:$D$91,0)))) -> 8 | H24: Grid Topology Improvements | I24: BVGDSH-007-1 | J24: =_xlfn.CONCAT([1]!Table2[[#This Row],[UtilityID]],"_", [1]!Table2[[#This Row],[WMPInitiativeCategory]],"_", IF([1]!Table2[[#This Row],[WMPInitiativeActivity]]="","x",IF([1]!Table2[[#This Row],[WMPInitiativeActivity]]="other", [1]!Table2[[#This Row],[ActivityNameifOther]], [1]!Table2[[#This Row],[WMPInitiativeActivity]])),"_",[1]!Table2[[#This Row],[InitiativeActivityID]], "_",YEAR([1]!Table2[[#This Row],[Submission Date]])) -> BVES_Grid Design & System Hardening_Grid topology improvements to mitigate or reduce PSPS events _BVGDSH-007-1_2022 | K24: 59 | L24: # of Sectional Devices Installed Divided by # of Sectional Devices Needed | M24: 0 | N24: 0 | O24: 0 | P24: 0 | Q24: 0 | R24: 0 | S24: 0 | T24: 0 | V24: NA | W24: NA | X24: NA | Y24: NA | AA24: Completed | AB24: NA
A25: ='READ ME FIRST'!$D$12 -> BVES | B25: ='READ ME FIRST'!$D$15 -> 44683 | C25: Grid Design & System Hardening | D25: =IF(Table2[[#This Row],[WMPInitiativeCategory]]="", "",INDEX('Initiative mapping-DO NOT EDIT'!$H$3:$H$12, MATCH(Table2[[#This Row],[WMPInitiativeCategory]],'Initiative mapping-DO NOT EDIT'!$G$3:$G$12,0))) -> 7.3.3. | E25: Installation of system automation equipment | G25: =IF(Table2[[#This Row],[WMPInitiativeActivity]]="","x",IF(Table2[[#This Row],[WMPInitiativeActivity]]="other", Table2[[#This Row],[ActivityNameifOther]], INDEX('Initiative mapping-DO NOT EDIT'!$C$3:$C$91,MATCH(Table2[[#This Row],[WMPInitiativeActivity]],'Initiative mapping-DO NOT EDIT'!$D$3:$D$91,0)))) -> 9 | H25: Grid Automation Program | I25: BVGDSH-008-1 | J25: =_xlfn.CONCAT([1]!Table2[[#This Row],[UtilityID]],"_", [1]!Table2[[#This Row],[WMPInitiativeCategory]],"_", IF([1]!Table2[[#This Row],[WMPInitiativeActivity]]="","x",IF([1]!Table2[[#This Row],[WMPInitiativeActivity]]="other", [1]!Table2[[#This Row],[ActivityNameifOther]], [1]!Table2[[#This Row],[WMPInitiativeActivity]])),"_",[1]!Table2[[#This Row],[InitiativeActivityID]], "_",YEAR([1]!Table2[[#This Row],[Submission Date]])) -> BVES_Grid Design & System Hardening_Installation of system automation equipment _BVGDSH-008-1_2022 | K25: 102 | L25: Number of Subsations connected to SCADA | M25: 2 | N25: 0 | O25: 0 | P25: 1 | Q25: 2 | R25: 0 | S25: 1 | T25: 2 | V25: NA | W25: NA | X25: NA | Y25: NA | AA25: In Progress | AB25: NA
A26: ='READ ME FIRST'!$D$12 -> BVES | B26: ='READ ME FIRST'!$D$15 -> 44683 | C26: Grid Design & System Hardening | D26: =IF(Table2[[#This Row],[WMPInitiativeCategory]]="", "",INDEX('Initiative mapping-DO NOT EDIT'!$H$3:$H$12, MATCH(Table2[[#This Row],[WMPInitiativeCategory]],'Initiative mapping-DO NOT EDIT'!$G$3:$G$12,0))) -> 7.3.3. | E26: Installation of system automation equipment | G26: =IF(Table2[[#This Row],[WMPInitiativeActivity]]="","x",IF(Table2[[#This Row],[WMPInitiativeActivity]]="other", Table2[[#This Row],[ActivityNameifOther]], INDEX('Initiative mapping-DO NOT EDIT'!$C$3:$C$91,MATCH(Table2[[#This Row],[WMPInitiativeActivity]],'Initiative mapping-DO NOT EDIT'!$D$3:$D$91,0)))) -> 9 | H26: Grid Automation Program // FLISR | J26: =_xlfn.CONCAT([1]!Table2[[#This Row],[UtilityID]],"_", [1]!Table2[[#This Row],[WMPInitiativeCategory]],"_", IF([1]!Table2[[#This Row],[WMPInitiativeActivity]]="","x",IF([1]!Table2[[#This Row],[WMPInitiativeActivity]]="other", [1]!Table2[[#This Row],[ActivityNameifOther]], [1]!Table2[[#This Row],[WMPInitiativeActivity]])),"_",[1]!Table2[[#This Row],[InitiativeActivityID]], "_",YEAR([1]!Table2[[#This Row],[Submission Date]])) -> BVES_Grid Design & System Hardening_Installation of system automation equipment __2022 | L26: NA | M26: NA | N26: NA | O26: NA | P26: NA | Q26: NA | R26: NA | S26: NA | T26: NA | V26: System Instillation and Project Completion | W26: Project effort continue | X26: Project effort continue | Y26: Project effort continue | AA26: NA | AB26: NA
A27: ='READ ME FIRST'!$D$12 -> BVES | B27: ='READ ME FIRST'!$D$15 -> 44683 | C27: Grid Design & System Hardening | D27: =IF(Table2[[#This Row],[WMPInitiativeCategory]]="", "",INDEX('Initiative mapping-DO NOT EDIT'!$H$3:$H$12, MATCH(Table2[[#This Row],[WMPInitiativeCategory]],'Initiative mapping-DO NOT EDIT'!$G$3:$G$12,0))) -> 7.3.3. | E27: Installation of system automation equipment | G27: =IF(Table2[[#This Row],[WMPInitiativeActivity]]="","x",IF(Table2[[#This Row],[WMPInitiativeActivity]]="other", Table2[[#This Row],[ActivityNameifOther]], INDEX('Initiative mapping-DO NOT EDIT'!$C$3:$C$91,MATCH(Table2[[#This Row],[WMPInitiativeActivity]],'Initiative mapping-DO NOT EDIT'!$D$3:$D$91,0)))) -> 9 | H27: Grid Automation Program // Fuse Trip Saver | J27: =_xlfn.CONCAT([1]!Table2[[#This Row],[UtilityID]],"_", [1]!Table2[[#This Row],[WMPInitiativeCategory]],"_", IF([1]!Table2[[#This Row],[WMPInitiativeActivity]]="","x",IF([1]!Table2[[#This Row],[WMPInitiativeActivity]]="other", [1]!Table2[[#This Row],[ActivityNameifOther]], [1]!Table2[[#This Row],[WMPInitiativeActivity]])),"_",[1]!Table2[[#This Row],[InitiativeActivityID]], "_",YEAR([1]!Table2[[#This Row],[Submission Date]])) -> BVES_Grid Design & System Hardening_Installation of system automation equipment __2022 | L27: NA | M27: NA | N27: NA | O27: NA | P27: NA | Q27: NA | R27: NA | S27: NA | T27: NA | V27: NA | W27: NA | X27: NA | Y27: NA | AA27: NA | AB27: NA
A28: ='READ ME FIRST'!$D$12 -> BVES | B28: ='READ ME FIRST'!$D$15 -> 44683 | C28: Grid Design & System Hardening | D28: =IF(Table2[[#This Row],[WMPInitiativeCategory]]="", "",INDEX('Initiative mapping-DO NOT EDIT'!$H$3:$H$12, MATCH(Table2[[#This Row],[WMPInitiativeCategory]],'Initiative mapping-DO NOT EDIT'!$G$3:$G$12,0))) -> 7.3.3. | E28: Maintenance, repair, and replacement of connectors, including hotline clamps | G28: =IF(Table2[[#This Row],[WMPInitiativeActivity]]="","x",IF(Table2[[#This Row],[WMPInitiativeActivity]]="other", Table2[[#This Row],[ActivityNameifOther]], INDEX('Initiative mapping-DO NOT EDIT'!$C$3:$C$91,MATCH(Table2[[#This Row],[WMPInitiativeActivity]],'Initiative mapping-DO NOT EDIT'!$D$3:$D$91,0)))) -> 10 | H28: Program covered under ongoing maintenance of subtransmission and distribution facilities. There is not a separate WMP initiative. | I28: BVGDSH-009 | J28: =_xlfn.CONCAT([1]!Table2[[#This Row],[UtilityID]],"_", [1]!Table2[[#This Row],[WMPInitiativeCategory]],"_", IF([1]!Table2[[#This Row],[WMPInitiativeActivity]]="","x",IF([1]!Table2[[#This Row],[WMPInitiativeActivity]]="other", [1]!Table2[[#This Row],[ActivityNameifOther]], [1]!Table2[[#This Row],[WMPInitiativeActivity]])),"_",[1]!Table2[[#This Row],[InitiativeActivityID]], "_",YEAR([1]!Table2[[#This Row],[Submission Date]])) -> BVES_Grid Design & System Hardening_Maintenance, repair, and replacement of connectors, including hotline clamps _BVGDSH-009_2022 | K28: NA | L28: NA | M28: NA | N28: NA | O28: NA | P28: NA | Q28: NA | R28: NA | S28: NA | T28: NA | V28: NA | W28: NA | X28: NA | Y28: NA | AA28: NA | AB28: NA
A29: ='READ ME FIRST'!$D$12 -> BVES | B29: ='READ ME FIRST'!$D$15 -> 44683 | C29: Grid Design & System Hardening | D29: =IF(Table2[[#This Row],[WMPInitiativeCategory]]="", "",INDEX('Initiative mapping-DO NOT EDIT'!$H$3:$H$12, MATCH(Table2[[#This Row],[WMPInitiativeCategory]],'Initiative mapping-DO NOT EDIT'!$G$3:$G$12,0))) -> 7.3.3. | E29: Mitigation of impact on customers and other residents affected during PSPS event | G29: =IF(Table2[[#This Row],[WMPInitiativeActivity]]="","x",IF(Table2[[#This Row],[WMPInitiativeActivity]]="other", Table2[[#This Row],[ActivityNameifOther]], INDEX('Initiative mapping-DO NOT EDIT'!$C$3:$C$91,MATCH(Table2[[#This Row],[WMPInitiativeActivity]],'Initiative mapping-DO NOT EDIT'!$D$3:$D$91,0)))) -> 11 | H29: Energy Storage Project | I29: BVGDSH-010 | J29: =_xlfn.CONCAT([1]!Table2[[#This Row],[UtilityID]],"_", [1]!Table2[[#This Row],[WMPInitiativeCategory]],"_", IF([1]!Table2[[#This Row],[WMPInitiativeActivity]]="","x",IF([1]!Table2[[#This Row],[WMPInitiativeActivity]]="other", [1]!Table2[[#This Row],[ActivityNameifOther]], [1]!Table2[[#This Row],[WMPInitiativeActivity]])),"_",[1]!Table2[[#This Row],[InitiativeActivityID]], "_",YEAR([1]!Table2[[#This Row],[Submission Date]])) -> BVES_Grid Design & System Hardening_Mitigation of impact on customers and other residents affected during PSPS event _BVGDSH-010_2022 | K29: 60 | L29: NA | M29: NA | N29: NA | O29: NA | P29: NA | Q29: NA | R29: NA | S29: NA | T29: NA | V29: BVES plans to install a 8MW/4MWh battery storage system in 2023 | W29: Internal discussions for siting and permitting needs ahead of construction plan | X29: Internal discussions for siting and permitting needs ahead of construction plan | Y29: Internal discussions for siting and permitting needs ahead of construction plan | AA29: In Progress | AB29: NA
A30: ='READ ME FIRST'!$D$12 -> BVES | B30: ='READ ME FIRST'!$D$15 -> 44683 | C30: Grid Design & System Hardening | D30: =IF(Table2[[#This Row],[WMPInitiativeCategory]]="", "",INDEX('Initiative mapping-DO NOT EDIT'!$H$3:$H$12, MATCH(Table2[[#This Row],[WMPInitiativeCategory]],'Initiative mapping-DO NOT EDIT'!$G$3:$G$12,0))) -> 7.3.3. | E30: Mitigation of impact on customers and other residents affected during PSPS event | G30: =IF(Table2[[#This Row],[WMPInitiativeActivity]]="","x",IF(Table2[[#This Row],[WMPInitiativeActivity]]="other", Table2[[#This Row],[ActivityNameifOther]], INDEX('Initiative mapping-DO NOT EDIT'!$C$3:$C$91,MATCH(Table2[[#This Row],[WMPInitiativeActivity]],'Initiative mapping-DO NOT EDIT'!$D$3:$D$91,0)))) -> 11 | H30: BVPP Phase 4 Upgrade Project | J30: =_xlfn.CONCAT([1]!Table2[[#This Row],[UtilityID]],"_", [1]!Table2[[#This Row],[WMPInitiativeCategory]],"_", IF([1]!Table2[[#This Row],[WMPInitiativeActivity]]="","x",IF([1]!Table2[[#This Row],[WMPInitiativeActivity]]="other", [1]!Table2[[#This Row],[ActivityNameifOther]], [1]!Table2[[#This Row],[WMPInitiativeActivity]])),"_",[1]!Table2[[#This Row],[InitiativeActivityID]], "_",YEAR([1]!Table2[[#This Row],[Submission Date]])) -> BVES_Grid Design & System Hardening_Mitigation of impact on customers and other residents affected during PSPS event __2022 | L30: NA | M30: NA | N30: NA | O30: NA | P30: NA | Q30: NA | R30: NA | S30: NA | T30: NA | V30: NA | W30: NA | X30: NA | Y30: NA | AA30: NA | AB30: NA
A31: ='READ ME FIRST'!$D$12 -> BVES | B31: ='READ ME FIRST'!$D$15 -> 44683 | C31: Grid Design & System Hardening | D31: =IF(Table2[[#This Row],[WMPInitiativeCategory]]="", "",INDEX('Initiative mapping-DO NOT EDIT'!$H$3:$H$12, MATCH(Table2[[#This Row],[WMPInitiativeCategory]],'Initiative mapping-DO NOT EDIT'!$G$3:$G$12,0))) -> 7.3.3. | E31: Other corrective action | G31: =IF(Table2[[#This Row],[WMPInitiativeActivity]]="","x",IF(Table2[[#This Row],[WMPInitiativeActivity]]="other", Table2[[#This Row],[ActivityNameifOther]], INDEX('Initiative mapping-DO NOT EDIT'!$C$3:$C$91,MATCH(Table2[[#This Row],[WMPInitiativeActivity]],'Initiative mapping-DO NOT EDIT'!$D$3:$D$91,0)))) -> 12 | H31: Tree Attachment Removal Program | I31: BVGDSH-013 | J31: =_xlfn.CONCAT([1]!Table2[[#This Row],[UtilityID]],"_", [1]!Table2[[#This Row],[WMPInitiativeCategory]],"_", IF([1]!Table2[[#This Row],[WMPInitiativeActivity]]="","x",IF([1]!Table2[[#This Row],[WMPInitiativeActivity]]="other", [1]!Table2[[#This Row],[ActivityNameifOther]], [1]!Table2[[#This Row],[WMPInitiativeActivity]])),"_",[1]!Table2[[#This Row],[InitiativeActivityID]], "_",YEAR([1]!Table2[[#This Row],[Submission Date]])) -> BVES_Grid Design & System Hardening_Other corrective action _BVGDSH-013_2022 | K31: 68 | L31: Tree Attachment Removal | M31: 80 | N31: 0 | O31: 0 | P31: 0 | Q31: 80 | R31: 0 | S31: 2 | T31: 51 | V31: NA | W31: NA | X31: NA | Y31: NA | AA31: In Progress | AB31: NA
A32: ='READ ME FIRST'!$D$12 -> BVES | B32: ='READ ME FIRST'!$D$15 -> 44683 | C32: Grid Design & System Hardening | D32: =IF(Table2[[#This Row],[WMPInitiativeCategory]]="", "",INDEX('Initiative mapping-DO NOT EDIT'!$H$3:$H$12, MATCH(Table2[[#This Row],[WMPInitiativeCategory]],'Initiative mapping-DO NOT EDIT'!$G$3:$G$12,0))) -> 7.3.3. | E32: Other corrective action | G32: =IF(Table2[[#This Row],[WMPInitiativeActivity]]="","x",IF(Table2[[#This Row],[WMPInitiativeActivity]]="other", Table2[[#This Row],[ActivityNameifOther]], INDEX('Initiative mapping-DO NOT EDIT'!$C$3:$C$91,MATCH(Table2[[#This Row],[WMPInitiativeActivity]],'Initiative mapping-DO NOT EDIT'!$D$3:$D$91,0)))) -> 12 | H32: Evacuation Route Hardening | I32: BVGDSH-014 | J32: =_xlfn.CONCAT([1]!Table2[[#This Row],[UtilityID]],"_", [1]!Table2[[#This Row],[WMPInitiativeCategory]],"_", IF([1]!Table2[[#This Row],[WMPInitiativeActivity]]="","x",IF([1]!Table2[[#This Row],[WMPInitiativeActivity]]="other", [1]!Table2[[#This Row],[ActivityNameifOther]], [1]!Table2[[#This Row],[WMPInitiativeActivity]])),"_",[1]!Table2[[#This Row],[InitiativeActivityID]], "_",YEAR([1]!Table2[[#This Row],[Submission Date]])) -> BVES_Grid Design & System Hardening_Other corrective action _BVGDSH-014_2022 | K32: 69 | L32: Poles Hardened | M32: 412 | N32: 350 | O32: 412 | P32: 412 | Q32: 412 | R32: 412 | S32: 412 | T32: 583 | V32: NA | W32: NA | X32: NA | Y32: NA | AA32: In Progress | AB32: NA
A33: ='READ ME FIRST'!$D$12 -> BVES | B33: ='READ ME FIRST'!$D$15 -> 44683 | C33: Grid Design & System Hardening | D33: =IF(Table2[[#This Row],[WMPInitiativeCategory]]="", "",INDEX('Initiative mapping-DO NOT EDIT'!$H$3:$H$12, MATCH(Table2[[#This Row],[WMPInitiativeCategory]],'Initiative mapping-DO NOT EDIT'!$G$3:$G$12,0))) -> 7.3.3. | E33: Pole loading infrastructure hardening and replacement program based on pole loading assessment program | G33: =IF(Table2[[#This Row],[WMPInitiativeActivity]]="","x",IF(Table2[[#This Row],[WMPInitiativeActivity]]="other", Table2[[#This Row],[ActivityNameifOther]], INDEX('Initiative mapping-DO NOT EDIT'!$C$3:$C$91,MATCH(Table2[[#This Row],[WMPInitiativeActivity]],'Initiative mapping-DO NOT EDIT'!$D$3:$D$91,0)))) -> 13 | H33: Pole Loading & Replacement Program | I33: BVGDSH-015-1 | J33: =_xlfn.CONCAT([1]!Table2[[#This Row],[UtilityID]],"_", [1]!Table2[[#This Row],[WMPInitiativeCategory]],"_", IF([1]!Table2[[#This Row],[WMPInitiativeActivity]]="","x",IF([1]!Table2[[#This Row],[WMPInitiativeActivity]]="other", [1]!Table2[[#This Row],[ActivityNameifOther]], [1]!Table2[[#This Row],[WMPInitiativeActivity]])),"_",[1]!Table2[[#This Row],[InitiativeActivityID]], "_",YEAR([1]!Table2[[#This Row],[Submission Date]])) -> BVES_Grid Design & System Hardening_Pole loading infrastructure hardening and replacement program based on pole loading assessment program _BVGDSH-015-1_2022 | K33: 113 | L33: Number of Poles Replaced | M33: 165 | N33: 10 | O33: 40 | P33: 100 | Q33: 165 | R33: 16 | S33: 71 | T33: 179 | V33: NA | W33: NA | X33: NA | Y33: NA | AA33: In Progress | AB33: NA
A34: ='READ ME FIRST'!$D$12 -> BVES | B34: ='READ ME FIRST'!$D$15 -> 44683 | C34: Grid Design & System Hardening | D34: =IF(Table2[[#This Row],[WMPInitiativeCategory]]="", "",INDEX('Initiative mapping-DO NOT EDIT'!$H$3:$H$12, MATCH(Table2[[#This Row],[WMPInitiativeCategory]],'Initiative mapping-DO NOT EDIT'!$G$3:$G$12,0))) -> 7.3.3. | E34: Transformers maintenance and replacement | G34: =IF(Table2[[#This Row],[WMPInitiativeActivity]]="","x",IF(Table2[[#This Row],[WMPInitiativeActivity]]="other", Table2[[#This Row],[ActivityNameifOther]], INDEX('Initiative mapping-DO NOT EDIT'!$C$3:$C$91,MATCH(Table2[[#This Row],[WMPInitiativeActivity]],'Initiative mapping-DO NOT EDIT'!$D$3:$D$91,0)))) -> 14 | H34: Program covered under ongoing maintenance of subtransmission and distribution facilities. There is not a separate WMP initiative. | I34: BVGDSH-016 | J34: =_xlfn.CONCAT([1]!Table2[[#This Row],[UtilityID]],"_", [1]!Table2[[#This Row],[WMPInitiativeCategory]],"_", IF([1]!Table2[[#This Row],[WMPInitiativeActivity]]="","x",IF([1]!Table2[[#This Row],[WMPInitiativeActivity]]="other", [1]!Table2[[#This Row],[ActivityNameifOther]], [1]!Table2[[#This Row],[WMPInitiativeActivity]])),"_",[1]!Table2[[#This Row],[InitiativeActivityID]], "_",YEAR([1]!Table2[[#This Row],[Submission Date]])) -> BVES_Grid Design & System Hardening_Transformers maintenance and replacement _BVGDSH-016_2022 | K34: NA | L34: NA | M34: NA | N34: NA | O34: NA | P34: NA | Q34: NA | R34: NA | S34: NA | T34: NA | V34: NA | W34: NA | X34: NA | Y34: NA | AA34: NA | AB34: NA
A35: ='READ ME FIRST'!$D$12 -> BVES | B35: ='READ ME FIRST'!$D$15 -> 44683 | C35: Grid Design & System Hardening | D35: =IF(Table2[[#This Row],[WMPInitiativeCategory]]="", "",INDEX('Initiative mapping-DO NOT EDIT'!$H$3:$H$12, MATCH(Table2[[#This Row],[WMPInitiativeCategory]],'Initiative mapping-DO NOT EDIT'!$G$3:$G$12,0))) -> 7.3.3. | E35: Transmission tower maintenance and replacement | G35: =IF(Table2[[#This Row],[WMPInitiativeActivity]]="","x",IF(Table2[[#This Row],[WMPInitiativeActivity]]="other", Table2[[#This Row],[ActivityNameifOther]], INDEX('Initiative mapping-DO NOT EDIT'!$C$3:$C$91,MATCH(Table2[[#This Row],[WMPInitiativeActivity]],'Initiative mapping-DO NOT EDIT'!$D$3:$D$91,0)))) -> 15 | H35: BVES does not have any transmission level assets and maintains a subtransmission line (34.5kV) that is treated as a higher voltage asset. | I35: BVGDSH-017 | J35: =_xlfn.CONCAT([1]!Table2[[#This Row],[UtilityID]],"_", [1]!Table2[[#This Row],[WMPInitiativeCategory]],"_", IF([1]!Table2[[#This Row],[WMPInitiativeActivity]]="","x",IF([1]!Table2[[#This Row],[WMPInitiativeActivity]]="other", [1]!Table2[[#This Row],[ActivityNameifOther]], [1]!Table2[[#This Row],[WMPInitiativeActivity]])),"_",[1]!Table2[[#This Row],[InitiativeActivityID]], "_",YEAR([1]!Table2[[#This Row],[Submission Date]])) -> BVES_Grid Design & System Hardening_Transmission tower maintenance and replacement _BVGDSH-017_2022 | K35: NA | L35: NA | M35: NA | N35: NA | O35: NA | P35: NA | Q35: NA | R35: NA | S35: NA | T35: NA | V35: NA | W35: NA | X35: NA | Y35: NA | AA35: NA | AB35: NA
A36: ='READ ME FIRST'!$D$12 -> BVES | B36: ='READ ME FIRST'!$D$15 -> 44683 | C36: Grid Design & System Hardening | D36: =IF(Table2[[#This Row],[WMPInitiativeCategory]]="", "",INDEX('Initiative mapping-DO NOT EDIT'!$H$3:$H$12, MATCH(Table2[[#This Row],[WMPInitiativeCategory]],'Initiative mapping-DO NOT EDIT'!$G$3:$G$12,0))) -> 7.3.3. | E36: Undergrounding of electric lines and/or equipment | G36: =IF(Table2[[#This Row],[WMPInitiativeActivity]]="","x",IF(Table2[[#This Row],[WMPInitiativeActivity]]="other", Table2[[#This Row],[ActivityNameifOther]], INDEX('Initiative mapping-DO NOT EDIT'!$C$3:$C$91,MATCH(Table2[[#This Row],[WMPInitiativeActivity]],'Initiative mapping-DO NOT EDIT'!$D$3:$D$91,0)))) -> 16 | H36: Ongoing Routine Undergrounding Projects | I36: BVGDSH-018 | J36: =_xlfn.CONCAT([1]!Table2[[#This Row],[UtilityID]],"_", [1]!Table2[[#This Row],[WMPInitiativeCategory]],"_", IF([1]!Table2[[#This Row],[WMPInitiativeActivity]]="","x",IF([1]!Table2[[#This Row],[WMPInitiativeActivity]]="other", [1]!Table2[[#This Row],[ActivityNameifOther]], [1]!Table2[[#This Row],[WMPInitiativeActivity]])),"_",[1]!Table2[[#This Row],[InitiativeActivityID]], "_",YEAR([1]!Table2[[#This Row],[Submission Date]])) -> BVES_Grid Design & System Hardening_Undergrounding of electric lines and/or equipment _BVGDSH-018_2022 | K36: NA | L36: NA | M36: NA | N36: NA | O36: NA | P36: NA | Q36: NA | R36: NA | S36: NA | T36: NA | V36: Continued evaluation of need | W36: Need Considered | X36: Need Considered | Y36: Need Considered | AA36: In Progress | AB36: NA
A37: ='READ ME FIRST'!$D$12 -> BVES | B37: ='READ ME FIRST'!$D$15 -> 44683 | C37: Grid Design & System Hardening | D37: =IF(Table2[[#This Row],[WMPInitiativeCategory]]="", "",INDEX('Initiative mapping-DO NOT EDIT'!$H$3:$H$12, MATCH(Table2[[#This Row],[WMPInitiativeCategory]],'Initiative mapping-DO NOT EDIT'!$G$3:$G$12,0))) -> 7.3.3. | E37: Updates to grid topology to minimize risk of ignition in HFTDs | G37: =IF(Table2[[#This Row],[WMPInitiativeActivity]]="","x",IF(Table2[[#This Row],[WMPInitiativeActivity]]="other", Table2[[#This Row],[ActivityNameifOther]], INDEX('Initiative mapping-DO NOT EDIT'!$C$3:$C$91,MATCH(Table2[[#This Row],[WMPInitiativeActivity]],'Initiative mapping-DO NOT EDIT'!$D$3:$D$91,0)))) -> 17 | H37: Grid Topology Improvements | I37: BVGDSH-007-2 | J37: =_xlfn.CONCAT([1]!Table2[[#This Row],[UtilityID]],"_", [1]!Table2[[#This Row],[WMPInitiativeCategory]],"_", IF([1]!Table2[[#This Row],[WMPInitiativeActivity]]="","x",IF([1]!Table2[[#This Row],[WMPInitiativeActivity]]="other", [1]!Table2[[#This Row],[ActivityNameifOther]], [1]!Table2[[#This Row],[WMPInitiativeActivity]])),"_",[1]!Table2[[#This Row],[InitiativeActivityID]], "_",YEAR([1]!Table2[[#This Row],[Submission Date]])) -> BVES_Grid Design & System Hardening_Updates to grid topology to minimize risk of ignition in HFTDs _BVGDSH-007-2_2022 | K37: 59 | L37: NA | M37: NA | N37: NA | O37: NA | P37: NA | Q37: NA | R37: NA | S37: NA | T37: NA | V37: NA | W37: NA | X37: NA | Y37: NA | AA37: Completed | AB37: NA
A38: ='READ ME FIRST'!$D$12 -> BVES | B38: ='READ ME FIRST'!$D$15 -> 44683 | C38: Asset Management & Inspections | D38: =IF(Table2[[#This Row],[WMPInitiativeCategory]]="", "",INDEX('Initiative mapping-DO NOT EDIT'!$H$3:$H$12, MATCH(Table2[[#This Row],[WMPInitiativeCategory]],'Initiative mapping-DO NOT EDIT'!$G$3:$G$12,0))) -> 7.3.4. | E38: Detailed inspections of distribution electric lines and equipment | G38: =IF(Table2[[#This Row],[WMPInitiativeActivity]]="","x",IF(Table2[[#This Row],[WMPInitiativeActivity]]="other", Table2[[#This Row],[ActivityNameifOther]], INDEX('Initiative mapping-DO NOT EDIT'!$C$3:$C$91,MATCH(Table2[[#This Row],[WMPInitiativeActivity]],'Initiative mapping-DO NOT EDIT'!$D$3:$D$91,0)))) -> 1 | H38: Detailed Inspection Program | I38: BVAMI-001-1 | J38: =_xlfn.CONCAT([1]!Table2[[#This Row],[UtilityID]],"_", [1]!Table2[[#This Row],[WMPInitiativeCategory]],"_", IF([1]!Table2[[#This Row],[WMPInitiativeActivity]]="","x",IF([1]!Table2[[#This Row],[WMPInitiativeActivity]]="other", [1]!Table2[[#This Row],[ActivityNameifOther]], [1]!Table2[[#This Row],[WMPInitiativeActivity]])),"_",[1]!Table2[[#This Row],[InitiativeActivityID]], "_",YEAR([1]!Table2[[#This Row],[Submission Date]])) -> BVES_Asset Management & Inspections_Detailed inspections of distribution electric lines and equipment _BVAMI-001-1_2022 | K38: 61 | L38: Circuit Miles Inspected | M38: 29 | N38: 0 | O38: 5 | P38: 11 | Q38: 29 | R38: 0 | S38: 29.58 | T38: 29.58 | V38: NA | W38: NA | X38: NA | Y38: NA | AA38: In Progress | AB38: NA
A39: ='READ ME FIRST'!$D$12 -> BVES | B39: ='READ ME FIRST'!$D$15 -> 44683 | C39: Asset Management & Inspections | D39: =IF(Table2[[#This Row],[WMPInitiativeCategory]]="", "",INDEX('Initiative mapping-DO NOT EDIT'!$H$3:$H$12, MATCH(Table2[[#This Row],[WMPInitiativeCategory]],'Initiative mapping-DO NOT EDIT'!$G$3:$G$12,0))) -> 7.3.4. | E39: Detailed inspections of transmission electric lines and equipment | G39: =IF(Table2[[#This Row],[WMPInitiativeActivity]]="","x",IF(Table2[[#This Row],[WMPInitiativeActivity]]="other", Table2[[#This Row],[ActivityNameifOther]], INDEX('Initiative mapping-DO NOT EDIT'!$C$3:$C$91,MATCH(Table2[[#This Row],[WMPInitiativeActivity]],'Initiative mapping-DO NOT EDIT'!$D$3:$D$91,0)))) -> 2 | H39: BVES does not have any transmission level assets and maintains a subtransmission line (34.5kV) that is treated as a higher voltage asset. | I39: BVAMI-002 | J39: =_xlfn.CONCAT([1]!Table2[[#This Row],[UtilityID]],"_", [1]!Table2[[#This Row],[WMPInitiativeCategory]],"_", IF([1]!Table2[[#This Row],[WMPInitiativeActivity]]="","x",IF([1]!Table2[[#This Row],[WMPInitiativeActivity]]="other", [1]!Table2[[#This Row],[ActivityNameifOther]], [1]!Table2[[#This Row],[WMPInitiativeActivity]])),"_",[1]!Table2[[#This Row],[InitiativeActivityID]], "_",YEAR([1]!Table2[[#This Row],[Submission Date]])) -> BVES_Asset Management & Inspections_Detailed inspections of transmission electric lines and equipment _BVAMI-002_2022 | K39: NA | L39: NA | M39: NA | N39: NA | O39: NA | P39: NA | Q39: NA | R39: NA | S39: NA | T39: NA | V39: NA | W39: NA | X39: NA | Y39: NA | AA39: NA | AB39: NA
A40: ='READ ME FIRST'!$D$12 -> BVES | B40: ='READ ME FIRST'!$D$15 -> 44683 | C40: Asset Management & Inspections | D40: =IF(Table2[[#This Row],[WMPInitiativeCategory]]="", "",INDEX('Initiative mapping-DO NOT EDIT'!$H$3:$H$12, MATCH(Table2[[#This Row],[WMPInitiativeCategory]],'Initiative mapping-DO NOT EDIT'!$G$3:$G$12,0))) -> 7.3.4. | E40: Improvement of inspections | G40: =IF(Table2[[#This Row],[WMPInitiativeActivity]]="","x",IF(Table2[[#This Row],[WMPInitiativeActivity]]="other", Table2[[#This Row],[ActivityNameifOther]], INDEX('Initiative mapping-DO NOT EDIT'!$C$3:$C$91,MATCH(Table2[[#This Row],[WMPInitiativeActivity]],'Initiative mapping-DO NOT EDIT'!$D$3:$D$91,0)))) -> 3 | H40: Improvement of Inspections | I40: BVAMI-003 | J40: =_xlfn.CONCAT([1]!Table2[[#This Row],[UtilityID]],"_", [1]!Table2[[#This Row],[WMPInitiativeCategory]],"_", IF([1]!Table2[[#This Row],[WMPInitiativeActivity]]="","x",IF([1]!Table2[[#This Row],[WMPInitiativeActivity]]="other", [1]!Table2[[#This Row],[ActivityNameifOther]], [1]!Table2[[#This Row],[WMPInitiativeActivity]])),"_",[1]!Table2[[#This Row],[InitiativeActivityID]], "_",YEAR([1]!Table2[[#This Row],[Submission Date]])) -> BVES_Asset Management & Inspections_Improvement of inspections _BVAMI-003_2022 | K40: NA | L40: NA | M40: NA | N40: NA | O40: NA | P40: NA | Q40: NA | R40: NA | S40: NA | T40: NA | V40: NA | W40: NA | X40: NA | Y40: NA | AA40: NA | AB40: NA
A41: ='READ ME FIRST'!$D$12 -> BVES | B41: ='READ ME FIRST'!$D$15 -> 44683 | C41: Asset Management & Inspections | D41: =IF(Table2[[#This Row],[WMPInitiativeCategory]]="", "",INDEX('Initiative mapping-DO NOT EDIT'!$H$3:$H$12, MATCH(Table2[[#This Row],[WMPInitiativeCategory]],'Initiative mapping-DO NOT EDIT'!$G$3:$G$12,0))) -> 7.3.4. | E41: Infrared inspections of distribution electric lines and equipment | G41: =IF(Table2[[#This Row],[WMPInitiativeActivity]]="","x",IF(Table2[[#This Row],[WMPInitiativeActivity]]="other", Table2[[#This Row],[ActivityNameifOther]], INDEX('Initiative mapping-DO NOT EDIT'!$C$3:$C$91,MATCH(Table2[[#This Row],[WMPInitiativeActivity]],'Initiative mapping-DO NOT EDIT'!$D$3:$D$91,0)))) -> 4 | H41: UAV Thermography Program | I41: BVAMI-004 | J41: =_xlfn.CONCAT([1]!Table2[[#This Row],[UtilityID]],"_", [1]!Table2[[#This Row],[WMPInitiativeCategory]],"_", IF([1]!Table2[[#This Row],[WMPInitiativeActivity]]="","x",IF([1]!Table2[[#This Row],[WMPInitiativeActivity]]="other", [1]!Table2[[#This Row],[ActivityNameifOther]], [1]!Table2[[#This Row],[WMPInitiativeActivity]])),"_",[1]!Table2[[#This Row],[InitiativeActivityID]], "_",YEAR([1]!Table2[[#This Row],[Submission Date]])) -> BVES_Asset Management & Inspections_Infrared inspections of distribution electric lines and equipment _BVAMI-004_2022 | K41: 61 | L41: Circuit Miles Inspected | M41: 211 | N41: 0 | O41: 0 | P41: 211 | Q41: 211 | R41: 0 | S41: 0 | T41: 211 | V41: NA | W41: NA | X41: NA | Y41: NA | AA41: In Progress | AB41: NA
A42: ='READ ME FIRST'!$D$12 -> BVES | B42: ='READ ME FIRST'!$D$15 -> 44683 | C42: Asset Management & Inspections | D42: =IF(Table2[[#This Row],[WMPInitiativeCategory]]="", "",INDEX('Initiative mapping-DO NOT EDIT'!$H$3:$H$12, MATCH(Table2[[#This Row],[WMPInitiativeCategory]],'Initiative mapping-DO NOT EDIT'!$G$3:$G$12,0))) -> 7.3.4. | E42: Infrared inspections of transmission electric lines and equipment | G42: =IF(Table2[[#This Row],[WMPInitiativeActivity]]="","x",IF(Table2[[#This Row],[WMPInitiativeActivity]]="other", Table2[[#This Row],[ActivityNameifOther]], INDEX('Initiative mapping-DO NOT EDIT'!$C$3:$C$91,MATCH(Table2[[#This Row],[WMPInitiativeActivity]],'Initiative mapping-DO NOT EDIT'!$D$3:$D$91,0)))) -> 5 | H42: BVES does not have any transmission level assets and maintains a subtransmission line (34.5kV) that is treated as a higher voltage asset. | I42: BVAMI-005 | J42: =_xlfn.CONCAT([1]!Table2[[#This Row],[UtilityID]],"_", [1]!Table2[[#This Row],[WMPInitiativeCategory]],"_", IF([1]!Table2[[#This Row],[WMPInitiativeActivity]]="","x",IF([1]!Table2[[#This Row],[WMPInitiativeActivity]]="other", [1]!Table2[[#This Row],[ActivityNameifOther]], [1]!Table2[[#This Row],[WMPInitiativeActivity]])),"_",[1]!Table2[[#This Row],[InitiativeActivityID]], "_",YEAR([1]!Table2[[#This Row],[Submission Date]])) -> BVES_Asset Management & Inspections_Infrared inspections of transmission electric lines and equipment _BVAMI-005_2022 | K42: NA | L42: NA | M42: NA | N42: NA | O42: NA | P42: NA | Q42: NA | R42: NA | S42: NA | T42: NA | V42: NA | W42: NA | X42: NA | Y42: NA | AA42: NA | AB42: NA
A43: ='READ ME FIRST'!$D$12 -> BVES | B43: ='READ ME FIRST'!$D$15 -> 44683 | C43: Asset Management & Inspections | D43: =IF(Table2[[#This Row],[WMPInitiativeCategory]]="", "",INDEX('Initiative mapping-DO NOT EDIT'!$H$3:$H$12, MATCH(Table2[[#This Row],[WMPInitiativeCategory]],'Initiative mapping-DO NOT EDIT'!$G$3:$G$12,0))) -> 7.3.4. | E43: Intrusive pole inspections | G43: =IF(Table2[[#This Row],[WMPInitiativeActivity]]="","x",IF(Table2[[#This Row],[WMPInitiativeActivity]]="other", Table2[[#This Row],[ActivityNameifOther]], INDEX('Initiative mapping-DO NOT EDIT'!$C$3:$C$91,MATCH(Table2[[#This Row],[WMPInitiativeActivity]],'Initiative mapping-DO NOT EDIT'!$D$3:$D$91,0)))) -> 6 | H43: Intrusive Pole Inspection Program | I43: BVAMI-006 | J43: =_xlfn.CONCAT([1]!Table2[[#This Row],[UtilityID]],"_", [1]!Table2[[#This Row],[WMPInitiativeCategory]],"_", IF([1]!Table2[[#This Row],[WMPInitiativeActivity]]="","x",IF([1]!Table2[[#This Row],[WMPInitiativeActivity]]="other", [1]!Table2[[#This Row],[ActivityNameifOther]], [1]!Table2[[#This Row],[WMPInitiativeActivity]])),"_",[1]!Table2[[#This Row],[InitiativeActivityID]], "_",YEAR([1]!Table2[[#This Row],[Submission Date]])) -> BVES_Asset Management & Inspections_Intrusive pole inspections _BVAMI-006_2022 | K43: 120 | L43: Number of Poles Assessed | M43: 850 | N43: 0 | O43: 0 | P43: 300 | Q43: 850 | R43: 0 | S43: 619 | T43: 853 | V43: NA | W43: NA | X43: NA | Y43: NA | AA43: In Progress | AB43: NA
A44: ='READ ME FIRST'!$D$12 -> BVES | B44: ='READ ME FIRST'!$D$15 -> 44683 | C44: Asset Management & Inspections | D44: =IF(Table2[[#This Row],[WMPInitiativeCategory]]="", "",INDEX('Initiative mapping-DO NOT EDIT'!$H$3:$H$12, MATCH(Table2[[#This Row],[WMPInitiativeCategory]],'Initiative mapping-DO NOT EDIT'!$G$3:$G$12,0))) -> 7.3.4. | E44: LiDAR inspections of distribution electric lines and equipment | G44: =IF(Table2[[#This Row],[WMPInitiativeActivity]]="","x",IF(Table2[[#This Row],[WMPInitiativeActivity]]="other", Table2[[#This Row],[ActivityNameifOther]], INDEX('Initiative mapping-DO NOT EDIT'!$C$3:$C$91,MATCH(Table2[[#This Row],[WMPInitiativeActivity]],'Initiative mapping-DO NOT EDIT'!$D$3:$D$91,0)))) -> 7 | H44: LiDAR Inspection Program | I44: BVAMI-007-1 | J44: =_xlfn.CONCAT([1]!Table2[[#This Row],[UtilityID]],"_", [1]!Table2[[#This Row],[WMPInitiativeCategory]],"_", IF([1]!Table2[[#This Row],[WMPInitiativeActivity]]="","x",IF([1]!Table2[[#This Row],[WMPInitiativeActivity]]="other", [1]!Table2[[#This Row],[ActivityNameifOther]], [1]!Table2[[#This Row],[WMPInitiativeActivity]])),"_",[1]!Table2[[#This Row],[InitiativeActivityID]], "_",YEAR([1]!Table2[[#This Row],[Submission Date]])) -> BVES_Asset Management & Inspections_LiDAR inspections of distribution electric lines and equipment _BVAMI-007-1_2022 | K44: 120 | L44: Circuit Miles Surveyed | M44: 211 | N44: 0 | O44: 0 | P44: 211 | Q44: 211 | R44: 0 | S44: 0 | T44: 211 | V44: NA | W44: NA | X44: NA | Y44: NA | AA44: In Progress | AB44: NA
A45: ='READ ME FIRST'!$D$12 -> BVES | B45: ='READ ME FIRST'!$D$15 -> 44683 | C45: Asset Management & Inspections | D45: =IF(Table2[[#This Row],[WMPInitiativeCategory]]="", "",INDEX('Initiative mapping-DO NOT EDIT'!$H$3:$H$12, MATCH(Table2[[#This Row],[WMPInitiativeCategory]],'Initiative mapping-DO NOT EDIT'!$G$3:$G$12,0))) -> 7.3.4. | E45: LiDAR inspections of transmission electric lines and equipment | G45: =IF(Table2[[#This Row],[WMPInitiativeActivity]]="","x",IF(Table2[[#This Row],[WMPInitiativeActivity]]="other", Table2[[#This Row],[ActivityNameifOther]], INDEX('Initiative mapping-DO NOT EDIT'!$C$3:$C$91,MATCH(Table2[[#This Row],[WMPInitiativeActivity]],'Initiative mapping-DO NOT EDIT'!$D$3:$D$91,0)))) -> 8 | H45: BVES does not have any transmission level assets and maintains a subtransmission line (34.5kV) that is treated as a higher voltage asset. | I45: BVAMI-008 | J45: =_xlfn.CONCAT([1]!Table2[[#This Row],[UtilityID]],"_", [1]!Table2[[#This Row],[WMPInitiativeCategory]],"_", IF([1]!Table2[[#This Row],[WMPInitiativeActivity]]="","x",IF([1]!Table2[[#This Row],[WMPInitiativeActivity]]="other", [1]!Table2[[#This Row],[ActivityNameifOther]], [1]!Table2[[#This Row],[WMPInitiativeActivity]])),"_",[1]!Table2[[#This Row],[InitiativeActivityID]], "_",YEAR([1]!Table2[[#This Row],[Submission Date]])) -> BVES_Asset Management & Inspections_LiDAR inspections of transmission electric lines and equipment _BVAMI-008_2022 | K45: NA | L45: NA | M45: NA | N45: NA | O45: NA | P45: NA | Q45: NA | R45: NA | S45: NA | T45: NA | V45: NA | W45: NA | X45: NA | Y45: NA | AA45: NA | AB45: NA
A46: ='READ ME FIRST'!$D$12 -> BVES | B46: ='READ ME FIRST'!$D$15 -> 44683 | C46: Asset Management & Inspections | D46: =IF(Table2[[#This Row],[WMPInitiativeCategory]]="", "",INDEX('Initiative mapping-DO NOT EDIT'!$H$3:$H$12, MATCH(Table2[[#This Row],[WMPInitiativeCategory]],'Initiative mapping-DO NOT EDIT'!$G$3:$G$12,0))) -> 7.3.4. | E46: Other discretionary inspection of distribution electric lines and equipment, beyond inspections mandated by rules and regulations | G46: =IF(Table2[[#This Row],[WMPInitiativeActivity]]="","x",IF(Table2[[#This Row],[WMPInitiativeActivity]]="other", Table2[[#This Row],[ActivityNameifOther]], INDEX('Initiative mapping-DO NOT EDIT'!$C$3:$C$91,MATCH(Table2[[#This Row],[WMPInitiativeActivity]],'Initiative mapping-DO NOT EDIT'!$D$3:$D$91,0)))) -> 9 | H46: Third Party Ground Patrol | I46: BVAMI-009 | J46: =_xlfn.CONCAT([1]!Table2[[#This Row],[UtilityID]],"_", [1]!Table2[[#This Row],[WMPInitiativeCategory]],"_", IF([1]!Table2[[#This Row],[WMPInitiativeActivity]]="","x",IF([1]!Table2[[#This Row],[WMPInitiativeActivity]]="other", [1]!Table2[[#This Row],[ActivityNameifOther]], [1]!Table2[[#This Row],[WMPInitiativeActivity]])),"_",[1]!Table2[[#This Row],[InitiativeActivityID]], "_",YEAR([1]!Table2[[#This Row],[Submission Date]])) -> BVES_Asset Management & Inspections_Other discretionary inspection of distribution electric lines and equipment, beyond inspections mandated by rules and regulations _BVAMI-009_2022 | K46: 119 | L46: Circuit Miles Inspected | M46: 211 | N46: 0 | O46: 0 | P46: 211 | Q46: 211 | R46: 0 | S46: 0 | T46: 211 | V46: NA | W46: NA | X46: NA | Y46: NA | AA46: In Progress | AB46: NA
A47: ='READ ME FIRST'!$D$12 -> BVES | B47: ='READ ME FIRST'!$D$15 -> 44683 | C47: Asset Management & Inspections | D47: =IF(Table2[[#This Row],[WMPInitiativeCategory]]="", "",INDEX('Initiative mapping-DO NOT EDIT'!$H$3:$H$12, MATCH(Table2[[#This Row],[WMPInitiativeCategory]],'Initiative mapping-DO NOT EDIT'!$G$3:$G$12,0))) -> 7.3.4. | E47: Other discretionary inspection of distribution electric lines and equipment, beyond inspections mandated by rules and regulations | G47: =IF(Table2[[#This Row],[WMPInitiativeActivity]]="","x",IF(Table2[[#This Row],[WMPInitiativeActivity]]="other", Table2[[#This Row],[ActivityNameifOther]], INDEX('Initiative mapping-DO NOT EDIT'!$C$3:$C$91,MATCH(Table2[[#This Row],[WMPInitiativeActivity]],'Initiative mapping-DO NOT EDIT'!$D$3:$D$91,0)))) -> 9 | H47: UAV HD Photography/Video Program | I47: BVAMI-009-1 | J47: =_xlfn.CONCAT([1]!Table2[[#This Row],[UtilityID]],"_", [1]!Table2[[#This Row],[WMPInitiativeCategory]],"_", IF([1]!Table2[[#This Row],[WMPInitiativeActivity]]="","x",IF([1]!Table2[[#This Row],[WMPInitiativeActivity]]="other", [1]!Table2[[#This Row],[ActivityNameifOther]], [1]!Table2[[#This Row],[WMPInitiativeActivity]])),"_",[1]!Table2[[#This Row],[InitiativeActivityID]], "_",YEAR([1]!Table2[[#This Row],[Submission Date]])) -> BVES_Asset Management & Inspections_Other discretionary inspection of distribution electric lines and equipment, beyond inspections mandated by rules and regulations _BVAMI-009-1_2022 | L47: Circuit Miles Inspected | M47: 211 | N47: 0 | O47: 0 | P47: 211 | Q47: 211 | R47: 0 | S47: 0 | T47: 211 | V47: NA | W47: NA | X47: NA | Y47: NA | AA47: In Progress | AB47: NA
A48: ='READ ME FIRST'!$D$12 -> BVES | B48: ='READ ME FIRST'!$D$15 -> 44683 | C48: Asset Management & Inspections | D48: =IF(Table2[[#This Row],[WMPInitiativeCategory]]="", "",INDEX('Initiative mapping-DO NOT EDIT'!$H$3:$H$12, MATCH(Table2[[#This Row],[WMPInitiativeCategory]],'Initiative mapping-DO NOT EDIT'!$G$3:$G$12,0))) -> 7.3.4. | E48: Other discretionary inspection of transmission electric lines and | G48: =IF(Table2[[#This Row],[WMPInitiativeActivity]]="","x",IF(Table2[[#This Row],[WMPInitiativeActivity]]="other", Table2[[#This Row],[ActivityNameifOther]], INDEX('Initiative mapping-DO NOT EDIT'!$C$3:$C$91,MATCH(Table2[[#This Row],[WMPInitiativeActivity]],'Initiative mapping-DO NOT EDIT'!$D$3:$D$91,0)))) -> 10 | H48: BVES does not have any transmission level assets and maintains a subtransmission line (34.5kV) that is treated as a higher voltage asset. | I48: BVAMI-010 | J48: =_xlfn.CONCAT([1]!Table2[[#This Row],[UtilityID]],"_", [1]!Table2[[#This Row],[WMPInitiativeCategory]],"_", IF([1]!Table2[[#This Row],[WMPInitiativeActivity]]="","x",IF([1]!Table2[[#This Row],[WMPInitiativeActivity]]="other", [1]!Table2[[#This Row],[ActivityNameifOther]], [1]!Table2[[#This Row],[WMPInitiativeActivity]])),"_",[1]!Table2[[#This Row],[InitiativeActivityID]], "_",YEAR([1]!Table2[[#This Row],[Submission Date]])) -> BVES_Asset Management & Inspections_Other discretionary inspection of transmission electric lines and _BVAMI-010_2022 | K48: NA | L48: NA | M48: NA | N48: NA | O48: NA | P48: NA | Q48: NA | R48: NA | S48: NA | T48: NA | V48: NA | W48: NA | X48: NA | Y48: NA | AA48: NA | AB48: NA
A49: ='READ ME FIRST'!$D$12 -> BVES | B49: ='READ ME FIRST'!$D$15 -> 44683 | C49: Asset Management & Inspections | D49: =IF(Table2[[#This Row],[WMPInitiativeCategory]]="", "",INDEX('Initiative mapping-DO NOT EDIT'!$H$3:$H$12, MATCH(Table2[[#This Row],[WMPInitiativeCategory]],'Initiative mapping-DO NOT EDIT'!$G$3:$G$12,0))) -> 7.3.4. | E49: Patrol inspections of distribution electric lines and equipment | G49: =IF(Table2[[#This Row],[WMPInitiativeActivity]]="","x",IF(Table2[[#This Row],[WMPInitiativeActivity]]="other", Table2[[#This Row],[ActivityNameifOther]], INDEX('Initiative mapping-DO NOT EDIT'!$C$3:$C$91,MATCH(Table2[[#This Row],[WMPInitiativeActivity]],'Initiative mapping-DO NOT EDIT'!$D$3:$D$91,0)))) -> 11 | H49: Patrol Inspection Program | I49: BVAMI-011-1 | J49: =_xlfn.CONCAT([1]!Table2[[#This Row],[UtilityID]],"_", [1]!Table2[[#This Row],[WMPInitiativeCategory]],"_", IF([1]!Table2[[#This Row],[WMPInitiativeActivity]]="","x",IF([1]!Table2[[#This Row],[WMPInitiativeActivity]]="other", [1]!Table2[[#This Row],[ActivityNameifOther]], [1]!Table2[[#This Row],[WMPInitiativeActivity]])),"_",[1]!Table2[[#This Row],[InitiativeActivityID]], "_",YEAR([1]!Table2[[#This Row],[Submission Date]])) -> BVES_Asset Management & Inspections_Patrol inspections of distribution electric lines and equipment _BVAMI-011-1_2022 | K49: 118 | L49: Circuit Miles Inspected | M49: 211 | N49: 25 | O49: 75 | P49: 211 | Q49: 211 | R49: 83.2 | S49: 83.2 | T49: 158.16 | V49: NA | W49: NA | X49: NA | Y49: NA | AA49: In Progress | AB49: NA
A50: ='READ ME FIRST'!$D$12 -> BVES | B50: ='READ ME FIRST'!$D$15 -> 44683 | C50: Asset Management & Inspections | D50: =IF(Table2[[#This Row],[WMPInitiativeCategory]]="", "",INDEX('Initiative mapping-DO NOT EDIT'!$H$3:$H$12, MATCH(Table2[[#This Row],[WMPInitiativeCategory]],'Initiative mapping-DO NOT EDIT'!$G$3:$G$12,0))) -> 7.3.4. | E50: Patrol inspections of transmission electric lines and equipment | G50: =IF(Table2[[#This Row],[WMPInitiativeActivity]]="","x",IF(Table2[[#This Row],[WMPInitiativeActivity]]="other", Table2[[#This Row],[ActivityNameifOther]], INDEX('Initiative mapping-DO NOT EDIT'!$C$3:$C$91,MATCH(Table2[[#This Row],[WMPInitiativeActivity]],'Initiative mapping-DO NOT EDIT'!$D$3:$D$91,0)))) -> 12 | H50: BVES does not have any transmission level assets and maintains a subtransmission line (34.5kV) that is treated as a higher voltage asset. | I50: BVAMI-012 | J50: =_xlfn.CONCAT([1]!Table2[[#This Row],[UtilityID]],"_", [1]!Table2[[#This Row],[WMPInitiativeCategory]],"_", IF([1]!Table2[[#This Row],[WMPInitiativeActivity]]="","x",IF([1]!Table2[[#This Row],[WMPInitiativeActivity]]="other", [1]!Table2[[#This Row],[ActivityNameifOther]], [1]!Table2[[#This Row],[WMPInitiativeActivity]])),"_",[1]!Table2[[#This Row],[InitiativeActivityID]], "_",YEAR([1]!Table2[[#This Row],[Submission Date]])) -> BVES_Asset Management & Inspections_Patrol inspections of transmission electric lines and equipment _BVAMI-012_2022 | K50: NA | L50: NA | M50: NA | N50: NA | O50: NA | P50: NA | Q50: NA | R50: NA | S50: NA | T50: NA | V50: NA | W50: NA | X50: NA | Y50: NA | AA50: NA | AB50: NA
A51: ='READ ME FIRST'!$D$12 -> BVES | B51: ='READ ME FIRST'!$D$15 -> 44683 | C51: Asset Management & Inspections | D51: =IF(Table2[[#This Row],[WMPInitiativeCategory]]="", "",INDEX('Initiative mapping-DO NOT EDIT'!$H$3:$H$12, MATCH(Table2[[#This Row],[WMPInitiativeCategory]],'Initiative mapping-DO NOT EDIT'!$G$3:$G$12,0))) -> 7.3.4. | E51: Pole loading assessment program to determine safety factor | G51: =IF(Table2[[#This Row],[WMPInitiativeActivity]]="","x",IF(Table2[[#This Row],[WMPInitiativeActivity]]="other", Table2[[#This Row],[ActivityNameifOther]], INDEX('Initiative mapping-DO NOT EDIT'!$C$3:$C$91,MATCH(Table2[[#This Row],[WMPInitiativeActivity]],'Initiative mapping-DO NOT EDIT'!$D$3:$D$91,0)))) -> 13 | H51: Pole Loading & Replacement Program | I51: BVGDSH-015-3 BVAMI-013 | J51: =_xlfn.CONCAT([1]!Table2[[#This Row],[UtilityID]],"_", [1]!Table2[[#This Row],[WMPInitiativeCategory]],"_", IF([1]!Table2[[#This Row],[WMPInitiativeActivity]]="","x",IF([1]!Table2[[#This Row],[WMPInitiativeActivity]]="other", [1]!Table2[[#This Row],[ActivityNameifOther]], [1]!Table2[[#This Row],[WMPInitiativeActivity]])),"_",[1]!Table2[[#This Row],[InitiativeActivityID]], "_",YEAR([1]!Table2[[#This Row],[Submission Date]])) -> BVES_Asset Management & Inspections_Pole loading assessment program to determine safety factor _BVGDSH-015-3 BVAMI-013_2022 | K51: 113 | L51: Number of Poles Assessed | M51: 225 | N51: 0 | O51: 75 | P51: 150 | Q51: 225 | R51: 28 | S51: 148 | T51: 294 | V51: NA | W51: NA | X51: NA | Y51: NA | AA51: In Progress | AB51: NA
A52: ='READ ME FIRST'!$D$12 -> BVES | B52: ='READ ME FIRST'!$D$15 -> 44683 | C52: Asset Management & Inspections | D52: =IF(Table2[[#This Row],[WMPInitiativeCategory]]="", "",INDEX('Initiative mapping-DO NOT EDIT'!$H$3:$H$12, MATCH(Table2[[#This Row],[WMPInitiativeCategory]],'Initiative mapping-DO NOT EDIT'!$G$3:$G$12,0))) -> 7.3.4. | E52: Quality assurance / quality control of inspections | G52: =IF(Table2[[#This Row],[WMPInitiativeActivity]]="","x",IF(Table2[[#This Row],[WMPInitiativeActivity]]="other", Table2[[#This Row],[ActivityNameifOther]], INDEX('Initiative mapping-DO NOT EDIT'!$C$3:$C$91,MATCH(Table2[[#This Row],[WMPInitiativeActivity]],'Initiative mapping-DO NOT EDIT'!$D$3:$D$91,0)))) -> 14 | H52: Quality Control of Inspections | I52: BVAMI-014-1 | J52: =_xlfn.CONCAT([1]!Table2[[#This Row],[UtilityID]],"_", [1]!Table2[[#This Row],[WMPInitiativeCategory]],"_", IF([1]!Table2[[#This Row],[WMPInitiativeActivity]]="","x",IF([1]!Table2[[#This Row],[WMPInitiativeActivity]]="other", [1]!Table2[[#This Row],[ActivityNameifOther]], [1]!Table2[[#This Row],[WMPInitiativeActivity]])),"_",[1]!Table2[[#This Row],[InitiativeActivityID]], "_",YEAR([1]!Table2[[#This Row],[Submission Date]])) -> BVES_Asset Management & Inspections_Quality assurance / quality control of inspections _BVAMI-014-1_2022 | K52: 63 | L52: NA | M52: NA | N52: NA | O52: NA | P52: NA | Q52: NA | R52: NA | S52: NA | T52: NA | V52: NA | W52: NA | X52: NA | Y52: NA | AA52: Planned | AB52: NA
A53: ='READ ME FIRST'!$D$12 -> BVES | B53: ='READ ME FIRST'!$D$15 -> 44683 | C53: Asset Management & Inspections | D53: =IF(Table2[[#This Row],[WMPInitiativeCategory]]="", "",INDEX('Initiative mapping-DO NOT EDIT'!$H$3:$H$12, MATCH(Table2[[#This Row],[WMPInitiativeCategory]],'Initiative mapping-DO NOT EDIT'!$G$3:$G$12,0))) -> 7.3.4. | E53: Substation inspections | G53: =IF(Table2[[#This Row],[WMPInitiativeActivity]]="","x",IF(Table2[[#This Row],[WMPInitiativeActivity]]="other", Table2[[#This Row],[ActivityNameifOther]], INDEX('Initiative mapping-DO NOT EDIT'!$C$3:$C$91,MATCH(Table2[[#This Row],[WMPInitiativeActivity]],'Initiative mapping-DO NOT EDIT'!$D$3:$D$91,0)))) -> 15 | H53: GO-174 Substation Inspection Program | I53: BVAMI-015-1 | J53: =_xlfn.CONCAT([1]!Table2[[#This Row],[UtilityID]],"_", [1]!Table2[[#This Row],[WMPInitiativeCategory]],"_", IF([1]!Table2[[#This Row],[WMPInitiativeActivity]]="","x",IF([1]!Table2[[#This Row],[WMPInitiativeActivity]]="other", [1]!Table2[[#This Row],[ActivityNameifOther]], [1]!Table2[[#This Row],[WMPInitiativeActivity]])),"_",[1]!Table2[[#This Row],[InitiativeActivityID]], "_",YEAR([1]!Table2[[#This Row],[Submission Date]])) -> BVES_Asset Management & Inspections_Substation inspections _BVAMI-015-1_2022 | K53: 63 | L53: Number of Monthly Substations Inspected | M53: 144 | N53: 36 | O53: 72 | P53: 108 | Q53: 144 | R53: 39 | S53: 78 | T53: 117 | V53: NA | W53: NA | X53: NA | Y53: NA | AA53: In Progress | AB53: NA
A54: ='READ ME FIRST'!$D$12 -> BVES | B54: ='READ ME FIRST'!$D$15 -> 44683 | C54: Vegetation Management & Inspections | D54: =IF(Table2[[#This Row],[WMPInitiativeCategory]]="", "",INDEX('Initiative mapping-DO NOT EDIT'!$H$3:$H$12, MATCH(Table2[[#This Row],[WMPInitiativeCategory]],'Initiative mapping-DO NOT EDIT'!$G$3:$G$12,0))) -> 7.3.5. | E54: Additional efforts to manage community and environmental impacts | G54: =IF(Table2[[#This Row],[WMPInitiativeActivity]]="","x",IF(Table2[[#This Row],[WMPInitiativeActivity]]="other", Table2[[#This Row],[ActivityNameifOther]], INDEX('Initiative mapping-DO NOT EDIT'!$C$3:$C$91,MATCH(Table2[[#This Row],[WMPInitiativeActivity]],'Initiative mapping-DO NOT EDIT'!$D$3:$D$91,0)))) -> 1 | H54: Contracted Forester Service // Environmental Impact Mitigation Activities | I54: BVVMI-001 | J54: =_xlfn.CONCAT([1]!Table2[[#This Row],[UtilityID]],"_", [1]!Table2[[#This Row],[WMPInitiativeCategory]],"_", IF([1]!Table2[[#This Row],[WMPInitiativeActivity]]="","x",IF([1]!Table2[[#This Row],[WMPInitiativeActivity]]="other", [1]!Table2[[#This Row],[ActivityNameifOther]], [1]!Table2[[#This Row],[WMPInitiativeActivity]])),"_",[1]!Table2[[#This Row],[InitiativeActivityID]], "_",YEAR([1]!Table2[[#This Row],[Submission Date]])) -> BVES_Vegetation Management & Inspections_Additional efforts to manage community and environmental impacts _BVVMI-001_2022 | K54: NA | L54: NA | M54: NA | N54: NA | O54: NA | P54: NA | Q54: NA | R54: NA | S54: NA | T54: NA | V54: Information exchange and coordination with land management agencies | W54: NA | X54: NA | Y54: NA | AA54: In Progress | AB54: NA
A55: ='READ ME FIRST'!$D$12 -> BVES | B55: ='READ ME FIRST'!$D$15 -> 44683 | C55: Vegetation Management & Inspections | D55: =IF(Table2[[#This Row],[WMPInitiativeCategory]]="", "",INDEX('Initiative mapping-DO NOT EDIT'!$H$3:$H$12, MATCH(Table2[[#This Row],[WMPInitiativeCategory]],'Initiative mapping-DO NOT EDIT'!$G$3:$G$12,0))) -> 7.3.5. | E55: Detailed inspections and management practices for vegetation clearances around distribution electrical lines and equipment | G55: =IF(Table2[[#This Row],[WMPInitiativeActivity]]="","x",IF(Table2[[#This Row],[WMPInitiativeActivity]]="other", Table2[[#This Row],[ActivityNameifOther]], INDEX('Initiative mapping-DO NOT EDIT'!$C$3:$C$91,MATCH(Table2[[#This Row],[WMPInitiativeActivity]],'Initiative mapping-DO NOT EDIT'!$D$3:$D$91,0)))) -> 2 | H55: Detailed Inspection Program | I55: BVAMI-001-2 BVVMI-002 | J55: =_xlfn.CONCAT([1]!Table2[[#This Row],[UtilityID]],"_", [1]!Table2[[#This Row],[WMPInitiativeCategory]],"_", IF([1]!Table2[[#This Row],[WMPInitiativeActivity]]="","x",IF([1]!Table2[[#This Row],[WMPInitiativeActivity]]="other", [1]!Table2[[#This Row],[ActivityNameifOther]], [1]!Table2[[#This Row],[WMPInitiativeActivity]])),"_",[1]!Table2[[#This Row],[InitiativeActivityID]], "_",YEAR([1]!Table2[[#This Row],[Submission Date]])) -> BVES_Vegetation Management & Inspections_Detailed inspections and management practices for vegetation clearances around distribution electrical lines and equipment_BVAMI-001-2 BVVMI-002_2022 | K55: 119 | L55: Circuit Miles Inspected | M55: 29 | N55: 0 | O55: 5 | P55: 11 | Q55: 29 | R55: 0 | S55: 29.58 | T55: 29.58 | V55: NA | W55: NA | X55: NA | Y55: NA | AA55: In Progress | AB55: NA
A56: ='READ ME FIRST'!$D$12 -> BVES | B56: ='READ ME FIRST'!$D$15 -> 44683 | C56: Vegetation Management & Inspections | D56: =IF(Table2[[#This Row],[WMPInitiativeCategory]]="", "",INDEX('Initiative mapping-DO NOT EDIT'!$H$3:$H$12, MATCH(Table2[[#This Row],[WMPInitiativeCategory]],'Initiative mapping-DO NOT EDIT'!$G$3:$G$12,0))) -> 7.3.5. | E56: Detailed inspections and management practices for vegetation clearances around transmission electrical lines and equipment | G56: =IF(Table2[[#This Row],[WMPInitiativeActivity]]="","x",IF(Table2[[#This Row],[WMPInitiativeActivity]]="other", Table2[[#This Row],[ActivityNameifOther]], INDEX('Initiative mapping-DO NOT EDIT'!$C$3:$C$91,MATCH(Table2[[#This Row],[WMPInitiativeActivity]],'Initiative mapping-DO NOT EDIT'!$D$3:$D$91,0)))) -> 3 | H56: BVES does not have any transmission level assets and maintains a subtransmission line (34.5kV) that is treated as a higher voltage asset. | I56: BVVMI-003 | J56: =_xlfn.CONCAT([1]!Table2[[#This Row],[UtilityID]],"_", [1]!Table2[[#This Row],[WMPInitiativeCategory]],"_", IF([1]!Table2[[#This Row],[WMPInitiativeActivity]]="","x",IF([1]!Table2[[#This Row],[WMPInitiativeActivity]]="other", [1]!Table2[[#This Row],[ActivityNameifOther]], [1]!Table2[[#This Row],[WMPInitiativeActivity]])),"_",[1]!Table2[[#This Row],[InitiativeActivityID]], "_",YEAR([1]!Table2[[#This Row],[Submission Date]])) -> BVES_Vegetation Management & Inspections_Detailed inspections and management practices for vegetation clearances around transmission electrical lines and equipment_BVVMI-003_2022 | K56: NA | L56: NA | M56: NA | N56: NA | O56: NA | P56: NA | Q56: NA | R56: NA | S56: NA | T56: NA | V56: NA | W56: NA | X56: NA | Y56: NA | AA56: NA | AB56: NA
A57: ='READ ME FIRST'!$D$12 -> BVES | B57: ='READ ME FIRST'!$D$15 -> 44683 | C57: Vegetation Management & Inspections | D57: =IF(Table2[[#This Row],[WMPInitiativeCategory]]="", "",INDEX('Initiative mapping-DO NOT EDIT'!$H$3:$H$12, MATCH(Table2[[#This Row],[WMPInitiativeCategory]],'Initiative mapping-DO NOT EDIT'!$G$3:$G$12,0))) -> 7.3.5. | E57: Emergency response vegetation management due to red flag warning or other urgent weather conditions | G57: =IF(Table2[[#This Row],[WMPInitiativeActivity]]="","x",IF(Table2[[#This Row],[WMPInitiativeActivity]]="other", Table2[[#This Row],[ActivityNameifOther]], INDEX('Initiative mapping-DO NOT EDIT'!$C$3:$C$91,MATCH(Table2[[#This Row],[WMPInitiativeActivity]],'Initiative mapping-DO NOT EDIT'!$D$3:$D$91,0)))) -> 4 | H57: Emergency Preparedness & Response Program | I57: BVEPP-004-7 BVVMI-004 | J57: =_xlfn.CONCAT([1]!Table2[[#This Row],[UtilityID]],"_", [1]!Table2[[#This Row],[WMPInitiativeCategory]],"_", IF([1]!Table2[[#This Row],[WMPInitiativeActivity]]="","x",IF([1]!Table2[[#This Row],[WMPInitiativeActivity]]="other", [1]!Table2[[#This Row],[ActivityNameifOther]], [1]!Table2[[#This Row],[WMPInitiativeActivity]])),"_",[1]!Table2[[#This Row],[InitiativeActivityID]], "_",YEAR([1]!Table2[[#This Row],[Submission Date]])) -> BVES_Vegetation Management & Inspections_Emergency response vegetation management due to red flag warning or other urgent weather conditions _BVEPP-004-7 BVVMI-004_2022 | K57: 63 | L57: NA | M57: NA | N57: NA | O57: NA | P57: NA | Q57: NA | R57: NA | S57: NA | T57: NA | V57: NA | W57: NA | X57: NA | Y57: NA | AA57: In Progress | AB57: NA
A58: ='READ ME FIRST'!$D$12 -> BVES | B58: ='READ ME FIRST'!$D$15 -> 44683 | C58: Vegetation Management & Inspections | D58: =IF(Table2[[#This Row],[WMPInitiativeCategory]]="", "",INDEX('Initiative mapping-DO NOT EDIT'!$H$3:$H$12, MATCH(Table2[[#This Row],[WMPInitiativeCategory]],'Initiative mapping-DO NOT EDIT'!$G$3:$G$12,0))) -> 7.3.5. | E58: Fuel management (including all wood management) and management of “slash” from vegetation management activities | G58: =IF(Table2[[#This Row],[WMPInitiativeActivity]]="","x",IF(Table2[[#This Row],[WMPInitiativeActivity]]="other", Table2[[#This Row],[ActivityNameifOther]], INDEX('Initiative mapping-DO NOT EDIT'!$C$3:$C$91,MATCH(Table2[[#This Row],[WMPInitiativeActivity]],'Initiative mapping-DO NOT EDIT'!$D$3:$D$91,0)))) -> 5 | H58: Enhanced Vegetation Management Program | I58: BVVMI-015-2 | J58: =_xlfn.CONCAT([1]!Table2[[#This Row],[UtilityID]],"_", [1]!Table2[[#This Row],[WMPInitiativeCategory]],"_", IF([1]!Table2[[#This Row],[WMPInitiativeActivity]]="","x",IF([1]!Table2[[#This Row],[WMPInitiativeActivity]]="other", [1]!Table2[[#This Row],[ActivityNameifOther]], [1]!Table2[[#This Row],[WMPInitiativeActivity]])),"_",[1]!Table2[[#This Row],[InitiativeActivityID]], "_",YEAR([1]!Table2[[#This Row],[Submission Date]])) -> BVES_Vegetation Management & Inspections_Fuel management (including all wood management) and management of “slash” from vegetation management activities _BVVMI-015-2_2022 | K58: 63 | L58: NA | M58: NA | N58: NA | O58: NA | P58: NA | Q58: NA | R58: NA | S58: NA | T58: NA | V58: Contractor removes veg waste as part of contract on daily basis | W58: Contractor meets requirements | X58: Contractor meets requirements | Y58: Contractor meets requirements | AA58: In Progress | AB58: NA
A59: ='READ ME FIRST'!$D$12 -> BVES | B59: ='READ ME FIRST'!$D$15 -> 44683 | C59: Vegetation Management & Inspections | D59: =IF(Table2[[#This Row],[WMPInitiativeCategory]]="", "",INDEX('Initiative mapping-DO NOT EDIT'!$H$3:$H$12, MATCH(Table2[[#This Row],[WMPInitiativeCategory]],'Initiative mapping-DO NOT EDIT'!$G$3:$G$12,0))) -> 7.3.5. | E59: Improvement of inspections | G59: =IF(Table2[[#This Row],[WMPInitiativeActivity]]="","x",IF(Table2[[#This Row],[WMPInitiativeActivity]]="other", Table2[[#This Row],[ActivityNameifOther]], INDEX('Initiative mapping-DO NOT EDIT'!$C$3:$C$91,MATCH(Table2[[#This Row],[WMPInitiativeActivity]],'Initiative mapping-DO NOT EDIT'!$D$3:$D$91,0)))) -> 6 | H59: Quality Control of Inspections | I59: BVVMI-005 | J59: =_xlfn.CONCAT([1]!Table2[[#This Row],[UtilityID]],"_", [1]!Table2[[#This Row],[WMPInitiativeCategory]],"_", IF([1]!Table2[[#This Row],[WMPInitiativeActivity]]="","x",IF([1]!Table2[[#This Row],[WMPInitiativeActivity]]="other", [1]!Table2[[#This Row],[ActivityNameifOther]], [1]!Table2[[#This Row],[WMPInitiativeActivity]])),"_",[1]!Table2[[#This Row],[InitiativeActivityID]], "_",YEAR([1]!Table2[[#This Row],[Submission Date]])) -> BVES_Vegetation Management & Inspections_Improvement of inspections_BVVMI-005_2022 | K59: NA | L59: Number of Vegetation Management Audits | M59: 4 | N59: 1 | O59: 2 | P59: 3 | Q59: 4 | R59: 2 | S59: 3 | T59: 4 | V59: NA | W59: NA | X59: NA | Y59: NA | AA59: NA | AB59: NA
A60: ='READ ME FIRST'!$D$12 -> BVES | B60: ='READ ME FIRST'!$D$15 -> 44683 | C60: Vegetation Management & Inspections | D60: =IF(Table2[[#This Row],[WMPInitiativeCategory]]="", "",INDEX('Initiative mapping-DO NOT EDIT'!$H$3:$H$12, MATCH(Table2[[#This Row],[WMPInitiativeCategory]],'Initiative mapping-DO NOT EDIT'!$G$3:$G$12,0))) -> 7.3.5. | E60: Remote sensing inspections of vegetation around distribution electric lines and equipment | G60: =IF(Table2[[#This Row],[WMPInitiativeActivity]]="","x",IF(Table2[[#This Row],[WMPInitiativeActivity]]="other", Table2[[#This Row],[ActivityNameifOther]], INDEX('Initiative mapping-DO NOT EDIT'!$C$3:$C$91,MATCH(Table2[[#This Row],[WMPInitiativeActivity]],'Initiative mapping-DO NOT EDIT'!$D$3:$D$91,0)))) -> 7 | H60: LiDAR Inspection Program | I60: BVAMI-007-2 BVVMI-006 | J60: =_xlfn.CONCAT([1]!Table2[[#This Row],[UtilityID]],"_", [1]!Table2[[#This Row],[WMPInitiativeCategory]],"_", IF([1]!Table2[[#This Row],[WMPInitiativeActivity]]="","x",IF([1]!Table2[[#This Row],[WMPInitiativeActivity]]="other", [1]!Table2[[#This Row],[ActivityNameifOther]], [1]!Table2[[#This Row],[WMPInitiativeActivity]])),"_",[1]!Table2[[#This Row],[InitiativeActivityID]], "_",YEAR([1]!Table2[[#This Row],[Submission Date]])) -> BVES_Vegetation Management & Inspections_Remote sensing inspections of vegetation around distribution electric lines and equipment_BVAMI-007-2 BVVMI-006_2022 | K60: 120 | L60: Circuit Miles Surveyed | M60: 211 | N60: 0 | O60: 0 | P60: 211 | Q60: 211 | R60: 0 | S60: 0 | T60: 211 | V60: NA | W60: NA | X60: NA | Y60: NA | AA60: In Progress | AB60: NA
A61: ='READ ME FIRST'!$D$12 -> BVES | B61: ='READ ME FIRST'!$D$15 -> 44683 | C61: Vegetation Management & Inspections | D61: =IF(Table2[[#This Row],[WMPInitiativeCategory]]="", "",INDEX('Initiative mapping-DO NOT EDIT'!$H$3:$H$12, MATCH(Table2[[#This Row],[WMPInitiativeCategory]],'Initiative mapping-DO NOT EDIT'!$G$3:$G$12,0))) -> 7.3.5. | E61: Remote sensing inspections of vegetation around transmission electric lines and equipment | G61: =IF(Table2[[#This Row],[WMPInitiativeActivity]]="","x",IF(Table2[[#This Row],[WMPInitiativeActivity]]="other", Table2[[#This Row],[ActivityNameifOther]], INDEX('Initiative mapping-DO NOT EDIT'!$C$3:$C$91,MATCH(Table2[[#This Row],[WMPInitiativeActivity]],'Initiative mapping-DO NOT EDIT'!$D$3:$D$91,0)))) -> 8 | H61: BVES does not have any transmission level assets and maintains a subtransmission line (34.5kV) that is treated as a higher voltage asset. | I61: BVVMI-007 | J61: =_xlfn.CONCAT([1]!Table2[[#This Row],[UtilityID]],"_", [1]!Table2[[#This Row],[WMPInitiativeCategory]],"_", IF([1]!Table2[[#This Row],[WMPInitiativeActivity]]="","x",IF([1]!Table2[[#This Row],[WMPInitiativeActivity]]="other", [1]!Table2[[#This Row],[ActivityNameifOther]], [1]!Table2[[#This Row],[WMPInitiativeActivity]])),"_",[1]!Table2[[#This Row],[InitiativeActivityID]], "_",YEAR([1]!Table2[[#This Row],[Submission Date]])) -> BVES_Vegetation Management & Inspections_Remote sensing inspections of vegetation around transmission electric lines and equipment_BVVMI-007_2022 | K61: NA | L61: NA | M61: NA | N61: NA | O61: NA | P61: NA | Q61: NA | R61: NA | S61: NA | T61: NA | V61: NA | W61: NA | X61: NA | Y61: NA | AA61: NA | AB61: NA
A62: ='READ ME FIRST'!$D$12 -> BVES | B62: ='READ ME FIRST'!$D$15 -> 44683 | C62: Vegetation Management & Inspections | D62: =IF(Table2[[#This Row],[WMPInitiativeCategory]]="", "",INDEX('Initiative mapping-DO NOT EDIT'!$H$3:$H$12, MATCH(Table2[[#This Row],[WMPInitiativeCategory]],'Initiative mapping-DO NOT EDIT'!$G$3:$G$12,0))) -> 7.3.5. | E62: Other discretionary inspections of vegetation around distribution electric lines and equipment | G62: =IF(Table2[[#This Row],[WMPInitiativeActivity]]="","x",IF(Table2[[#This Row],[WMPInitiativeActivity]]="other", Table2[[#This Row],[ActivityNameifOther]], INDEX('Initiative mapping-DO NOT EDIT'!$C$3:$C$91,MATCH(Table2[[#This Row],[WMPInitiativeActivity]],'Initiative mapping-DO NOT EDIT'!$D$3:$D$91,0)))) -> 9 | H62: Third Party Ground Patrol | I62: BVVMI-008 | J62: =_xlfn.CONCAT([1]!Table2[[#This Row],[UtilityID]],"_", [1]!Table2[[#This Row],[WMPInitiativeCategory]],"_", IF([1]!Table2[[#This Row],[WMPInitiativeActivity]]="","x",IF([1]!Table2[[#This Row],[WMPInitiativeActivity]]="other", [1]!Table2[[#This Row],[ActivityNameifOther]], [1]!Table2[[#This Row],[WMPInitiativeActivity]])),"_",[1]!Table2[[#This Row],[InitiativeActivityID]], "_",YEAR([1]!Table2[[#This Row],[Submission Date]])) -> BVES_Vegetation Management & Inspections_Other discretionary inspections of vegetation around distribution electric lines and equipment _BVVMI-008_2022 | K62: 122 | L62: Circuit Miles Inspected | M62: 211 | N62: 0 | O62: 0 | P62: 211 | Q62: 211 | R62: 0 | S62: 0 | T62: 211 | V62: NA | W62: NA | X62: NA | Y62: NA | AA62: In Progress | AB62: NA
A63: ='READ ME FIRST'!$D$12 -> BVES | B63: ='READ ME FIRST'!$D$15 -> 44683 | C63: Vegetation Management & Inspections | D63: =IF(Table2[[#This Row],[WMPInitiativeCategory]]="", "",INDEX('Initiative mapping-DO NOT EDIT'!$H$3:$H$12, MATCH(Table2[[#This Row],[WMPInitiativeCategory]],'Initiative mapping-DO NOT EDIT'!$G$3:$G$12,0))) -> 7.3.5. | E63: Other discretionary inspections of vegetation around distribution electric lines and equipment | G63: =IF(Table2[[#This Row],[WMPInitiativeActivity]]="","x",IF(Table2[[#This Row],[WMPInitiativeActivity]]="other", Table2[[#This Row],[ActivityNameifOther]], INDEX('Initiative mapping-DO NOT EDIT'!$C$3:$C$91,MATCH(Table2[[#This Row],[WMPInitiativeActivity]],'Initiative mapping-DO NOT EDIT'!$D$3:$D$91,0)))) -> 9 | H63: UAV HD Photography/Video Program | J63: =_xlfn.CONCAT([1]!Table2[[#This Row],[UtilityID]],"_", [1]!Table2[[#This Row],[WMPInitiativeCategory]],"_", IF([1]!Table2[[#This Row],[WMPInitiativeActivity]]="","x",IF([1]!Table2[[#This Row],[WMPInitiativeActivity]]="other", [1]!Table2[[#This Row],[ActivityNameifOther]], [1]!Table2[[#This Row],[WMPInitiativeActivity]])),"_",[1]!Table2[[#This Row],[InitiativeActivityID]], "_",YEAR([1]!Table2[[#This Row],[Submission Date]])) -> BVES_Vegetation Management & Inspections_Other discretionary inspections of vegetation around distribution electric lines and equipment __2022 | L63: Circuit Miles Inspected (UAV) | M63: 211 | N63: 0 | O63: 0 | P63: 211 | Q63: 211 | R63: 0 | S63: 0 | T63: 211 | V63: NA | W63: NA | X63: NA | Y63: NA | AA63: In Progress | AB63: NA
A64: ='READ ME FIRST'!$D$12 -> BVES | B64: ='READ ME FIRST'!$D$15 -> 44683 | C64: Vegetation Management & Inspections | D64: =IF(Table2[[#This Row],[WMPInitiativeCategory]]="", "",INDEX('Initiative mapping-DO NOT EDIT'!$H$3:$H$12, MATCH(Table2[[#This Row],[WMPInitiativeCategory]],'Initiative mapping-DO NOT EDIT'!$G$3:$G$12,0))) -> 7.3.5. | E64: Other discretionary inspection of transmission electric lines and | G64: =IF(Table2[[#This Row],[WMPInitiativeActivity]]="","x",IF(Table2[[#This Row],[WMPInitiativeActivity]]="other", Table2[[#This Row],[ActivityNameifOther]], INDEX('Initiative mapping-DO NOT EDIT'!$C$3:$C$91,MATCH(Table2[[#This Row],[WMPInitiativeActivity]],'Initiative mapping-DO NOT EDIT'!$D$3:$D$91,0)))) -> 10 | H64: BVES does not have any transmission level assets and maintains a subtransmission line (34.5kV) that is treated as a higher voltage asset. | I64: BVVMI-009 | J64: =_xlfn.CONCAT([1]!Table2[[#This Row],[UtilityID]],"_", [1]!Table2[[#This Row],[WMPInitiativeCategory]],"_", IF([1]!Table2[[#This Row],[WMPInitiativeActivity]]="","x",IF([1]!Table2[[#This Row],[WMPInitiativeActivity]]="other", [1]!Table2[[#This Row],[ActivityNameifOther]], [1]!Table2[[#This Row],[WMPInitiativeActivity]])),"_",[1]!Table2[[#This Row],[InitiativeActivityID]], "_",YEAR([1]!Table2[[#This Row],[Submission Date]])) -> BVES_Vegetation Management & Inspections_Other discretionary inspection of transmission electric lines and _BVVMI-009_2022 | K64: NA | L64: NA | M64: NA | N64: NA | O64: NA | P64: NA | Q64: NA | R64: NA | S64: NA | T64: NA | V64: NA | W64: NA | X64: NA | Y64: NA | AA64: NA | AB64: NA
A65: ='READ ME FIRST'!$D$12 -> BVES | B65: ='READ ME FIRST'!$D$15 -> 44683 | C65: Vegetation Management & Inspections | D65: =IF(Table2[[#This Row],[WMPInitiativeCategory]]="", "",INDEX('Initiative mapping-DO NOT EDIT'!$H$3:$H$12, MATCH(Table2[[#This Row],[WMPInitiativeCategory]],'Initiative mapping-DO NOT EDIT'!$G$3:$G$12,0))) -> 7.3.5. | E65: Patrol inspections of vegetation around distribution electric lines and equipment | G65: =IF(Table2[[#This Row],[WMPInitiativeActivity]]="","x",IF(Table2[[#This Row],[WMPInitiativeActivity]]="other", Table2[[#This Row],[ActivityNameifOther]], INDEX('Initiative mapping-DO NOT EDIT'!$C$3:$C$91,MATCH(Table2[[#This Row],[WMPInitiativeActivity]],'Initiative mapping-DO NOT EDIT'!$D$3:$D$91,0)))) -> 11 | H65: Patrol Inspection Program | I65: BVAMI-011-2 BVVMI-010 | J65: =_xlfn.CONCAT([1]!Table2[[#This Row],[UtilityID]],"_", [1]!Table2[[#This Row],[WMPInitiativeCategory]],"_", IF([1]!Table2[[#This Row],[WMPInitiativeActivity]]="","x",IF([1]!Table2[[#This Row],[WMPInitiativeActivity]]="other", [1]!Table2[[#This Row],[ActivityNameifOther]], [1]!Table2[[#This Row],[WMPInitiativeActivity]])),"_",[1]!Table2[[#This Row],[InitiativeActivityID]], "_",YEAR([1]!Table2[[#This Row],[Submission Date]])) -> BVES_Vegetation Management & Inspections_Patrol inspections of vegetation around distribution electric lines and equipment _BVAMI-011-2 BVVMI-010_2022 | K65: 91 | L65: Circuit Miles Inspected | M65: 211 | N65: 25 | O65: 75 | P65: 211 | Q65: 211 | R65: 83.2 | S65: 83.2 | T65: 158.16 | V65: NA | W65: NA | X65: NA | Y65: NA | AA65: In Progress | AB65: NA
A66: ='READ ME FIRST'!$D$12 -> BVES | B66: ='READ ME FIRST'!$D$15 -> 44683 | C66: Vegetation Management & Inspections | D66: =IF(Table2[[#This Row],[WMPInitiativeCategory]]="", "",INDEX('Initiative mapping-DO NOT EDIT'!$H$3:$H$12, MATCH(Table2[[#This Row],[WMPInitiativeCategory]],'Initiative mapping-DO NOT EDIT'!$G$3:$G$12,0))) -> 7.3.5. | E66: Patrol inspections of vegetation around transmission electric lines and equipment | G66: =IF(Table2[[#This Row],[WMPInitiativeActivity]]="","x",IF(Table2[[#This Row],[WMPInitiativeActivity]]="other", Table2[[#This Row],[ActivityNameifOther]], INDEX('Initiative mapping-DO NOT EDIT'!$C$3:$C$91,MATCH(Table2[[#This Row],[WMPInitiativeActivity]],'Initiative mapping-DO NOT EDIT'!$D$3:$D$91,0)))) -> 12 | H66: BVES does not have any transmission level assets and maintains a subtransmission line (34.5kV) that is treated as a higher voltage asset. | I66: BVVMI-011 | J66: =_xlfn.CONCAT([1]!Table2[[#This Row],[UtilityID]],"_", [1]!Table2[[#This Row],[WMPInitiativeCategory]],"_", IF([1]!Table2[[#This Row],[WMPInitiativeActivity]]="","x",IF([1]!Table2[[#This Row],[WMPInitiativeActivity]]="other", [1]!Table2[[#This Row],[ActivityNameifOther]], [1]!Table2[[#This Row],[WMPInitiativeActivity]])),"_",[1]!Table2[[#This Row],[InitiativeActivityID]], "_",YEAR([1]!Table2[[#This Row],[Submission Date]])) -> BVES_Vegetation Management & Inspections_Patrol inspections of vegetation around transmission electric lines and equipment _BVVMI-011_2022 | K66: NA | L66: NA | M66: NA | N66: NA | O66: NA | P66: NA | Q66: NA | R66: NA | S66: NA | T66: NA | V66: NA | W66: NA | X66: NA | Y66: NA | AA66: NA | AB66: NA
A67: ='READ ME FIRST'!$D$12 -> BVES | B67: ='READ ME FIRST'!$D$15 -> 44683 | C67: Vegetation Management & Inspections | D67: =IF(Table2[[#This Row],[WMPInitiativeCategory]]="", "",INDEX('Initiative mapping-DO NOT EDIT'!$H$3:$H$12, MATCH(Table2[[#This Row],[WMPInitiativeCategory]],'Initiative mapping-DO NOT EDIT'!$G$3:$G$12,0))) -> 7.3.5. | E67: Quality assurance / quality control of vegetation management | G67: =IF(Table2[[#This Row],[WMPInitiativeActivity]]="","x",IF(Table2[[#This Row],[WMPInitiativeActivity]]="other", Table2[[#This Row],[ActivityNameifOther]], INDEX('Initiative mapping-DO NOT EDIT'!$C$3:$C$91,MATCH(Table2[[#This Row],[WMPInitiativeActivity]],'Initiative mapping-DO NOT EDIT'!$D$3:$D$91,0)))) -> 13 | H67: Quality Control of Inspections | I67: BVAMI-014-2 BVVMI-012 | J67: =_xlfn.CONCAT([1]!Table2[[#This Row],[UtilityID]],"_", [1]!Table2[[#This Row],[WMPInitiativeCategory]],"_", IF([1]!Table2[[#This Row],[WMPInitiativeActivity]]="","x",IF([1]!Table2[[#This Row],[WMPInitiativeActivity]]="other", [1]!Table2[[#This Row],[ActivityNameifOther]], [1]!Table2[[#This Row],[WMPInitiativeActivity]])),"_",[1]!Table2[[#This Row],[InitiativeActivityID]], "_",YEAR([1]!Table2[[#This Row],[Submission Date]])) -> BVES_Vegetation Management & Inspections_Quality assurance / quality control of vegetation management_BVAMI-014-2 BVVMI-012_2022 | K67: 95 | L67: Number of Quality Control Reviews Conducted | M67: 72 | N67: 18 | O67: 36 | P67: 54 | Q67: 72 | R67: 16 | S67: 42 | T67: 80 | V67: NA | W67: NA | X67: NA | Y67: NA | AA67: In Progress | AB67: NA
A68: ='READ ME FIRST'!$D$12 -> BVES | B68: ='READ ME FIRST'!$D$15 -> 44683 | C68: Vegetation Management & Inspections | D68: =IF(Table2[[#This Row],[WMPInitiativeCategory]]="", "",INDEX('Initiative mapping-DO NOT EDIT'!$H$3:$H$12, MATCH(Table2[[#This Row],[WMPInitiativeCategory]],'Initiative mapping-DO NOT EDIT'!$G$3:$G$12,0))) -> 7.3.5. | E68: Recruiting and training of vegetation management personnel | G68: =IF(Table2[[#This Row],[WMPInitiativeActivity]]="","x",IF(Table2[[#This Row],[WMPInitiativeActivity]]="other", Table2[[#This Row],[ActivityNameifOther]], INDEX('Initiative mapping-DO NOT EDIT'!$C$3:$C$91,MATCH(Table2[[#This Row],[WMPInitiativeActivity]],'Initiative mapping-DO NOT EDIT'!$D$3:$D$91,0)))) -> 14 | H68: Vegetation Management Program Staffing | I68: BVVMI-013 | J68: =_xlfn.CONCAT([1]!Table2[[#This Row],[UtilityID]],"_", [1]!Table2[[#This Row],[WMPInitiativeCategory]],"_", IF([1]!Table2[[#This Row],[WMPInitiativeActivity]]="","x",IF([1]!Table2[[#This Row],[WMPInitiativeActivity]]="other", [1]!Table2[[#This Row],[ActivityNameifOther]], [1]!Table2[[#This Row],[WMPInitiativeActivity]])),"_",[1]!Table2[[#This Row],[InitiativeActivityID]], "_",YEAR([1]!Table2[[#This Row],[Submission Date]])) -> BVES_Vegetation Management & Inspections_Recruiting and training of vegetation management personnel _BVVMI-013_2022 | K68: 72 | L68: NA | M68: NA | N68: NA | O68: NA | P68: NA | Q68: NA | R68: NA | S68: NA | T68: NA | V68: No gaps in staffing for veg management | W68: Met target | X68: Met target | Y68: Met target | AA68: In Progress | AB68: NA
A69: ='READ ME FIRST'!$D$12 -> BVES | B69: ='READ ME FIRST'!$D$15 -> 44683 | C69: Vegetation Management & Inspections | D69: =IF(Table2[[#This Row],[WMPInitiativeCategory]]="", "",INDEX('Initiative mapping-DO NOT EDIT'!$H$3:$H$12, MATCH(Table2[[#This Row],[WMPInitiativeCategory]],'Initiative mapping-DO NOT EDIT'!$G$3:$G$12,0))) -> 7.3.5. | E69: Identification and remediation of “at-risk species” | G69: =IF(Table2[[#This Row],[WMPInitiativeActivity]]="","x",IF(Table2[[#This Row],[WMPInitiativeActivity]]="other", Table2[[#This Row],[ActivityNameifOther]], INDEX('Initiative mapping-DO NOT EDIT'!$C$3:$C$91,MATCH(Table2[[#This Row],[WMPInitiativeActivity]],'Initiative mapping-DO NOT EDIT'!$D$3:$D$91,0)))) -> 15 | H69: Identification and remediation of “at-risk species” | I69: BVVMI-014 | J69: =_xlfn.CONCAT([1]!Table2[[#This Row],[UtilityID]],"_", [1]!Table2[[#This Row],[WMPInitiativeCategory]],"_", IF([1]!Table2[[#This Row],[WMPInitiativeActivity]]="","x",IF([1]!Table2[[#This Row],[WMPInitiativeActivity]]="other", [1]!Table2[[#This Row],[ActivityNameifOther]], [1]!Table2[[#This Row],[WMPInitiativeActivity]])),"_",[1]!Table2[[#This Row],[InitiativeActivityID]], "_",YEAR([1]!Table2[[#This Row],[Submission Date]])) -> BVES_Vegetation Management & Inspections_Identification and remediation of “at-risk species” _BVVMI-014_2022 | K69: NA | L69: NA | M69: NA | N69: NA | O69: NA | P69: NA | Q69: NA | R69: NA | S69: NA | T69: NA | V69: NA | W69: NA | X69: NA | Y69: NA | AA69: NA | AB69: NA
A70: ='READ ME FIRST'!$D$12 -> BVES | B70: ='READ ME FIRST'!$D$15 -> 44683 | C70: Vegetation Management & Inspections | D70: =IF(Table2[[#This Row],[WMPInitiativeCategory]]="", "",INDEX('Initiative mapping-DO NOT EDIT'!$H$3:$H$12, MATCH(Table2[[#This Row],[WMPInitiativeCategory]],'Initiative mapping-DO NOT EDIT'!$G$3:$G$12,0))) -> 7.3.5. | E70: Removal and remediation of trees with strike potential to electric lines and equipment | G70: =IF(Table2[[#This Row],[WMPInitiativeActivity]]="","x",IF(Table2[[#This Row],[WMPInitiativeActivity]]="other", Table2[[#This Row],[ActivityNameifOther]], INDEX('Initiative mapping-DO NOT EDIT'!$C$3:$C$91,MATCH(Table2[[#This Row],[WMPInitiativeActivity]],'Initiative mapping-DO NOT EDIT'!$D$3:$D$91,0)))) -> 16 | H70: Enhanced Vegetation Management Program | I70: BVVMI-015-1 | J70: =_xlfn.CONCAT([1]!Table2[[#This Row],[UtilityID]],"_", [1]!Table2[[#This Row],[WMPInitiativeCategory]],"_", IF([1]!Table2[[#This Row],[WMPInitiativeActivity]]="","x",IF([1]!Table2[[#This Row],[WMPInitiativeActivity]]="other", [1]!Table2[[#This Row],[ActivityNameifOther]], [1]!Table2[[#This Row],[WMPInitiativeActivity]])),"_",[1]!Table2[[#This Row],[InitiativeActivityID]], "_",YEAR([1]!Table2[[#This Row],[Submission Date]])) -> BVES_Vegetation Management & Inspections_Removal and remediation of trees with strike potential to electric lines and equipment _BVVMI-015-1_2022 | K70: 64 | L70: Hazard Trees Removed/Remediated | M70: 88 | N70: 18 | O70: 36 | P70: 66 | Q70: 88 | R70: 20 | S70: 67 | T70: 116 | V70: NA | W70: NA | X70: NA | Y70: NA | AA70: In Progress | AB70: NA
A71: ='READ ME FIRST'!$D$12 -> BVES | B71: ='READ ME FIRST'!$D$15 -> 44683 | C71: Vegetation Management & Inspections | D71: =IF(Table2[[#This Row],[WMPInitiativeCategory]]="", "",INDEX('Initiative mapping-DO NOT EDIT'!$H$3:$H$12, MATCH(Table2[[#This Row],[WMPInitiativeCategory]],'Initiative mapping-DO NOT EDIT'!$G$3:$G$12,0))) -> 7.3.5. | E71: Substation inspection | G71: =IF(Table2[[#This Row],[WMPInitiativeActivity]]="","x",IF(Table2[[#This Row],[WMPInitiativeActivity]]="other", Table2[[#This Row],[ActivityNameifOther]], INDEX('Initiative mapping-DO NOT EDIT'!$C$3:$C$91,MATCH(Table2[[#This Row],[WMPInitiativeActivity]],'Initiative mapping-DO NOT EDIT'!$D$3:$D$91,0)))) -> 17 | H71: GO-174 Substation Inspection Program | I71: BVAMI-015-2 BVVMI-016 | J71: =_xlfn.CONCAT([1]!Table2[[#This Row],[UtilityID]],"_", [1]!Table2[[#This Row],[WMPInitiativeCategory]],"_", IF([1]!Table2[[#This Row],[WMPInitiativeActivity]]="","x",IF([1]!Table2[[#This Row],[WMPInitiativeActivity]]="other", [1]!Table2[[#This Row],[ActivityNameifOther]], [1]!Table2[[#This Row],[WMPInitiativeActivity]])),"_",[1]!Table2[[#This Row],[InitiativeActivityID]], "_",YEAR([1]!Table2[[#This Row],[Submission Date]])) -> BVES_Vegetation Management & Inspections_Substation inspection _BVAMI-015-2 BVVMI-016_2022 | K71: 91 | L71: Number of Substations Inspected | M71: 144 | N71: 36 | O71: 72 | P71: 108 | Q71: 144 | R71: 39 | S71: 78 | T71: 117 | V71: NA | W71: NA | X71: NA | Y71: NA | AA71: In Progress | AB71: NA
A72: ='READ ME FIRST'!$D$12 -> BVES | B72: ='READ ME FIRST'!$D$15 -> 44683 | C72: Vegetation Management & Inspections | D72: =IF(Table2[[#This Row],[WMPInitiativeCategory]]="", "",INDEX('Initiative mapping-DO NOT EDIT'!$H$3:$H$12, MATCH(Table2[[#This Row],[WMPInitiativeCategory]],'Initiative mapping-DO NOT EDIT'!$G$3:$G$12,0))) -> 7.3.5. | E72: Substation vegetation management | G72: =IF(Table2[[#This Row],[WMPInitiativeActivity]]="","x",IF(Table2[[#This Row],[WMPInitiativeActivity]]="other", Table2[[#This Row],[ActivityNameifOther]], INDEX('Initiative mapping-DO NOT EDIT'!$C$3:$C$91,MATCH(Table2[[#This Row],[WMPInitiativeActivity]],'Initiative mapping-DO NOT EDIT'!$D$3:$D$91,0)))) -> 18 | H72: Substation Vegetation Management Inspections & Corrections | I72: BVVMI-017 | J72: =_xlfn.CONCAT([1]!Table2[[#This Row],[UtilityID]],"_", [1]!Table2[[#This Row],[WMPInitiativeCategory]],"_", IF([1]!Table2[[#This Row],[WMPInitiativeActivity]]="","x",IF([1]!Table2[[#This Row],[WMPInitiativeActivity]]="other", [1]!Table2[[#This Row],[ActivityNameifOther]], [1]!Table2[[#This Row],[WMPInitiativeActivity]])),"_",[1]!Table2[[#This Row],[InitiativeActivityID]], "_",YEAR([1]!Table2[[#This Row],[Submission Date]])) -> BVES_Vegetation Management & Inspections_Substation vegetation management _BVVMI-017_2022 | K72: 64 | L72: NA | M72: NA | N72: NA | O72: NA | P72: NA | Q72: NA | R72: NA | S72: NA | T72: NA | V72: Contractor assess and removes vegetation per substation on an annual basis | W72: inspected substations cleared of vegetation | X72: inspected substations cleared of vegetation | Y72: inspected substations cleared of vegetation | AA72: In Progress | AB72: NA
A73: ='READ ME FIRST'!$D$12 -> BVES | B73: ='READ ME FIRST'!$D$15 -> 44683 | C73: Vegetation Management & Inspections | D73: =IF(Table2[[#This Row],[WMPInitiativeCategory]]="", "",INDEX('Initiative mapping-DO NOT EDIT'!$H$3:$H$12, MATCH(Table2[[#This Row],[WMPInitiativeCategory]],'Initiative mapping-DO NOT EDIT'!$G$3:$G$12,0))) -> 7.3.5. | E73: Vegetation management enterprise system | G73: =IF(Table2[[#This Row],[WMPInitiativeActivity]]="","x",IF(Table2[[#This Row],[WMPInitiativeActivity]]="other", Table2[[#This Row],[ActivityNameifOther]], INDEX('Initiative mapping-DO NOT EDIT'!$C$3:$C$91,MATCH(Table2[[#This Row],[WMPInitiativeActivity]],'Initiative mapping-DO NOT EDIT'!$D$3:$D$91,0)))) -> 19 | H73: GIS Data Collection & Sharing | I73: BVDG-001-2 BVVMI-018 | J73: =_xlfn.CONCAT([1]!Table2[[#This Row],[UtilityID]],"_", [1]!Table2[[#This Row],[WMPInitiativeCategory]],"_", IF([1]!Table2[[#This Row],[WMPInitiativeActivity]]="","x",IF([1]!Table2[[#This Row],[WMPInitiativeActivity]]="other", [1]!Table2[[#This Row],[ActivityNameifOther]], [1]!Table2[[#This Row],[WMPInitiativeActivity]])),"_",[1]!Table2[[#This Row],[InitiativeActivityID]], "_",YEAR([1]!Table2[[#This Row],[Submission Date]])) -> BVES_Vegetation Management & Inspections_Vegetation management enterprise system_BVDG-001-2 BVVMI-018_2022 | K73: 64 | L73: NA | M73: NA | N73: NA | O73: NA | P73: NA | Q73: NA | R73: NA | S73: NA | T73: NA | V73: System updates as necessary | W73: Trimmed Trees were entered into GIS | X73: Trimmed Trees were entered into GIS | Y73: Trimmed Trees were entered into GIS | AA73: In Progress | AB73: NA
A74: ='READ ME FIRST'!$D$12 -> BVES | B74: ='READ ME FIRST'!$D$15 -> 44683 | C74: Vegetation Management & Inspections | D74: =IF(Table2[[#This Row],[WMPInitiativeCategory]]="", "",INDEX('Initiative mapping-DO NOT EDIT'!$H$3:$H$12, MATCH(Table2[[#This Row],[WMPInitiativeCategory]],'Initiative mapping-DO NOT EDIT'!$G$3:$G$12,0))) -> 7.3.5. | E74: Vegetation management to achieve clearances around electric lines and equipment | G74: =IF(Table2[[#This Row],[WMPInitiativeActivity]]="","x",IF(Table2[[#This Row],[WMPInitiativeActivity]]="other", Table2[[#This Row],[ActivityNameifOther]], INDEX('Initiative mapping-DO NOT EDIT'!$C$3:$C$91,MATCH(Table2[[#This Row],[WMPInitiativeActivity]],'Initiative mapping-DO NOT EDIT'!$D$3:$D$91,0)))) -> 20 | H74: Enhanced Vegetation Management Program | I74: BVVMI-015-3 BVVMI-019 | J74: =_xlfn.CONCAT([1]!Table2[[#This Row],[UtilityID]],"_", [1]!Table2[[#This Row],[WMPInitiativeCategory]],"_", IF([1]!Table2[[#This Row],[WMPInitiativeActivity]]="","x",IF([1]!Table2[[#This Row],[WMPInitiativeActivity]]="other", [1]!Table2[[#This Row],[ActivityNameifOther]], [1]!Table2[[#This Row],[WMPInitiativeActivity]])),"_",[1]!Table2[[#This Row],[InitiativeActivityID]], "_",YEAR([1]!Table2[[#This Row],[Submission Date]])) -> BVES_Vegetation Management & Inspections_Vegetation management to achieve clearances around electric lines and equipment _BVVMI-015-3 BVVMI-019_2022 | K74: 65 | L74: Circuit Miles Cleared | M74: 72 | N74: 18 | O74: 36 | P74: 54 | Q74: 72 | R74: 36.6 | S74: 61.62 | T74: 74.46 | V74: NA | W74: NA | X74: NA | Y74: NA | AA74: In Progress | AB74: NA
A75: ='READ ME FIRST'!$D$12 -> BVES | B75: ='READ ME FIRST'!$D$15 -> 44683 | C75: Vegetation Management & Inspections | D75: =IF(Table2[[#This Row],[WMPInitiativeCategory]]="", "",INDEX('Initiative mapping-DO NOT EDIT'!$H$3:$H$12, MATCH(Table2[[#This Row],[WMPInitiativeCategory]],'Initiative mapping-DO NOT EDIT'!$G$3:$G$12,0))) -> 7.3.5. | E75: Vegetation management activities post-fire | G75: =IF(Table2[[#This Row],[WMPInitiativeActivity]]="","x",IF(Table2[[#This Row],[WMPInitiativeActivity]]="other", Table2[[#This Row],[ActivityNameifOther]], INDEX('Initiative mapping-DO NOT EDIT'!$C$3:$C$91,MATCH(Table2[[#This Row],[WMPInitiativeActivity]],'Initiative mapping-DO NOT EDIT'!$D$3:$D$91,0)))) -> 21 | H75: Vegetation Management Activities Post-Fire | J75: =_xlfn.CONCAT([1]!Table2[[#This Row],[UtilityID]],"_", [1]!Table2[[#This Row],[WMPInitiativeCategory]],"_", IF([1]!Table2[[#This Row],[WMPInitiativeActivity]]="","x",IF([1]!Table2[[#This Row],[WMPInitiativeActivity]]="other", [1]!Table2[[#This Row],[ActivityNameifOther]], [1]!Table2[[#This Row],[WMPInitiativeActivity]])),"_",[1]!Table2[[#This Row],[InitiativeActivityID]], "_",YEAR([1]!Table2[[#This Row],[Submission Date]])) -> BVES_Vegetation Management & Inspections_Vegetation management activities post-fire __2022 | L75: NA | M75: NA | N75: NA | O75: NA | P75: NA | Q75: NA | R75: NA | S75: NA | T75: NA | V75: Outreach and best practice evaluation | W75: NA | X75: NA | Y75: NA | AA75: In Progress | AB75: NA
A76: ='READ ME FIRST'!$D$12 -> BVES | B76: ='READ ME FIRST'!$D$15 -> 44683 | C76: Grid Operations & Operating Protocols | D76: =IF(Table2[[#This Row],[WMPInitiativeCategory]]="", "",INDEX('Initiative mapping-DO NOT EDIT'!$H$3:$H$12, MATCH(Table2[[#This Row],[WMPInitiativeCategory]],'Initiative mapping-DO NOT EDIT'!$G$3:$G$12,0))) -> 7.3.6. | E76: Automatic recloser operations | G76: =IF(Table2[[#This Row],[WMPInitiativeActivity]]="","x",IF(Table2[[#This Row],[WMPInitiativeActivity]]="other", Table2[[#This Row],[ActivityNameifOther]], INDEX('Initiative mapping-DO NOT EDIT'!$C$3:$C$91,MATCH(Table2[[#This Row],[WMPInitiativeActivity]],'Initiative mapping-DO NOT EDIT'!$D$3:$D$91,0)))) -> 1 | H76: Grid Automation Program | I76: BVGDSH-008-2 BVGOOP-001 | J76: =_xlfn.CONCAT([1]!Table2[[#This Row],[UtilityID]],"_", [1]!Table2[[#This Row],[WMPInitiativeCategory]],"_", IF([1]!Table2[[#This Row],[WMPInitiativeActivity]]="","x",IF([1]!Table2[[#This Row],[WMPInitiativeActivity]]="other", [1]!Table2[[#This Row],[ActivityNameifOther]], [1]!Table2[[#This Row],[WMPInitiativeActivity]])),"_",[1]!Table2[[#This Row],[InitiativeActivityID]], "_",YEAR([1]!Table2[[#This Row],[Submission Date]])) -> BVES_Grid Operations & Operating Protocols_Automatic recloser operations _BVGDSH-008-2 BVGOOP-001_2022 | K76: 65 | L76: NA | M76: NA | N76: NA | O76: NA | P76: NA | Q76: NA | R76: NA | S76: NA | T76: NA | V76: NA | W76: NA | X76: NA | Y76: NA | AA76: Completed | AB76: NA
A77: ='READ ME FIRST'!$D$12 -> BVES | B77: ='READ ME FIRST'!$D$15 -> 44683 | C77: Grid Operations & Operating Protocols | D77: =IF(Table2[[#This Row],[WMPInitiativeCategory]]="", "",INDEX('Initiative mapping-DO NOT EDIT'!$H$3:$H$12, MATCH(Table2[[#This Row],[WMPInitiativeCategory]],'Initiative mapping-DO NOT EDIT'!$G$3:$G$12,0))) -> 7.3.6. | E77: Protective equipment and device settings | G77: =IF(Table2[[#This Row],[WMPInitiativeActivity]]="","x",IF(Table2[[#This Row],[WMPInitiativeActivity]]="other", Table2[[#This Row],[ActivityNameifOther]], INDEX('Initiative mapping-DO NOT EDIT'!$C$3:$C$91,MATCH(Table2[[#This Row],[WMPInitiativeActivity]],'Initiative mapping-DO NOT EDIT'!$D$3:$D$91,0)))) -> 2 | H77: Protective Equipement and Device Settings | J77: =_xlfn.CONCAT([1]!Table2[[#This Row],[UtilityID]],"_", [1]!Table2[[#This Row],[WMPInitiativeCategory]],"_", IF([1]!Table2[[#This Row],[WMPInitiativeActivity]]="","x",IF([1]!Table2[[#This Row],[WMPInitiativeActivity]]="other", [1]!Table2[[#This Row],[ActivityNameifOther]], [1]!Table2[[#This Row],[WMPInitiativeActivity]])),"_",[1]!Table2[[#This Row],[InitiativeActivityID]], "_",YEAR([1]!Table2[[#This Row],[Submission Date]])) -> BVES_Grid Operations & Operating Protocols_Protective equipment and device settings__2022 | L77: NA | M77: NA | N77: NA | O77: NA | P77: NA | Q77: NA | R77: NA | S77: NA | T77: NA | V77: NA | W77: NA | X77: NA | Y77: NA | AA77: NA | AB77: NA
A78: ='READ ME FIRST'!$D$12 -> BVES | B78: ='READ ME FIRST'!$D$15 -> 44683 | C78: Grid Operations & Operating Protocols | D78: =IF(Table2[[#This Row],[WMPInitiativeCategory]]="", "",INDEX('Initiative mapping-DO NOT EDIT'!$H$3:$H$12, MATCH(Table2[[#This Row],[WMPInitiativeCategory]],'Initiative mapping-DO NOT EDIT'!$G$3:$G$12,0))) -> 7.3.6. | E78: Crew-accompanying ignition prevention and suppression resources and services | G78: =IF(Table2[[#This Row],[WMPInitiativeActivity]]="","x",IF(Table2[[#This Row],[WMPInitiativeActivity]]="other", Table2[[#This Row],[ActivityNameifOther]], INDEX('Initiative mapping-DO NOT EDIT'!$C$3:$C$91,MATCH(Table2[[#This Row],[WMPInitiativeActivity]],'Initiative mapping-DO NOT EDIT'!$D$3:$D$91,0)))) -> 3 | H78: Emergency Preparedness & Response Program | I78: BVEPP-004-5 BVGOOP-002-1 | J78: =_xlfn.CONCAT([1]!Table2[[#This Row],[UtilityID]],"_", [1]!Table2[[#This Row],[WMPInitiativeCategory]],"_", IF([1]!Table2[[#This Row],[WMPInitiativeActivity]]="","x",IF([1]!Table2[[#This Row],[WMPInitiativeActivity]]="other", [1]!Table2[[#This Row],[ActivityNameifOther]], [1]!Table2[[#This Row],[WMPInitiativeActivity]])),"_",[1]!Table2[[#This Row],[InitiativeActivityID]], "_",YEAR([1]!Table2[[#This Row],[Submission Date]])) -> BVES_Grid Operations & Operating Protocols_Crew-accompanying ignition prevention and suppression resources and services _BVEPP-004-5 BVGOOP-002-1_2022 | K78: 65 | L78: NA | M78: NA | N78: NA | O78: NA | P78: NA | Q78: NA | R78: NA | S78: NA | T78: NA | V78: Ongoing compliance with plan | W78: NA | X78: NA | Y78: NA | AA78: In Progress | AB78: NA
A79: ='READ ME FIRST'!$D$12 -> BVES | B79: ='READ ME FIRST'!$D$15 -> 44683 | C79: Grid Operations & Operating Protocols | D79: =IF(Table2[[#This Row],[WMPInitiativeCategory]]="", "",INDEX('Initiative mapping-DO NOT EDIT'!$H$3:$H$12, MATCH(Table2[[#This Row],[WMPInitiativeCategory]],'Initiative mapping-DO NOT EDIT'!$G$3:$G$12,0))) -> 7.3.6. | E79: Personnel work procedures and training in conditions of elevated fire risk | G79: =IF(Table2[[#This Row],[WMPInitiativeActivity]]="","x",IF(Table2[[#This Row],[WMPInitiativeActivity]]="other", Table2[[#This Row],[ActivityNameifOther]], INDEX('Initiative mapping-DO NOT EDIT'!$C$3:$C$91,MATCH(Table2[[#This Row],[WMPInitiativeActivity]],'Initiative mapping-DO NOT EDIT'!$D$3:$D$91,0)))) -> 4 | H79: PSPS Program & Procedures | I79: BVGOOP-003-2 | J79: =_xlfn.CONCAT([1]!Table2[[#This Row],[UtilityID]],"_", [1]!Table2[[#This Row],[WMPInitiativeCategory]],"_", IF([1]!Table2[[#This Row],[WMPInitiativeActivity]]="","x",IF([1]!Table2[[#This Row],[WMPInitiativeActivity]]="other", [1]!Table2[[#This Row],[ActivityNameifOther]], [1]!Table2[[#This Row],[WMPInitiativeActivity]])),"_",[1]!Table2[[#This Row],[InitiativeActivityID]], "_",YEAR([1]!Table2[[#This Row],[Submission Date]])) -> BVES_Grid Operations & Operating Protocols_Personnel work procedures and training in conditions of elevated fire risk _BVGOOP-003-2_2022 | K79: 65 | L79: NA | M79: NA | N79: NA | O79: NA | P79: NA | Q79: NA | R79: NA | S79: NA | T79: NA | V79: Ongoing compliance with program and procedures | W79: NA | X79: NA | Y79: NA | AA79: In Progress | AB79: NA
A80: ='READ ME FIRST'!$D$12 -> BVES | B80: ='READ ME FIRST'!$D$15 -> 44683 | C80: Grid Operations & Operating Protocols | D80: =IF(Table2[[#This Row],[WMPInitiativeCategory]]="", "",INDEX('Initiative mapping-DO NOT EDIT'!$H$3:$H$12, MATCH(Table2[[#This Row],[WMPInitiativeCategory]],'Initiative mapping-DO NOT EDIT'!$G$3:$G$12,0))) -> 7.3.6. | E80: Protocols for PSPS re-energization | G80: =IF(Table2[[#This Row],[WMPInitiativeActivity]]="","x",IF(Table2[[#This Row],[WMPInitiativeActivity]]="other", Table2[[#This Row],[ActivityNameifOther]], INDEX('Initiative mapping-DO NOT EDIT'!$C$3:$C$91,MATCH(Table2[[#This Row],[WMPInitiativeActivity]],'Initiative mapping-DO NOT EDIT'!$D$3:$D$91,0)))) -> 5 | H80: PSPS Program & Procedures | I80: BVGOOP-003-3 | J80: =_xlfn.CONCAT([1]!Table2[[#This Row],[UtilityID]],"_", [1]!Table2[[#This Row],[WMPInitiativeCategory]],"_", IF([1]!Table2[[#This Row],[WMPInitiativeActivity]]="","x",IF([1]!Table2[[#This Row],[WMPInitiativeActivity]]="other", [1]!Table2[[#This Row],[ActivityNameifOther]], [1]!Table2[[#This Row],[WMPInitiativeActivity]])),"_",[1]!Table2[[#This Row],[InitiativeActivityID]], "_",YEAR([1]!Table2[[#This Row],[Submission Date]])) -> BVES_Grid Operations & Operating Protocols_Protocols for PSPS re-energization _BVGOOP-003-3_2022 | K80: 66 | L80: NA | M80: NA | N80: NA | O80: NA | P80: NA | Q80: NA | R80: NA | S80: NA | T80: NA | V80: Ongoing compliance with program and procedures | W80: NA | X80: NA | Y80: NA | AA80: In Progress | AB80: NA
A81: ='READ ME FIRST'!$D$12 -> BVES | B81: ='READ ME FIRST'!$D$15 -> 44683 | C81: Grid Operations & Operating Protocols | D81: =IF(Table2[[#This Row],[WMPInitiativeCategory]]="", "",INDEX('Initiative mapping-DO NOT EDIT'!$H$3:$H$12, MATCH(Table2[[#This Row],[WMPInitiativeCategory]],'Initiative mapping-DO NOT EDIT'!$G$3:$G$12,0))) -> 7.3.6. | E81: PSPS events and mitigation of PSPS impacts | G81: =IF(Table2[[#This Row],[WMPInitiativeActivity]]="","x",IF(Table2[[#This Row],[WMPInitiativeActivity]]="other", Table2[[#This Row],[ActivityNameifOther]], INDEX('Initiative mapping-DO NOT EDIT'!$C$3:$C$91,MATCH(Table2[[#This Row],[WMPInitiativeActivity]],'Initiative mapping-DO NOT EDIT'!$D$3:$D$91,0)))) -> 6 | H81: PSPS Program & Procedures | I81: BVGOOP-003-1 | J81: =_xlfn.CONCAT([1]!Table2[[#This Row],[UtilityID]],"_", [1]!Table2[[#This Row],[WMPInitiativeCategory]],"_", IF([1]!Table2[[#This Row],[WMPInitiativeActivity]]="","x",IF([1]!Table2[[#This Row],[WMPInitiativeActivity]]="other", [1]!Table2[[#This Row],[ActivityNameifOther]], [1]!Table2[[#This Row],[WMPInitiativeActivity]])),"_",[1]!Table2[[#This Row],[InitiativeActivityID]], "_",YEAR([1]!Table2[[#This Row],[Submission Date]])) -> BVES_Grid Operations & Operating Protocols_PSPS events and mitigation of PSPS impacts _BVGOOP-003-1_2022 | K81: 66 | L81: NA | M81: NA | N81: NA | O81: NA | P81: NA | Q81: NA | R81: NA | S81: NA | T81: NA | V81: Ongoing compliance with program and procedures | W81: NA | X81: NA | Y81: NA | AA81: In Progress | AB81: NA
A82: ='READ ME FIRST'!$D$12 -> BVES | B82: ='READ ME FIRST'!$D$15 -> 44683 | C82: Grid Operations & Operating Protocols | D82: =IF(Table2[[#This Row],[WMPInitiativeCategory]]="", "",INDEX('Initiative mapping-DO NOT EDIT'!$H$3:$H$12, MATCH(Table2[[#This Row],[WMPInitiativeCategory]],'Initiative mapping-DO NOT EDIT'!$G$3:$G$12,0))) -> 7.3.6. | E82: Stationed and on-call ignition prevention and suppression resources and services | G82: =IF(Table2[[#This Row],[WMPInitiativeActivity]]="","x",IF(Table2[[#This Row],[WMPInitiativeActivity]]="other", Table2[[#This Row],[ActivityNameifOther]], INDEX('Initiative mapping-DO NOT EDIT'!$C$3:$C$91,MATCH(Table2[[#This Row],[WMPInitiativeActivity]],'Initiative mapping-DO NOT EDIT'!$D$3:$D$91,0)))) -> 7 | H82: Emergency Preparedness & Response Program | I82: BVEPP-004-6 BVGOOP-002-2 | J82: =_xlfn.CONCAT([1]!Table2[[#This Row],[UtilityID]],"_", [1]!Table2[[#This Row],[WMPInitiativeCategory]],"_", IF([1]!Table2[[#This Row],[WMPInitiativeActivity]]="","x",IF([1]!Table2[[#This Row],[WMPInitiativeActivity]]="other", [1]!Table2[[#This Row],[ActivityNameifOther]], [1]!Table2[[#This Row],[WMPInitiativeActivity]])),"_",[1]!Table2[[#This Row],[InitiativeActivityID]], "_",YEAR([1]!Table2[[#This Row],[Submission Date]])) -> BVES_Grid Operations & Operating Protocols_Stationed and on-call ignition prevention and suppression resources and services _BVEPP-004-6 BVGOOP-002-2_2022 | K82: 65 | L82: NA | M82: NA | N82: NA | O82: NA | P82: NA | Q82: NA | R82: NA | S82: NA | T82: NA | V82: Ability to comply with plan and respond to emergencies | W82: No emergency events occurred | X82: No emergency events occurred | AA82: In Progress | AB82: NA
A83: ='READ ME FIRST'!$D$12 -> BVES | B83: ='READ ME FIRST'!$D$15 -> 44683 | C83: Data Governance | D83: =IF(Table2[[#This Row],[WMPInitiativeCategory]]="", "",INDEX('Initiative mapping-DO NOT EDIT'!$H$3:$H$12, MATCH(Table2[[#This Row],[WMPInitiativeCategory]],'Initiative mapping-DO NOT EDIT'!$G$3:$G$12,0))) -> 7.3.7. | E83: Centralized repository for data | G83: =IF(Table2[[#This Row],[WMPInitiativeActivity]]="","x",IF(Table2[[#This Row],[WMPInitiativeActivity]]="other", Table2[[#This Row],[ActivityNameifOther]], INDEX('Initiative mapping-DO NOT EDIT'!$C$3:$C$91,MATCH(Table2[[#This Row],[WMPInitiativeActivity]],'Initiative mapping-DO NOT EDIT'!$D$3:$D$91,0)))) -> 1 | H83: GIS Data Collection & Sharing | I83: BVDG-001-1 | J83: =_xlfn.CONCAT([1]!Table2[[#This Row],[UtilityID]],"_", [1]!Table2[[#This Row],[WMPInitiativeCategory]],"_", IF([1]!Table2[[#This Row],[WMPInitiativeActivity]]="","x",IF([1]!Table2[[#This Row],[WMPInitiativeActivity]]="other", [1]!Table2[[#This Row],[ActivityNameifOther]], [1]!Table2[[#This Row],[WMPInitiativeActivity]])),"_",[1]!Table2[[#This Row],[InitiativeActivityID]], "_",YEAR([1]!Table2[[#This Row],[Submission Date]])) -> BVES_Data Governance_Centralized repository for data _BVDG-001-1_2022 | K83: 66 | L83: NA | M83: NA | N83: NA | O83: NA | P83: NA | Q83: NA | R83: NA | S83: NA | T83: NA | V83: Continued development and storage of GIS Data | W83: Continued refinement for GIS resources | X83: Continued refinement for GIS resources | Y83: Continued refinement for GIS resources | AA83: In Progress | AB83: NA
A84: ='READ ME FIRST'!$D$12 -> BVES | B84: ='READ ME FIRST'!$D$15 -> 44683 | C84: Data Governance | D84: =IF(Table2[[#This Row],[WMPInitiativeCategory]]="", "",INDEX('Initiative mapping-DO NOT EDIT'!$H$3:$H$12, MATCH(Table2[[#This Row],[WMPInitiativeCategory]],'Initiative mapping-DO NOT EDIT'!$G$3:$G$12,0))) -> 7.3.7. | E84: Collaborative research on utility ignition and/or wildfire | G84: =IF(Table2[[#This Row],[WMPInitiativeActivity]]="","x",IF(Table2[[#This Row],[WMPInitiativeActivity]]="other", Table2[[#This Row],[ActivityNameifOther]], INDEX('Initiative mapping-DO NOT EDIT'!$C$3:$C$91,MATCH(Table2[[#This Row],[WMPInitiativeActivity]],'Initiative mapping-DO NOT EDIT'!$D$3:$D$91,0)))) -> 2 | H84: BVES does not have a unique WMP initiative for this activity at this time. BVES is open to collaborative research on utility ignition and/or wildfire. | I84: BVDG-002 | J84: =_xlfn.CONCAT([1]!Table2[[#This Row],[UtilityID]],"_", [1]!Table2[[#This Row],[WMPInitiativeCategory]],"_", IF([1]!Table2[[#This Row],[WMPInitiativeActivity]]="","x",IF([1]!Table2[[#This Row],[WMPInitiativeActivity]]="other", [1]!Table2[[#This Row],[ActivityNameifOther]], [1]!Table2[[#This Row],[WMPInitiativeActivity]])),"_",[1]!Table2[[#This Row],[InitiativeActivityID]], "_",YEAR([1]!Table2[[#This Row],[Submission Date]])) -> BVES_Data Governance_Collaborative research on utility ignition and/or wildfire _BVDG-002_2022 | K84: NA | L84: NA | M84: NA | N84: NA | O84: NA | P84: NA | Q84: NA | R84: NA | S84: NA | T84: NA | V84: NA | W84: NA | X84: NA | Y84: NA | AA84: NA | AB84: NA
A85: ='READ ME FIRST'!$D$12 -> BVES | B85: ='READ ME FIRST'!$D$15 -> 44683 | C85: Data Governance | D85: =IF(Table2[[#This Row],[WMPInitiativeCategory]]="", "",INDEX('Initiative mapping-DO NOT EDIT'!$H$3:$H$12, MATCH(Table2[[#This Row],[WMPInitiativeCategory]],'Initiative mapping-DO NOT EDIT'!$G$3:$G$12,0))) -> 7.3.7. | E85: Documentation and disclosure of wildfire-related data and algorithms | G85: =IF(Table2[[#This Row],[WMPInitiativeActivity]]="","x",IF(Table2[[#This Row],[WMPInitiativeActivity]]="other", Table2[[#This Row],[ActivityNameifOther]], INDEX('Initiative mapping-DO NOT EDIT'!$C$3:$C$91,MATCH(Table2[[#This Row],[WMPInitiativeActivity]],'Initiative mapping-DO NOT EDIT'!$D$3:$D$91,0)))) -> 3 | H85: GIS-Based Applications // Data Sharing Activities | I85: BVDG-003 | J85: =_xlfn.CONCAT([1]!Table2[[#This Row],[UtilityID]],"_", [1]!Table2[[#This Row],[WMPInitiativeCategory]],"_", IF([1]!Table2[[#This Row],[WMPInitiativeActivity]]="","x",IF([1]!Table2[[#This Row],[WMPInitiativeActivity]]="other", [1]!Table2[[#This Row],[ActivityNameifOther]], [1]!Table2[[#This Row],[WMPInitiativeActivity]])),"_",[1]!Table2[[#This Row],[InitiativeActivityID]], "_",YEAR([1]!Table2[[#This Row],[Submission Date]])) -> BVES_Data Governance_Documentation and disclosure of wildfire-related data and algorithms _BVDG-003_2022 | K85: NA | L85: NA | M85: NA | N85: NA | O85: NA | P85: NA | Q85: NA | R85: NA | S85: NA | T85: NA | V85: Risk Model Working Group Information Exchange | W85: NA | X85: NA | Y85: NA | AA85: In Progress | AB85: NA
A86: ='READ ME FIRST'!$D$12 -> BVES | B86: ='READ ME FIRST'!$D$15 -> 44683 | C86: Data Governance | D86: =IF(Table2[[#This Row],[WMPInitiativeCategory]]="", "",INDEX('Initiative mapping-DO NOT EDIT'!$H$3:$H$12, MATCH(Table2[[#This Row],[WMPInitiativeCategory]],'Initiative mapping-DO NOT EDIT'!$G$3:$G$12,0))) -> 7.3.7. | E86: Tracking and analysis of near miss data | G86: =IF(Table2[[#This Row],[WMPInitiativeActivity]]="","x",IF(Table2[[#This Row],[WMPInitiativeActivity]]="other", Table2[[#This Row],[ActivityNameifOther]], INDEX('Initiative mapping-DO NOT EDIT'!$C$3:$C$91,MATCH(Table2[[#This Row],[WMPInitiativeActivity]],'Initiative mapping-DO NOT EDIT'!$D$3:$D$91,0)))) -> 4 | H86: WMP Metrics Tracking | I86: BVDG-004 | J86: =_xlfn.CONCAT([1]!Table2[[#This Row],[UtilityID]],"_", [1]!Table2[[#This Row],[WMPInitiativeCategory]],"_", IF([1]!Table2[[#This Row],[WMPInitiativeActivity]]="","x",IF([1]!Table2[[#This Row],[WMPInitiativeActivity]]="other", [1]!Table2[[#This Row],[ActivityNameifOther]], [1]!Table2[[#This Row],[WMPInitiativeActivity]])),"_",[1]!Table2[[#This Row],[InitiativeActivityID]], "_",YEAR([1]!Table2[[#This Row],[Submission Date]])) -> BVES_Data Governance_Tracking and analysis of near miss data _BVDG-004_2022 | K86: 66 | L86: NA | M86: NA | N86: NA | O86: NA | P86: NA | Q86: NA | R86: NA | S86: NA | T86: NA | V86: Program in place and continued compliance with program | W86: Aligned recording mechanism to track near miss data with WSD/OEIS template | X86: Aligned recording mechanism to track near miss data with WSD/OEIS template | Y86: Aligned recording mechanism to track near miss data with WSD/OEIS template | AA86: In Progress | AB86: NA
A87: ='READ ME FIRST'!$D$12 -> BVES | B87: ='READ ME FIRST'!$D$15 -> 44683 | C87: Resource Allocation Methodology | D87: =IF(Table2[[#This Row],[WMPInitiativeCategory]]="", "",INDEX('Initiative mapping-DO NOT EDIT'!$H$3:$H$12, MATCH(Table2[[#This Row],[WMPInitiativeCategory]],'Initiative mapping-DO NOT EDIT'!$G$3:$G$12,0))) -> 7.3.8. | E87: Allocation methodology development and application | G87: =IF(Table2[[#This Row],[WMPInitiativeActivity]]="","x",IF(Table2[[#This Row],[WMPInitiativeActivity]]="other", Table2[[#This Row],[ActivityNameifOther]], INDEX('Initiative mapping-DO NOT EDIT'!$C$3:$C$91,MATCH(Table2[[#This Row],[WMPInitiativeActivity]],'Initiative mapping-DO NOT EDIT'!$D$3:$D$91,0)))) -> 1 | H87: Resource Allocation Methodology | I87: BVRES-001-1 | J87: =_xlfn.CONCAT([1]!Table2[[#This Row],[UtilityID]],"_", [1]!Table2[[#This Row],[WMPInitiativeCategory]],"_", IF([1]!Table2[[#This Row],[WMPInitiativeActivity]]="","x",IF([1]!Table2[[#This Row],[WMPInitiativeActivity]]="other", [1]!Table2[[#This Row],[ActivityNameifOther]], [1]!Table2[[#This Row],[WMPInitiativeActivity]])),"_",[1]!Table2[[#This Row],[InitiativeActivityID]], "_",YEAR([1]!Table2[[#This Row],[Submission Date]])) -> BVES_Resource Allocation Methodology_Allocation methodology development and application _BVRES-001-1_2022 | K87: 134 | L87: NA | M87: NA | N87: NA | O87: NA | P87: NA | Q87: NA | R87: NA | S87: NA | T87: NA | V87: Program in place and continued compliance with program | W87: NA | X87: NA | Y87: NA | AA87: In Progress | AB87: NA
A88: ='READ ME FIRST'!$D$12 -> BVES | B88: ='READ ME FIRST'!$D$15 -> 44683 | C88: Resource Allocation Methodology | D88: =IF(Table2[[#This Row],[WMPInitiativeCategory]]="", "",INDEX('Initiative mapping-DO NOT EDIT'!$H$3:$H$12, MATCH(Table2[[#This Row],[WMPInitiativeCategory]],'Initiative mapping-DO NOT EDIT'!$G$3:$G$12,0))) -> 7.3.8. | E88: Risk reduction scenario development and analysis | G88: =IF(Table2[[#This Row],[WMPInitiativeActivity]]="","x",IF(Table2[[#This Row],[WMPInitiativeActivity]]="other", Table2[[#This Row],[ActivityNameifOther]], INDEX('Initiative mapping-DO NOT EDIT'!$C$3:$C$91,MATCH(Table2[[#This Row],[WMPInitiativeActivity]],'Initiative mapping-DO NOT EDIT'!$D$3:$D$91,0)))) -> 2 | H88: Ignition Probability & Wildfire Consequence Mapping | I88: BVRAM-001-6 BVRES-002 | J88: =_xlfn.CONCAT([1]!Table2[[#This Row],[UtilityID]],"_", [1]!Table2[[#This Row],[WMPInitiativeCategory]],"_", IF([1]!Table2[[#This Row],[WMPInitiativeActivity]]="","x",IF([1]!Table2[[#This Row],[WMPInitiativeActivity]]="other", [1]!Table2[[#This Row],[ActivityNameifOther]], [1]!Table2[[#This Row],[WMPInitiativeActivity]])),"_",[1]!Table2[[#This Row],[InitiativeActivityID]], "_",YEAR([1]!Table2[[#This Row],[Submission Date]])) -> BVES_Resource Allocation Methodology_Risk reduction scenario development and analysis _BVRAM-001-6 BVRES-002_2022 | K88: 19 | L88: NA | M88: NA | N88: NA | O88: NA | P88: NA | Q88: NA | R88: NA | S88: NA | T88: NA | V88: NA | W88: NA | X88: NA | Y88: NA | AA88: Completed | AB88: NA
A89: ='READ ME FIRST'!$D$12 -> BVES | B89: ='READ ME FIRST'!$D$15 -> 44683 | C89: Resource Allocation Methodology | D89: =IF(Table2[[#This Row],[WMPInitiativeCategory]]="", "",INDEX('Initiative mapping-DO NOT EDIT'!$H$3:$H$12, MATCH(Table2[[#This Row],[WMPInitiativeCategory]],'Initiative mapping-DO NOT EDIT'!$G$3:$G$12,0))) -> 7.3.8. | E89: Risk spend efficiency analysis | G89: =IF(Table2[[#This Row],[WMPInitiativeActivity]]="","x",IF(Table2[[#This Row],[WMPInitiativeActivity]]="other", Table2[[#This Row],[ActivityNameifOther]], INDEX('Initiative mapping-DO NOT EDIT'!$C$3:$C$91,MATCH(Table2[[#This Row],[WMPInitiativeActivity]],'Initiative mapping-DO NOT EDIT'!$D$3:$D$91,0)))) -> 3 | H89: Ignition Probability & Wildfire Consequence Mapping | I89: BVRAM-001-7 BVRES-003 | J89: =_xlfn.CONCAT([1]!Table2[[#This Row],[UtilityID]],"_", [1]!Table2[[#This Row],[WMPInitiativeCategory]],"_", IF([1]!Table2[[#This Row],[WMPInitiativeActivity]]="","x",IF([1]!Table2[[#This Row],[WMPInitiativeActivity]]="other", [1]!Table2[[#This Row],[ActivityNameifOther]], [1]!Table2[[#This Row],[WMPInitiativeActivity]])),"_",[1]!Table2[[#This Row],[InitiativeActivityID]], "_",YEAR([1]!Table2[[#This Row],[Submission Date]])) -> BVES_Resource Allocation Methodology_Risk spend efficiency analysis_BVRAM-001-7 BVRES-003_2022 | K89: 19 | L89: NA | M89: NA | N89: NA | O89: NA | P89: NA | Q89: NA | R89: NA | S89: NA | T89: NA | V89: NA | W89: NA | X89: NA | Y89: NA | AA89: In Progress | AB89: NA
A90: ='READ ME FIRST'!$D$12 -> BVES | B90: ='READ ME FIRST'!$D$15 -> 44683 | C90: Emergency Planning & Preparedness | D90: =IF(Table2[[#This Row],[WMPInitiativeCategory]]="", "",INDEX('Initiative mapping-DO NOT EDIT'!$H$3:$H$12, MATCH(Table2[[#This Row],[WMPInitiativeCategory]],'Initiative mapping-DO NOT EDIT'!$G$3:$G$12,0))) -> 7.3.9. | E90: Adequate and trained workforce for service restoration | G90: =IF(Table2[[#This Row],[WMPInitiativeActivity]]="","x",IF(Table2[[#This Row],[WMPInitiativeActivity]]="other", Table2[[#This Row],[ActivityNameifOther]], INDEX('Initiative mapping-DO NOT EDIT'!$C$3:$C$91,MATCH(Table2[[#This Row],[WMPInitiativeActivity]],'Initiative mapping-DO NOT EDIT'!$D$3:$D$91,0)))) -> 1 | H90: Resource Allocation Methodology | I90: BVRES-001-2 BVEPP-001 | J90: =_xlfn.CONCAT([1]!Table2[[#This Row],[UtilityID]],"_", [1]!Table2[[#This Row],[WMPInitiativeCategory]],"_", IF([1]!Table2[[#This Row],[WMPInitiativeActivity]]="","x",IF([1]!Table2[[#This Row],[WMPInitiativeActivity]]="other", [1]!Table2[[#This Row],[ActivityNameifOther]], [1]!Table2[[#This Row],[WMPInitiativeActivity]])),"_",[1]!Table2[[#This Row],[InitiativeActivityID]], "_",YEAR([1]!Table2[[#This Row],[Submission Date]])) -> BVES_Emergency Planning & Preparedness_Adequate and trained workforce for service restoration _BVRES-001-2 BVEPP-001_2022 | K90: 138 | L90: NA | M90: NA | N90: NA | O90: NA | P90: NA | Q90: NA | R90: NA | S90: NA | T90: NA | V90: BVES staffing contract and mutual aid adequate for service restoration | W90: Adequate | X90: Adequate | Y90: Adequate | AA90: In Progress | AB90: NA
A91: ='READ ME FIRST'!$D$12 -> BVES | B91: ='READ ME FIRST'!$D$15 -> 44683 | C91: Emergency Planning & Preparedness | D91: =IF(Table2[[#This Row],[WMPInitiativeCategory]]="", "",INDEX('Initiative mapping-DO NOT EDIT'!$H$3:$H$12, MATCH(Table2[[#This Row],[WMPInitiativeCategory]],'Initiative mapping-DO NOT EDIT'!$G$3:$G$12,0))) -> 7.3.9. | E91: Community outreach, public awareness, and communications efforts | G91: =IF(Table2[[#This Row],[WMPInitiativeActivity]]="","x",IF(Table2[[#This Row],[WMPInitiativeActivity]]="other", Table2[[#This Row],[ActivityNameifOther]], INDEX('Initiative mapping-DO NOT EDIT'!$C$3:$C$91,MATCH(Table2[[#This Row],[WMPInitiativeActivity]],'Initiative mapping-DO NOT EDIT'!$D$3:$D$91,0)))) -> 2 | H91: Community Outreach Program | I91: BVEPP-002-1 | J91: =_xlfn.CONCAT([1]!Table2[[#This Row],[UtilityID]],"_", [1]!Table2[[#This Row],[WMPInitiativeCategory]],"_", IF([1]!Table2[[#This Row],[WMPInitiativeActivity]]="","x",IF([1]!Table2[[#This Row],[WMPInitiativeActivity]]="other", [1]!Table2[[#This Row],[ActivityNameifOther]], [1]!Table2[[#This Row],[WMPInitiativeActivity]])),"_",[1]!Table2[[#This Row],[InitiativeActivityID]], "_",YEAR([1]!Table2[[#This Row],[Submission Date]])) -> BVES_Emergency Planning & Preparedness_Community outreach, public awareness, and communications efforts _BVEPP-002-1_2022 | K91: 139 | L91: Number of Engagements (Radio, Newspaper, Online, Mail) | M91: =90*4 -> 360 | N91: 90 | O91: 180 | P91: 270 | Q91: =270+90 -> 360 | R91: 141 | S91: 286 | T91: 462 | V91: NA | W91: NA | X91: NA | Y91: NA | AA91: In Progress | AB91: NA
A92: ='READ ME FIRST'!$D$12 -> BVES | B92: ='READ ME FIRST'!$D$15 -> 44683 | C92: Emergency Planning & Preparedness | D92: =IF(Table2[[#This Row],[WMPInitiativeCategory]]="", "",INDEX('Initiative mapping-DO NOT EDIT'!$H$3:$H$12, MATCH(Table2[[#This Row],[WMPInitiativeCategory]],'Initiative mapping-DO NOT EDIT'!$G$3:$G$12,0))) -> 7.3.9. | E92: Customer support in emergencies | G92: =IF(Table2[[#This Row],[WMPInitiativeActivity]]="","x",IF(Table2[[#This Row],[WMPInitiativeActivity]]="other", Table2[[#This Row],[ActivityNameifOther]], INDEX('Initiative mapping-DO NOT EDIT'!$C$3:$C$91,MATCH(Table2[[#This Row],[WMPInitiativeActivity]],'Initiative mapping-DO NOT EDIT'!$D$3:$D$91,0)))) -> 3 | H92: Emergency Preparedness & Response Program | I92: BVEPP-003-2 | J92: =_xlfn.CONCAT([1]!Table2[[#This Row],[UtilityID]],"_", [1]!Table2[[#This Row],[WMPInitiativeCategory]],"_", IF([1]!Table2[[#This Row],[WMPInitiativeActivity]]="","x",IF([1]!Table2[[#This Row],[WMPInitiativeActivity]]="other", [1]!Table2[[#This Row],[ActivityNameifOther]], [1]!Table2[[#This Row],[WMPInitiativeActivity]])),"_",[1]!Table2[[#This Row],[InitiativeActivityID]], "_",YEAR([1]!Table2[[#This Row],[Submission Date]])) -> BVES_Emergency Planning & Preparedness_Customer support in emergencies _BVEPP-003-2_2022 | K92: 141 | L92: Number of Emergencies | M92: 0 | N92: 0 | O92: 0 | P92: 0 | Q92: 0 | R92: 0 | S92: 0 | T92: 0 | V92: NA | W92: NA | X92: NA | Y92: NA | AA92: In Progress | AB92: NA
A93: ='READ ME FIRST'!$D$12 -> BVES | B93: ='READ ME FIRST'!$D$15 -> 44683 | C93: Emergency Planning & Preparedness | D93: =IF(Table2[[#This Row],[WMPInitiativeCategory]]="", "",INDEX('Initiative mapping-DO NOT EDIT'!$H$3:$H$12, MATCH(Table2[[#This Row],[WMPInitiativeCategory]],'Initiative mapping-DO NOT EDIT'!$G$3:$G$12,0))) -> 7.3.9. | E93: Disaster and emergency preparedness plan | G93: =IF(Table2[[#This Row],[WMPInitiativeActivity]]="","x",IF(Table2[[#This Row],[WMPInitiativeActivity]]="other", Table2[[#This Row],[ActivityNameifOther]], INDEX('Initiative mapping-DO NOT EDIT'!$C$3:$C$91,MATCH(Table2[[#This Row],[WMPInitiativeActivity]],'Initiative mapping-DO NOT EDIT'!$D$3:$D$91,0)))) -> 4 | H93: Emergency Preparedness & Response Program | I93: BVEPP-003-1 | J93: =_xlfn.CONCAT([1]!Table2[[#This Row],[UtilityID]],"_", [1]!Table2[[#This Row],[WMPInitiativeCategory]],"_", IF([1]!Table2[[#This Row],[WMPInitiativeActivity]]="","x",IF([1]!Table2[[#This Row],[WMPInitiativeActivity]]="other", [1]!Table2[[#This Row],[ActivityNameifOther]], [1]!Table2[[#This Row],[WMPInitiativeActivity]])),"_",[1]!Table2[[#This Row],[InitiativeActivityID]], "_",YEAR([1]!Table2[[#This Row],[Submission Date]])) -> BVES_Emergency Planning & Preparedness_Disaster and emergency preparedness plan _BVEPP-003-1_2022 | K93: 135 | L93: Number of Emergencies | M93: 0 | N93: 0 | O93: 0 | P93: 0 | Q93: 0 | R93: 0 | S93: 0 | T93: 0 | V93: NA | W93: NA | X93: NA | Y93: NA | AA93: In Progress | AB93: NA
A94: ='READ ME FIRST'!$D$12 -> BVES | B94: ='READ ME FIRST'!$D$15 -> 44683 | C94: Emergency Planning & Preparedness | D94: =IF(Table2[[#This Row],[WMPInitiativeCategory]]="", "",INDEX('Initiative mapping-DO NOT EDIT'!$H$3:$H$12, MATCH(Table2[[#This Row],[WMPInitiativeCategory]],'Initiative mapping-DO NOT EDIT'!$G$3:$G$12,0))) -> 7.3.9. | E94: Preparedness and planning for service restoration | G94: =IF(Table2[[#This Row],[WMPInitiativeActivity]]="","x",IF(Table2[[#This Row],[WMPInitiativeActivity]]="other", Table2[[#This Row],[ActivityNameifOther]], INDEX('Initiative mapping-DO NOT EDIT'!$C$3:$C$91,MATCH(Table2[[#This Row],[WMPInitiativeActivity]],'Initiative mapping-DO NOT EDIT'!$D$3:$D$91,0)))) -> 5 | H94: Emergency Preparedness & Response Program | I94: BVEPP-003-3 | J94: =_xlfn.CONCAT([1]!Table2[[#This Row],[UtilityID]],"_", [1]!Table2[[#This Row],[WMPInitiativeCategory]],"_", IF([1]!Table2[[#This Row],[WMPInitiativeActivity]]="","x",IF([1]!Table2[[#This Row],[WMPInitiativeActivity]]="other", [1]!Table2[[#This Row],[ActivityNameifOther]], [1]!Table2[[#This Row],[WMPInitiativeActivity]])),"_",[1]!Table2[[#This Row],[InitiativeActivityID]], "_",YEAR([1]!Table2[[#This Row],[Submission Date]])) -> BVES_Emergency Planning & Preparedness_Preparedness and planning for service restoration _BVEPP-003-3_2022 | K94: 138 | L94: Number of Emergencies | M94: 0 | N94: 0 | O94: 0 | P94: 0 | Q94: 0 | R94: 0 | S94: 0 | T94: 0 | V94: NA | W94: NA | X94: NA | Y94: NA | AA94: In Progress | AB94: NA
A95: ='READ ME FIRST'!$D$12 -> BVES | B95: ='READ ME FIRST'!$D$15 -> 44683 | C95: Emergency Planning & Preparedness | D95: =IF(Table2[[#This Row],[WMPInitiativeCategory]]="", "",INDEX('Initiative mapping-DO NOT EDIT'!$H$3:$H$12, MATCH(Table2[[#This Row],[WMPInitiativeCategory]],'Initiative mapping-DO NOT EDIT'!$G$3:$G$12,0))) -> 7.3.9. | E95: Protocols in place to learn from wildfire events | G95: =IF(Table2[[#This Row],[WMPInitiativeActivity]]="","x",IF(Table2[[#This Row],[WMPInitiativeActivity]]="other", Table2[[#This Row],[ActivityNameifOther]], INDEX('Initiative mapping-DO NOT EDIT'!$C$3:$C$91,MATCH(Table2[[#This Row],[WMPInitiativeActivity]],'Initiative mapping-DO NOT EDIT'!$D$3:$D$91,0)))) -> 6 | H95: Emergency Preparedness & Response Program | I95: BVEPP-003-4 | J95: =_xlfn.CONCAT([1]!Table2[[#This Row],[UtilityID]],"_", [1]!Table2[[#This Row],[WMPInitiativeCategory]],"_", IF([1]!Table2[[#This Row],[WMPInitiativeActivity]]="","x",IF([1]!Table2[[#This Row],[WMPInitiativeActivity]]="other", [1]!Table2[[#This Row],[ActivityNameifOther]], [1]!Table2[[#This Row],[WMPInitiativeActivity]])),"_",[1]!Table2[[#This Row],[InitiativeActivityID]], "_",YEAR([1]!Table2[[#This Row],[Submission Date]])) -> BVES_Emergency Planning & Preparedness_Protocols in place to learn from wildfire events _BVEPP-003-4_2022 | K95: 143 | L95: Number of Emergencies | M95: 0 | N95: 0 | O95: 0 | P95: 0 | Q95: 0 | R95: 0 | S95: 0 | T95: 0 | V95: NA | W95: NA | X95: NA | Y95: NA | AA95: In Progress | AB95: NA
A96: ='READ ME FIRST'!$D$12 -> BVES | B96: ='READ ME FIRST'!$D$15 -> 44683 | C96: Stakeholder Cooperation & Community Engagement | D96: =IF(Table2[[#This Row],[WMPInitiativeCategory]]="", "",INDEX('Initiative mapping-DO NOT EDIT'!$H$3:$H$12, MATCH(Table2[[#This Row],[WMPInitiativeCategory]],'Initiative mapping-DO NOT EDIT'!$G$3:$G$12,0))) -> 7.3.10. | E96: Community engagement | G96: =IF(Table2[[#This Row],[WMPInitiativeActivity]]="","x",IF(Table2[[#This Row],[WMPInitiativeActivity]]="other", Table2[[#This Row],[ActivityNameifOther]], INDEX('Initiative mapping-DO NOT EDIT'!$C$3:$C$91,MATCH(Table2[[#This Row],[WMPInitiativeActivity]],'Initiative mapping-DO NOT EDIT'!$D$3:$D$91,0)))) -> 1 | H96: Community Outreach Program | I96: BVEPP-002-2 BVSCCE-001 | J96: =_xlfn.CONCAT([1]!Table2[[#This Row],[UtilityID]],"_", [1]!Table2[[#This Row],[WMPInitiativeCategory]],"_", IF([1]!Table2[[#This Row],[WMPInitiativeActivity]]="","x",IF([1]!Table2[[#This Row],[WMPInitiativeActivity]]="other", [1]!Table2[[#This Row],[ActivityNameifOther]], [1]!Table2[[#This Row],[WMPInitiativeActivity]])),"_",[1]!Table2[[#This Row],[InitiativeActivityID]], "_",YEAR([1]!Table2[[#This Row],[Submission Date]])) -> BVES_Stakeholder Cooperation & Community Engagement_Community engagement _BVEPP-002-2 BVSCCE-001_2022 | K96: 139 | L96: Number of Engagements (Radio, Newspaper, Online, Mail) | M96: =90*4 -> 360 | N96: 90 | O96: 180 | P96: 270 | Q96: =270+90 -> 360 | R96: 141 | S96: 286 | T96: 462 | V96: NA | W96: NA | X96: NA | Y96: NA | AA96: In Progress | AB96: NA
A97: ='READ ME FIRST'!$D$12 -> BVES | B97: ='READ ME FIRST'!$D$15 -> 44683 | C97: Stakeholder Cooperation & Community Engagement | D97: =IF(Table2[[#This Row],[WMPInitiativeCategory]]="", "",INDEX('Initiative mapping-DO NOT EDIT'!$H$3:$H$12, MATCH(Table2[[#This Row],[WMPInitiativeCategory]],'Initiative mapping-DO NOT EDIT'!$G$3:$G$12,0))) -> 7.3.10. | E97: Cooperation and best practice sharing with agencies outside CA | G97: =IF(Table2[[#This Row],[WMPInitiativeActivity]]="","x",IF(Table2[[#This Row],[WMPInitiativeActivity]]="other", Table2[[#This Row],[ActivityNameifOther]], INDEX('Initiative mapping-DO NOT EDIT'!$C$3:$C$91,MATCH(Table2[[#This Row],[WMPInitiativeActivity]],'Initiative mapping-DO NOT EDIT'!$D$3:$D$91,0)))) -> 2 | H97: Cooperation and best practice sharing with agencies outside CA | I97: BVSCCE-002 | J97: =_xlfn.CONCAT([1]!Table2[[#This Row],[UtilityID]],"_", [1]!Table2[[#This Row],[WMPInitiativeCategory]],"_", IF([1]!Table2[[#This Row],[WMPInitiativeActivity]]="","x",IF([1]!Table2[[#This Row],[WMPInitiativeActivity]]="other", [1]!Table2[[#This Row],[ActivityNameifOther]], [1]!Table2[[#This Row],[WMPInitiativeActivity]])),"_",[1]!Table2[[#This Row],[InitiativeActivityID]], "_",YEAR([1]!Table2[[#This Row],[Submission Date]])) -> BVES_Stakeholder Cooperation & Community Engagement_Cooperation and best practice sharing with agencies outside CA _BVSCCE-002_2022 | K97: NA | L97: NA | M97: NA | N97: NA | O97: NA | P97: NA | Q97: NA | R97: NA | S97: NA | T97: NA | V97: NA | W97: NA | X97: NA | Y97: NA | AA97: Planned | AB97: NA
A98: ='READ ME FIRST'!$D$12 -> BVES | B98: ='READ ME FIRST'!$D$15 -> 44683 | C98: Stakeholder Cooperation & Community Engagement | D98: =IF(Table2[[#This Row],[WMPInitiativeCategory]]="", "",INDEX('Initiative mapping-DO NOT EDIT'!$H$3:$H$12, MATCH(Table2[[#This Row],[WMPInitiativeCategory]],'Initiative mapping-DO NOT EDIT'!$G$3:$G$12,0))) -> 7.3.10. | E98: Cooperation with suppression agencies | G98: =IF(Table2[[#This Row],[WMPInitiativeActivity]]="","x",IF(Table2[[#This Row],[WMPInitiativeActivity]]="other", Table2[[#This Row],[ActivityNameifOther]], INDEX('Initiative mapping-DO NOT EDIT'!$C$3:$C$91,MATCH(Table2[[#This Row],[WMPInitiativeActivity]],'Initiative mapping-DO NOT EDIT'!$D$3:$D$91,0)))) -> 3 | H98: Cooperation with suppression agencies | I98: BVSCCE-003 | J98: =_xlfn.CONCAT([1]!Table2[[#This Row],[UtilityID]],"_", [1]!Table2[[#This Row],[WMPInitiativeCategory]],"_", IF([1]!Table2[[#This Row],[WMPInitiativeActivity]]="","x",IF([1]!Table2[[#This Row],[WMPInitiativeActivity]]="other", [1]!Table2[[#This Row],[ActivityNameifOther]], [1]!Table2[[#This Row],[WMPInitiativeActivity]])),"_",[1]!Table2[[#This Row],[InitiativeActivityID]], "_",YEAR([1]!Table2[[#This Row],[Submission Date]])) -> BVES_Stakeholder Cooperation & Community Engagement_Cooperation with suppression agencies _BVSCCE-003_2022 | K98: NA | L98: NA | M98: NA | N98: NA | O98: NA | P98: NA | Q98: NA | R98: NA | S98: NA | T98: NA | V98: NA | W98: NA | X98: NA | Y98: NA | AA98: NA | AB98: NA
A99: ='READ ME FIRST'!$D$12 -> BVES | B99: ='READ ME FIRST'!$D$15 -> 44683 | C99: Stakeholder Cooperation & Community Engagement | D99: =IF(Table2[[#This Row],[WMPInitiativeCategory]]="", "",INDEX('Initiative mapping-DO NOT EDIT'!$H$3:$H$12, MATCH(Table2[[#This Row],[WMPInitiativeCategory]],'Initiative mapping-DO NOT EDIT'!$G$3:$G$12,0))) -> 7.3.10. | E99: Forest service and fuel reduction cooperation and joint roadmap | G99: =IF(Table2[[#This Row],[WMPInitiativeActivity]]="","x",IF(Table2[[#This Row],[WMPInitiativeActivity]]="other", Table2[[#This Row],[ActivityNameifOther]], INDEX('Initiative mapping-DO NOT EDIT'!$C$3:$C$91,MATCH(Table2[[#This Row],[WMPInitiativeActivity]],'Initiative mapping-DO NOT EDIT'!$D$3:$D$91,0)))) -> 4 | H99: Forest service and fuel reduction cooperation and joint roadmap | I99: BVSCCE-004 | J99: =_xlfn.CONCAT([1]!Table2[[#This Row],[UtilityID]],"_", [1]!Table2[[#This Row],[WMPInitiativeCategory]],"_", IF([1]!Table2[[#This Row],[WMPInitiativeActivity]]="","x",IF([1]!Table2[[#This Row],[WMPInitiativeActivity]]="other", [1]!Table2[[#This Row],[ActivityNameifOther]], [1]!Table2[[#This Row],[WMPInitiativeActivity]])),"_",[1]!Table2[[#This Row],[InitiativeActivityID]], "_",YEAR([1]!Table2[[#This Row],[Submission Date]])) -> BVES_Stakeholder Cooperation & Community Engagement_Forest service and fuel reduction cooperation and joint roadmap _BVSCCE-004_2022 | K99: NA | L99: NA | M99: NA | N99: NA | O99: NA | P99: NA | Q99: NA | R99: NA | S99: NA | T99: NA | V99: NA | W99: NA | X99: NA | Y99: NA | AA99: NA | AB99: NA

Sheet Initiative mapping-DO NOT EDIT
B2: WMP Table # / Category | C2: WMP Initiative # | D2: Initative activity | G2: WMP category | H2: WMP code | J2: Utility
B3: Risk Assessment & Mapping | C3: 1 | D3: A summarized risk map that shows the overall ignition probability and estimated wildfire consequence along the electric lines and equipment | G3: Risk Assessment & Mapping | H3: 7.3.1. | J3: PGE
B4: Risk Assessment & Mapping | C4: 2 | D4: Climate-driven risk map and modelling based on various relevant weather scenarios | G4: Situational Awareness & Forecasting | H4: 7.3.2. | J4: SCE
B5: Risk Assessment & Mapping | C5: 3 | D5: Ignition probability mapping showing the probability of ignition along the electric lines and equipment | G5: Grid Design & System Hardening | H5: 7.3.3. | J5: SDGE
B6: Risk Assessment & Mapping | C6: 4 | D6: Initiative mapping and estimation of wildfire and PSPS risk-reduction impact | G6: Asset Management & Inspections | H6: 7.3.4. | J6: BVES
B7: Risk Assessment & Mapping | C7: 5 | D7: Match drop simulations showing the potential wildfire consequence of ignitions that occur along the electric lines and equipment | G7: Vegetation Management & Inspections | H7: 7.3.5. | J7: LU
B8: Situational Awareness & Forecasting | C8: 1 | D8: Advanced weather monitoring and weather stations | G8: Grid Operations & Operating Protocols | H8: 7.3.6. | J8: PC
B9: Situational Awareness & Forecasting | C9: 2 | D9: Continuous monitoring sensors | G9: Data Governance | H9: 7.3.7. | J9: TBC
B10: Situational Awareness & Forecasting | C10: 3 | D10: Fault indicators for detecting faults on electric lines and equipment | G10: Resource Allocation Methodology | H10: 7.3.8. | J10: HWT
B11: Situational Awareness & Forecasting | C11: 4 | D11: Forecast of a fire risk index, fire potential index, or similar | G11: Emergency Planning & Preparedness | H11: 7.3.9.
B12: Situational Awareness & Forecasting | C12: 5 | D12: Personnel monitoring areas of electric lines and equipment in elevated fire risk conditions | G12: Stakeholder Cooperation & Community Engagement | H12: 7.3.10.
B13: Situational Awareness & Forecasting | C13: 6 | D13: Weather forecasting and estimating impacts on electric lines and equipment
B14: Grid Design & System Hardening | C14: 1 | D14: Capacitor maintenance and replacement program
B15: Grid Design & System Hardening | C15: 2 | D15: Circuit breaker maintenance and installation to de-energize lines upon detecting a fault
B16: Grid Design & System Hardening | C16: 3 | D16: Covered conductor installation
B17: Grid Design & System Hardening | C17: 4 | D17: Covered conductor maintenance
B18: Grid Design & System Hardening | C18: 5 | D18: Crossarm maintenance, repair, and replacement
B19: Grid Design & System Hardening | C19: 6 | D19: Distribution pole replacement and reinforcement, including with composite poles
B20: Grid Design & System Hardening | C20: 7 | D20: Expulsion fuse replacement
B21: Grid Design & System Hardening | C21: 8 | D21: Grid topology improvements to mitigate or reduce PSPS events
B22: Grid Design & System Hardening | C22: 9 | D22: Installation of system automation equipment
B23: Grid Design & System Hardening | C23: 10 | D23: Maintenance, repair, and replacement of connectors, including hotline clamps
B24: Grid Design & System Hardening | C24: 11 | D24: Mitigation of impact on customers and other residents affected during PSPS event
... B90: Stakeholder Cooperation & Community Engagement | C90: 4 | D90: Forest service and fuel reduction cooperation and joint roadmap
C91: x | D91: Other
