Workbook

Sheet READ ME FIRST
B1: Quarterly Initiative Update - WMP Initiative Status Updates
B4: Instructions for use
B5: 1 | C5: Update progress on WMP Initiatives on "Initiatives" sheet by populating columns A through AB. Progress currently filled in is an example. Yellow cells indicate information that needs to be filled out or confirmed by utility. WMP initiatives that are not already listed in the "Initiatives" sheet shall be added as separate line items on the "Initiatives" sheet. Quantitative information, included initiative targets, the units of said targets and subsequent progress are reported in columns L through U with qualitative targets and progress described in columns V through Z.
B6: 2 | C6: WSD Compliance will reach out to follow up on which Initiatives require documentation for auditing, indicated in columns AD and AE in the "Initiatives" sheet. For those initiatives requiring audit documentation, please fill out columns AF through AH. Please be sure to link to a Kiteworks folder in column AF.
B7: 3 | C7: Definitions for each field are provided in the table below starting in row 17 - READ BEFORE INPUTTING DATA
B8: 4 | C8: WSD Compliance will contact the electrical corporation with any follow-up questions regarding audits
B11: Update the below table to establish which year, quarter, month of the WMP cycle this submission represents
B12: Utility | D12: SDGE
B13: Report Year | D13: 2022
B14: Report Quarter | D14: Q1
B15: Submission Date | D15: 44683
B17: Definition of fields
C19: Column | D19: Column name | E19: Definition | F19: Input type | G19: Submission in which to be completed
C20: A | D20: UtilityID | E20: Standardized ID of utility (PGE, SCE, SDGE, BVES, LU, PC, HWT, or TBC) - auto populated by utility field above | F20: Text | G20: Q1
C21: B | D21: Submission Date | E21: Autogenerated based on submission date field above | F21: Date | G21: Q1
C22: C | D22: WMPInitiativeCategory | E22: One of the 10 initiative categories in the WMP | F22: Text | G22: Q1
C23: D | D23: WMPInitiativeCategory# | E23: Autogenerated based on initiative category | F23: Numeric | G23: Q1
C24: E | D24: WMPInitiativeActivity | E24: The relevant WMP activity classification for the initiative. If this initiative applies to an activity not presented, mark "other" | F24: Text | G24: Q1
C25: F | D25: ActivityNameifOther | E25: If activity was "other", then provide the name of the appropriate activity. Should match an activity name in utility's WMP (Table 12) | F25: Text | G25: Q1
C26: G | D26: WMPInitiativeActivity# | E26: Autogenerated based on initiative activity. Will be number or name of activity if activity was marked as "other" | F26: Numeric/Text | G26: Q1
C27: H | D27: UtilityInitiativeName | E27: Utility name for initiative | F27: Text | G27: Q1
C28: I | D28: InitiativeActivityID | E28: ID for the utility initiative. Must be unique to a utility's Initiative activity across submissions. If this initiative is also reported in the initiatives feature class for Grid hardening, Asset inspections, or vegetation management and inspections, then this ID should also connect to the ID in the corresponding initiative feature class (Fields "GhlogID", "AiLogID", "VmiLogID", "VmpLogID", and "OiLogID") | F28: Text | G28: Q1
C29: J | D29: WMPInitiativeCode | E29: Unique ID of the initiative. Must be unique for each initiative for each utility for each year. Follows the format “[UtilityID]_ [WMPInitiativeCategory]_[ WMPInitiativeActivity]_[InitiativeActivityID]_[Year four digit number (e.g., “2021”)]”. For example the code “PGE_Vegetation Management & Inspections_Substation vegetation management _001_2021” would be where utility is PG&E, Initiative category is Vegetation Management & Inspections, activity is Substation vegetation management, unique initiative ID is 001 and the year is 2021 | F29: Text | G29: Q1
C30: K | D30: WMPPageNumber | E30: Page of most recent WMP where initiative is detailed. If the initiative is detailed on multiple pages, put the first page | F30: Numeric | G30: Q1
... C47: AB | D47: CorrectiveActionsIfDelayed | E47: If initiative is delayed based on reported target vs progress (e.g., reported QuantProgress for Q1 was significantly below the ProjectedQuantProgress for Q1), detail corrective actions | F47: Text | G47: As needed
C48: AC-onwards is managed by WSD; columns AF-AH will only be completed by utility upon WSD request

Sheet Initiatives
A1: UtilityID | B1: Submission Date | C1: WMPInitiativeCategory | D1: WMPInitiativeCategory# | E1: WMPInitiativeActivity | F1: ActivityNameifOther | G1: WMPInitiativeActivity# | H1: WMPInitiativeActivity2 | I1: InitiativeActivityID | J1: WMPInitiativeCode | K1: WMPPageNumber | L1: QuantTargetUnits2 | M1: AnnualQuantTarget | N1: ProjectedQuantProgressQ1 | O1: ProjectedQuantProgressQ1-2 | P1: ProjectedQuantProgressQ1-3 | Q1: ProjectedQuantProgressQ1-4 | R1: QuantActualProgressQ1 | S1: QuantActualProgressQ1-2 | T1: QuantActualProgressQ1-3 | U1: QuantActualProgressQ1-4 | V1: AnnualQualTarget | W1: QualActualProgressQ1 | X1: QualActualProgressQ1-2 | Y1: QualActualProgressQ1-3 | Z1: QualActualProgressQ1-4 | AA1: Status | AB1: CorrectiveActionsIfDelayed | AC1: REFERENCE: Compliance Branch Requirements --> | AD1: Audit | AE1: Audit File Documentation Requested | AF1: FolderLink | AG1: PersonInChargeName | AH1: PersonInChargeEmail
A2: ='READ ME FIRST'!$D$12 -> SDGE | B2: ='READ ME FIRST'!$D$15 -> 44683 | C2: Risk Assessment & Mapping | D2: =IF(Table2[[#This Row],[WMPInitiativeCategory]]="", "",INDEX('Initiative mapping-DO NOT EDIT'!$H$3:$H$12, MATCH(Table2[[#This Row],[WMPInitiativeCategory]],'Initiative mapping-DO NOT EDIT'!$G$3:$G$12,0))) -> 5.3.1. | E2: A summarized risk map that shows the overall ignition probability and estimated wildfire consequence along the electric lines and equipment | G2: =IF(Table2[[#This Row],[WMPInitiativeActivity]]="","x",IF(Table2[[#This Row],[WMPInitiativeActivity]]="other", Table2[[#This Row],[ActivityNameifOther]], INDEX('Initiative mapping-DO NOT EDIT'!$C$3:$C$89,MATCH(Table2[[#This Row],[WMPInitiativeActivity]],'Initiative mapping-DO NOT EDIT'!$D$3:$D$89,0)))) -> 1 | H2: A summarized risk map showing the overall ignition probability and estimated wildfire consequence along electric lines and equipment - WRRM Ops (7.3.1.1) | I2: WMP.442 | J2: =_xlfn.CONCAT(Table2[[#This Row],[UtilityID]],"_", Table2[[#This Row],[WMPInitiativeCategory]],"_", IF(Table2[[#This Row],[WMPInitiativeActivity]]="","x",IF(Table2[[#This Row],[WMPInitiativeActivity]]="other", Table2[[#This Row],[ActivityNameifOther]], Table2[[#This Row],[WMPInitiativeActivity]])),"_",Table2[[#This Row],[InitiativeActivityID]], "_",YEAR(Table2[[#This Row],[Submission Date]])) -> SDGE_Risk Assessment & Mapping_A summarized risk map that shows the overall ignition probability and estimated wildfire consequence along the electric lines and equipment _WMP.442_2022 | K2: 196 | L2: N/A | M2: N/A | N2: N/A | O2: N/A | P2: N/A | Q2: N/A | R2: N/A | S2: N/A | T2: N/A | U2: N/A | V2: WRRM and WRRM-Ops - Enhancements planned for 2022 include: (1) Upgrade fuel moisture inputs into the fire behavior modeling (2) Upgrade the forecaster interface (3) Incorporate the data into a PSPS decision support toolWiNGS-Planning and WiNGS-Ops- Enhancements planned for 2022 include: (1) Complete WiNGS-Planning automation (2) Develop user interface/visualization tool for WiNGS-Planning (3) Improve WiNGS-Planning and WiNGS-Ops model with new data and models such as PoI models (4) Develop visualization (PoC) tool for WiNGS-Ops (5) Integration of Technosylva and weather data in WiNGS-OpsProbability of Ignition PoI -Enhancements planned for 2022 include: (1) Continue iteration and improvement of PoI models (2) Migration of models to the cloud (3) Initiation of third-party review of the models | W2: WRRM and WRRM-Ops - 2022 Q1 enhancements are on track. We are working closely to execute the 2022 SOW which includes updated fuels layers, enhancements to the forecaster interface and updates to the PSPS monitoring tool.WiNGS-Planning and WiNGS-Ops-2022 Q1 enhancements are on track.Probability of Ignition PoI -2022 Q1 enhancements are on track. | X2: LiDAR fuels data collected in May and June and being incorporated into surface and canopy fuels update planned for Aug 2022;Technosylva developed framework to incorporate WindNinja 250m surface winds into 100 hour weather forecast; Technosylva completed Risk Associated with Value Exposure (RAVE) analysis; RAVE Locational Risk Factors variables delivered in June. | Y2: WRRM AND WRRM-OPS Enhancements Technosylva delivered updated fuels layers to SDGE in July and September. Technosylva continued processing surface fuel lidar data that was gathered in Q2. Technosylva completed 95% of the development of an updated version of WRRM-OPS that will be delivered early Q4 and will include the WindNinja 250m surface winds layer and WRF SFIRE integrationTechnosylva delivered an updated WRRM/RAVE dataset in August that incorporated the most up to date asset and fuel model data. WiNGS Planning Implemented model versioning with Azure Dev OpsConverted WiNGS 2.0 version to PythonMigrated development environment to AWSCreated WiNGS model modular framework and integrated aggregation and formulas scripts. Received Logic 2020 3rd party review results for data review and integrated 2022 WRRM data. WiNGS-Ops Continue developing WiNGS-Ops visualization tool which allows easy navigation between electric assets and risk models.Completed integration of Vulnerable customers in PSPS risk model. Validation of current assumptions is ongoing.Complete integration and validation of Technosylva and weather data (historical and forecast) in WiNGS-Ops. SDG&E has started working with RMS and it is expected to analyze RMS outputs during Q4. Continue improving Egress PoC model. Probability of Ignition PoI Continued iteration and improvement of PoF and PoI models in cloud environment. Completed pipeline optimization to improve model prediction times. Updated consequence models with 2022 Technosylva outputs. Finalize model validation after model deployment. | AA2: In progress
A3: ='READ ME FIRST'!$D$12 -> SDGE | B3: ='READ ME FIRST'!$D$15 -> 44683 | C3: Risk Assessment & Mapping | D3: =IF(Table2[[#This Row],[WMPInitiativeCategory]]="", "",INDEX('Initiative mapping-DO NOT EDIT'!$H$3:$H$12, MATCH(Table2[[#This Row],[WMPInitiativeCategory]],'Initiative mapping-DO NOT EDIT'!$G$3:$G$12,0))) -> 5.3.1. | E3: Climate-driven risk map and modelling based on various relevant weather scenarios | G3: =IF(Table2[[#This Row],[WMPInitiativeActivity]]="","x",IF(Table2[[#This Row],[WMPInitiativeActivity]]="other", Table2[[#This Row],[ActivityNameifOther]], INDEX('Initiative mapping-DO NOT EDIT'!$C$3:$C$89,MATCH(Table2[[#This Row],[WMPInitiativeActivity]],'Initiative mapping-DO NOT EDIT'!$D$3:$D$89,0)))) -> 2 | H3: Climate-driven risk map and modelling based on various relevant weather stations (7.3.1.2) | I3: WMP.443 | J3: =_xlfn.CONCAT(Table2[[#This Row],[UtilityID]],"_", Table2[[#This Row],[WMPInitiativeCategory]],"_", IF(Table2[[#This Row],[WMPInitiativeActivity]]="","x",IF(Table2[[#This Row],[WMPInitiativeActivity]]="other", Table2[[#This Row],[ActivityNameifOther]], Table2[[#This Row],[WMPInitiativeActivity]])),"_",Table2[[#This Row],[InitiativeActivityID]], "_",YEAR(Table2[[#This Row],[Submission Date]])) -> SDGE_Risk Assessment & Mapping_Climate-driven risk map and modelling based on various relevant weather scenarios _WMP.443_2022 | K3: 200 | L3: N/A | M3: N/A | N3: N/A | O3: N/A | P3: N/A | Q3: N/A | R3: N/A | S3: N/A | T3: N/A | U3: N/A | V3: N/A | W3: N/A | X3: N/A | Y3: N/A | Z3: N/A | AA3: N/A
A4: ='READ ME FIRST'!$D$12 -> SDGE | B4: ='READ ME FIRST'!$D$15 -> 44683 | C4: Risk Assessment & Mapping | D4: =IF(Table2[[#This Row],[WMPInitiativeCategory]]="", "",INDEX('Initiative mapping-DO NOT EDIT'!$H$3:$H$12, MATCH(Table2[[#This Row],[WMPInitiativeCategory]],'Initiative mapping-DO NOT EDIT'!$G$3:$G$12,0))) -> 5.3.1. | E4: Ignition probability mapping showing the probability of ignition along the electric lines and equipment | G4: =IF(Table2[[#This Row],[WMPInitiativeActivity]]="","x",IF(Table2[[#This Row],[WMPInitiativeActivity]]="other", Table2[[#This Row],[ActivityNameifOther]], INDEX('Initiative mapping-DO NOT EDIT'!$C$3:$C$89,MATCH(Table2[[#This Row],[WMPInitiativeActivity]],'Initiative mapping-DO NOT EDIT'!$D$3:$D$89,0)))) -> 3 | H4: Ignition probability mapping (7.3.1.3) | I4: WMP.444 | J4: =_xlfn.CONCAT(Table2[[#This Row],[UtilityID]],"_", Table2[[#This Row],[WMPInitiativeCategory]],"_", IF(Table2[[#This Row],[WMPInitiativeActivity]]="","x",IF(Table2[[#This Row],[WMPInitiativeActivity]]="other", Table2[[#This Row],[ActivityNameifOther]], Table2[[#This Row],[WMPInitiativeActivity]])),"_",Table2[[#This Row],[InitiativeActivityID]], "_",YEAR(Table2[[#This Row],[Submission Date]])) -> SDGE_Risk Assessment & Mapping_Ignition probability mapping showing the probability of ignition along the electric lines and equipment _WMP.444_2022 | K4: 201 | L4: N/A | M4: N/A | N4: N/A | O4: N/A | P4: N/A | Q4: N/A | R4: N/A | S4: N/A | T4: N/A | U4: N/A | V4: N/A | W4: N/A | X4: N/A | Y4: N/A | Z4: N/A | AA4: N/A
A5: ='READ ME FIRST'!$D$12 -> SDGE | B5: ='READ ME FIRST'!$D$15 -> 44683 | C5: Risk Assessment & Mapping | D5: =IF(Table2[[#This Row],[WMPInitiativeCategory]]="", "",INDEX('Initiative mapping-DO NOT EDIT'!$H$3:$H$12, MATCH(Table2[[#This Row],[WMPInitiativeCategory]],'Initiative mapping-DO NOT EDIT'!$G$3:$G$12,0))) -> 5.3.1. | E5: Initiative mapping and estimation of wildfire and PSPS risk-reduction impact | G5: =IF(Table2[[#This Row],[WMPInitiativeActivity]]="","x",IF(Table2[[#This Row],[WMPInitiativeActivity]]="other", Table2[[#This Row],[ActivityNameifOther]], INDEX('Initiative mapping-DO NOT EDIT'!$C$3:$C$89,MATCH(Table2[[#This Row],[WMPInitiativeActivity]],'Initiative mapping-DO NOT EDIT'!$D$3:$D$89,0)))) -> 4 | H5: Initiative mapping and estimation of wildfire and PSPS risk-reduction impact (7.3.1.4) | I5: WMP.445 | J5: =_xlfn.CONCAT(Table2[[#This Row],[UtilityID]],"_", Table2[[#This Row],[WMPInitiativeCategory]],"_", IF(Table2[[#This Row],[WMPInitiativeActivity]]="","x",IF(Table2[[#This Row],[WMPInitiativeActivity]]="other", Table2[[#This Row],[ActivityNameifOther]], Table2[[#This Row],[WMPInitiativeActivity]])),"_",Table2[[#This Row],[InitiativeActivityID]], "_",YEAR(Table2[[#This Row],[Submission Date]])) -> SDGE_Risk Assessment & Mapping_Initiative mapping and estimation of wildfire and PSPS risk-reduction impact _WMP.445_2022 | K5: 201 | L5: N/A | M5: N/A | N5: N/A | O5: N/A | P5: N/A | Q5: N/A | R5: N/A | S5: N/A | T5: N/A | U5: N/A | V5: N/A | W5: N/A | X5: N/A | Y5: N/A | Z5: N/A | AA5: N/A
A6: ='READ ME FIRST'!$D$12 -> SDGE | B6: ='READ ME FIRST'!$D$15 -> 44683 | C6: Risk Assessment & Mapping | D6: =IF(Table2[[#This Row],[WMPInitiativeCategory]]="", "",INDEX('Initiative mapping-DO NOT EDIT'!$H$3:$H$12, MATCH(Table2[[#This Row],[WMPInitiativeCategory]],'Initiative mapping-DO NOT EDIT'!$G$3:$G$12,0))) -> 5.3.1. | E6: Match drop simulations showing the potential wildfire consequence of ignitions that occur along the electric lines and equipment | G6: =IF(Table2[[#This Row],[WMPInitiativeActivity]]="","x",IF(Table2[[#This Row],[WMPInitiativeActivity]]="other", Table2[[#This Row],[ActivityNameifOther]], INDEX('Initiative mapping-DO NOT EDIT'!$C$3:$C$89,MATCH(Table2[[#This Row],[WMPInitiativeActivity]],'Initiative mapping-DO NOT EDIT'!$D$3:$D$89,0)))) -> 5 | H6: Match drop simulations (7.3.1.5) | I6: WMP.446 | J6: =_xlfn.CONCAT(Table2[[#This Row],[UtilityID]],"_", Table2[[#This Row],[WMPInitiativeCategory]],"_", IF(Table2[[#This Row],[WMPInitiativeActivity]]="","x",IF(Table2[[#This Row],[WMPInitiativeActivity]]="other", Table2[[#This Row],[ActivityNameifOther]], Table2[[#This Row],[WMPInitiativeActivity]])),"_",Table2[[#This Row],[InitiativeActivityID]], "_",YEAR(Table2[[#This Row],[Submission Date]])) -> SDGE_Risk Assessment & Mapping_Match drop simulations showing the potential wildfire consequence of ignitions that occur along the electric lines and equipment _WMP.446_2022 | K6: 201 | L6: N/A | M6: N/A | N6: N/A | O6: N/A | P6: N/A | Q6: N/A | R6: N/A | S6: N/A | T6: N/A | U6: N/A | V6: N/A | W6: N/A | X6: N/A | Y6: N/A | Z6: N/A | AA6: N/A
A7: ='READ ME FIRST'!$D$12 -> SDGE | B7: ='READ ME FIRST'!$D$15 -> 44683 | C7: Situational Awareness & Forecasting | D7: =IF(Table2[[#This Row],[WMPInitiativeCategory]]="", "",INDEX('Initiative mapping-DO NOT EDIT'!$H$3:$H$12, MATCH(Table2[[#This Row],[WMPInitiativeCategory]],'Initiative mapping-DO NOT EDIT'!$G$3:$G$12,0))) -> 5.3.2. | E7: Advanced weather monitoring and weather stations | G7: =IF(Table2[[#This Row],[WMPInitiativeActivity]]="","x",IF(Table2[[#This Row],[WMPInitiativeActivity]]="other", Table2[[#This Row],[ActivityNameifOther]], INDEX('Initiative mapping-DO NOT EDIT'!$C$3:$C$89,MATCH(Table2[[#This Row],[WMPInitiativeActivity]],'Initiative mapping-DO NOT EDIT'!$D$3:$D$89,0)))) -> 1 | H7: Advanced weather monitoring and weather stations (7.3.2.1) | I7: WMP.447 | J7: =_xlfn.CONCAT(Table2[[#This Row],[UtilityID]],"_", Table2[[#This Row],[WMPInitiativeCategory]],"_", IF(Table2[[#This Row],[WMPInitiativeActivity]]="","x",IF(Table2[[#This Row],[WMPInitiativeActivity]]="other", Table2[[#This Row],[ActivityNameifOther]], Table2[[#This Row],[WMPInitiativeActivity]])),"_",Table2[[#This Row],[InitiativeActivityID]], "_",YEAR(Table2[[#This Row],[Submission Date]])) -> SDGE_Situational Awareness & Forecasting_Advanced weather monitoring and weather stations _WMP.447_2022 | K7: 202 | L7: WX Station Upgrades | M7: 20 | N7: 0 | O7: 6 | P7: 13 | Q7: 20 | R7: 4 | S7: 5 | T7: 6 | V7: N/A | W7: N/A | X7: N/A | Y7: N/A | Z7: N/A | AA7: In progress
A8: ='READ ME FIRST'!$D$12 -> SDGE | B8: ='READ ME FIRST'!$D$15 -> 44683 | C8: Situational Awareness & Forecasting | D8: =IF(Table2[[#This Row],[WMPInitiativeCategory]]="", "",INDEX('Initiative mapping-DO NOT EDIT'!$H$3:$H$12, MATCH(Table2[[#This Row],[WMPInitiativeCategory]],'Initiative mapping-DO NOT EDIT'!$G$3:$G$12,0))) -> 5.3.2. | E8: Continuous monitoring sensors | G8: =IF(Table2[[#This Row],[WMPInitiativeActivity]]="","x",IF(Table2[[#This Row],[WMPInitiativeActivity]]="other", Table2[[#This Row],[ActivityNameifOther]], INDEX('Initiative mapping-DO NOT EDIT'!$C$3:$C$89,MATCH(Table2[[#This Row],[WMPInitiativeActivity]],'Initiative mapping-DO NOT EDIT'!$D$3:$D$89,0)))) -> 2 | H8: Continuous monitoring sensors (7.3.2.2) | I8: WMP.448 | J8: =_xlfn.CONCAT(Table2[[#This Row],[UtilityID]],"_", Table2[[#This Row],[WMPInitiativeCategory]],"_", IF(Table2[[#This Row],[WMPInitiativeActivity]]="","x",IF(Table2[[#This Row],[WMPInitiativeActivity]]="other", Table2[[#This Row],[ActivityNameifOther]], Table2[[#This Row],[WMPInitiativeActivity]])),"_",Table2[[#This Row],[InitiativeActivityID]], "_",YEAR(Table2[[#This Row],[Submission Date]])) -> SDGE_Situational Awareness & Forecasting_Continuous monitoring sensors _WMP.448_2022 | K8: 203 | L8: N/A | M8: N/A | N8: N/A | O8: N/A | P8: N/A | Q8: N/A | R8: N/A | S8: N/A | T8: N/A | U8: N/A | V8: N/A | W8: N/A | X8: N/A | Y8: N/A | Z8: N/A | AA8: N/A
A9: ='READ ME FIRST'!$D$12 -> SDGE | B9: ='READ ME FIRST'!$D$15 -> 44683 | C9: Situational Awareness & Forecasting | D9: =IF(Table2[[#This Row],[WMPInitiativeCategory]]="", "",INDEX('Initiative mapping-DO NOT EDIT'!$H$3:$H$12, MATCH(Table2[[#This Row],[WMPInitiativeCategory]],'Initiative mapping-DO NOT EDIT'!$G$3:$G$12,0))) -> 5.3.2. | E9: Other | F9: Air Quality Index | G9: Air Quality Index | H9: Air Quality Index (7.3.2.2.1) | I9: WMP.544 | J9: =_xlfn.CONCAT(Table2[[#This Row],[UtilityID]],"_", Table2[[#This Row],[WMPInitiativeCategory]],"_", IF(Table2[[#This Row],[WMPInitiativeActivity]]="","x",IF(Table2[[#This Row],[WMPInitiativeActivity]]="other", Table2[[#This Row],[ActivityNameifOther]], Table2[[#This Row],[WMPInitiativeActivity]])),"_",Table2[[#This Row],[InitiativeActivityID]], "_",YEAR(Table2[[#This Row],[Submission Date]])) -> SDGE_Situational Awareness & Forecasting_Air Quality Index_WMP.544_2022 | K9: 203 | L9: Sensors | M9: 6 | O9: 4 | P9: 6 | Q9: 6 | R9: 3 | S9: 5 | T9: 5 | V9: N/A | W9: N/A | X9: N/A | Y9: N/A | Z9: N/A | AA9: In progress
A10: ='READ ME FIRST'!$D$12 -> SDGE | B10: ='READ ME FIRST'!$D$15 -> 44683 | C10: Situational Awareness & Forecasting | D10: =IF(Table2[[#This Row],[WMPInitiativeCategory]]="", "",INDEX('Initiative mapping-DO NOT EDIT'!$H$3:$H$12, MATCH(Table2[[#This Row],[WMPInitiativeCategory]],'Initiative mapping-DO NOT EDIT'!$G$3:$G$12,0))) -> 5.3.2. | E10: Other | F10: Satellite-based remote sensing | G10: =IF(Table2[[#This Row],[WMPInitiativeActivity]]="","x",IF(Table2[[#This Row],[WMPInitiativeActivity]]="other", Table2[[#This Row],[ActivityNameifOther]], INDEX('Initiative mapping-DO NOT EDIT'!$C$3:$C$89,MATCH(Table2[[#This Row],[WMPInitiativeActivity]],'Initiative mapping-DO NOT EDIT'!$D$3:$D$89,0)))) -> Satellite-based remote sensing | H10: Satellite-based remote sensing (7.3.2.2.2) | I10: WMP.545 | J10: =_xlfn.CONCAT(Table2[[#This Row],[UtilityID]],"_", Table2[[#This Row],[WMPInitiativeCategory]],"_", IF(Table2[[#This Row],[WMPInitiativeActivity]]="","x",IF(Table2[[#This Row],[WMPInitiativeActivity]]="other", Table2[[#This Row],[ActivityNameifOther]], Table2[[#This Row],[WMPInitiativeActivity]])),"_",Table2[[#This Row],[InitiativeActivityID]], "_",YEAR(Table2[[#This Row],[Submission Date]])) -> SDGE_Situational Awareness & Forecasting_Satellite-based remote sensing _WMP.545_2022 | K10: 204 | L10: Cameras | M10: 8 | O10: 12 | P10: 18 | Q10: 22 | R10: 6 | S10: 12 | T10: 12 | V10: N/A | W10: N/A | X10: N/A | Y10: N/A | Z10: N/A | AA10: In progress
A11: ='READ ME FIRST'!$D$12 -> SDGE | B11: ='READ ME FIRST'!$D$15 -> 44683 | C11: Situational Awareness & Forecasting | D11: =IF(Table2[[#This Row],[WMPInitiativeCategory]]="", "",INDEX('Initiative mapping-DO NOT EDIT'!$H$3:$H$12, MATCH(Table2[[#This Row],[WMPInitiativeCategory]],'Initiative mapping-DO NOT EDIT'!$G$3:$G$12,0))) -> 5.3.2. | E11: Fault indicators for detecting faults on electric lines and equipment | G11: =IF(Table2[[#This Row],[WMPInitiativeActivity]]="","x",IF(Table2[[#This Row],[WMPInitiativeActivity]]="other", Table2[[#This Row],[ActivityNameifOther]], INDEX('Initiative mapping-DO NOT EDIT'!$C$3:$C$89,MATCH(Table2[[#This Row],[WMPInitiativeActivity]],'Initiative mapping-DO NOT EDIT'!$D$3:$D$89,0)))) -> 3 | H11: Fault indicators for detecting faults on electric lines and equipment - Wireless Fault Indicators (7.3.2.3) | I11: WMP.449 | J11: =_xlfn.CONCAT(Table2[[#This Row],[UtilityID]],"_", Table2[[#This Row],[WMPInitiativeCategory]],"_", IF(Table2[[#This Row],[WMPInitiativeActivity]]="","x",IF(Table2[[#This Row],[WMPInitiativeActivity]]="other", Table2[[#This Row],[ActivityNameifOther]], Table2[[#This Row],[WMPInitiativeActivity]])),"_",Table2[[#This Row],[InitiativeActivityID]], "_",YEAR(Table2[[#This Row],[Submission Date]])) -> SDGE_Situational Awareness & Forecasting_Fault indicators for detecting faults on electric lines and equipment _WMP.449_2022 | K11: 205 | L11: WFI | M11: 500 | O11: 88 | P11: 400 | Q11: 500 | R11: 12 | S11: 12 | T11: 515 | V11: N/A | W11: N/A | X11: N/A | Y11: N/A | Z11: N/A | AA11: In progress
A12: ='READ ME FIRST'!$D$12 -> SDGE | B12: ='READ ME FIRST'!$D$15 -> 44683 | C12: Situational Awareness & Forecasting | D12: =IF(Table2[[#This Row],[WMPInitiativeCategory]]="", "",INDEX('Initiative mapping-DO NOT EDIT'!$H$3:$H$12, MATCH(Table2[[#This Row],[WMPInitiativeCategory]],'Initiative mapping-DO NOT EDIT'!$G$3:$G$12,0))) -> 5.3.2. | E12: Forecast of a fire risk index, fire potential index, or similar | F12: Fire potential index | G12: =IF(Table2[[#This Row],[WMPInitiativeActivity]]="","x",IF(Table2[[#This Row],[WMPInitiativeActivity]]="other", Table2[[#This Row],[ActivityNameifOther]], INDEX('Initiative mapping-DO NOT EDIT'!$C$3:$C$89,MATCH(Table2[[#This Row],[WMPInitiativeActivity]],'Initiative mapping-DO NOT EDIT'!$D$3:$D$89,0)))) -> 4 | H12: Fire potential index (7.3.2.4.1) | I12: WMP.450 | J12: =_xlfn.CONCAT(Table2[[#This Row],[UtilityID]],"_", Table2[[#This Row],[WMPInitiativeCategory]],"_", IF(Table2[[#This Row],[WMPInitiativeActivity]]="","x",IF(Table2[[#This Row],[WMPInitiativeActivity]]="other", Table2[[#This Row],[ActivityNameifOther]], Table2[[#This Row],[WMPInitiativeActivity]])),"_",Table2[[#This Row],[InitiativeActivityID]], "_",YEAR(Table2[[#This Row],[Submission Date]])) -> SDGE_Situational Awareness & Forecasting_Forecast of a fire risk index, fire potential index, or similar _WMP.450_2022 | K12: 207 | L12: N/A | M12: N/A | O12: N/A | P12: N/A | Q12: N/A | R12: N/A | S12: N/A | T12: N/A | U12: N/A | V12: In 2022 partnerships with academia will continue to work to advance fire science and weather science. Operational decision making will continue to integrate of the FPI in operations in order to mitigate wildfire potential. Additionally, the accuracy and efficacy of the model will continue to be improved. | W12: On track toto work to advance fire science and weather science | X12: On track to work to advance fire science and weather science. SDSC weather model visualization is complete, SJSU Live Fuel Moisture model continues refinement with additional databases, University of Wisconsin space based fire alerts continue to prove effective temporally and spatially, and Scripps Oceanography is beginning to set up and run a long range advanced weather model for SDG&E. | Y12: On track to advance fire science and weather science. SDSC weather model visualization is complete, and models and parameters are added frequently. SJSU Live Fuel Moisture model continues refinement with additional databases. University of Wisconsin space-based fire alerts continue to prove effective temporally and spatially and are collaborative with our AI smoke detection camera network. Scripps Oceanography has completed a long-range advanced weather model for SDG&E that determines the probability and severity of Santa Anas. | Z12: N/A | AA12: In progress
A13: ='READ ME FIRST'!$D$12 -> SDGE | B13: ='READ ME FIRST'!$D$15 -> 44683 | C13: Situational Awareness & Forecasting | D13: =IF(Table2[[#This Row],[WMPInitiativeCategory]]="", "",INDEX('Initiative mapping-DO NOT EDIT'!$H$3:$H$12, MATCH(Table2[[#This Row],[WMPInitiativeCategory]],'Initiative mapping-DO NOT EDIT'!$G$3:$G$12,0))) -> 5.3.2. | E13: Other | F13: Santa Ana wildfire threat index | G13: =IF(Table2[[#This Row],[WMPInitiativeActivity]]="","x",IF(Table2[[#This Row],[WMPInitiativeActivity]]="other", Table2[[#This Row],[ActivityNameifOther]], INDEX('Initiative mapping-DO NOT EDIT'!$C$3:$C$89,MATCH(Table2[[#This Row],[WMPInitiativeActivity]],'Initiative mapping-DO NOT EDIT'!$D$3:$D$89,0)))) -> Santa Ana wildfire threat index | H13: Santa Ana wildfire threat index (7.3.2.4.2) | I13: WMP.546 | J13: =_xlfn.CONCAT(Table2[[#This Row],[UtilityID]],"_", Table2[[#This Row],[WMPInitiativeCategory]],"_", IF(Table2[[#This Row],[WMPInitiativeActivity]]="","x",IF(Table2[[#This Row],[WMPInitiativeActivity]]="other", Table2[[#This Row],[ActivityNameifOther]], Table2[[#This Row],[WMPInitiativeActivity]])),"_",Table2[[#This Row],[InitiativeActivityID]], "_",YEAR(Table2[[#This Row],[Submission Date]])) -> SDGE_Situational Awareness & Forecasting_Santa Ana wildfire threat index_WMP.546_2022 | K13: 208 | L13: N/A | M13: N/A | O13: N/A | P13: N/A | Q13: N/A | R13: N/A | S13: N/A | T13: N/A | U13: N/A | V13: No significant changes were made to the SAWTI model in 2021, though the data delivery process to the U.S. Forest Service was modernized. In late 2022, the resolution of the modeling used to generate the SAWTI will be increased, which will require re-coding of the software that processes the weather and fuels data. | W13: New super computers and subsequent weather modeling upgrade to create a higher resolution baseline is on track. SDG&E will continue to work with academia and the fire agencies to further develop fire science for integration into SAWTI. | X13: New super computers and subsequent weather modeling upgrade to create a higher resolution baseline is on track. SDG&E will continue to work with academia and the fire agencies to further develop fire science for integration into SAWTI. | Y13: New super computers and subsequent Q1 2023 weather modeling upgrade to create a higher resolution baseline is on track. SDG&E will continue to work with academia and the fire agencies to further develop fire science for integration into SAWTI. | Z13: N/A | AA13: In progress
A14: ='READ ME FIRST'!$D$12 -> SDGE | B14: ='READ ME FIRST'!$D$15 -> 44683 | C14: Situational Awareness & Forecasting | D14: =IF(Table2[[#This Row],[WMPInitiativeCategory]]="", "",INDEX('Initiative mapping-DO NOT EDIT'!$H$3:$H$12, MATCH(Table2[[#This Row],[WMPInitiativeCategory]],'Initiative mapping-DO NOT EDIT'!$G$3:$G$12,0))) -> 5.3.2. | E14: Other | F14: High-performance computing infrastructure | G14: =IF(Table2[[#This Row],[WMPInitiativeActivity]]="","x",IF(Table2[[#This Row],[WMPInitiativeActivity]]="other", Table2[[#This Row],[ActivityNameifOther]], INDEX('Initiative mapping-DO NOT EDIT'!$C$3:$C$89,MATCH(Table2[[#This Row],[WMPInitiativeActivity]],'Initiative mapping-DO NOT EDIT'!$D$3:$D$89,0)))) -> High-performance computing infrastructure | H14: High-performance computing infrastructure (7.3.2.4.3) | I14: WMP.547 | J14: =_xlfn.CONCAT(Table2[[#This Row],[UtilityID]],"_", Table2[[#This Row],[WMPInitiativeCategory]],"_", IF(Table2[[#This Row],[WMPInitiativeActivity]]="","x",IF(Table2[[#This Row],[WMPInitiativeActivity]]="other", Table2[[#This Row],[ActivityNameifOther]], Table2[[#This Row],[WMPInitiativeActivity]])),"_",Table2[[#This Row],[InitiativeActivityID]], "_",YEAR(Table2[[#This Row],[Submission Date]])) -> SDGE_Situational Awareness & Forecasting_High-performance computing infrastructure_WMP.547_2022 | K14: 208 | L14: N/A | M14: N/A | O14: N/A | P14: N/A | Q14: N/A | R14: N/A | S14: N/A | T14: N/A | U14: N/A | V14: SDG&E will add two new HPCC's, enhancing forecasting capabilities. | W14: SDG&E remains on track to acquire two new HPCCs in 2022. The contracting has been completed and the systems are in the process of being built. | X14: SDG&E remains on track to acquire two new HPCCs in 2022. The contracting has been completed and the systems are in the process of being built. | Y14: SDG&E acquired, configured, and installed two new High Performance Computing Clusters (HPCCs) in Fall 2022. New super computers and subsequent Q1 2023 weather modeling upgrade to create a higher resolution baseline is on track. | Z14: N/A | AA14: In progress
A15: ='READ ME FIRST'!$D$12 -> SDGE | B15: ='READ ME FIRST'!$D$15 -> 44683 | C15: Situational Awareness & Forecasting | D15: =IF(Table2[[#This Row],[WMPInitiativeCategory]]="", "",INDEX('Initiative mapping-DO NOT EDIT'!$H$3:$H$12, MATCH(Table2[[#This Row],[WMPInitiativeCategory]],'Initiative mapping-DO NOT EDIT'!$G$3:$G$12,0))) -> 5.3.2. | E15: Personnel monitoring areas of electric lines and equipment in elevated fire risk conditions | G15: =IF(Table2[[#This Row],[WMPInitiativeActivity]]="","x",IF(Table2[[#This Row],[WMPInitiativeActivity]]="other", Table2[[#This Row],[ActivityNameifOther]], INDEX('Initiative mapping-DO NOT EDIT'!$C$3:$C$89,MATCH(Table2[[#This Row],[WMPInitiativeActivity]],'Initiative mapping-DO NOT EDIT'!$D$3:$D$89,0)))) -> 5 | H15: Personnel monitoring areas of electric lines and equipment in elevated fire risk conditions (7.3.2.5) | I15: WMP.451 | J15: =_xlfn.CONCAT(Table2[[#This Row],[UtilityID]],"_", Table2[[#This Row],[WMPInitiativeCategory]],"_", IF(Table2[[#This Row],[WMPInitiativeActivity]]="","x",IF(Table2[[#This Row],[WMPInitiativeActivity]]="other", Table2[[#This Row],[ActivityNameifOther]], Table2[[#This Row],[WMPInitiativeActivity]])),"_",Table2[[#This Row],[InitiativeActivityID]], "_",YEAR(Table2[[#This Row],[Submission Date]])) -> SDGE_Situational Awareness & Forecasting_Personnel monitoring areas of electric lines and equipment in elevated fire risk conditions _WMP.451_2022 | K15: 209 | L15: N/A | M15: N/A | O15: N/A | P15: N/A | Q15: N/A | R15: N/A | S15: N/A | T15: N/A | U15: N/A | V15: Ensure staging of QEW field observers during potential PSPS and extreme weather conditions, in compliance with SDG&E procedures. | W15: Personnel were stationed at key locations to monitor power lines during the single PSPS event that occurred in 2022. | X15: No potential PSPS or extreme weather conditions were present yet in 2022. | Y15: No potential PSPS conditions were present yet in 2022. Extreme FPI was present, but after assessment and in-line with procedures, no personnel staging was necessary. | Z15: N/A | AA15: In progress
A16: ='READ ME FIRST'!$D$12 -> SDGE | B16: ='READ ME FIRST'!$D$15 -> 44683 | C16: Situational Awareness & Forecasting | D16: =IF(Table2[[#This Row],[WMPInitiativeCategory]]="", "",INDEX('Initiative mapping-DO NOT EDIT'!$H$3:$H$12, MATCH(Table2[[#This Row],[WMPInitiativeCategory]],'Initiative mapping-DO NOT EDIT'!$G$3:$G$12,0))) -> 5.3.2. | E16: Weather forecasting and estimating impacts on electric lines and equipment | G16: =IF(Table2[[#This Row],[WMPInitiativeActivity]]="","x",IF(Table2[[#This Row],[WMPInitiativeActivity]]="other", Table2[[#This Row],[ActivityNameifOther]], INDEX('Initiative mapping-DO NOT EDIT'!$C$3:$C$89,MATCH(Table2[[#This Row],[WMPInitiativeActivity]],'Initiative mapping-DO NOT EDIT'!$D$3:$D$89,0)))) -> 6 | H16: Weather forecasting and estimating impacts on electric lines and equipment (7.3.2.6) | I16: WMP.452 | J16: =_xlfn.CONCAT(Table2[[#This Row],[UtilityID]],"_", Table2[[#This Row],[WMPInitiativeCategory]],"_", IF(Table2[[#This Row],[WMPInitiativeActivity]]="","x",IF(Table2[[#This Row],[WMPInitiativeActivity]]="other", Table2[[#This Row],[ActivityNameifOther]], Table2[[#This Row],[WMPInitiativeActivity]])),"_",Table2[[#This Row],[InitiativeActivityID]], "_",YEAR(Table2[[#This Row],[Submission Date]])) -> SDGE_Situational Awareness & Forecasting_Weather forecasting and estimating impacts on electric lines and equipment _WMP.452_2022 | K16: 210 | L16: N/A | M16: N/A | O16: N/A | P16: N/A | Q16: N/A | R16: N/A | S16: N/A | T16: N/A | U16: N/A | V16: N/A | W16: N/A | X16: N/A | Y16: N/A | Z16: N/A | AA16: N/A
A17: ='READ ME FIRST'!$D$12 -> SDGE | B17: ='READ ME FIRST'!$D$15 -> 44683 | C17: Grid Design & System Hardening | D17: =IF(Table2[[#This Row],[WMPInitiativeCategory]]="", "",INDEX('Initiative mapping-DO NOT EDIT'!$H$3:$H$12, MATCH(Table2[[#This Row],[WMPInitiativeCategory]],'Initiative mapping-DO NOT EDIT'!$G$3:$G$12,0))) -> 5.3.3. | E17: Capacitor maintenance and replacement program | G17: =IF(Table2[[#This Row],[WMPInitiativeActivity]]="","x",IF(Table2[[#This Row],[WMPInitiativeActivity]]="other", Table2[[#This Row],[ActivityNameifOther]], INDEX('Initiative mapping-DO NOT EDIT'!$C$3:$C$89,MATCH(Table2[[#This Row],[WMPInitiativeActivity]],'Initiative mapping-DO NOT EDIT'!$D$3:$D$89,0)))) -> 1 | H17: Capacitor maintenance and replacement program - SCADA Capacitors (7.3.3.1) | I17: WMP.453 | J17: =_xlfn.CONCAT(Table2[[#This Row],[UtilityID]],"_", Table2[[#This Row],[WMPInitiativeCategory]],"_", IF(Table2[[#This Row],[WMPInitiativeActivity]]="","x",IF(Table2[[#This Row],[WMPInitiativeActivity]]="other", Table2[[#This Row],[ActivityNameifOther]], Table2[[#This Row],[WMPInitiativeActivity]])),"_",Table2[[#This Row],[InitiativeActivityID]], "_",YEAR(Table2[[#This Row],[Submission Date]])) -> SDGE_Grid Design & System Hardening_Capacitor maintenance and replacement program _WMP.453_2022 | K17: 212 | L17: Capacitors | M17: 40 | O17: 25 | P17: 31 | Q17: 40 | R17: 5 | S17: 22 | T17: 47 | V17: N/A | W17: N/A | X17: N/A | Y17: N/A | Z17: N/A | AA17: N/A
A18: ='READ ME FIRST'!$D$12 -> SDGE | B18: ='READ ME FIRST'!$D$15 -> 44683 | C18: Grid Design & System Hardening | D18: =IF(Table2[[#This Row],[WMPInitiativeCategory]]="", "",INDEX('Initiative mapping-DO NOT EDIT'!$H$3:$H$12, MATCH(Table2[[#This Row],[WMPInitiativeCategory]],'Initiative mapping-DO NOT EDIT'!$G$3:$G$12,0))) -> 5.3.3. | E18: Circuit breaker maintenance and installation to de-energize lines upon detecting a fault | G18: =IF(Table2[[#This Row],[WMPInitiativeActivity]]="","x",IF(Table2[[#This Row],[WMPInitiativeActivity]]="other", Table2[[#This Row],[ActivityNameifOther]], INDEX('Initiative mapping-DO NOT EDIT'!$C$3:$C$89,MATCH(Table2[[#This Row],[WMPInitiativeActivity]],'Initiative mapping-DO NOT EDIT'!$D$3:$D$89,0)))) -> 2 | H18: Circuit breaker maintenance and installation to de-energize lines upon detecting a fault (7.3.3.2) | I18: WMP.454 | J18: =_xlfn.CONCAT(Table2[[#This Row],[UtilityID]],"_", Table2[[#This Row],[WMPInitiativeCategory]],"_", IF(Table2[[#This Row],[WMPInitiativeActivity]]="","x",IF(Table2[[#This Row],[WMPInitiativeActivity]]="other", Table2[[#This Row],[ActivityNameifOther]], Table2[[#This Row],[WMPInitiativeActivity]])),"_",Table2[[#This Row],[InitiativeActivityID]], "_",YEAR(Table2[[#This Row],[Submission Date]])) -> SDGE_Grid Design & System Hardening_Circuit breaker maintenance and installation to de-energize lines upon detecting a fault _WMP.454_2022 | K18: 213 | L18: N/A | M18: N/A | O18: N/A | P18: N/A | Q18: N/A | R18: N/A | S18: N/A | T18: N/A | U18: N/A | V18: N/A | W18: N/A | X18: N/A | Y18: N/A | Z18: N/A | AA18: N/A
A19: ='READ ME FIRST'!$D$12 -> SDGE | B19: ='READ ME FIRST'!$D$15 -> 44683 | C19: Grid Design & System Hardening | D19: =IF(Table2[[#This Row],[WMPInitiativeCategory]]="", "",INDEX('Initiative mapping-DO NOT EDIT'!$H$3:$H$12, MATCH(Table2[[#This Row],[WMPInitiativeCategory]],'Initiative mapping-DO NOT EDIT'!$G$3:$G$12,0))) -> 5.3.3. | E19: Covered conductor installation | G19: =IF(Table2[[#This Row],[WMPInitiativeActivity]]="","x",IF(Table2[[#This Row],[WMPInitiativeActivity]]="other", Table2[[#This Row],[ActivityNameifOther]], INDEX('Initiative mapping-DO NOT EDIT'!$C$3:$C$89,MATCH(Table2[[#This Row],[WMPInitiativeActivity]],'Initiative mapping-DO NOT EDIT'!$D$3:$D$89,0)))) -> 3 | H19: Covered conductor installation - Distribution OH Hardening (7.3.3.3) | I19: WMP.455 | J19: =_xlfn.CONCAT(Table2[[#This Row],[UtilityID]],"_", Table2[[#This Row],[WMPInitiativeCategory]],"_", IF(Table2[[#This Row],[WMPInitiativeActivity]]="","x",IF(Table2[[#This Row],[WMPInitiativeActivity]]="other", Table2[[#This Row],[ActivityNameifOther]], Table2[[#This Row],[WMPInitiativeActivity]])),"_",Table2[[#This Row],[InitiativeActivityID]], "_",YEAR(Table2[[#This Row],[Submission Date]])) -> SDGE_Grid Design & System Hardening_Covered conductor installation _WMP.455_2022 | K19: 213 | L19: Miles | M19: 60 | O19: 18.66 | P19: 45.31 | Q19: 77.46 | R19: 3 | S19: 12.6 | T19: 29.12 | V19: N/A | W19: N/A | X19: N/A | Y19: N/A | Z19: N/A | AA19: In progress
A20: ='READ ME FIRST'!$D$12 -> SDGE | B20: ='READ ME FIRST'!$D$15 -> 44683 | C20: Grid Design & System Hardening | D20: =IF(Table2[[#This Row],[WMPInitiativeCategory]]="", "",INDEX('Initiative mapping-DO NOT EDIT'!$H$3:$H$12, MATCH(Table2[[#This Row],[WMPInitiativeCategory]],'Initiative mapping-DO NOT EDIT'!$G$3:$G$12,0))) -> 5.3.3. | E20: Covered conductor maintenance | G20: =IF(Table2[[#This Row],[WMPInitiativeActivity]]="","x",IF(Table2[[#This Row],[WMPInitiativeActivity]]="other", Table2[[#This Row],[ActivityNameifOther]], INDEX('Initiative mapping-DO NOT EDIT'!$C$3:$C$89,MATCH(Table2[[#This Row],[WMPInitiativeActivity]],'Initiative mapping-DO NOT EDIT'!$D$3:$D$89,0)))) -> 4 | H20: Covered conductor maintenance (7.3.3.4) | I20: WMP.456 | J20: =_xlfn.CONCAT(Table2[[#This Row],[UtilityID]],"_", Table2[[#This Row],[WMPInitiativeCategory]],"_", IF(Table2[[#This Row],[WMPInitiativeActivity]]="","x",IF(Table2[[#This Row],[WMPInitiativeActivity]]="other", Table2[[#This Row],[ActivityNameifOther]], Table2[[#This Row],[WMPInitiativeActivity]])),"_",Table2[[#This Row],[InitiativeActivityID]], "_",YEAR(Table2[[#This Row],[Submission Date]])) -> SDGE_Grid Design & System Hardening_Covered conductor maintenance _WMP.456_2022 | K20: 215 | L20: N/A | M20: N/A | O20: N/A | P20: N/A | Q20: N/A | R20: N/A | S20: N/A | T20: N/A | U20: N/A | V20: N/A | W20: N/A | X20: N/A | Y20: N/A | Z20: N/A | AA20: N/A
A21: ='READ ME FIRST'!$D$12 -> SDGE | B21: ='READ ME FIRST'!$D$15 -> 44683 | C21: Grid Design & System Hardening | D21: =IF(Table2[[#This Row],[WMPInitiativeCategory]]="", "",INDEX('Initiative mapping-DO NOT EDIT'!$H$3:$H$12, MATCH(Table2[[#This Row],[WMPInitiativeCategory]],'Initiative mapping-DO NOT EDIT'!$G$3:$G$12,0))) -> 5.3.3. | E21: Crossarm maintenance, repair, and replacement | G21: =IF(Table2[[#This Row],[WMPInitiativeActivity]]="","x",IF(Table2[[#This Row],[WMPInitiativeActivity]]="other", Table2[[#This Row],[ActivityNameifOther]], INDEX('Initiative mapping-DO NOT EDIT'!$C$3:$C$89,MATCH(Table2[[#This Row],[WMPInitiativeActivity]],'Initiative mapping-DO NOT EDIT'!$D$3:$D$89,0)))) -> 5 | H21: Crossarm maintenance, repair, and replacement (7.3.3.5) | I21: WMP.457 | J21: =_xlfn.CONCAT(Table2[[#This Row],[UtilityID]],"_", Table2[[#This Row],[WMPInitiativeCategory]],"_", IF(Table2[[#This Row],[WMPInitiativeActivity]]="","x",IF(Table2[[#This Row],[WMPInitiativeActivity]]="other", Table2[[#This Row],[ActivityNameifOther]], Table2[[#This Row],[WMPInitiativeActivity]])),"_",Table2[[#This Row],[InitiativeActivityID]], "_",YEAR(Table2[[#This Row],[Submission Date]])) -> SDGE_Grid Design & System Hardening_Crossarm maintenance, repair, and replacement _WMP.457_2022 | K21: 216 | L21: N/A | M21: N/A | O21: N/A | P21: N/A | Q21: N/A | R21: N/A | S21: N/A | T21: N/A | U21: N/A | V21: N/A | W21: N/A | X21: N/A | Y21: N/A | Z21: N/A | AA21: N/A
A22: ='READ ME FIRST'!$D$12 -> SDGE | B22: ='READ ME FIRST'!$D$15 -> 44683 | C22: Grid Design & System Hardening | D22: =IF(Table2[[#This Row],[WMPInitiativeCategory]]="", "",INDEX('Initiative mapping-DO NOT EDIT'!$H$3:$H$12, MATCH(Table2[[#This Row],[WMPInitiativeCategory]],'Initiative mapping-DO NOT EDIT'!$G$3:$G$12,0))) -> 5.3.3. | E22: Distribution pole replacement and reinforcement, including with composite poles | G22: =IF(Table2[[#This Row],[WMPInitiativeActivity]]="","x",IF(Table2[[#This Row],[WMPInitiativeActivity]]="other", Table2[[#This Row],[ActivityNameifOther]], INDEX('Initiative mapping-DO NOT EDIT'!$C$3:$C$89,MATCH(Table2[[#This Row],[WMPInitiativeActivity]],'Initiative mapping-DO NOT EDIT'!$D$3:$D$89,0)))) -> 6 | H22: Distribution pole replacement and reinforcement, including with composite poles - Pole Replacement and Reinforcement (7.3.3.6) | I22: WMP.458 | J22: =_xlfn.CONCAT(Table2[[#This Row],[UtilityID]],"_", Table2[[#This Row],[WMPInitiativeCategory]],"_", IF(Table2[[#This Row],[WMPInitiativeActivity]]="","x",IF(Table2[[#This Row],[WMPInitiativeActivity]]="other", Table2[[#This Row],[ActivityNameifOther]], Table2[[#This Row],[WMPInitiativeActivity]])),"_",Table2[[#This Row],[InitiativeActivityID]], "_",YEAR(Table2[[#This Row],[Submission Date]])) -> SDGE_Grid Design & System Hardening_Distribution pole replacement and reinforcement, including with composite poles _WMP.458_2022 | K22: 216 | L22: N/A | M22: N/A | O22: N/A | P22: N/A | Q22: N/A | R22: N/A | S22: N/A | T22: N/A | U22: N/A | V22: SDGE completed 87% of the planned pole replacements in Q1 2022. | W22: SDGE completed 87% of the planned pole replacements in Q1 2022. | X22: SDGE completed 97% of the planned pole replacements in Q2 2022 | Y22: SDGE completed 100% of the HFTD planned pole replacement in Q3 2022. | AA22: In progress
A23: ='READ ME FIRST'!$D$12 -> SDGE | B23: ='READ ME FIRST'!$D$15 -> 44683 | C23: Grid Design & System Hardening | D23: =IF(Table2[[#This Row],[WMPInitiativeCategory]]="", "",INDEX('Initiative mapping-DO NOT EDIT'!$H$3:$H$12, MATCH(Table2[[#This Row],[WMPInitiativeCategory]],'Initiative mapping-DO NOT EDIT'!$G$3:$G$12,0))) -> 5.3.3. | E23: Expulsion fuse replacement | G23: =IF(Table2[[#This Row],[WMPInitiativeActivity]]="","x",IF(Table2[[#This Row],[WMPInitiativeActivity]]="other", Table2[[#This Row],[ActivityNameifOther]], INDEX('Initiative mapping-DO NOT EDIT'!$C$3:$C$89,MATCH(Table2[[#This Row],[WMPInitiativeActivity]],'Initiative mapping-DO NOT EDIT'!$D$3:$D$89,0)))) -> 7 | H23: Expulsion fuse replacement (7.3.3.7) | I23: WMP.459 | J23: =_xlfn.CONCAT(Table2[[#This Row],[UtilityID]],"_", Table2[[#This Row],[WMPInitiativeCategory]],"_", IF(Table2[[#This Row],[WMPInitiativeActivity]]="","x",IF(Table2[[#This Row],[WMPInitiativeActivity]]="other", Table2[[#This Row],[ActivityNameifOther]], Table2[[#This Row],[WMPInitiativeActivity]])),"_",Table2[[#This Row],[InitiativeActivityID]], "_",YEAR(Table2[[#This Row],[Submission Date]])) -> SDGE_Grid Design & System Hardening_Expulsion fuse replacement _WMP.459_2022 | K23: 217 | L23: Fuses | M23: 227 | O23: 132 | P23: 179 | Q23: 227 | R23: 98 | S23: 167 | T23: 213 | V23: N/A | W23: N/A | X23: N/A | Y23: N/A | Z23: N/A | AA23: In progress
A24: ='READ ME FIRST'!$D$12 -> SDGE | B24: ='READ ME FIRST'!$D$15 -> 44683 | C24: Grid Design & System Hardening | D24: =IF(Table2[[#This Row],[WMPInitiativeCategory]]="", "",INDEX('Initiative mapping-DO NOT EDIT'!$H$3:$H$12, MATCH(Table2[[#This Row],[WMPInitiativeCategory]],'Initiative mapping-DO NOT EDIT'!$G$3:$G$12,0))) -> 5.3.3. | E24: Other | F24: PSPS sectionalizing enhancements | G24: =IF(Table2[[#This Row],[WMPInitiativeActivity]]="","x",IF(Table2[[#This Row],[WMPInitiativeActivity]]="other", Table2[[#This Row],[ActivityNameifOther]], INDEX('Initiative mapping-DO NOT EDIT'!$C$3:$C$89,MATCH(Table2[[#This Row],[WMPInitiativeActivity]],'Initiative mapping-DO NOT EDIT'!$D$3:$D$89,0)))) -> PSPS sectionalizing enhancements | H24: PSPS sectionalizing enhancements (7.3.3.8.1) | I24: WMP.461 | J24: =_xlfn.CONCAT(Table2[[#This Row],[UtilityID]],"_", Table2[[#This Row],[WMPInitiativeCategory]],"_", IF(Table2[[#This Row],[WMPInitiativeActivity]]="","x",IF(Table2[[#This Row],[WMPInitiativeActivity]]="other", Table2[[#This Row],[ActivityNameifOther]], Table2[[#This Row],[WMPInitiativeActivity]])),"_",Table2[[#This Row],[InitiativeActivityID]], "_",YEAR(Table2[[#This Row],[Submission Date]])) -> SDGE_Grid Design & System Hardening_PSPS sectionalizing enhancements_WMP.461_2022 | K24: 218 | L24: Switches | M24: 10 | O24: 5 | P24: 8 | Q24: 10 | R24: 3 | S24: 6 | T24: 10 | V24: N/A | W24: N/A | X24: N/A | Y24: N/A | Z24: N/A | AA24: In progress
A25: ='READ ME FIRST'!$D$12 -> SDGE | B25: ='READ ME FIRST'!$D$15 -> 44683 | C25: Grid Design & System Hardening | D25: =IF(Table2[[#This Row],[WMPInitiativeCategory]]="", "",INDEX('Initiative mapping-DO NOT EDIT'!$H$3:$H$12, MATCH(Table2[[#This Row],[WMPInitiativeCategory]],'Initiative mapping-DO NOT EDIT'!$G$3:$G$12,0))) -> 5.3.3. | E25: Other | F25: Microgrids | H25: Microgrids (7.3.3.8.2) | I25: WMP.462 | J25: =_xlfn.CONCAT(Table2[[#This Row],[UtilityID]],"_", Table2[[#This Row],[WMPInitiativeCategory]],"_", IF(Table2[[#This Row],[WMPInitiativeActivity]]="","x",IF(Table2[[#This Row],[WMPInitiativeActivity]]="other", Table2[[#This Row],[ActivityNameifOther]], Table2[[#This Row],[WMPInitiativeActivity]])),"_",Table2[[#This Row],[InitiativeActivityID]], "_",YEAR(Table2[[#This Row],[Submission Date]])) -> SDGE_Grid Design & System Hardening_Microgrids_WMP.462_2022 | K25: 219 | L25: Microgrids | M25: 4 | O25: 2 | P25: 3 | Q25: 4 | R25: 1 | S25: 1 | T25: 1 | V25: N/A | W25: N/A | X25: N/A | Y25: N/A | Z25: N/A | AA25: Delayed | AB25: Two of the four microgrids targeted in 2022 are expected to slip to 2023. Additional information is being collected and alternatives are being explored. PSPS risk is still being mitigated by these microgrids utilizing the traditional generation.
A26: ='READ ME FIRST'!$D$12 -> SDGE | B26: ='READ ME FIRST'!$D$15 -> 44683 | C26: Grid Design & System Hardening | D26: =IF(Table2[[#This Row],[WMPInitiativeCategory]]="", "",INDEX('Initiative mapping-DO NOT EDIT'!$H$3:$H$12, MATCH(Table2[[#This Row],[WMPInitiativeCategory]],'Initiative mapping-DO NOT EDIT'!$G$3:$G$12,0))) -> 5.3.3. | E26: Installation of system automation equipment | G26: =IF(Table2[[#This Row],[WMPInitiativeActivity]]="","x",IF(Table2[[#This Row],[WMPInitiativeActivity]]="other", Table2[[#This Row],[ActivityNameifOther]], INDEX('Initiative mapping-DO NOT EDIT'!$C$3:$C$89,MATCH(Table2[[#This Row],[WMPInitiativeActivity]],'Initiative mapping-DO NOT EDIT'!$D$3:$D$89,0)))) -> 9 | H26: Installation of system automation equipment - Advanced Protection (7.3.3.9) | I26: WMP.463 | J26: =_xlfn.CONCAT(Table2[[#This Row],[UtilityID]],"_", Table2[[#This Row],[WMPInitiativeCategory]],"_", IF(Table2[[#This Row],[WMPInitiativeActivity]]="","x",IF(Table2[[#This Row],[WMPInitiativeActivity]]="other", Table2[[#This Row],[ActivityNameifOther]], Table2[[#This Row],[WMPInitiativeActivity]])),"_",Table2[[#This Row],[InitiativeActivityID]], "_",YEAR(Table2[[#This Row],[Submission Date]])) -> SDGE_Grid Design & System Hardening_Installation of system automation equipment _WMP.463_2022 | K26: 221 | L26: Circuits | M26: 8 | O26: 3 | P26: 5 | Q26: 8 | R26: 0 | S26: 2 | T26: 3 | V26: N/A | W26: N/A | X26: N/A | Y26: N/A | Z26: N/A | AA26: Delayed | AB26: Several circuits are currently delayed due to Bureau of Indian Affairs (BIA) permitting. SDG&E is exploring options to expedite these permits.
A27: ='READ ME FIRST'!$D$12 -> SDGE | B27: ='READ ME FIRST'!$D$15 -> 44683 | C27: Grid Design & System Hardening | D27: =IF(Table2[[#This Row],[WMPInitiativeCategory]]="", "",INDEX('Initiative mapping-DO NOT EDIT'!$H$3:$H$12, MATCH(Table2[[#This Row],[WMPInitiativeCategory]],'Initiative mapping-DO NOT EDIT'!$G$3:$G$12,0))) -> 5.3.3. | E27: Maintenance, repair, and replacement of connectors, including hotline clamps | G27: =IF(Table2[[#This Row],[WMPInitiativeActivity]]="","x",IF(Table2[[#This Row],[WMPInitiativeActivity]]="other", Table2[[#This Row],[ActivityNameifOther]], INDEX('Initiative mapping-DO NOT EDIT'!$C$3:$C$89,MATCH(Table2[[#This Row],[WMPInitiativeActivity]],'Initiative mapping-DO NOT EDIT'!$D$3:$D$89,0)))) -> 10 | H27: Maintenance, repair, and replacement of connectors, including hotline clamps - Hotline Clamps (7.3.3.10) | I27: WMP.464 | J27: =_xlfn.CONCAT(Table2[[#This Row],[UtilityID]],"_", Table2[[#This Row],[WMPInitiativeCategory]],"_", IF(Table2[[#This Row],[WMPInitiativeActivity]]="","x",IF(Table2[[#This Row],[WMPInitiativeActivity]]="other", Table2[[#This Row],[ActivityNameifOther]], Table2[[#This Row],[WMPInitiativeActivity]])),"_",Table2[[#This Row],[InitiativeActivityID]], "_",YEAR(Table2[[#This Row],[Submission Date]])) -> SDGE_Grid Design & System Hardening_Maintenance, repair, and replacement of connectors, including hotline clamps _WMP.464_2022 | K27: 223 | L27: HLC | M27: 1650 | O27: 624 | P27: 1124 | Q27: 1650 | R27: 576 | S27: 1548 | T27: 1764 | V27: N/A | W27: N/A | X27: N/A | Y27: N/A | Z27: N/A | AA27: In progress
A28: ='READ ME FIRST'!$D$12 -> SDGE | B28: ='READ ME FIRST'!$D$15 -> 44683 | C28: Grid Design & System Hardening | D28: =IF(Table2[[#This Row],[WMPInitiativeCategory]]="", "",INDEX('Initiative mapping-DO NOT EDIT'!$H$3:$H$12, MATCH(Table2[[#This Row],[WMPInitiativeCategory]],'Initiative mapping-DO NOT EDIT'!$G$3:$G$12,0))) -> 5.3.3. | E28: Other | F28: Generator Grant Programs | G28: =IF(Table2[[#This Row],[WMPInitiativeActivity]]="","x",IF(Table2[[#This Row],[WMPInitiativeActivity]]="other", Table2[[#This Row],[ActivityNameifOther]], INDEX('Initiative mapping-DO NOT EDIT'!$C$3:$C$89,MATCH(Table2[[#This Row],[WMPInitiativeActivity]],'Initiative mapping-DO NOT EDIT'!$D$3:$D$89,0)))) -> Generator Grant Programs | H28: Generator Grant Programs (7.3.3.11.1) | I28: WMP.466 | J28: =_xlfn.CONCAT(Table2[[#This Row],[UtilityID]],"_", Table2[[#This Row],[WMPInitiativeCategory]],"_", IF(Table2[[#This Row],[WMPInitiativeActivity]]="","x",IF(Table2[[#This Row],[WMPInitiativeActivity]]="other", Table2[[#This Row],[ActivityNameifOther]], Table2[[#This Row],[WMPInitiativeActivity]])),"_",Table2[[#This Row],[InitiativeActivityID]], "_",YEAR(Table2[[#This Row],[Submission Date]])) -> SDGE_Grid Design & System Hardening_Generator Grant Programs_WMP.466_2022 | K28: 225 | L28: Generators | M28: 3000 | O28: 1008 | P28: 2508 | Q28: 3008 | R28: 8 | S28: 8 | T28: 203 | V28: N/A | W28: N/A | X28: N/A | Y28: N/A | Z28: N/A | AA28: Delayed | AB28: Program delayed due to reevaluation of new technology. Change order filed to revise target down to 700 generators.
A29: ='READ ME FIRST'!$D$12 -> SDGE | B29: ='READ ME FIRST'!$D$15 -> 44683 | C29: Grid Design & System Hardening | D29: =IF(Table2[[#This Row],[WMPInitiativeCategory]]="", "",INDEX('Initiative mapping-DO NOT EDIT'!$H$3:$H$12, MATCH(Table2[[#This Row],[WMPInitiativeCategory]],'Initiative mapping-DO NOT EDIT'!$G$3:$G$12,0))) -> 5.3.3. | E29: Other | F29: Standby Power Programs | G29: =IF(Table2[[#This Row],[WMPInitiativeActivity]]="","x",IF(Table2[[#This Row],[WMPInitiativeActivity]]="other", Table2[[#This Row],[ActivityNameifOther]], INDEX('Initiative mapping-DO NOT EDIT'!$C$3:$C$89,MATCH(Table2[[#This Row],[WMPInitiativeActivity]],'Initiative mapping-DO NOT EDIT'!$D$3:$D$89,0)))) -> Standby Power Programs | H29: Standby Power Programs (7.3.3.11.2) | I29: WMP.467 | J29: =_xlfn.CONCAT(Table2[[#This Row],[UtilityID]],"_", Table2[[#This Row],[WMPInitiativeCategory]],"_", IF(Table2[[#This Row],[WMPInitiativeActivity]]="","x",IF(Table2[[#This Row],[WMPInitiativeActivity]]="other", Table2[[#This Row],[ActivityNameifOther]], Table2[[#This Row],[WMPInitiativeActivity]])),"_",Table2[[#This Row],[InitiativeActivityID]], "_",YEAR(Table2[[#This Row],[Submission Date]])) -> SDGE_Grid Design & System Hardening_Standby Power Programs_WMP.467_2022 | K29: 226 | L29: Generators | M29: 412 | O29: 140 | P29: 280 | Q29: 420 | R29: 46 | S29: 122 | T29: 202 | V29: N/A | W29: N/A | X29: N/A | Y29: N/A | Z29: N/A | AA29: In progress
A30: ='READ ME FIRST'!$D$12 -> SDGE | B30: ='READ ME FIRST'!$D$15 -> 44683 | C30: Grid Design & System Hardening | D30: =IF(Table2[[#This Row],[WMPInitiativeCategory]]="", "",INDEX('Initiative mapping-DO NOT EDIT'!$H$3:$H$12, MATCH(Table2[[#This Row],[WMPInitiativeCategory]],'Initiative mapping-DO NOT EDIT'!$G$3:$G$12,0))) -> 5.3.3. | E30: Other | F30: Generator Assistance Programs | G30: =IF(Table2[[#This Row],[WMPInitiativeActivity]]="","x",IF(Table2[[#This Row],[WMPInitiativeActivity]]="other", Table2[[#This Row],[ActivityNameifOther]], INDEX('Initiative mapping-DO NOT EDIT'!$C$3:$C$89,MATCH(Table2[[#This Row],[WMPInitiativeActivity]],'Initiative mapping-DO NOT EDIT'!$D$3:$D$89,0)))) -> Generator Assistance Programs | H30: Generator Assistance Programs (7.3.3.11.3) | I30: WMP.468 | J30: =_xlfn.CONCAT(Table2[[#This Row],[UtilityID]],"_", Table2[[#This Row],[WMPInitiativeCategory]],"_", IF(Table2[[#This Row],[WMPInitiativeActivity]]="","x",IF(Table2[[#This Row],[WMPInitiativeActivity]]="other", Table2[[#This Row],[ActivityNameifOther]], Table2[[#This Row],[WMPInitiativeActivity]])),"_",Table2[[#This Row],[InitiativeActivityID]], "_",YEAR(Table2[[#This Row],[Submission Date]])) -> SDGE_Grid Design & System Hardening_Generator Assistance Programs_WMP.468_2022 | K30: 228 | L30: Generators | M30: 1250 | O30: 100 | P30: 650 | Q30: 1250 | R30: 0 | S30: 0 | T30: 10 | V30: N/A | W30: N/A | X30: N/A | Y30: N/A | Z30: N/A | AA30: Planned
A31: ='READ ME FIRST'!$D$12 -> SDGE | B31: ='READ ME FIRST'!$D$15 -> 44683 | C31: Grid Design & System Hardening | D31: =IF(Table2[[#This Row],[WMPInitiativeCategory]]="", "",INDEX('Initiative mapping-DO NOT EDIT'!$H$3:$H$12, MATCH(Table2[[#This Row],[WMPInitiativeCategory]],'Initiative mapping-DO NOT EDIT'!$G$3:$G$12,0))) -> 5.3.3. | E31: Other corrective action | G31: =IF(Table2[[#This Row],[WMPInitiativeActivity]]="","x",IF(Table2[[#This Row],[WMPInitiativeActivity]]="other", Table2[[#This Row],[ActivityNameifOther]], INDEX('Initiative mapping-DO NOT EDIT'!$C$3:$C$89,MATCH(Table2[[#This Row],[WMPInitiativeActivity]],'Initiative mapping-DO NOT EDIT'!$D$3:$D$89,0)))) -> 12 | H31: Other corrective action (7.3.3.12) | I31: WMP.469 | J31: =_xlfn.CONCAT(Table2[[#This Row],[UtilityID]],"_", Table2[[#This Row],[WMPInitiativeCategory]],"_", IF(Table2[[#This Row],[WMPInitiativeActivity]]="","x",IF(Table2[[#This Row],[WMPInitiativeActivity]]="other", Table2[[#This Row],[ActivityNameifOther]], Table2[[#This Row],[WMPInitiativeActivity]])),"_",Table2[[#This Row],[InitiativeActivityID]], "_",YEAR(Table2[[#This Row],[Submission Date]])) -> SDGE_Grid Design & System Hardening_Other corrective action _WMP.469_2022 | K31: 230 | L31: N/A | M31: N/A | O31: N/A | P31: N/A | Q31: N/A | R31: N/A | S31: N/A | T31: N/A | U31: N/A | V31: N/A | W31: N/A | X31: N/A | Y31: N/A | Z31: N/A | AA31: N/A
A32: ='READ ME FIRST'!$D$12 -> SDGE | B32: ='READ ME FIRST'!$D$15 -> 44683 | C32: Grid Design & System Hardening | D32: =IF(Table2[[#This Row],[WMPInitiativeCategory]]="", "",INDEX('Initiative mapping-DO NOT EDIT'!$H$3:$H$12, MATCH(Table2[[#This Row],[WMPInitiativeCategory]],'Initiative mapping-DO NOT EDIT'!$G$3:$G$12,0))) -> 5.3.3. | E32: Pole loading infrastructure hardening and replacement program based on pole loading assessment program | G32: =IF(Table2[[#This Row],[WMPInitiativeActivity]]="","x",IF(Table2[[#This Row],[WMPInitiativeActivity]]="other", Table2[[#This Row],[ActivityNameifOther]], INDEX('Initiative mapping-DO NOT EDIT'!$C$3:$C$89,MATCH(Table2[[#This Row],[WMPInitiativeActivity]],'Initiative mapping-DO NOT EDIT'!$D$3:$D$89,0)))) -> 13 | H32: Pole loading infrastructure hardening and replacement program (7.3.3.13) | I32: WMP.470 | J32: =_xlfn.CONCAT(Table2[[#This Row],[UtilityID]],"_", Table2[[#This Row],[WMPInitiativeCategory]],"_", IF(Table2[[#This Row],[WMPInitiativeActivity]]="","x",IF(Table2[[#This Row],[WMPInitiativeActivity]]="other", Table2[[#This Row],[ActivityNameifOther]], Table2[[#This Row],[WMPInitiativeActivity]])),"_",Table2[[#This Row],[InitiativeActivityID]], "_",YEAR(Table2[[#This Row],[Submission Date]])) -> SDGE_Grid Design & System Hardening_Pole loading infrastructure hardening and replacement program based on pole loading assessment program _WMP.470_2022 | K32: 230 | L32: N/A | M32: N/A | O32: N/A | P32: N/A | Q32: N/A | R32: N/A | S32: N/A | T32: N/A | U32: N/A | V32: N/A | W32: N/A | X32: N/A | Y32: N/A | Z32: N/A | AA32: N/A
A33: ='READ ME FIRST'!$D$12 -> SDGE | B33: ='READ ME FIRST'!$D$15 -> 44683 | C33: Grid Design & System Hardening | D33: =IF(Table2[[#This Row],[WMPInitiativeCategory]]="", "",INDEX('Initiative mapping-DO NOT EDIT'!$H$3:$H$12, MATCH(Table2[[#This Row],[WMPInitiativeCategory]],'Initiative mapping-DO NOT EDIT'!$G$3:$G$12,0))) -> 5.3.3. | E33: Transformers maintenance and replacement | G33: =IF(Table2[[#This Row],[WMPInitiativeActivity]]="","x",IF(Table2[[#This Row],[WMPInitiativeActivity]]="other", Table2[[#This Row],[ActivityNameifOther]], INDEX('Initiative mapping-DO NOT EDIT'!$C$3:$C$89,MATCH(Table2[[#This Row],[WMPInitiativeActivity]],'Initiative mapping-DO NOT EDIT'!$D$3:$D$89,0)))) -> 14 | H33: Transformers maintenance and replacement (7.3.3.14) | I33: WMP.471 | J33: =_xlfn.CONCAT(Table2[[#This Row],[UtilityID]],"_", Table2[[#This Row],[WMPInitiativeCategory]],"_", IF(Table2[[#This Row],[WMPInitiativeActivity]]="","x",IF(Table2[[#This Row],[WMPInitiativeActivity]]="other", Table2[[#This Row],[ActivityNameifOther]], Table2[[#This Row],[WMPInitiativeActivity]])),"_",Table2[[#This Row],[InitiativeActivityID]], "_",YEAR(Table2[[#This Row],[Submission Date]])) -> SDGE_Grid Design & System Hardening_Transformers maintenance and replacement _WMP.471_2022 | K33: 230 | L33: N/A | M33: N/A | O33: N/A | P33: N/A | Q33: N/A | R33: N/A | S33: N/A | T33: N/A | U33: N/A | V33: N/A | W33: N/A | X33: N/A | Y33: N/A | Z33: N/A | AA33: N/A
