Workbook

Sheet READ ME FIRST
B1: Quarterly Initiative Update - WMP Initiative Status Updates
B4: Instructions for use
B5: 1 | C5: Update progress on WMP Initiatives on "Initiatives" sheet by populating columns A through AB. Progress currently filled in is an example. Yellow cells indicate information that needs to be filled out or confirmed by utility. WMP initiatives that are not already listed in the "Initiatives" sheet shall be added as separate line items on the "Initiatives" sheet. Quantitative information, included initiative targets, the units of said targets and subsequent progress are reported in columns L through U with qualitative targets and progress described in columns V through Z.
B6: 2 | C6: WSD Compliance will reach out to follow up on which Initiatives require documentation for auditing, indicated in columns AD and AE in the "Initiatives" sheet. For those initiatives requiring audit documentation, please fill out columns AF through AH. Please be sure to link to a Kiteworks folder in column AF.
B7: 3 | C7: Definitions for each field are provided in the table below starting in row 17 - READ BEFORE INPUTTING DATA
B8: 4 | C8: WSD Compliance will contact the electrical corporation with any follow-up questions regarding audits
B11: Update the below table to establish which year, quarter, month of the WMP cycle this submission represents
B12: Utility | D12: LU
B13: Report Year | D13: 2022
B14: Report Quarter | D14: Q3
B15: Submission Date | D15: 44866
B17: Definition of fields
C19: Column | D19: Column name | E19: Definition | F19: Input type | G19: Submission in which to be completed
C20: A | D20: UtilityID | E20: Standardized ID of utility (PGE, SCE, SDGE, BVES, LU, PC, HWT, or TBC) - auto populated by utility field above | F20: Text | G20: Q1
C21: B | D21: Submission Date | E21: Autogenerated based on submission date field above | F21: Date | G21: Q1
C22: C | D22: WMPInitiativeCategory | E22: One of the 10 initiative categories in the WMP | F22: Text | G22: Q1
C23: D | D23: WMPInitiativeCategory# | E23: Autogenerated based on initiative category | F23: Numeric | G23: Q1
C24: E | D24: WMPInitiativeActivity | E24: The relevant WMP activity classification for the initiative. If this initiative applies to an activity not presented, mark "other" | F24: Text | G24: Q1
C25: F | D25: ActivityNameifOther | E25: If activity was "other", then provide the name of the appropriate activity. Should match an activity name in utility's WMP (Table 12) | F25: Text | G25: Q1
C26: G | D26: WMPInitiativeActivity# | E26: Autogenerated based on initiative activity. Will be number or name of activity if activity was marked as "other" | F26: Numeric/Text | G26: Q1
C27: H | D27: UtilityInitiativeName | E27: Utility name for initiative | F27: Text | G27: Q1
C28: I | D28: InitiativeActivityID | E28: ID for the utility initiative. Must be unique to a utility's Initiative activity across submissions. If this initiative is also reported in the initiatives feature class for Grid hardening, Asset inspections, or vegetation management and inspections, then this ID should also connect to the ID in the corresponding initiative feature class (Fields "GhlogID", "AiLogID", "VmiLogID", "VmpLogID", and "OiLogID") | F28: Text | G28: Q1
C29: J | D29: WMPInitiativeCode | E29: Unique ID of the initiative. Must be unique for each initiative for each utility for each year. Follows the format “[UtilityID]_ [WMPInitiativeCategory]_[ WMPInitiativeActivity]_[InitiativeActivityID]_[Year four digit number (e.g., “2021”)]”. For example the code “PGE_Vegetation Management & Inspections_Substation vegetation management _001_2021” would be where utility is PG&E, Initiative category is Vegetation Management & Inspections, activity is Substation vegetation management, unique initiative ID is 001 and the year is 2021 | F29: Text | G29: Q1
C30: K | D30: WMPPageNumber | E30: Page of most recent WMP where initiative is detailed. If the initiative is detailed on multiple pages, put the first page | F30: Numeric | G30: Q1
... C47: AB | D47: CorrectiveActionsIfDelayed | E47: If initiative is delayed based on reported target vs progress (e.g., reported QuantProgress for Q1 was significantly below the ProjectedQuantProgress for Q1), detail corrective actions | F47: Text | G47: As needed
C48: AC-onwards is managed by WSD; columns AF-AH will only be completed by utility upon WSD request

Sheet Initiatives
A1: UtilityID | B1: Submission Date | C1: WMPInitiativeCategory | D1: WMPInitiativeCategory# | E1: WMPInitiativeActivity | F1: ActivityNameifOther | G1: WMPInitiativeActivity# | H1: UtilityInitiativeName | I1: InitiativeActivityID | J1: WMPInitiativeCode | K1: WMPPageNumber | L1: QuantTargetUnits | M1: AnnualQuantTarget | N1: ProjectedQuantProgressQ1 | O1: ProjectedQuantProgressQ1-2 | P1: ProjectedQuantProgressQ1-3 | Q1: ProjectedQuantProgressQ1-4 | R1: QuantActualProgressQ1 | S1: QuantActualProgressQ1-2 | T1: QuantActualProgressQ1-3 | U1: QuantActualProgressQ1-4 | V1: AnnualQualTarget | W1: QualActualProgressQ1 | X1: QualActualProgressQ1-2 | Y1: QualActualProgressQ1-3 | Z1: QualActualProgressQ1-4 | AA1: Status | AB1: CorrectiveActionsIfDelayed | AC1: REFERENCE: Compliance Branch Requirements --> | AD1: Audit | AE1: Audit File Documentation Requested | AF1: FolderLink | AG1: PersonInChargeName | AH1: PersonInChargeEmail | AI1: Notes
A2: ='READ ME FIRST'!$D$12 -> LU | B2: ='READ ME FIRST'!$D$15 -> 44866 | C2: Risk Assessment & Mapping | D2: 7.3.1.1 | E2: A summarized risk map that shows the overall ignition probability and estimated wildfire consequence along the electric lines and equipment | G2: =IF(Table2[[#This Row],[WMPInitiativeActivity]]="","x",IF(Table2[[#This Row],[WMPInitiativeActivity]]="other", Table2[[#This Row],[ActivityNameifOther]], INDEX('Initiative mapping-DO NOT EDIT'!$C$3:$C$89,MATCH(Table2[[#This Row],[WMPInitiativeActivity]],'Initiative mapping-DO NOT EDIT'!$D$3:$D$89,0)))) -> 1 | H2: A summarized risk map that shows the overall ignition probability and estimated wildfire consequence along the electric lines and equipment | I2: Risk_01 | J2: =_xlfn.CONCAT(Table2[[#This Row],[UtilityID]],"_", Table2[[#This Row],[WMPInitiativeCategory]],"_", IF(Table2[[#This Row],[WMPInitiativeActivity]]="","x",IF(Table2[[#This Row],[WMPInitiativeActivity]]="other", Table2[[#This Row],[ActivityNameifOther]], Table2[[#This Row],[WMPInitiativeActivity]])),"_",Table2[[#This Row],[InitiativeActivityID]], "_",YEAR(Table2[[#This Row],[Submission Date]])) -> LU_Risk Assessment & Mapping_A summarized risk map that shows the overall ignition probability and estimated wildfire consequence along the electric lines and equipment _Risk_01_2022 | K2: 80 | L2: N/A | M2: - | N2: - | O2: - | P2: - | Q2: - | R2: - | S2: - | T2: - | U2: - | V2: Enhance wildfire risk model and update data | W2: - | X2: - | Y2: - | Z2: - | AA2: In progress
A3: ='READ ME FIRST'!$D$12 -> LU | B3: ='READ ME FIRST'!$D$15 -> 44866 | C3: Situational Awareness & Forecasting | D3: 7.3.2.1 | E3: Advanced weather monitoring and weather stations | G3: =IF(Table2[[#This Row],[WMPInitiativeActivity]]="","x",IF(Table2[[#This Row],[WMPInitiativeActivity]]="other", Table2[[#This Row],[ActivityNameifOther]], INDEX('Initiative mapping-DO NOT EDIT'!$C$3:$C$89,MATCH(Table2[[#This Row],[WMPInitiativeActivity]],'Initiative mapping-DO NOT EDIT'!$D$3:$D$89,0)))) -> 1 | H3: Advanced weather monitoring and weather stations | I3: SAF_01 | J3: =_xlfn.CONCAT(Table2[[#This Row],[UtilityID]],"_", Table2[[#This Row],[WMPInitiativeCategory]],"_", IF(Table2[[#This Row],[WMPInitiativeActivity]]="","x",IF(Table2[[#This Row],[WMPInitiativeActivity]]="other", Table2[[#This Row],[ActivityNameifOther]], Table2[[#This Row],[WMPInitiativeActivity]])),"_",Table2[[#This Row],[InitiativeActivityID]], "_",YEAR(Table2[[#This Row],[Submission Date]])) -> LU_Situational Awareness & Forecasting_Advanced weather monitoring and weather stations _SAF_01_2022 | K3: 81 | L3: Weather Stations Installed | M3: 10 | N3: 0 | O3: 2 | P3: 8 | Q3: 10 | R3: 0 | S3: 0 | T3: 0 | U3: - | V3: - | W3: - | X3: - | Y3: - | Z3: - | AA3: In progress
A4: ='READ ME FIRST'!$D$12 -> LU | B4: ='READ ME FIRST'!$D$15 -> 44866 | C4: Situational Awareness & Forecasting | D4: 7.3.2.2 | E4: Continuous monitoring sensors | G4: =IF(Table2[[#This Row],[WMPInitiativeActivity]]="","x",IF(Table2[[#This Row],[WMPInitiativeActivity]]="other", Table2[[#This Row],[ActivityNameifOther]], INDEX('Initiative mapping-DO NOT EDIT'!$C$3:$C$89,MATCH(Table2[[#This Row],[WMPInitiativeActivity]],'Initiative mapping-DO NOT EDIT'!$D$3:$D$89,0)))) -> 2 | H4: Continuous monitoring sensors | I4: SAF_02 | J4: =_xlfn.CONCAT(Table2[[#This Row],[UtilityID]],"_", Table2[[#This Row],[WMPInitiativeCategory]],"_", IF(Table2[[#This Row],[WMPInitiativeActivity]]="","x",IF(Table2[[#This Row],[WMPInitiativeActivity]]="other", Table2[[#This Row],[ActivityNameifOther]], Table2[[#This Row],[WMPInitiativeActivity]])),"_",Table2[[#This Row],[InitiativeActivityID]], "_",YEAR(Table2[[#This Row],[Submission Date]])) -> LU_Situational Awareness & Forecasting_Continuous monitoring sensors _SAF_02_2022 | K4: 82 | L4: DFA Units Installed | M4: 10 | N4: 0 | O4: 5 | P4: 5 | Q4: 10 | R4: 0 | S4: 0 | T4: 0 | U4: - | V4: - | W4: - | X4: - | Y4: - | Z4: - | AA4: In progress
A5: ='READ ME FIRST'!$D$12 -> LU | B5: ='READ ME FIRST'!$D$15 -> 44866 | C5: Situational Awareness & Forecasting | D5: 7.3.2.3 | E5: Fault indicators for detecting faults on electric lines and equipment | G5: =IF(Table2[[#This Row],[WMPInitiativeActivity]]="","x",IF(Table2[[#This Row],[WMPInitiativeActivity]]="other", Table2[[#This Row],[ActivityNameifOther]], INDEX('Initiative mapping-DO NOT EDIT'!$C$3:$C$89,MATCH(Table2[[#This Row],[WMPInitiativeActivity]],'Initiative mapping-DO NOT EDIT'!$D$3:$D$89,0)))) -> 3 | H5: Fault indicators for detecting faults on electric lines and equipment | I5: SAF_03 | J5: =_xlfn.CONCAT(Table2[[#This Row],[UtilityID]],"_", Table2[[#This Row],[WMPInitiativeCategory]],"_", IF(Table2[[#This Row],[WMPInitiativeActivity]]="","x",IF(Table2[[#This Row],[WMPInitiativeActivity]]="other", Table2[[#This Row],[ActivityNameifOther]], Table2[[#This Row],[WMPInitiativeActivity]])),"_",Table2[[#This Row],[InitiativeActivityID]], "_",YEAR(Table2[[#This Row],[Submission Date]])) -> LU_Situational Awareness & Forecasting_Fault indicators for detecting faults on electric lines and equipment _SAF_03_2022 | K5: 83 | L5: Fault Indicators Installed | M5: 2 | N5: 0 | O5: 0 | P5: 0 | Q5: 2 | R5: 0 | S5: 0 | T5: 0 | U5: - | V5: - | W5: - | X5: - | Y5: - | Z5: - | AA5: In progress
A6: ='READ ME FIRST'!$D$12 -> LU | B6: ='READ ME FIRST'!$D$15 -> 44866 | C6: Situational Awareness & Forecasting | D6: 7.3.2.4 | E6: Forecast of a fire risk index, fire potential index, or similar | G6: =IF(Table2[[#This Row],[WMPInitiativeActivity]]="","x",IF(Table2[[#This Row],[WMPInitiativeActivity]]="other", Table2[[#This Row],[ActivityNameifOther]], INDEX('Initiative mapping-DO NOT EDIT'!$C$3:$C$89,MATCH(Table2[[#This Row],[WMPInitiativeActivity]],'Initiative mapping-DO NOT EDIT'!$D$3:$D$89,0)))) -> 4 | H6: Forecast of a fire risk index, fire potential index, or similar | I6: SAF_04 | J6: =_xlfn.CONCAT(Table2[[#This Row],[UtilityID]],"_", Table2[[#This Row],[WMPInitiativeCategory]],"_", IF(Table2[[#This Row],[WMPInitiativeActivity]]="","x",IF(Table2[[#This Row],[WMPInitiativeActivity]]="other", Table2[[#This Row],[ActivityNameifOther]], Table2[[#This Row],[WMPInitiativeActivity]])),"_",Table2[[#This Row],[InitiativeActivityID]], "_",YEAR(Table2[[#This Row],[Submission Date]])) -> LU_Situational Awareness & Forecasting_Forecast of a fire risk index, fire potential index, or similar _SAF_04_2022 | K6: 84 | L6: N/A | M6: - | N6: - | O6: - | P6: - | Q6: - | R6: - | S6: - | T6: - | U6: - | V6: Continue to integrate FPI into operational decision-making to mitigate wildfire potential | W6: - | X6: - | Y6: - | Z6: - | AA6: In progress
A7: ='READ ME FIRST'!$D$12 -> LU | B7: ='READ ME FIRST'!$D$15 -> 44866 | C7: Situational Awareness & Forecasting | D7: 7.3.2.5 | E7: Personnel monitoring areas of electric lines and equipment in elevated fire risk conditions | G7: =IF(Table2[[#This Row],[WMPInitiativeActivity]]="","x",IF(Table2[[#This Row],[WMPInitiativeActivity]]="other", Table2[[#This Row],[ActivityNameifOther]], INDEX('Initiative mapping-DO NOT EDIT'!$C$3:$C$89,MATCH(Table2[[#This Row],[WMPInitiativeActivity]],'Initiative mapping-DO NOT EDIT'!$D$3:$D$89,0)))) -> 5 | H7: Personnel monitoring areas of electric lines and equipment in elevated fire risk conditions | I7: SAF_05 | J7: =_xlfn.CONCAT(Table2[[#This Row],[UtilityID]],"_", Table2[[#This Row],[WMPInitiativeCategory]],"_", IF(Table2[[#This Row],[WMPInitiativeActivity]]="","x",IF(Table2[[#This Row],[WMPInitiativeActivity]]="other", Table2[[#This Row],[ActivityNameifOther]], Table2[[#This Row],[WMPInitiativeActivity]])),"_",Table2[[#This Row],[InitiativeActivityID]], "_",YEAR(Table2[[#This Row],[Submission Date]])) -> LU_Situational Awareness & Forecasting_Personnel monitoring areas of electric lines and equipment in elevated fire risk conditions _SAF_05_2022 | K7: 85 | L7: N/A | M7: - | N7: - | O7: - | P7: - | Q7: - | R7: - | S7: - | T7: - | U7: - | V7: - | W7: - | X7: - | Y7: - | Z7: - | AA7: In progress
A8: ='READ ME FIRST'!$D$12 -> LU | B8: ='READ ME FIRST'!$D$15 -> 44866 | C8: Grid Design & System Hardening | D8: 7.3.3.2 | E8: Circuit breaker maintenance and installation to de-energize lines upon detecting a fault | G8: =IF(Table2[[#This Row],[WMPInitiativeActivity]]="","x",IF(Table2[[#This Row],[WMPInitiativeActivity]]="other", Table2[[#This Row],[ActivityNameifOther]], INDEX('Initiative mapping-DO NOT EDIT'!$C$3:$C$89,MATCH(Table2[[#This Row],[WMPInitiativeActivity]],'Initiative mapping-DO NOT EDIT'!$D$3:$D$89,0)))) -> 2 | H8: Circuit breaker maintenance and installation to de-energize lines upon detecting a fault | I8: GDSH_02 | J8: =_xlfn.CONCAT(Table2[[#This Row],[UtilityID]],"_", Table2[[#This Row],[WMPInitiativeCategory]],"_", IF(Table2[[#This Row],[WMPInitiativeActivity]]="","x",IF(Table2[[#This Row],[WMPInitiativeActivity]]="other", Table2[[#This Row],[ActivityNameifOther]], Table2[[#This Row],[WMPInitiativeActivity]])),"_",Table2[[#This Row],[InitiativeActivityID]], "_",YEAR(Table2[[#This Row],[Submission Date]])) -> LU_Grid Design & System Hardening_Circuit breaker maintenance and installation to de-energize lines upon detecting a fault _GDSH_02_2022 | K8: 86 | L8: N/A | M8: - | N8: - | O8: - | P8: - | Q8: - | R8: - | S8: - | T8: - | U8: - | V8: - | W8: - | X8: - | Y8: - | Z8: - | AA8: In progress
A9: ='READ ME FIRST'!$D$12 -> LU | B9: ='READ ME FIRST'!$D$15 -> 44866 | C9: Grid Design & System Hardening | D9: 7.3.3.3 | E9: Covered conductor installation | G9: =IF(Table2[[#This Row],[WMPInitiativeActivity]]="","x",IF(Table2[[#This Row],[WMPInitiativeActivity]]="other", Table2[[#This Row],[ActivityNameifOther]], INDEX('Initiative mapping-DO NOT EDIT'!$C$3:$C$89,MATCH(Table2[[#This Row],[WMPInitiativeActivity]],'Initiative mapping-DO NOT EDIT'!$D$3:$D$89,0)))) -> 3 | H9: Covered conductor installation | I9: GDSH_03 | J9: =_xlfn.CONCAT(Table2[[#This Row],[UtilityID]],"_", Table2[[#This Row],[WMPInitiativeCategory]],"_", IF(Table2[[#This Row],[WMPInitiativeActivity]]="","x",IF(Table2[[#This Row],[WMPInitiativeActivity]]="other", Table2[[#This Row],[ActivityNameifOther]], Table2[[#This Row],[WMPInitiativeActivity]])),"_",Table2[[#This Row],[InitiativeActivityID]], "_",YEAR(Table2[[#This Row],[Submission Date]])) -> LU_Grid Design & System Hardening_Covered conductor installation _GDSH_03_2022 | K9: 87 | L9: Circuit miles | M9: 9.55 | N9: 0.5 | O9: 0.5 | P9: 5 | Q9: 9.55 | R9: 0.47 | S9: 1.88 | T9: =Table2[[#This Row],[QuantActualProgressQ1-2]]+3.08 -> 4.96 | U9: - | V9: - | W9: - | X9: - | Y9: - | Z9: - | AA9: In progress
A10: ='READ ME FIRST'!$D$12 -> LU | B10: ='READ ME FIRST'!$D$15 -> 44866 | C10: Grid Design & System Hardening | D10: 7.3.3.6 | E10: Distribution pole replacement and reinforcement, including with composite poles | G10: =IF(Table2[[#This Row],[WMPInitiativeActivity]]="","x",IF(Table2[[#This Row],[WMPInitiativeActivity]]="other", Table2[[#This Row],[ActivityNameifOther]], INDEX('Initiative mapping-DO NOT EDIT'!$C$3:$C$89,MATCH(Table2[[#This Row],[WMPInitiativeActivity]],'Initiative mapping-DO NOT EDIT'!$D$3:$D$89,0)))) -> 6 | H10: Distribution pole replacement and reinforcement, including with composite poles | I10: GDSH_06 | J10: =_xlfn.CONCAT(Table2[[#This Row],[UtilityID]],"_", Table2[[#This Row],[WMPInitiativeCategory]],"_", IF(Table2[[#This Row],[WMPInitiativeActivity]]="","x",IF(Table2[[#This Row],[WMPInitiativeActivity]]="other", Table2[[#This Row],[ActivityNameifOther]], Table2[[#This Row],[WMPInitiativeActivity]])),"_",Table2[[#This Row],[InitiativeActivityID]], "_",YEAR(Table2[[#This Row],[Submission Date]])) -> LU_Grid Design & System Hardening_Distribution pole replacement and reinforcement, including with composite poles _GDSH_06_2022 | K10: 90 | L10: Poles | M10: 231 | N10: 23 | O10: 75 | P10: 150 | Q10: 231 | R10: 29 | S10: =Table2[[#This Row],[QuantActualProgressQ1]]+59 -> 88 | T10: =64+Table2[[#This Row],[QuantActualProgressQ1-2]] -> 152 | U10: - | V10: - | W10: - | X10: - | Y10: - | Z10: - | AA10: In progress
A11: ='READ ME FIRST'!$D$12 -> LU | B11: ='READ ME FIRST'!$D$15 -> 44866 | C11: Grid Design & System Hardening | D11: 7.3.3.7 | E11: Expulsion fuse replacement | G11: =IF(Table2[[#This Row],[WMPInitiativeActivity]]="","x",IF(Table2[[#This Row],[WMPInitiativeActivity]]="other", Table2[[#This Row],[ActivityNameifOther]], INDEX('Initiative mapping-DO NOT EDIT'!$C$3:$C$89,MATCH(Table2[[#This Row],[WMPInitiativeActivity]],'Initiative mapping-DO NOT EDIT'!$D$3:$D$89,0)))) -> 7 | H11: Expulsion fuse replacement | I11: GDSH_07 | J11: =_xlfn.CONCAT(Table2[[#This Row],[UtilityID]],"_", Table2[[#This Row],[WMPInitiativeCategory]],"_", IF(Table2[[#This Row],[WMPInitiativeActivity]]="","x",IF(Table2[[#This Row],[WMPInitiativeActivity]]="other", Table2[[#This Row],[ActivityNameifOther]], Table2[[#This Row],[WMPInitiativeActivity]])),"_",Table2[[#This Row],[InitiativeActivityID]], "_",YEAR(Table2[[#This Row],[Submission Date]])) -> LU_Grid Design & System Hardening_Expulsion fuse replacement _GDSH_07_2022 | K11: 91 | L11: Expulsion Fuses Replaced | M11: 1500 | N11: 0 | O11: 300 | P11: 900 | Q11: 1500 | R11: 124 | S11: 755 | T11: =1103+Table2[[#This Row],[QuantActualProgressQ1-2]] -> 1858 | U11: - | V11: - | W11: - | X11: - | Y11: - | Z11: - | AA11: In progress
A12: ='READ ME FIRST'!$D$12 -> LU | B12: ='READ ME FIRST'!$D$15 -> 44866 | C12: Grid Design & System Hardening | D12: 7.3.3.8 | E12: Grid topology improvements to mitigate or reduce PSPS events | G12: =IF(Table2[[#This Row],[WMPInitiativeActivity]]="","x",IF(Table2[[#This Row],[WMPInitiativeActivity]]="other", Table2[[#This Row],[ActivityNameifOther]], INDEX('Initiative mapping-DO NOT EDIT'!$C$3:$C$89,MATCH(Table2[[#This Row],[WMPInitiativeActivity]],'Initiative mapping-DO NOT EDIT'!$D$3:$D$89,0)))) -> 8 | H12: Grid topology improvements to mitigate or reduce PSPS events | I12: GDSH_08 | J12: =_xlfn.CONCAT(Table2[[#This Row],[UtilityID]],"_", Table2[[#This Row],[WMPInitiativeCategory]],"_", IF(Table2[[#This Row],[WMPInitiativeActivity]]="","x",IF(Table2[[#This Row],[WMPInitiativeActivity]]="other", Table2[[#This Row],[ActivityNameifOther]], Table2[[#This Row],[WMPInitiativeActivity]])),"_",Table2[[#This Row],[InitiativeActivityID]], "_",YEAR(Table2[[#This Row],[Submission Date]])) -> LU_Grid Design & System Hardening_Grid topology improvements to mitigate or reduce PSPS events _GDSH_08_2022 | K12: 93 | L12: Line Miles | M12: - | N12: - | O12: - | P12: - | Q12: - | R12: - | S12: - | T12: - | U12: - | V12: - | W12: - | X12: - | Y12: - | Z12: - | AA12: In progress
A13: ='READ ME FIRST'!$D$12 -> LU | B13: ='READ ME FIRST'!$D$15 -> 44866 | C13: Grid Design & System Hardening | D13: 7.3.3.9 | E13: Installation of system automation equipment | G13: =IF(Table2[[#This Row],[WMPInitiativeActivity]]="","x",IF(Table2[[#This Row],[WMPInitiativeActivity]]="other", Table2[[#This Row],[ActivityNameifOther]], INDEX('Initiative mapping-DO NOT EDIT'!$C$3:$C$89,MATCH(Table2[[#This Row],[WMPInitiativeActivity]],'Initiative mapping-DO NOT EDIT'!$D$3:$D$89,0)))) -> 9 | H13: Installation of system automation equipment | I13: GDSH_09 | J13: =_xlfn.CONCAT(Table2[[#This Row],[UtilityID]],"_", Table2[[#This Row],[WMPInitiativeCategory]],"_", IF(Table2[[#This Row],[WMPInitiativeActivity]]="","x",IF(Table2[[#This Row],[WMPInitiativeActivity]]="other", Table2[[#This Row],[ActivityNameifOther]], Table2[[#This Row],[WMPInitiativeActivity]])),"_",Table2[[#This Row],[InitiativeActivityID]], "_",YEAR(Table2[[#This Row],[Submission Date]])) -> LU_Grid Design & System Hardening_Installation of system automation equipment _GDSH_09_2022 | K13: 93 | L13: Automatic Reclosers Installed | M13: 4 | N13: 0 | O13: 1 | P13: 1 | Q13: 4 | R13: 0 | S13: 1 | T13: 1 | U13: - | V13: - | W13: - | X13: - | Y13: - | Z13: - | AA13: In progress
A14: ='READ ME FIRST'!$D$12 -> LU | B14: ='READ ME FIRST'!$D$15 -> 44866 | C14: Grid Design & System Hardening | D14: 7.3.3.12 | E14: Other corrective action | G14: =IF(Table2[[#This Row],[WMPInitiativeActivity]]="","x",IF(Table2[[#This Row],[WMPInitiativeActivity]]="other", Table2[[#This Row],[ActivityNameifOther]], INDEX('Initiative mapping-DO NOT EDIT'!$C$3:$C$89,MATCH(Table2[[#This Row],[WMPInitiativeActivity]],'Initiative mapping-DO NOT EDIT'!$D$3:$D$89,0)))) -> 12 | H14: Other corrective action | I14: GDSH_12 | J14: =_xlfn.CONCAT(Table2[[#This Row],[UtilityID]],"_", Table2[[#This Row],[WMPInitiativeCategory]],"_", IF(Table2[[#This Row],[WMPInitiativeActivity]]="","x",IF(Table2[[#This Row],[WMPInitiativeActivity]]="other", Table2[[#This Row],[ActivityNameifOther]], Table2[[#This Row],[WMPInitiativeActivity]])),"_",Table2[[#This Row],[InitiativeActivityID]], "_",YEAR(Table2[[#This Row],[Submission Date]])) -> LU_Grid Design & System Hardening_Other corrective action _GDSH_12_2022 | K14: 94 | L14: Tree Attachment Removals | M14: 45 | N14: 0 | O14: 15 | P14: 30 | Q14: 45 | R14: 25 | S14: 55 | T14: 93 | U14: - | V14: - | W14: - | X14: - | Y14: - | Z14: - | AA14: In progress | AI14: Q2 progress was revised from 48 tree attachment removals to 55 tree attachment removals
A15: ='READ ME FIRST'!$D$12 -> LU | B15: ='READ ME FIRST'!$D$15 -> 44866 | C15: Grid Design & System Hardening | D15: 7.3.3.16 | E15: Undergrounding of electric lines and/or equipment | G15: =IF(Table2[[#This Row],[WMPInitiativeActivity]]="","x",IF(Table2[[#This Row],[WMPInitiativeActivity]]="other", Table2[[#This Row],[ActivityNameifOther]], INDEX('Initiative mapping-DO NOT EDIT'!$C$3:$C$89,MATCH(Table2[[#This Row],[WMPInitiativeActivity]],'Initiative mapping-DO NOT EDIT'!$D$3:$D$89,0)))) -> 16 | H15: Undergrounding of electric lines and/or equipment | I15: GDSH_16 | J15: =_xlfn.CONCAT(Table2[[#This Row],[UtilityID]],"_", Table2[[#This Row],[WMPInitiativeCategory]],"_", IF(Table2[[#This Row],[WMPInitiativeActivity]]="","x",IF(Table2[[#This Row],[WMPInitiativeActivity]]="other", Table2[[#This Row],[ActivityNameifOther]], Table2[[#This Row],[WMPInitiativeActivity]])),"_",Table2[[#This Row],[InitiativeActivityID]], "_",YEAR(Table2[[#This Row],[Submission Date]])) -> LU_Grid Design & System Hardening_Undergrounding of electric lines and/or equipment _GDSH_16_2022 | K15: 96 | L15: Line Miles | M15: 0.36 | N15: - | O15: - | P15: - | Q15: 0.4 | R15: 0.24 | S15: 0.24 | T15: 0.24 | U15: - | V15: - | W15: - | X15: - | Y15: - | Z15: - | AA15: In progress
A16: ='READ ME FIRST'!$D$12 -> LU | B16: ='READ ME FIRST'!$D$15 -> 44866 | C16: Asset Management & Inspections | D16: 7.3.4.1 | E16: Detailed inspections of distribution electric lines and equipment | G16: =IF(Table2[[#This Row],[WMPInitiativeActivity]]="","x",IF(Table2[[#This Row],[WMPInitiativeActivity]]="other", Table2[[#This Row],[ActivityNameifOther]], INDEX('Initiative mapping-DO NOT EDIT'!$C$3:$C$89,MATCH(Table2[[#This Row],[WMPInitiativeActivity]],'Initiative mapping-DO NOT EDIT'!$D$3:$D$89,0)))) -> 1 | H16: Detailed inspections of distribution electric lines and equipment | I16: AMI_01 | J16: =_xlfn.CONCAT(Table2[[#This Row],[UtilityID]],"_", Table2[[#This Row],[WMPInitiativeCategory]],"_", IF(Table2[[#This Row],[WMPInitiativeActivity]]="","x",IF(Table2[[#This Row],[WMPInitiativeActivity]]="other", Table2[[#This Row],[ActivityNameifOther]], Table2[[#This Row],[WMPInitiativeActivity]])),"_",Table2[[#This Row],[InitiativeActivityID]], "_",YEAR(Table2[[#This Row],[Submission Date]])) -> LU_Asset Management & Inspections_Detailed inspections of distribution electric lines and equipment _AMI_01_2022 | K16: 81 | L16: Line Miles Inspected | M16: 307.8 | N16: 50 | O16: 175 | P16: 250 | Q16: 307.8 | R16: 117.67 | S16: =128.74+Table2[[#This Row],[QuantActualProgressQ1]] -> 246.41 | T16: =54.8+Table2[[#This Row],[QuantActualProgressQ1-2]] -> 301.21 | U16: - | V16: - | W16: - | X16: - | Y16: - | Z16: - | AA16: In progress | AI16: Q2 progress was revised from 274.74 miles to 246.41 miles
A17: ='READ ME FIRST'!$D$12 -> LU | B17: ='READ ME FIRST'!$D$15 -> 44866 | C17: Asset Management & Inspections | D17: 7.3.4.3 | E17: Improvement of inspections | G17: =IF(Table2[[#This Row],[WMPInitiativeActivity]]="","x",IF(Table2[[#This Row],[WMPInitiativeActivity]]="other", Table2[[#This Row],[ActivityNameifOther]], INDEX('Initiative mapping-DO NOT EDIT'!$C$3:$C$89,MATCH(Table2[[#This Row],[WMPInitiativeActivity]],'Initiative mapping-DO NOT EDIT'!$D$3:$D$89,0)))) -> 3 | H17: Improvement of inspections | I17: AMI_03 | J17: =_xlfn.CONCAT(Table2[[#This Row],[UtilityID]],"_", Table2[[#This Row],[WMPInitiativeCategory]],"_", IF(Table2[[#This Row],[WMPInitiativeActivity]]="","x",IF(Table2[[#This Row],[WMPInitiativeActivity]]="other", Table2[[#This Row],[ActivityNameifOther]], Table2[[#This Row],[WMPInitiativeActivity]])),"_",Table2[[#This Row],[InitiativeActivityID]], "_",YEAR(Table2[[#This Row],[Submission Date]])) -> LU_Asset Management & Inspections_Improvement of inspections _AMI_03_2022 | K17: 82 | L17: N/A | M17: - | N17: - | O17: - | P17: - | Q17: - | R17: - | S17: - | T17: - | U17: - | V17: - | W17: - | X17: - | Y17: - | Z17: - | AA17: In progress
A18: ='READ ME FIRST'!$D$12 -> LU | B18: ='READ ME FIRST'!$D$15 -> 44866 | C18: Asset Management & Inspections | D18: 7.3.4.4 | E18: Infrared inspections of distribution electric lines and equipment | G18: =IF(Table2[[#This Row],[WMPInitiativeActivity]]="","x",IF(Table2[[#This Row],[WMPInitiativeActivity]]="other", Table2[[#This Row],[ActivityNameifOther]], INDEX('Initiative mapping-DO NOT EDIT'!$C$3:$C$89,MATCH(Table2[[#This Row],[WMPInitiativeActivity]],'Initiative mapping-DO NOT EDIT'!$D$3:$D$89,0)))) -> 4 | H18: Infrared inspections of distribution electric lines and equipment | I18: AMI_04 | J18: =_xlfn.CONCAT(Table2[[#This Row],[UtilityID]],"_", Table2[[#This Row],[WMPInitiativeCategory]],"_", IF(Table2[[#This Row],[WMPInitiativeActivity]]="","x",IF(Table2[[#This Row],[WMPInitiativeActivity]]="other", Table2[[#This Row],[ActivityNameifOther]], Table2[[#This Row],[WMPInitiativeActivity]])),"_",Table2[[#This Row],[InitiativeActivityID]], "_",YEAR(Table2[[#This Row],[Submission Date]])) -> LU_Asset Management & Inspections_Infrared inspections of distribution electric lines and equipment _AMI_04_2022 | K18: 82 | L18: N/A | M18: - | N18: - | O18: - | P18: - | Q18: - | R18: - | S18: - | T18: - | U18: - | V18: - | W18: - | X18: - | Y18: - | Z18: - | AA18: In progress
A19: ='READ ME FIRST'!$D$12 -> LU | B19: ='READ ME FIRST'!$D$15 -> 44866 | C19: Asset Management & Inspections | D19: 7.3.4.6 | E19: Intrusive pole inspections | G19: =IF(Table2[[#This Row],[WMPInitiativeActivity]]="","x",IF(Table2[[#This Row],[WMPInitiativeActivity]]="other", Table2[[#This Row],[ActivityNameifOther]], INDEX('Initiative mapping-DO NOT EDIT'!$C$3:$C$89,MATCH(Table2[[#This Row],[WMPInitiativeActivity]],'Initiative mapping-DO NOT EDIT'!$D$3:$D$89,0)))) -> 6 | H19: Intrusive pole inspections | I19: AMI_06 | J19: =_xlfn.CONCAT(Table2[[#This Row],[UtilityID]],"_", Table2[[#This Row],[WMPInitiativeCategory]],"_", IF(Table2[[#This Row],[WMPInitiativeActivity]]="","x",IF(Table2[[#This Row],[WMPInitiativeActivity]]="other", Table2[[#This Row],[ActivityNameifOther]], Table2[[#This Row],[WMPInitiativeActivity]])),"_",Table2[[#This Row],[InitiativeActivityID]], "_",YEAR(Table2[[#This Row],[Submission Date]])) -> LU_Asset Management & Inspections_Intrusive pole inspections _AMI_06_2022 | K19: 83 | L19: Poles Inspected | M19: 2598 | N19: 0 | O19: 0 | P19: 1299 | Q19: 2598 | R19: 0 | S19: 0 | T19: 2735 | U19: - | V19: - | W19: - | X19: - | Y19: - | Z19: - | AA19: In progress
A20: ='READ ME FIRST'!$D$12 -> LU | B20: ='READ ME FIRST'!$D$15 -> 44866 | C20: Asset Management & Inspections | D20: 7.3.4.11 | E20: Patrol inspections of distribution electric lines and equipment | G20: =IF(Table2[[#This Row],[WMPInitiativeActivity]]="","x",IF(Table2[[#This Row],[WMPInitiativeActivity]]="other", Table2[[#This Row],[ActivityNameifOther]], INDEX('Initiative mapping-DO NOT EDIT'!$C$3:$C$89,MATCH(Table2[[#This Row],[WMPInitiativeActivity]],'Initiative mapping-DO NOT EDIT'!$D$3:$D$89,0)))) -> 11 | H20: Patrol inspections of distribution electric lines and equipment | I20: AMI_11 | J20: =_xlfn.CONCAT(Table2[[#This Row],[UtilityID]],"_", Table2[[#This Row],[WMPInitiativeCategory]],"_", IF(Table2[[#This Row],[WMPInitiativeActivity]]="","x",IF(Table2[[#This Row],[WMPInitiativeActivity]]="other", Table2[[#This Row],[ActivityNameifOther]], Table2[[#This Row],[WMPInitiativeActivity]])),"_",Table2[[#This Row],[InitiativeActivityID]], "_",YEAR(Table2[[#This Row],[Submission Date]])) -> LU_Asset Management & Inspections_Patrol inspections of distribution electric lines and equipment _AMI_11_2022 | K20: 85 | L20: Line Miles Inspected | M20: 706.28 | N20: 100 | O20: 250 | P20: 400 | Q20: 706.3 | R20: 152.3 | S20: 466.7 | T20: =Table2[[#This Row],[QuantActualProgressQ1-2]]+36.3 -> 503 | U20: - | V20: - | W20: - | X20: - | Y20: - | Z20: - | AA20: In progress
A21: ='READ ME FIRST'!$D$12 -> LU | B21: ='READ ME FIRST'!$D$15 -> 44866 | C21: Asset Management & Inspections | D21: 7.3.4.14 | E21: Quality assurance / quality control of inspections | G21: =IF(Table2[[#This Row],[WMPInitiativeActivity]]="","x",IF(Table2[[#This Row],[WMPInitiativeActivity]]="other", Table2[[#This Row],[ActivityNameifOther]], INDEX('Initiative mapping-DO NOT EDIT'!$C$3:$C$89,MATCH(Table2[[#This Row],[WMPInitiativeActivity]],'Initiative mapping-DO NOT EDIT'!$D$3:$D$89,0)))) -> 14 | H21: Quality assurance / quality control of inspections | I21: AMI_14 | J21: =_xlfn.CONCAT(Table2[[#This Row],[UtilityID]],"_", Table2[[#This Row],[WMPInitiativeCategory]],"_", IF(Table2[[#This Row],[WMPInitiativeActivity]]="","x",IF(Table2[[#This Row],[WMPInitiativeActivity]]="other", Table2[[#This Row],[ActivityNameifOther]], Table2[[#This Row],[WMPInitiativeActivity]])),"_",Table2[[#This Row],[InitiativeActivityID]], "_",YEAR(Table2[[#This Row],[Submission Date]])) -> LU_Asset Management & Inspections_Quality assurance / quality control of inspections _AMI_14_2022 | K21: 86 | L21: % of detailed inspections | M21: 0.005 | N21: 0 | O21: 0.005 | P21: 0.005 | Q21: 0.005 | R21: 0 | S21: 0 | T21: 0 | U21: - | V21: - | W21: - | X21: - | Y21: - | Z21: - | AA21: In progress
A22: ='READ ME FIRST'!$D$12 -> LU | B22: ='READ ME FIRST'!$D$15 -> 44866 | C22: Asset Management & Inspections | D22: 7.3.4.15 | E22: Substation inspections | G22: =IF(Table2[[#This Row],[WMPInitiativeActivity]]="","x",IF(Table2[[#This Row],[WMPInitiativeActivity]]="other", Table2[[#This Row],[ActivityNameifOther]], INDEX('Initiative mapping-DO NOT EDIT'!$C$3:$C$89,MATCH(Table2[[#This Row],[WMPInitiativeActivity]],'Initiative mapping-DO NOT EDIT'!$D$3:$D$89,0)))) -> 15 | H22: Substation inspections | I22: AMI_15 | J22: =_xlfn.CONCAT(Table2[[#This Row],[UtilityID]],"_", Table2[[#This Row],[WMPInitiativeCategory]],"_", IF(Table2[[#This Row],[WMPInitiativeActivity]]="","x",IF(Table2[[#This Row],[WMPInitiativeActivity]]="other", Table2[[#This Row],[ActivityNameifOther]], Table2[[#This Row],[WMPInitiativeActivity]])),"_",Table2[[#This Row],[InitiativeActivityID]], "_",YEAR(Table2[[#This Row],[Submission Date]])) -> LU_Asset Management & Inspections_Substation inspections _AMI_15_2022 | K22: 88 | L22: Substations Inspected | M22: 42 | N22: 10 | O22: 20 | P22: 32 | Q22: 42 | R22: 11 | S22: 22 | T22: =Table2[[#This Row],[QuantActualProgressQ1-2]]+12 -> 34 | U22: - | V22: - | W22: - | X22: - | Y22: - | Z22: - | AA22: In progress
A23: ='READ ME FIRST'!$D$12 -> LU | B23: ='READ ME FIRST'!$D$15 -> 44866 | C23: Vegetation Management & Inspections | D23: 7.3.5.1 | E23: Additional efforts to manage community and environmental impacts | G23: =IF(Table2[[#This Row],[WMPInitiativeActivity]]="","x",IF(Table2[[#This Row],[WMPInitiativeActivity]]="other", Table2[[#This Row],[ActivityNameifOther]], INDEX('Initiative mapping-DO NOT EDIT'!$C$3:$C$89,MATCH(Table2[[#This Row],[WMPInitiativeActivity]],'Initiative mapping-DO NOT EDIT'!$D$3:$D$89,0)))) -> 1 | H23: Additional efforts to manage community and environmental impacts | I23: VMI_01 | J23: =_xlfn.CONCAT(Table2[[#This Row],[UtilityID]],"_", Table2[[#This Row],[WMPInitiativeCategory]],"_", IF(Table2[[#This Row],[WMPInitiativeActivity]]="","x",IF(Table2[[#This Row],[WMPInitiativeActivity]]="other", Table2[[#This Row],[ActivityNameifOther]], Table2[[#This Row],[WMPInitiativeActivity]])),"_",Table2[[#This Row],[InitiativeActivityID]], "_",YEAR(Table2[[#This Row],[Submission Date]])) -> LU_Vegetation Management & Inspections_Additional efforts to manage community and environmental impacts _VMI_01_2022 | K23: 104 | L23: Line Miles Treated | M23: 6 | N23: 0 | O23: 2 | P23: 4 | Q23: 6 | R23: 0 | S23: 0 | T23: 0 | U23: - | V23: - | W23: - | X23: - | Y23: - | Z23: - | AA23: In progress
A24: ='READ ME FIRST'!$D$12 -> LU | B24: ='READ ME FIRST'!$D$15 -> 44866 | C24: Vegetation Management & Inspections | D24: 7.3.5.2 | E24: Detailed inspections of vegetation around distribution electric lines and equipment | G24: =IF(Table2[[#This Row],[WMPInitiativeActivity]]="","x",IF(Table2[[#This Row],[WMPInitiativeActivity]]="other", Table2[[#This Row],[ActivityNameifOther]], INDEX('Initiative mapping-DO NOT EDIT'!$C$3:$C$89,MATCH(Table2[[#This Row],[WMPInitiativeActivity]],'Initiative mapping-DO NOT EDIT'!$D$3:$D$89,0)))) -> 2 | H24: Detailed inspections of vegetation around distribution electric lines and equipment | I24: VMI_02 | J24: =_xlfn.CONCAT(Table2[[#This Row],[UtilityID]],"_", Table2[[#This Row],[WMPInitiativeCategory]],"_", IF(Table2[[#This Row],[WMPInitiativeActivity]]="","x",IF(Table2[[#This Row],[WMPInitiativeActivity]]="other", Table2[[#This Row],[ActivityNameifOther]], Table2[[#This Row],[WMPInitiativeActivity]])),"_",Table2[[#This Row],[InitiativeActivityID]], "_",YEAR(Table2[[#This Row],[Submission Date]])) -> LU_Vegetation Management & Inspections_Detailed inspections of vegetation around distribution electric lines and equipment _VMI_02_2022 | K24: 107 | L24: Line Miles Inspected | M24: 222 | N24: 53 | O24: 109 | P24: 170 | Q24: 222 | R24: 53.5 | S24: 149.3 | T24: 210.59 | U24: - | V24: - | W24: - | X24: - | Y24: - | Z24: - | AA24: In progress
A25: ='READ ME FIRST'!$D$12 -> LU | B25: ='READ ME FIRST'!$D$15 -> 44866 | C25: Vegetation Management & Inspections | D25: 7.3.5.5 | E25: Fuel management and reduction of “slash” from vegetation management activities | G25: =IF(Table2[[#This Row],[WMPInitiativeActivity]]="","x",IF(Table2[[#This Row],[WMPInitiativeActivity]]="other", Table2[[#This Row],[ActivityNameifOther]], INDEX('Initiative mapping-DO NOT EDIT'!$C$3:$C$89,MATCH(Table2[[#This Row],[WMPInitiativeActivity]],'Initiative mapping-DO NOT EDIT'!$D$3:$D$89,0)))) -> 5 | H25: Fuel management and reduction of “slash” from vegetation management activities | I25: VMI_05 | J25: =_xlfn.CONCAT(Table2[[#This Row],[UtilityID]],"_", Table2[[#This Row],[WMPInitiativeCategory]],"_", IF(Table2[[#This Row],[WMPInitiativeActivity]]="","x",IF(Table2[[#This Row],[WMPInitiativeActivity]]="other", Table2[[#This Row],[ActivityNameifOther]], Table2[[#This Row],[WMPInitiativeActivity]])),"_",Table2[[#This Row],[InitiativeActivityID]], "_",YEAR(Table2[[#This Row],[Submission Date]])) -> LU_Vegetation Management & Inspections_Fuel management and reduction of “slash” from vegetation management activities _VMI_05_2022 | K25: 109 | L25: Acres | M25: 280 | N25: 0 | O25: 95 | P25: 190 | Q25: 280 | R25: 0 | S25: 56.7 | T25: 393.6 | U25: - | V25: - | W25: - | X25: - | Y25: - | Z25: - | AA25: In progress
A26: ='READ ME FIRST'!$D$12 -> LU | B26: ='READ ME FIRST'!$D$15 -> 44866 | C26: Vegetation Management & Inspections | D26: 7.3.5.7 | E26: LiDAR inspections of vegetation around distribution electric lines and equipment | G26: =IF(Table2[[#This Row],[WMPInitiativeActivity]]="","x",IF(Table2[[#This Row],[WMPInitiativeActivity]]="other", Table2[[#This Row],[ActivityNameifOther]], INDEX('Initiative mapping-DO NOT EDIT'!$C$3:$C$89,MATCH(Table2[[#This Row],[WMPInitiativeActivity]],'Initiative mapping-DO NOT EDIT'!$D$3:$D$89,0)))) -> 7 | H26: LiDAR inspections of vegetation around distribution electric lines and equipment | I26: VMI_07 | J26: =_xlfn.CONCAT(Table2[[#This Row],[UtilityID]],"_", Table2[[#This Row],[WMPInitiativeCategory]],"_", IF(Table2[[#This Row],[WMPInitiativeActivity]]="","x",IF(Table2[[#This Row],[WMPInitiativeActivity]]="other", Table2[[#This Row],[ActivityNameifOther]], Table2[[#This Row],[WMPInitiativeActivity]])),"_",Table2[[#This Row],[InitiativeActivityID]], "_",YEAR(Table2[[#This Row],[Submission Date]])) -> LU_Vegetation Management & Inspections_LiDAR inspections of vegetation around distribution electric lines and equipment _VMI_07_2022 | K26: 112 | L26: Line Miles Inspected | M26: 701 | N26: 0 | O26: 0 | P26: 701 | Q26: 701 | R26: 0 | S26: 0 | T26: 701 | U26: - | V26: - | W26: - | X26: - | Y26: - | Z26: - | AA26: In progress
A27: ='READ ME FIRST'!$D$12 -> LU | B27: ='READ ME FIRST'!$D$15 -> 44866 | C27: Vegetation Management & Inspections | D27: 7.3.5.10 | E27: Other discretionary inspections of vegetation around transmission electric lines and equipment | G27: =IF(Table2[[#This Row],[WMPInitiativeActivity]]="","x",IF(Table2[[#This Row],[WMPInitiativeActivity]]="other", Table2[[#This Row],[ActivityNameifOther]], INDEX('Initiative mapping-DO NOT EDIT'!$C$3:$C$89,MATCH(Table2[[#This Row],[WMPInitiativeActivity]],'Initiative mapping-DO NOT EDIT'!$D$3:$D$89,0)))) -> 10 | H27: Other discretionary inspections of vegetation around transmission electric lines and equipment | I27: VMI_10 | J27: =_xlfn.CONCAT(Table2[[#This Row],[UtilityID]],"_", Table2[[#This Row],[WMPInitiativeCategory]],"_", IF(Table2[[#This Row],[WMPInitiativeActivity]]="","x",IF(Table2[[#This Row],[WMPInitiativeActivity]]="other", Table2[[#This Row],[ActivityNameifOther]], Table2[[#This Row],[WMPInitiativeActivity]])),"_",Table2[[#This Row],[InitiativeActivityID]], "_",YEAR(Table2[[#This Row],[Submission Date]])) -> LU_Vegetation Management & Inspections_Other discretionary inspections of vegetation around transmission electric lines and equipment _VMI_10_2022 | K27: 113 | L27: Line Miles Inspected | M27: - | N27: - | O27: - | P27: - | Q27: - | R27: - | S27: - | T27: - | U27: - | V27: - | W27: - | X27: - | Y27: - | Z27: - | AA27: -
A28: ='READ ME FIRST'!$D$12 -> LU | B28: ='READ ME FIRST'!$D$15 -> 44866 | C28: Vegetation Management & Inspections | D28: 7.3.5.11 | E28: Patrol inspections of vegetation around distribution electric lines and equipment | G28: =IF(Table2[[#This Row],[WMPInitiativeActivity]]="","x",IF(Table2[[#This Row],[WMPInitiativeActivity]]="other", Table2[[#This Row],[ActivityNameifOther]], INDEX('Initiative mapping-DO NOT EDIT'!$C$3:$C$89,MATCH(Table2[[#This Row],[WMPInitiativeActivity]],'Initiative mapping-DO NOT EDIT'!$D$3:$D$89,0)))) -> 11 | H28: Patrol inspections of vegetation around distribution electric lines and equipment | I28: VMI_11 | J28: =_xlfn.CONCAT(Table2[[#This Row],[UtilityID]],"_", Table2[[#This Row],[WMPInitiativeCategory]],"_", IF(Table2[[#This Row],[WMPInitiativeActivity]]="","x",IF(Table2[[#This Row],[WMPInitiativeActivity]]="other", Table2[[#This Row],[ActivityNameifOther]], Table2[[#This Row],[WMPInitiativeActivity]])),"_",Table2[[#This Row],[InitiativeActivityID]], "_",YEAR(Table2[[#This Row],[Submission Date]])) -> LU_Vegetation Management & Inspections_Patrol inspections of vegetation around distribution electric lines and equipment _VMI_11_2022 | K28: 113 | L28: Line Miles Inspected | M28: 171 | N28: 43 | O28: 88 | P28: 130 | Q28: 171 | R28: 26.1 | S28: 92.9 | T28: 170.46 | U28: - | V28: - | W28: - | X28: - | Y28: - | Z28: - | AA28: In progress
A29: ='READ ME FIRST'!$D$12 -> LU | B29: ='READ ME FIRST'!$D$15 -> 44866 | C29: Vegetation Management & Inspections | D29: 7.3.5.13 | E29: Quality assurance / quality control of vegetation inspections | G29: =IF(Table2[[#This Row],[WMPInitiativeActivity]]="","x",IF(Table2[[#This Row],[WMPInitiativeActivity]]="other", Table2[[#This Row],[ActivityNameifOther]], INDEX('Initiative mapping-DO NOT EDIT'!$C$3:$C$89,MATCH(Table2[[#This Row],[WMPInitiativeActivity]],'Initiative mapping-DO NOT EDIT'!$D$3:$D$89,0)))) -> 13 | H29: Quality assurance / quality control of vegetation inspections | I29: VMI_13 | J29: =_xlfn.CONCAT(Table2[[#This Row],[UtilityID]],"_", Table2[[#This Row],[WMPInitiativeCategory]],"_", IF(Table2[[#This Row],[WMPInitiativeActivity]]="","x",IF(Table2[[#This Row],[WMPInitiativeActivity]]="other", Table2[[#This Row],[ActivityNameifOther]], Table2[[#This Row],[WMPInitiativeActivity]])),"_",Table2[[#This Row],[InitiativeActivityID]], "_",YEAR(Table2[[#This Row],[Submission Date]])) -> LU_Vegetation Management & Inspections_Quality assurance / quality control of vegetation inspections _VMI_13_2022 | K29: 114 | L29: Line Miles Inspected | M29: 221 | N29: 22 | O29: 92 | P29: 162 | Q29: 228 | R29: 22.4 | S29: 184.1 | T29: 249.9 | U29: - | V29: - | W29: - | X29: - | Y29: - | Z29: - | AA29: In progress
A30: ='READ ME FIRST'!$D$12 -> LU | B30: ='READ ME FIRST'!$D$15 -> 44866 | C30: Vegetation Management & Inspections | D30: 7.3.5.14 | E30: Recruiting and training of vegetation management personnel | G30: =IF(Table2[[#This Row],[WMPInitiativeActivity]]="","x",IF(Table2[[#This Row],[WMPInitiativeActivity]]="other", Table2[[#This Row],[ActivityNameifOther]], INDEX('Initiative mapping-DO NOT EDIT'!$C$3:$C$89,MATCH(Table2[[#This Row],[WMPInitiativeActivity]],'Initiative mapping-DO NOT EDIT'!$D$3:$D$89,0)))) -> 14 | H30: Recruiting and training of vegetation management personnel | I30: VMI_14 | J30: =_xlfn.CONCAT(Table2[[#This Row],[UtilityID]],"_", Table2[[#This Row],[WMPInitiativeCategory]],"_", IF(Table2[[#This Row],[WMPInitiativeActivity]]="","x",IF(Table2[[#This Row],[WMPInitiativeActivity]]="other", Table2[[#This Row],[ActivityNameifOther]], Table2[[#This Row],[WMPInitiativeActivity]])),"_",Table2[[#This Row],[InitiativeActivityID]], "_",YEAR(Table2[[#This Row],[Submission Date]])) -> LU_Vegetation Management & Inspections_Recruiting and training of vegetation management personnel _VMI_14_2022 | K30: 116 | L30: N/A | M30: - | N30: - | O30: - | P30: - | Q30: - | R30: - | S30: - | T30: - | U30: - | V30: - | W30: - | X30: - | Y30: - | Z30: - | AA30: -
A31: ='READ ME FIRST'!$D$12 -> LU | B31: ='READ ME FIRST'!$D$15 -> 44866 | C31: Vegetation Management & Inspections | D31: 7.3.5.15 | E31: Remediation of at-risk species | G31: =IF(Table2[[#This Row],[WMPInitiativeActivity]]="","x",IF(Table2[[#This Row],[WMPInitiativeActivity]]="other", Table2[[#This Row],[ActivityNameifOther]], INDEX('Initiative mapping-DO NOT EDIT'!$C$3:$C$89,MATCH(Table2[[#This Row],[WMPInitiativeActivity]],'Initiative mapping-DO NOT EDIT'!$D$3:$D$89,0)))) -> 15 | H31: Remediation of at-risk species | I31: VMI_15 | J31: =_xlfn.CONCAT(Table2[[#This Row],[UtilityID]],"_", Table2[[#This Row],[WMPInitiativeCategory]],"_", IF(Table2[[#This Row],[WMPInitiativeActivity]]="","x",IF(Table2[[#This Row],[WMPInitiativeActivity]]="other", Table2[[#This Row],[ActivityNameifOther]], Table2[[#This Row],[WMPInitiativeActivity]])),"_",Table2[[#This Row],[InitiativeActivityID]], "_",YEAR(Table2[[#This Row],[Submission Date]])) -> LU_Vegetation Management & Inspections_Remediation of at-risk species _VMI_15_2022 | K31: 117 | L31: Line Miles Treated | M31: 238 | N31: 30 | O31: 110 | P31: 190 | Q31: 238 | R31: 30.4 | S31: 30.4 | T31: 104.85 | U31: - | V31: - | W31: - | X31: - | Y31: - | Z31: - | AA31: In progress
A32: ='READ ME FIRST'!$D$12 -> LU | B32: ='READ ME FIRST'!$D$15 -> 44866 | C32: Vegetation Management & Inspections | D32: 7.3.5.16 | E32: Removal and remediation of trees with strike potential to electric lines and equipment | G32: =IF(Table2[[#This Row],[WMPInitiativeActivity]]="","x",IF(Table2[[#This Row],[WMPInitiativeActivity]]="other", Table2[[#This Row],[ActivityNameifOther]], INDEX('Initiative mapping-DO NOT EDIT'!$C$3:$C$89,MATCH(Table2[[#This Row],[WMPInitiativeActivity]],'Initiative mapping-DO NOT EDIT'!$D$3:$D$89,0)))) -> 16 | H32: Removal and remediation of trees with strike potential to electric lines and equipment | I32: VMI_16 | J32: =_xlfn.CONCAT(Table2[[#This Row],[UtilityID]],"_", Table2[[#This Row],[WMPInitiativeCategory]],"_", IF(Table2[[#This Row],[WMPInitiativeActivity]]="","x",IF(Table2[[#This Row],[WMPInitiativeActivity]]="other", Table2[[#This Row],[ActivityNameifOther]], Table2[[#This Row],[WMPInitiativeActivity]])),"_",Table2[[#This Row],[InitiativeActivityID]], "_",YEAR(Table2[[#This Row],[Submission Date]])) -> LU_Vegetation Management & Inspections_Removal and remediation of trees with strike potential to electric lines and equipment _VMI_16_2022 | K32: 118 | L32: Line Miles Treated | M32: 171 | N32: 8 | O32: 63 | P32: 120 | Q32: 171 | R32: 8.6 | S32: 8.6 | T32: 101.85 | U32: - | V32: - | W32: - | X32: - | Y32: - | Z32: - | AA32: In progress
A33: ='READ ME FIRST'!$D$12 -> LU | B33: ='READ ME FIRST'!$D$15 -> 44866 | C33: Vegetation Management & Inspections | D33: 7.3.5.20 | E33: Vegetation management to achieve clearances around electric lines and equipment | G33: =IF(Table2[[#This Row],[WMPInitiativeActivity]]="","x",IF(Table2[[#This Row],[WMPInitiativeActivity]]="other", Table2[[#This Row],[ActivityNameifOther]], INDEX('Initiative mapping-DO NOT EDIT'!$C$3:$C$89,MATCH(Table2[[#This Row],[WMPInitiativeActivity]],'Initiative mapping-DO NOT EDIT'!$D$3:$D$89,0)))) -> 20 | H33: Vegetation management to achieve clearances around electric lines and equipment | I33: VMI_20 | J33: =_xlfn.CONCAT(Table2[[#This Row],[UtilityID]],"_", Table2[[#This Row],[WMPInitiativeCategory]],"_", IF(Table2[[#This Row],[WMPInitiativeActivity]]="","x",IF(Table2[[#This Row],[WMPInitiativeActivity]]="other", Table2[[#This Row],[ActivityNameifOther]], Table2[[#This Row],[WMPInitiativeActivity]])),"_",Table2[[#This Row],[InitiativeActivityID]], "_",YEAR(Table2[[#This Row],[Submission Date]])) -> LU_Vegetation Management & Inspections_Vegetation management to achieve clearances around electric lines and equipment _VMI_20_2022 | K33: 119 | L33: Line Miles Treated | M33: 701 | N33: 400 | O33: 600 | P33: 701 | Q33: 701 | R33: 404.9 | S33: 697 | T33: 701 | U33: - | V33: - | W33: - | X33: - | Y33: - | Z33: - | AA33: In progress
A34: ='READ ME FIRST'!$D$12 -> LU | B34: ='READ ME FIRST'!$D$15 -> 44866 | C34: Vegetation Management & Inspections | D34: 7.3.5.21 | E34: Vegetation management activities post-fire | G34: 21 | H34: Vegetation management activities post-fire | I34: VMI_21 | J34: =_xlfn.CONCAT(Table2[[#This Row],[UtilityID]],"_", Table2[[#This Row],[WMPInitiativeCategory]],"_", IF(Table2[[#This Row],[WMPInitiativeActivity]]="","x",IF(Table2[[#This Row],[WMPInitiativeActivity]]="other", Table2[[#This Row],[ActivityNameifOther]], Table2[[#This Row],[WMPInitiativeActivity]])),"_",Table2[[#This Row],[InitiativeActivityID]], "_",YEAR(Table2[[#This Row],[Submission Date]])) -> LU_Vegetation Management & Inspections_Vegetation management activities post-fire _VMI_21_2022 | K34: N/A | L34: - | M34: - | N34: - | O34: - | P34: - | Q34: - | R34: - | S34: - | T34: - | U34: - | V34: - | W34: - | X34: - | Y34: - | Z34: - | AA34: -
A35: ='READ ME FIRST'!$D$12 -> LU | B35: ='READ ME FIRST'!$D$15 -> 44866 | C35: Grid Operations & Operating Protocols | D35: 7.3.6.1 | E35: Automatic recloser operations | G35: =IF(Table2[[#This Row],[WMPInitiativeActivity]]="","x",IF(Table2[[#This Row],[WMPInitiativeActivity]]="other", Table2[[#This Row],[ActivityNameifOther]], INDEX('Initiative mapping-DO NOT EDIT'!$C$3:$C$89,MATCH(Table2[[#This Row],[WMPInitiativeActivity]],'Initiative mapping-DO NOT EDIT'!$D$3:$D$89,0)))) -> 1 | H35: Automatic recloser operations | I35: GOOP_01 | J35: =_xlfn.CONCAT(Table2[[#This Row],[UtilityID]],"_", Table2[[#This Row],[WMPInitiativeCategory]],"_", IF(Table2[[#This Row],[WMPInitiativeActivity]]="","x",IF(Table2[[#This Row],[WMPInitiativeActivity]]="other", Table2[[#This Row],[ActivityNameifOther]], Table2[[#This Row],[WMPInitiativeActivity]])),"_",Table2[[#This Row],[InitiativeActivityID]], "_",YEAR(Table2[[#This Row],[Submission Date]])) -> LU_Grid Operations & Operating Protocols_Automatic recloser operations _GOOP_01_2022 | K35: 120 | L35: N/A | M35: - | N35: - | O35: - | P35: - | Q35: - | R35: - | S35: - | T35: - | U35: - | V35: - | W35: - | X35: - | Y35: - | Z35: - | AA35: In progress
A36: ='READ ME FIRST'!$D$12 -> LU | B36: ='READ ME FIRST'!$D$15 -> 44866 | C36: Grid Operations & Operating Protocols | D36: 7.3.6.3 | E36: Personnel work procedures and training in conditions of elevated fire risk | G36: =IF(Table2[[#This Row],[WMPInitiativeActivity]]="","x",IF(Table2[[#This Row],[WMPInitiativeActivity]]="other", Table2[[#This Row],[ActivityNameifOther]], INDEX('Initiative mapping-DO NOT EDIT'!$C$3:$C$89,MATCH(Table2[[#This Row],[WMPInitiativeActivity]],'Initiative mapping-DO NOT EDIT'!$D$3:$D$89,0)))) -> 3 | H36: Personnel work procedures and training in conditions of elevated fire risk | I36: GOOP_03 | J36: =_xlfn.CONCAT(Table2[[#This Row],[UtilityID]],"_", Table2[[#This Row],[WMPInitiativeCategory]],"_", IF(Table2[[#This Row],[WMPInitiativeActivity]]="","x",IF(Table2[[#This Row],[WMPInitiativeActivity]]="other", Table2[[#This Row],[ActivityNameifOther]], Table2[[#This Row],[WMPInitiativeActivity]])),"_",Table2[[#This Row],[InitiativeActivityID]], "_",YEAR(Table2[[#This Row],[Submission Date]])) -> LU_Grid Operations & Operating Protocols_Personnel work procedures and training in conditions of elevated fire risk _GOOP_03_2022 | K36: 121 | L36: N/A | M36: - | N36: - | O36: - | P36: - | Q36: - | R36: - | S36: - | T36: - | U36: - | V36: Annual training; update procedures and incorporate feedback from training | W36: - | X36: - | Y36: - | Z36: - | AA36: In progress
A37: ='READ ME FIRST'!$D$12 -> LU | B37: ='READ ME FIRST'!$D$15 -> 44866 | C37: Grid Operations & Operating Protocols | D37: 7.3.6.4 | E37: Protocols for PSPS re-energization | G37: =IF(Table2[[#This Row],[WMPInitiativeActivity]]="","x",IF(Table2[[#This Row],[WMPInitiativeActivity]]="other", Table2[[#This Row],[ActivityNameifOther]], INDEX('Initiative mapping-DO NOT EDIT'!$C$3:$C$89,MATCH(Table2[[#This Row],[WMPInitiativeActivity]],'Initiative mapping-DO NOT EDIT'!$D$3:$D$89,0)))) -> 4 | H37: Protocols for PSPS re-energization | I37: GOOP_04 | J37: =_xlfn.CONCAT(Table2[[#This Row],[UtilityID]],"_", Table2[[#This Row],[WMPInitiativeCategory]],"_", IF(Table2[[#This Row],[WMPInitiativeActivity]]="","x",IF(Table2[[#This Row],[WMPInitiativeActivity]]="other", Table2[[#This Row],[ActivityNameifOther]], Table2[[#This Row],[WMPInitiativeActivity]])),"_",Table2[[#This Row],[InitiativeActivityID]], "_",YEAR(Table2[[#This Row],[Submission Date]])) -> LU_Grid Operations & Operating Protocols_Protocols for PSPS re-energization _GOOP_04_2022 | K37: 124 | L37: N/A | M37: - | N37: - | O37: - | P37: - | Q37: - | R37: - | S37: - | T37: - | U37: - | V37: Continue refining activities associated with reducing PSPS impacts on customers | W37: - | X37: - | Y37: - | Z37: - | AA37: In progress
A38: ='READ ME FIRST'!$D$12 -> LU | B38: ='READ ME FIRST'!$D$15 -> 44866 | C38: Data Governance | D38: 7.3.7.1 | E38: Centralized repository for data | G38: =IF(Table2[[#This Row],[WMPInitiativeActivity]]="","x",IF(Table2[[#This Row],[WMPInitiativeActivity]]="other", Table2[[#This Row],[ActivityNameifOther]], INDEX('Initiative mapping-DO NOT EDIT'!$C$3:$C$89,MATCH(Table2[[#This Row],[WMPInitiativeActivity]],'Initiative mapping-DO NOT EDIT'!$D$3:$D$89,0)))) -> 1 | H38: Centralized repository for data | I38: DG_01 | J38: =_xlfn.CONCAT(Table2[[#This Row],[UtilityID]],"_", Table2[[#This Row],[WMPInitiativeCategory]],"_", IF(Table2[[#This Row],[WMPInitiativeActivity]]="","x",IF(Table2[[#This Row],[WMPInitiativeActivity]]="other", Table2[[#This Row],[ActivityNameifOther]], Table2[[#This Row],[WMPInitiativeActivity]])),"_",Table2[[#This Row],[InitiativeActivityID]], "_",YEAR(Table2[[#This Row],[Submission Date]])) -> LU_Data Governance_Centralized repository for data _DG_01_2022 | K38: 98 | L38: N/A | M38: - | N38: - | O38: - | P38: - | Q38: - | R38: - | S38: - | T38: - | U38: - | V38: - | W38: - | X38: - | Y38: - | Z38: - | AA38: In progress
A39: ='READ ME FIRST'!$D$12 -> LU | B39: ='READ ME FIRST'!$D$15 -> 44866 | C39: Data Governance | D39: 7.3.7.2 | E39: Collaborative research on utility ignition and/or wildfire | G39: =IF(Table2[[#This Row],[WMPInitiativeActivity]]="","x",IF(Table2[[#This Row],[WMPInitiativeActivity]]="other", Table2[[#This Row],[ActivityNameifOther]], INDEX('Initiative mapping-DO NOT EDIT'!$C$3:$C$89,MATCH(Table2[[#This Row],[WMPInitiativeActivity]],'Initiative mapping-DO NOT EDIT'!$D$3:$D$89,0)))) -> 2 | H39: Collaborative research on utility ignition and/or wildfire | I39: DG_02 | J39: =_xlfn.CONCAT(Table2[[#This Row],[UtilityID]],"_", Table2[[#This Row],[WMPInitiativeCategory]],"_", IF(Table2[[#This Row],[WMPInitiativeActivity]]="","x",IF(Table2[[#This Row],[WMPInitiativeActivity]]="other", Table2[[#This Row],[ActivityNameifOther]], Table2[[#This Row],[WMPInitiativeActivity]])),"_",Table2[[#This Row],[InitiativeActivityID]], "_",YEAR(Table2[[#This Row],[Submission Date]])) -> LU_Data Governance_Collaborative research on utility ignition and/or wildfire _DG_02_2022 | K39: 126 | L39: N/A | M39: - | N39: - | O39: - | P39: - | Q39: - | R39: - | S39: - | T39: - | U39: - | V39: - | W39: - | X39: - | Y39: - | Z39: - | AA39: In progress
A40: ='READ ME FIRST'!$D$12 -> LU | B40: ='READ ME FIRST'!$D$15 -> 44866 | C40: Emergency Planning & Preparedness | D40: 7.3.9.1 | E40: Adequate and trained workforce for service restoration | G40: =IF(Table2[[#This Row],[WMPInitiativeActivity]]="","x",IF(Table2[[#This Row],[WMPInitiativeActivity]]="other", Table2[[#This Row],[ActivityNameifOther]], INDEX('Initiative mapping-DO NOT EDIT'!$C$3:$C$89,MATCH(Table2[[#This Row],[WMPInitiativeActivity]],'Initiative mapping-DO NOT EDIT'!$D$3:$D$89,0)))) -> 1 | H40: Adequate and trained workforce for service restoration | I40: EPP_01 | J40: =_xlfn.CONCAT(Table2[[#This Row],[UtilityID]],"_", Table2[[#This Row],[WMPInitiativeCategory]],"_", IF(Table2[[#This Row],[WMPInitiativeActivity]]="","x",IF(Table2[[#This Row],[WMPInitiativeActivity]]="other", Table2[[#This Row],[ActivityNameifOther]], Table2[[#This Row],[WMPInitiativeActivity]])),"_",Table2[[#This Row],[InitiativeActivityID]], "_",YEAR(Table2[[#This Row],[Submission Date]])) -> LU_Emergency Planning & Preparedness_Adequate and trained workforce for service restoration _EPP_01_2022 | K40: 128 | L40: N/A | M40: - | N40: - | O40: - | P40: - | Q40: - | R40: - | S40: - | T40: - | U40: - | V40: - | W40: - | X40: - | Y40: - | Z40: - | AA40: -
A41: ='READ ME FIRST'!$D$12 -> LU | B41: ='READ ME FIRST'!$D$15 -> 44866 | C41: Emergency Planning & Preparedness | D41: 7.3.9.2 | E41: Community outreach, public awareness, and communications efforts | G41: =IF(Table2[[#This Row],[WMPInitiativeActivity]]="","x",IF(Table2[[#This Row],[WMPInitiativeActivity]]="other", Table2[[#This Row],[ActivityNameifOther]], INDEX('Initiative mapping-DO NOT EDIT'!$C$3:$C$89,MATCH(Table2[[#This Row],[WMPInitiativeActivity]],'Initiative mapping-DO NOT EDIT'!$D$3:$D$89,0)))) -> 2 | H41: Community outreach, public awareness, and communications efforts | I41: EPP_02 | J41: =_xlfn.CONCAT(Table2[[#This Row],[UtilityID]],"_", Table2[[#This Row],[WMPInitiativeCategory]],"_", IF(Table2[[#This Row],[WMPInitiativeActivity]]="","x",IF(Table2[[#This Row],[WMPInitiativeActivity]]="other", Table2[[#This Row],[ActivityNameifOther]], Table2[[#This Row],[WMPInitiativeActivity]])),"_",Table2[[#This Row],[InitiativeActivityID]], "_",YEAR(Table2[[#This Row],[Submission Date]])) -> LU_Emergency Planning & Preparedness_Community outreach, public awareness, and communications efforts _EPP_02_2022 | K41: 130 | L41: N/A | M41: - | N41: - | O41: - | P41: - | Q41: - | R41: - | S41: - | T41: - | U41: - | V41: Continued engagement with local stakeholders to prepare for and respond to fire-related event; Meet with Community Advisory Boards | W41: - | X41: - | Y41: - | Z41: - | AA41: In progress
A42: ='READ ME FIRST'!$D$12 -> LU | B42: ='READ ME FIRST'!$D$15 -> 44866 | C42: Emergency Planning & Preparedness | D42: 7.3.9.3 | E42: Customer support in emergencies | G42: =IF(Table2[[#This Row],[WMPInitiativeActivity]]="","x",IF(Table2[[#This Row],[WMPInitiativeActivity]]="other", Table2[[#This Row],[ActivityNameifOther]], INDEX('Initiative mapping-DO NOT EDIT'!$C$3:$C$89,MATCH(Table2[[#This Row],[WMPInitiativeActivity]],'Initiative mapping-DO NOT EDIT'!$D$3:$D$89,0)))) -> 3 | H42: Customer support in emergencies | I42: EPP_03 | J42: =_xlfn.CONCAT(Table2[[#This Row],[UtilityID]],"_", Table2[[#This Row],[WMPInitiativeCategory]],"_", IF(Table2[[#This Row],[WMPInitiativeActivity]]="","x",IF(Table2[[#This Row],[WMPInitiativeActivity]]="other", Table2[[#This Row],[ActivityNameifOther]], Table2[[#This Row],[WMPInitiativeActivity]])),"_",Table2[[#This Row],[InitiativeActivityID]], "_",YEAR(Table2[[#This Row],[Submission Date]])) -> LU_Emergency Planning & Preparedness_Customer support in emergencies _EPP_03_2022 | K42: 132 | L42: N/A | M42: - | N42: - | O42: - | P42: - | Q42: - | R42: - | S42: - | T42: - | U42: - | V42: Conduct Incident Command Training for all identified IC members and hold a Virtual PSPS Tabletop exercise; Continued implementation of Liberty’s 2022 AFN Plan; Continued maintenance of emergency response plans; Enhanced documentation and use of lessons learned to update plans. | W42: - | X42: ICS Training and PSPS Table Top Exercise held on June 15, 2022; PSPS Full Scale Exercise with Public Safety Partners held on June 23, 2022 | Y42: - | Z42: - | AA42: In progress
A43: ='READ ME FIRST'!$D$12 -> LU | B43: ='READ ME FIRST'!$D$15 -> 44866 | C43: Stakeholder Cooperation & Community Engagement | D43: 7.3.10.1 | E43: Community engagement | G43: =IF(Table2[[#This Row],[WMPInitiativeActivity]]="","x",IF(Table2[[#This Row],[WMPInitiativeActivity]]="other", Table2[[#This Row],[ActivityNameifOther]], INDEX('Initiative mapping-DO NOT EDIT'!$C$3:$C$89,MATCH(Table2[[#This Row],[WMPInitiativeActivity]],'Initiative mapping-DO NOT EDIT'!$D$3:$D$89,0)))) -> 1 | H43: Community engagement | I43: SCCE_01 | J43: =_xlfn.CONCAT(Table2[[#This Row],[UtilityID]],"_", Table2[[#This Row],[WMPInitiativeCategory]],"_", IF(Table2[[#This Row],[WMPInitiativeActivity]]="","x",IF(Table2[[#This Row],[WMPInitiativeActivity]]="other", Table2[[#This Row],[ActivityNameifOther]], Table2[[#This Row],[WMPInitiativeActivity]])),"_",Table2[[#This Row],[InitiativeActivityID]], "_",YEAR(Table2[[#This Row],[Submission Date]])) -> LU_Stakeholder Cooperation & Community Engagement_Community engagement _SCCE_01_2022 | K43: 135 | L43: N/A | M43: - | N43: - | O43: - | P43: - | Q43: - | R43: - | S43: - | T43: - | U43: - | V43: Continue to survey customers, CBOs, community partners and stakeholders to understand wildfire and PSPS awareness and the needs of customers. Strengthen and expand AFN CBO partnerships. Identify emerging channels and technologies to better communicate with customers, community and stakeholders. | W43: - | X43: 15 in-person events, 12 virtual events, and two rounds of social media posts focused on PSPS education and wildfire awareness, AFN outreach, and CBO colalboration and one phone call meeting with elected official. | Y43: 14 in-person events, 7 virtual events, 21 social media posts, 9 emails, 2 rounds of bill inserts, 3 website posts, and print /digital advertising. Focused on PSPS education, wildfire awareness, AFN outreach, and CBO collaboration. | Z43: - | AA43: In progress
A44: ='READ ME FIRST'!$D$12 -> LU | B44: ='READ ME FIRST'!$D$15 -> 44866 | C44: Stakeholder Cooperation & Community Engagement | D44: 7.3.10.2 | E44: Cooperation and best practice sharing with agencies outside CA | G44: =IF(Table2[[#This Row],[WMPInitiativeActivity]]="","x",IF(Table2[[#This Row],[WMPInitiativeActivity]]="other", Table2[[#This Row],[ActivityNameifOther]], INDEX('Initiative mapping-DO NOT EDIT'!$C$3:$C$89,MATCH(Table2[[#This Row],[WMPInitiativeActivity]],'Initiative mapping-DO NOT EDIT'!$D$3:$D$89,0)))) -> 2 | H44: Cooperation and best practice sharing with agencies outside CA | I44: SCCE_02 | J44: =_xlfn.CONCAT(Table2[[#This Row],[UtilityID]],"_", Table2[[#This Row],[WMPInitiativeCategory]],"_", IF(Table2[[#This Row],[WMPInitiativeActivity]]="","x",IF(Table2[[#This Row],[WMPInitiativeActivity]]="other", Table2[[#This Row],[ActivityNameifOther]], Table2[[#This Row],[WMPInitiativeActivity]])),"_",Table2[[#This Row],[InitiativeActivityID]], "_",YEAR(Table2[[#This Row],[Submission Date]])) -> LU_Stakeholder Cooperation & Community Engagement_Cooperation and best practice sharing with agencies outside CA _SCCE_02_2022 | K44: 141 | L44: N/A | M44: - | N44: - | O44: - | P44: - | Q44: - | R44: - | S44: - | T44: - | U44: - | V44: - | W44: - | X44: - | Y44: - | Z44: - | AA44: -

Sheet Initiative mapping-DO NOT EDIT
B2: WMP Table # / Category | C2: WMP Initiative # | D2: Initative activity | G2: WMP category | H2: WMP code | J2: Utility
B3: Risk Assessment & Mapping | C3: 1 | D3: A summarized risk map that shows the overall ignition probability and estimated wildfire consequence along the electric lines and equipment | G3: Risk Assessment & Mapping | H3: 5.3.1. | J3: PGE
B4: Risk Assessment & Mapping | C4: 2 | D4: Climate-driven risk map and modelling based on various relevant weather scenarios | G4: Situational Awareness & Forecasting | H4: 5.3.2. | J4: SCE
B5: Risk Assessment & Mapping | C5: 3 | D5: Ignition probability mapping showing the probability of ignition along the electric lines and equipment | G5: Grid Design & System Hardening | H5: 5.3.3. | J5: SDGE
B6: Risk Assessment & Mapping | C6: 4 | D6: Initiative mapping and estimation of wildfire and PSPS risk-reduction impact | G6: Asset Management & Inspections | H6: 5.3.4. | J6: BVES
B7: Risk Assessment & Mapping | C7: 5 | D7: Match drop simulations showing the potential wildfire consequence of ignitions that occur along the electric lines and equipment | G7: Vegetation Management & Inspections | H7: 5.3.5. | J7: LU
B8: Situational Awareness & Forecasting | C8: 1 | D8: Advanced weather monitoring and weather stations | G8: Grid Operations & Operating Protocols | H8: 5.3.6. | J8: PC
B9: Situational Awareness & Forecasting | C9: 2 | D9: Continuous monitoring sensors | G9: Data Governance | H9: 5.3.7. | J9: TBC
B10: Situational Awareness & Forecasting | C10: 3 | D10: Fault indicators for detecting faults on electric lines and equipment | G10: Resource Allocation Methodology | H10: 5.3.8. | J10: HWT
B11: Situational Awareness & Forecasting | C11: 4 | D11: Forecast of a fire risk index, fire potential index, or similar | G11: Emergency Planning & Preparedness | H11: 5.3.9.
B12: Situational Awareness & Forecasting | C12: 5 | D12: Personnel monitoring areas of electric lines and equipment in elevated fire risk conditions | G12: Stakeholder Cooperation & Community Engagement | H12: 5.3.10.
B13: Situational Awareness & Forecasting | C13: 6 | D13: Weather forecasting and estimating impacts on electric lines and equipment
B14: Grid Design & System Hardening | C14: 1 | D14: Capacitor maintenance and replacement program
B15: Grid Design & System Hardening | C15: 2 | D15: Circuit breaker maintenance and installation to de-energize lines upon detecting a fault
B16: Grid Design & System Hardening | C16: 3 | D16: Covered conductor installation
B17: Grid Design & System Hardening | C17: 4 | D17: Covered conductor maintenance
B18: Grid Design & System Hardening | C18: 5 | D18: Crossarm maintenance, repair, and replacement
B19: Grid Design & System Hardening | C19: 6 | D19: Distribution pole replacement and reinforcement, including with composite poles
B20: Grid Design & System Hardening | C20: 7 | D20: Expulsion fuse replacement
B21: Grid Design & System Hardening | C21: 8 | D21: Grid topology improvements to mitigate or reduce PSPS events
B22: Grid Design & System Hardening | C22: 9 | D22: Installation of system automation equipment
B23: Grid Design & System Hardening | C23: 10 | D23: Maintenance, repair, and replacement of connectors, including hotline clamps
B24: Grid Design & System Hardening | C24: 11 | D24: Mitigation of impact on customers and other residents affected during PSPS event
... B88: Stakeholder Cooperation & Community Engagement | C88: 4 | D88: Forest service and fuel reduction cooperation and joint roadmap
C89: x | D89: Other
