Workbook

Sheet Quarterly Submission Guide
C1: Yes | D1: No | E1: <-- for dropdowns
B3: Office of Energy Infrastructure Safety Attachment 3
B4: Wildifire Mitigation Plan Quarterly Data Report - non-spatial data template
B6: Instructions for use | J6: Relevant options for mitigations table: Table 12
B7: 1 | C7: Fill out the tan cells (color represented here) starting with the cell below (D17: Utility). The Utility name will populate the Table tabs to follow. Date modified will vary by table.
B8: 2 | C8: Cells will only accept valid entries. For most cells, this is positive numbers
B9: 3 | C9: For each Table tab, after a modification is made, denote the date of the change in cell C4 for each Table tab. | K9: Initiative categories | L9: WMP Maturity model Categories | M9: Driver options
B10: 4 | C10: Some columns have an additional header in row 5 to serve as clarification for several columns. With the exception of projected data, row 5 will be highlighted in blue (color represented here) | K10: Vegetation inspection | L10: Risk Assessment & Mapping | M10: 1. Ignitions | N10: Contact with vegetation
B11: 5 | C11: Some required metrics are future projections. For these, row 5, above the projections will be highlighted light green (color represented here) | K11: Vegetation management project | L11: Situational Awareness & Forecasting | N11: Other contact with object
C12: In future submissions, report updated projected numbers if / when projections have changed, and report actuals once the quarter / year has passed. | K12: Asset inspection | L12: Grid Design & System Hardening | N12: Equipment failure
B13: 6 | C13: For data required annually rather than quarterly (see Tables 7.2 - 10, 12), report for entire year even if part of the year is projected. Once year has passed, update cell with actuals | K13: Grid hardening | L13: Asset Management & Inspections | N13: Wire-to-wire contact
B14: 7 | C14: Some tables will have additional instructions provided in a Notes box located in cells D2 - D4 | K14: Other | L14: Vegetation Management & Inspections | N14: Contamination
C15: Notes will explain terms, signal where projections are required, and provide other useful information. | L15: Grid Operations & Operating Protocols | N15: Vandalism / Theft
B16: 8 | C16: For the initial quarterly submission, utilities are required to submit data on annual metrics for 2015 - 2020, which should represent the most updated data from the 2020 WMP for years 2015-2019 | L16: Data Governance | M16: 2. PSPS | N16: PSPS - for sectionalization, etc.
B17: * | C17: Do not add or manipulate the template for any of the tabs | L17: Resource Allocation Methodology
L18: Emergency Planning & Preparedness
B19: Update the below table to establish which year, quarter of the WMP cycle this submission this represents. | L19: Stakeholder Cooperation & Community Engagement
B20: Utility | D20: SDG&E
B21: First year of 3-year WMP cycle | D21: 2020
B22: Submission year | D22: 2022
B23: Submission quarter | D23: Q1
B24: Date Modified | D24: 44651

Sheet Table 1
B2: Utility | C2: =IF('Quarterly Submission Guide'!$D$20 = "", "",'Quarterly Submission Guide'!$D$20) -> SDG&E | D2: Notes:
B3: Table No. | C3: 1 | D3: Transmission lines refer to all lines at or above 65kV, and distribution lines refer to all lines below 65kV.
B4: Date Modified | C4: 44774
N5: Note: These columns are placeholders for future QR submissions.
B6: Table 1: Recent performance on progress metrics | J6: 1 | K6: 2 | L6: 3 | M6: 4 | N6: 1 | O6: 2 | P6: 3 | Q6: 4 | R6: 1 | S6: 2 | T6: 3 | U6: 4
B7: Metric type | C7: # | D7: Progress metric name | E7: 2015 | F7: 2016 | G7: 2017 | H7: 2018 | I7: 2019 | J7: 2020 | K7: 2020 | L7: 2020 | M7: 2020 | N7: 2021 | O7: 2021 | P7: 2021 | Q7: 2021 | R7: 2022 | S7: 2022 | T7: 2022 | U7: 2022 | V7: Unit(s) | W7: Comments
B8: 1. Grid condition findings from inspection - Distribution lines in HFTD | C8: 1.a. | D8: Number of circuit miles inspected from patrol inspections in HFTD - Distribution lines | E8: 3448.9 | F8: 3448.8517 | G8: 3448.8517 | H8: 3448.9 | I8: 3448.9 | J8: 1297.5 | K8: 1247.9 | L8: 800.8 | M8: 102.5 | N8: 1244.9818 | O8: 1272.1138 | P8: 920.10189 | Q8: 34.24 | R8: 1506.2 | S8: 992.97 | V8: # circuit miles
C9: 1.b. | D9: Number of circuit miles inspected from detailed inspections in HFTD - Distribution lines | E9: 1524.5636 | F9: 1425.6366 | G9: 1337.389 | H9: 1458.4152 | I9: 942.14129 | J9: 852.60795 | K9: 289.06913 | L9: 90.208712 | M9: 19.846212 | N9: 873.72064 | O9: 293.95019 | P9: 138.16023 | Q9: 61.202083 | R9: 812.02532 | S9: 234.23 | V9: # circuit miles | W9: 1. In earlier submissions, the HFTD Tier 3 inspections was placed in the "other" category; these inspections are now grouped in the "Detailed" inspections. 2. The gaps in the "other" category with regards to HFTD miles is primarily driven by the inspection cycle of the POIN inspections, going in/out of the HFTD during the 10 year cycle.
C10: 1.c. | D10: Number of circuit miles inspected from other inspections (list types of "other" inspections in comments) in HFTD - Distribution lines | E10: =SUM(E63:E65) -> 39.838447 | F10: =SUM(F63:F65) -> 78.463258 | G10: =SUM(G63:G65) -> 256.87973 | H10: =SUM(H63:H65) -> 712.40795 | I10: =SUM(I63:I65) -> 733.88739 | J10: =SUM(J63:J65) -> 832.67432 | K10: =SUM(K63:K65) -> 1056.8421 | L10: =SUM(L63:L65) -> 706.97652 | ... S10: =SUM(S63:S65) -> 355.57 | V10: # circuit miles | W10: Sum of all other distribution inspections in HFTD- intrusive poles, infrared and drone inspections.
C11: 1.d. | D11: Level 1 findings in HFTD for patrol inspections - Distribution lines | E11: 15 | F11: 3 | G11: 4 | H11: 8 | I11: 8 | J11: 1 | K11: 4 | L11: 1 | M11: 0 | N11: 1 | O11: 0 | P11: 0 | Q11: 0 | R11: 0 | S11: 1 | V11: # findings
C12: 1.e. | D12: Level 1 findings in HFTD for detailed inspections - Distribution lines | E12: 235 | F12: 192 | G12: 11 | H12: 67 | I12: 8 | J12: 9 | K12: 9 | L12: 2 | M12: 0 | N12: 3 | O12: 3 | P12: 1 | Q12: 0 | R12: 4 | S12: 3 | V12: # findings
C13: 1.f. | D13: Level 1 findings in HFTD for other inspections (list types of "other" inspections in comments) - Distribution lines | E13: =SUM(E66:E68) -> 0 | F13: =SUM(F66:F68) -> 3 | G13: =SUM(G66:G68) -> 25 | H13: =SUM(H66:H68) -> 5 | I13: =SUM(I66:I68) -> 36 | J13: =SUM(J66:J68) -> 63 | K13: =SUM(K66:K68) -> 32 | L13: =SUM(L66:L68) -> 11 | ... Q13: =SUM(Q66:Q68) -> 72 | R13: =R66+R67+R68 -> 42 | S13: =S66+S67+S68 -> 28 | V13: # findings | W13: Sum of all level 1 findings for intrusive poles, infrared and drone inspections in HFTD.
C14: 1.g. | D14: Level 2 findings in HFTD for patrol inspections - Distribution lines | E14: 175 | F14: 212 | G14: 234 | H14: 171 | I14: 240 | J14: 71 | K14: 66 | L14: 51 | M14: 16 | N14: 22 | O14: 152 | P14: 199 | Q14: 85 | R14: 46 | S14: 62 | V14: # findings
C15: 1.h. | D15: Level 2 findings in HFTD for detailed inspections - Distribution lines | E15: 1066 | F15: 952 | G15: 638 | H15: 737 | I15: 666 | J15: 919 | K15: 303 | L15: 81 | M15: 6 | N15: 284 | O15: 730 | P15: 394 | Q15: 392 | R15: 225 | S15: 234 | V15: # findings
C16: 1.i. | D16: Level 2 findings in HFTD for other inspections (list types of "other" inspections in comments) - Distribution lines | E16: =SUM(E69:E71) -> 35 | F16: =SUM(F69:F71) -> 52 | G16: =SUM(G69:G71) -> 327 | H16: =SUM(H69:H71) -> 261 | I16: =SUM(I69:I71) -> 1350 | J16: =SUM(J69:J71) -> 4356 | K16: =SUM(K69:K71) -> 2660 | L16: =SUM(L69:L71) -> 906 | ... Q16: =SUM(Q69:Q71) -> 6128 | R16: =R69+R70+R71 -> 2961 | S16: 1160 | V16: # findings | W16: Sum of all level 2 findings for intrusive poles, infrared and drone inspections in HFTD.
C17: 1.j. | D17: Level 3 findings in HFTD for patrol inspections - Distribution lines | E17: N/A | F17: N/A | G17: N/A | H17: N/A | I17: N/A | J17: N/A | K17: N/A | L17: N/A | M17: N/A | N17: N/A | O17: N/A | P17: N/A | Q17: N/A | R17: N/A | S17: N/A | V17: # findings | W17: All inspections are followed up based on level 2 requirement, level 3 does not apply to distribution inspection
C18: 1.k. | D18: Level 3 findings in HFTD for detailed inspections - Distribution lines | E18: N/A | F18: N/A | G18: N/A | H18: N/A | I18: N/A | J18: N/A | K18: N/A | L18: N/A | M18: N/A | N18: N/A | O18: N/A | P18: N/A | Q18: N/A | R18: N/A | S18: N/A | V18: # findings
C19: 1.l. | D19: Level 3 findings in HFTD for other inspections (list types of "other" inspections in comments) - Distribution lines | E19: N/A | F19: N/A | G19: N/A | H19: N/A | I19: N/A | J19: N/A | K19: N/A | L19: N/A | M19: N/A | N19: N/A | O19: N/A | P19: N/A | Q19: N/A | R19: N/A | S19: N/A | V19: # findings
B20: 1. Grid condition findings from inspection - Distribution lines total | C20: =C8&"ii." -> 1.a.ii. | D20: Number of total circuit miles inspected from patrol inspections - Distribution lines | E20: 6445.4343 | F20: 6445.4343 | G20: 6445.4343 | H20: 6445.4343 | I20: 6445.4343 | J20: 2241.9902 | K20: 2188.3667 | L20: 1564.435 | M20: 450.64242 | N20: 2186.4811 | O20: 2266.2818 | P20: 1809.4379 | Q20: 208.50227 | R20: 2367.5177 | S20: 1906.68 | V20: # circuit miles
C21: =C9&"ii." -> 1.b.ii. | D21: Number of total circuit miles inspected from detailed inspections - Distribution lines | E21: 2129.0962 | F21: 1877.5451 | G21: 1898.2786 | H21: 2159.7138 | I21: 1637.3354 | J21: 992.88314 | K21: 492.78087 | L21: 261.81572 | M21: 105.67424 | N21: 993.12803 | O21: 423.4875 | P21: 288.47045 | Q21: 110.25 | R21: 997.02986 | S21: 353.98 | V21: # circuit miles
C22: =C10&"ii." -> 1.c.ii. | D22: Number of total circuit miles inspected from other inspections (list types of "other" inspections in comments) - Distribution lines | E22: 440.78068 | F22: 550.22045 | G22: 578.2483 | H22: 820.5375 | I22: 849.31788 | J22: 934.39136 | K22: 1133.8589 | L22: 738.49564 | M22: 282.8492 | N22: 242.35152 | O22: 260.37727 | P22: 581.92095 | Q22: 1107.5 | R22: =R63+R64+R65+201.9+10.4 -> 863 | S22: 483.49 | V22: # circuit miles | W22: Sum of infrared and drone inspections in HFTD and intrusitive pole inspection in all territory.
C23: =C11&"ii." -> 1.d.ii. | D23: Level 1 findings for patrol inspections - Distribution lines | E23: 49 | F23: 19 | G23: 26 | H23: 24 | I23: 21 | J23: 9 | K23: 16 | L23: 2 | M23: 3 | N23: 5 | O23: 2 | P23: 3 | Q23: 1 | R23: 2 | S23: 6 | V23: # findings
C24: =C12&"ii." -> 1.e.ii. | D24: Level 1 findings for detailed inspections - Distribution lines | E24: 261 | F24: 218 | G24: 57 | H24: 101 | I24: 28 | J24: 22 | K24: 18 | L24: 9 | M24: 2 | N24: 11 | O24: 8 | P24: 5 | Q24: 1 | R24: 7 | S24: 5 | V24: # findings
C25: =C13&"ii." -> 1.f.ii. | D25: Level 1 findings for other inspections (list types of "other" inspections in comments) - Distribution lines | E25: 59 | F25: 39 | G25: 52 | H25: 6 | I25: 37 | J25: 67 | K25: 33 | L25: 11 | M25: 2 | N25: 0 | O25: 9 | P25: 19 | Q25: 72 | R25: =R66+R67+R68+3 -> 45 | S25: 28 | V25: # findings | W25: Sum of infrared and drone inspections in HFTD and intrusitive pole inspection in all territory.
C26: =C14&"ii." -> 1.g.ii. | D26: Level 2 findings for patrol inspections - Distribution lines | E26: 704 | F26: 1130 | G26: 1005 | H26: 969 | I26: 933 | J26: 387 | K26: 345 | L26: 213 | M26: 129 | N26: 102 | O26: 365 | P26: 526 | Q26: 336 | R26: 193 | S26: 199 | V26: # findings
C27: =C15&"ii." -> 1.h.ii. | D27: Level 2 findings for detailed inspections - Distribution lines | E27: 2553 | F27: 2314 | G27: 1966 | H27: 1746 | I27: 1760 | J27: 1271 | K27: 670 | L27: 349 | M27: 77 | N27: 528 | O27: 1320 | P27: 1286 | Q27: 1114 | R27: 527 | S27: 449 | V27: # findings
C28: =C16&"ii." -> 1.i.ii. | D28: Level 2 findings for other inspections (list types of "other" inspections in comments) - Distribution lines | E28: 1747 | F28: 1027 | G28: 1127 | H28: 380 | I28: 1433 | J28: 4394 | K28: 2694 | L28: 934 | M28: 267 | N28: 45 | O28: 84 | P28: 2129 | Q28: 6183 | R28: =R16+384 -> 3345 | S28: =S71+S70+S69+121 -> 1281 | V28: # findings | W28: Sum of infrared and drone inspections in HFTD and intrusitive pole inspection in all territory.
C29: =C17&"ii." -> 1.j.ii. | D29: Level 3 findings for patrol inspections - Distribution lines | E29: N/A | F29: N/A | G29: N/A | H29: N/A | I29: N/A | J29: N/A | K29: N/A | L29: N/A | M29: N/A | N29: N/A | O29: N/A | P29: N/A | Q29: N/A | R29: N/A | S29: N/A | V29: # findings | W29: =W17 -> All inspections are followed up based on level 2 requirement, level 3 does not apply to distribution inspection
C30: =C18&"ii." -> 1.k.ii. | D30: Level 3 findings for detailed inspections - Distribution lines | E30: N/A | F30: N/A | G30: N/A | H30: N/A | I30: N/A | J30: N/A | K30: N/A | L30: N/A | M30: N/A | N30: N/A | O30: N/A | P30: N/A | Q30: N/A | R30: N/A | S30: N/A | V30: # findings
C31: =C19&"ii." -> 1.l.ii. | D31: Level 3 findings for other inspections (list types of "other" inspections in comments) - Distribution lines | E31: N/A | F31: N/A | G31: N/A | H31: N/A | I31: N/A | J31: N/A | K31: N/A | L31: N/A | M31: N/A | N31: N/A | O31: N/A | P31: N/A | Q31: N/A | R31: N/A | S31: N/A | V31: # findings
B32: 1. Grid condition findings from inspection - Transmission lines in HFTD | C32: =C8&"iii." -> 1.a.iii. | D32: Number of circuit miles inspected from patrol inspections in HFTD - Transmission lines | E32: 940.9 | F32: 971.41 | G32: 972.03 | H32: 987.01 | I32: 999.95 | J32: 716.56 | K32: 183.59 | L32: 100.97 | M32: 0 | N32: 510.42 | O32: 370.29 | P32: 100.97 | Q32: 0 | R32: 291.82723 | S32: 583.68 | V32: # circuit miles | W32: SDG&E has implemeted centrolized data repository and automated solution for computing transmission asset-inspection metrics (patrol and details). Historical values are updated based on the automted output in Feb 2022. Due to the new requirement of HFTD breakdown, SDG&E continues to validate the output and improve the data process accordingly.
C33: =C9&"iii." -> 1.b.iii. | D33: Number of circuit miles inspected from detailed inspections in HFTD - Transmission lines | E33: 349.92 | F33: 278.61 | G33: 343.5 | H33: 328.86 | I33: 298.92 | J33: 46.81 | K33: 112.78 | L33: 79.53 | M33: 133.11 | N33: 90.47 | O33: 69.47 | P33: 133.85 | Q33: 30.45 | R33: 64.271116 | S33: 83.24 | V33: # circuit miles
C34: =C10&"iii." -> 1.c.iii. | D34: Number of circuit miles inspected from other inspections (list types of "other" inspections in comments) in HFTD - Transmission lines | E34: =E75 -> 981 | F34: =F75 -> 956 | G34: =G75 -> 955 | H34: =H75 -> 983.96 | I34: =I75 -> 985.68 | J34: =J75+J76 -> 16.68 | K34: =K75+K76 -> 0 | L34: =L75+L76 -> 478.31 | M34: =M75+M76 -> 649.11 | N34: =N75+N76 -> 26.24 | O34: =O75+O76 -> 3.95 | P34: =P75+P76 -> 898.43 | Q34: =Q75+Q76 -> 136.72 | ... S34: =S75+S76 -> 42.8 | V34: # circuit miles | W34: Sum of all other transmission inspections-infrared and drone inspections in HFTD. SDG&E drone inspection program only inspects the structures, not the conductors; in order to calcualate the circuit miles, GIS span length assciated with the structure is utilized.
C35: =C11&"iii." -> 1.d.iii. | D35: Level 1 findings in HFTD for patrol inspections - Transmission lines | E35: 0 | F35: 0 | G35: 0 | H35: 0 | I35: 0 | J35: 0 | K35: 0 | L35: 0 | M35: 0 | N35: 0 | O35: 0 | P35: 0 | Q35: 0 | R35: 0 | S35: 0 | V35: # findings
C36: =C12&"iii." -> 1.e.iii. | D36: Level 1 findings in HFTD for detailed inspections - Transmission lines | E36: 0 | F36: 0 | G36: 0 | H36: 2 | I36: 0 | J36: 0 | K36: 0 | L36: 0 | M36: 0 | N36: 0 | O36: 0 | P36: 0 | Q36: 0 | R36: 0 | S36: 0 | V36: # findings
C37: =C13&"iii." -> 1.f.iii. | D37: Level 1 findings in HFTD for other inspections (list types of "other" inspections in comments) - Transmission lines | E37: =E77 -> 0 | F37: =F77 -> 0 | G37: =G77 -> 0 | H37: =H77 -> 0 | I37: =I77 -> 0 | J37: =J77+J78 -> 0 | K37: =K77+K78 -> 0 | L37: =L77+L78 -> 0 | M37: =M77+M78 -> 1 | N37: =N77+N78 -> 0 | O37: =O77+O78 -> 0 | P37: =P77+P78 -> 0 | Q37: =Q77+Q78 -> 0 | ... S37: =S77+S78 -> 0 | V37: # findings | W37: Sum of all other transmission inspections-infrared and drone inspections in HFTD.
C38: =C14&"iii." -> 1.g.iii. | D38: Level 2 findings in HFTD for patrol inspections - Transmission lines | E38: 19 | F38: 18 | G38: 7 | H38: 10 | I38: 4 | J38: 0 | K38: 3 | L38: 0 | M38: 0 | N38: 1 | O38: 1 | P38: 0 | Q38: 0 | R38: 0 | S38: 6 | V38: # findings
C39: =C15&"iii." -> 1.h.iii. | D39: Level 2 findings in HFTD for detailed inspections - Transmission lines | E39: 323 | F39: 100 | G39: 161 | H39: 385 | I39: 365 | J39: 170 | K39: 126 | L39: 49 | M39: 44 | N39: 80 | O39: 62 | P39: 53 | Q39: 40 | R39: 131 | S39: 61 | V39: # findings
C40: =C16&"iii." -> 1.i.iii. | D40: Level 2 findings in HFTD for other inspections (list types of "other" inspections in comments) - Transmission lines | E40: =E79 -> 5 | F40: =F79 -> 1 | G40: =G79 -> 35 | H40: =H79 -> 0 | I40: =I79 -> 1 | J40: =J80+J79 -> 0 | K40: =K80+K79 -> 0 | L40: =L80+L79 -> 0 | M40: =M80+M79 -> 16 | N40: =N80+N79 -> 2 | O40: =O80+O79 -> 3 | P40: =P80+P79 -> 27 | Q40: =Q80+Q79 -> 18 | ... S40: =S80+S79 -> 0 | V40: # findings | W40: Sum of all other transmission inspections-infrared and drone inspections in HFTD.
C41: =C17&"iii." -> 1.j.iii. | D41: Level 3 findings in HFTD for patrol inspections - Transmission lines | E41: 0 | F41: 0 | G41: 0 | H41: 0 | I41: 0 | J41: 0 | K41: 0 | L41: 0 | M41: 0 | N41: 0 | O41: 0 | P41: 0 | Q41: 0 | R41: 0 | S41: 0 | V41: # findings
...

Sheet Table 2
B2: Utility | C2: =IF('Quarterly Submission Guide'!$D$20 = "", "",'Quarterly Submission Guide'!$D$20) -> SDG&E | D2: Notes:
B3: Table No. | C3: 2 | D3: Transmission lines refer to all lines at or above 65kV, and distribution lines refer to all lines below 65kV.
B4: Date Modified | C4: 44774 | D4: HWW = High wind warning
D5: RFW = Red flag warning
P6: Note: These columns are placeholders for future QR submissions.
B7: Table 2: Recent performance on outcome metrics | L7: 1 | M7: 2 | N7: 3 | O7: 4 | P7: 1 | Q7: 2 | R7: 3 | S7: 4 | T7: 1 | U7: 2 | V7: 3 | W7: 4
B8: Metric type | C8: # | D8: Outcome metric name | E8: Wind Warning Status | F8: HFTD Tier | G8: 2015 | H8: 2016 | I8: 2017 | J8: 2018 | K8: 2019 | L8: 2020 | M8: 2020 | N8: 2020 | O8: 2020 | P8: 2021 | Q8: 2021 | R8: 2021 | S8: 2021 | T8: 2022 | U8: 2022 | V8: 2022 | W8: 2022 | X8: Unit(s) | Y8: Comments
B9: 1. Risk Events | C9: 1.a. | D9: Number of all events with probability of ignition, including wires down, contacts with objects, line slap, events with evidence of heat generation, and other events that cause sparking or have the potential to cause ignition | E9: All | F9: 1 | X9: Number per year
D10: Number of all events with probability of ignition, including wires down, contacts with objects, line slap, events with evidence of heat generation, and other events that cause sparking or have the potential to cause ignition | E10: RFW | F10: 1
D11: Number of all events with probability of ignition, including wires down, contacts with objects, line slap, events with evidence of heat generation, and other events that cause sparking or have the potential to cause ignition | E11: HWW | F11: 1
D12: Number of all events with probability of ignition, including wires down, contacts with objects, line slap, events with evidence of heat generation, and other events that cause sparking or have the potential to cause ignition | E12: HWW & RFW | F12: 1
D13: Number of all events with probability of ignition, including wires down, contacts with objects, line slap, events with evidence of heat generation, and other events that cause sparking or have the potential to cause ignition | E13: HWW & not RFW | F13: 1
D14: Number of all events with probability of ignition, including wires down, contacts with objects, line slap, events with evidence of heat generation, and other events that cause sparking or have the potential to cause ignition | E14: All | F14: 2 | G14: =G54+G74 -> 231 | H14: =H54+H74 -> 262 | I14: =I54+I74 -> 258 | J14: =J54+J74 -> 209 | K14: =K54+K74 -> 257 | L14: =L54+L74 -> 61 | M14: =M54+M74 -> 64 | N14: =N54+N74 -> 68 | ... U14: =U54+U74 -> 40
D15: Number of all events with probability of ignition, including wires down, contacts with objects, line slap, events with evidence of heat generation, and other events that cause sparking or have the potential to cause ignition | E15: RFW | F15: 2 | G15: =G55+G75 -> 1 | H15: =H55+H75 -> 3 | I15: =I55+I75 -> 17 | J15: =J55+J75 -> 17 | K15: =K55+K75 -> 4 | L15: =L55+L75 -> 0 | M15: =M55+M75 -> 0 | N15: =N55+N75 -> 18 | ... U15: =U55+U75 -> 0
D16: Number of all events with probability of ignition, including wires down, contacts with objects, line slap, events with evidence of heat generation, and other events that cause sparking or have the potential to cause ignition | E16: HWW | F16: 2 | G16: =G56+G76 -> 17 | H16: =H56+H76 -> 10 | I16: =I56+I76 -> 42 | J16: =J56+J76 -> 11 | K16: =K56+K76 -> 4 | L16: =L56+L76 -> 2 | M16: =M56+M76 -> 0 | N16: =N56+N76 -> 0 | ... U16: =U56+U76 -> 0
D17: Number of all events with probability of ignition, including wires down, contacts with objects, line slap, events with evidence of heat generation, and other events that cause sparking or have the potential to cause ignition | E17: HWW & RFW | F17: 2 | G17: =G57+G77 -> 0 | H17: =H57+H77 -> 0 | I17: =I57+I77 -> 7 | J17: =J57+J77 -> 9 | K17: =K57+K77 -> 3 | L17: =L57+L77 -> 0 | M17: =M57+M77 -> 0 | N17: =N57+N77 -> 0 | ... U17: =U57+U77 -> 0
D18: Number of all events with probability of ignition, including wires down, contacts with objects, line slap, events with evidence of heat generation, and other events that cause sparking or have the potential to cause ignition | E18: HWW & not RFW | F18: 2 | G18: =G58+G78 -> 17 | H18: =H58+H78 -> 10 | I18: =I58+I78 -> 34 | J18: =J58+J78 -> 2 | K18: =K58+K78 -> 1 | L18: =L58+L78 -> 2 | M18: =M58+M78 -> 0 | N18: =N58+N78 -> 0 | ... U18: =U58+U78 -> 0
D19: Number of all events with probability of ignition, including wires down, contacts with objects, line slap, events with evidence of heat generation, and other events that cause sparking or have the potential to cause ignition | E19: All | F19: 3 | G19: =G59+G79 -> 188 | H19: =H59+H79 -> 209 | I19: =I59+I79 -> 203 | J19: =J59+J79 -> 204 | K19: =K59+K79 -> 257 | L19: =L59+L79 -> 32 | M19: =M59+M79 -> 51 | N19: =N59+N79 -> 68 | ... U19: =U59+U79 -> 27
D20: Number of all events with probability of ignition, including wires down, contacts with objects, line slap, events with evidence of heat generation, and other events that cause sparking or have the potential to cause ignition | E20: RFW | F20: 3 | G20: =G60+G80 -> 2 | H20: =H60+H80 -> 2 | I20: =I60+I80 -> 10 | J20: =J60+J80 -> 9 | K20: =K60+K80 -> 10 | L20: =L60+L80 -> 0 | M20: =M60+M80 -> 0 | N20: =N60+N80 -> 12 | ... U20: =U60+U80 -> 0
D21: Number of all events with probability of ignition, including wires down, contacts with objects, line slap, events with evidence of heat generation, and other events that cause sparking or have the potential to cause ignition | E21: HWW | F21: 3 | G21: =G61+G81 -> 7 | H21: =H61+H81 -> 0 | I21: =I61+I81 -> 37 | J21: =J61+J81 -> 7 | K21: =K61+K81 -> 5 | L21: =L61+L81 -> 5 | M21: =M61+M81 -> 0 | N21: =N61+N81 -> 0 | ... U21: =U61+U81 -> 0
D22: Number of all events with probability of ignition, including wires down, contacts with objects, line slap, events with evidence of heat generation, and other events that cause sparking or have the potential to cause ignition | E22: HWW & RFW | F22: 3 | G22: =G62+G82 -> 0 | H22: =H62+H82 -> 0 | I22: =I62+I82 -> 6 | J22: =J62+J82 -> 7 | K22: =K62+K82 -> 5 | L22: =L62+L82 -> 0 | M22: =M62+M82 -> 0 | N22: =N62+N82 -> 0 | ... U22: =U62+U82 -> 0
D23: Number of all events with probability of ignition, including wires down, contacts with objects, line slap, events with evidence of heat generation, and other events that cause sparking or have the potential to cause ignition | E23: HWW & not RFW | F23: 3 | G23: =G63+G83 -> 7 | H23: =H63+H83 -> 0 | I23: =I63+I83 -> 31 | J23: =J63+J83 -> 0 | K23: =K63+K83 -> 0 | L23: =L63+L83 -> 5 | M23: =M63+M83 -> 0 | N23: =N63+N83 -> 0 | ... U23: =U63+U83 -> 0
D24: Number of all events with probability of ignition, including wires down, contacts with objects, line slap, events with evidence of heat generation, and other events that cause sparking or have the potential to cause ignition | E24: All | F24: Non- HFTD | G24: =G64+G84 -> 596 | H24: =H64+H84 -> 775 | I24: =I64+I84 -> 664 | J24: =J64+J84 -> 617 | K24: =K64+K84 -> 603 | L24: =L64+L84 -> 136 | M24: =M64+M84 -> 142 | N24: =N64+N84 -> 202 | ... U24: =U64+U84 -> 134
D25: Number of all events with probability of ignition, including wires down, contacts with objects, line slap, events with evidence of heat generation, and other events that cause sparking or have the potential to cause ignition | E25: RFW | F25: Non- HFTD | G25: =G65+G85 -> 2 | H25: =H65+H85 -> 10 | I25: =I65+I85 -> 17 | J25: =J65+J85 -> 15 | K25: =K65+K85 -> 5 | L25: =L65+L85 -> 0 | M25: =M65+M85 -> 0 | N25: =N65+N85 -> 27 | ... U25: =U65+U85 -> 0
D26: Number of all events with probability of ignition, including wires down, contacts with objects, line slap, events with evidence of heat generation, and other events that cause sparking or have the potential to cause ignition | E26: HWW | F26: Non- HFTD | G26: =G66+G86 -> 9 | H26: =H66+H86 -> 109 | I26: =I66+I86 -> 128 | J26: =J66+J86 -> 8 | K26: =K66+K86 -> 4 | L26: =L66+L86 -> 3 | M26: =M66+M86 -> 0 | N26: =N66+N86 -> 0 | ... U26: =U66+U86 -> 0
D27: Number of all events with probability of ignition, including wires down, contacts with objects, line slap, events with evidence of heat generation, and other events that cause sparking or have the potential to cause ignition | E27: HWW & RFW | F27: Non- HFTD | G27: =G67+G87 -> 0 | H27: =H67+H87 -> 1 | I27: =I67+I87 -> 7 | J27: =J67+J87 -> 6 | K27: =K67+K87 -> 3 | L27: =L67+L87 -> 0 | M27: =M67+M87 -> 0 | N27: =N67+N87 -> 0 | ... U27: =U67+U87 -> 0
D28: Number of all events with probability of ignition, including wires down, contacts with objects, line slap, events with evidence of heat generation, and other events that cause sparking or have the potential to cause ignition | E28: HWW & not RFW | F28: Non- HFTD | G28: =G68+G88 -> 9 | H28: =H68+H88 -> 108 | I28: =I68+I88 -> 121 | J28: =J68+J88 -> 2 | K28: =K68+K88 -> 1 | L28: =L68+L88 -> 3 | M28: =M68+M88 -> 0 | N28: =N68+N88 -> 0 | ... U28: =U68+U88 -> 0
B29: 1. Risk Events | C29: 1.b. | D29: Number of wires down | E29: All | F29: 1 | X29: Number of wires down per year
D30: Number of wires down | E30: RFW | F30: 1
D31: Number of wires down | E31: HWW | F31: 1
D32: Number of wires down | E32: HWW & RFW | F32: 1
D33: Number of wires down | E33: HWW & not RFW | F33: 1
D34: Number of wires down | E34: All | F34: 2 | G34: 14 | H34: 30 | I34: 30 | J34: 21 | K34: 20 | L34: 10 | M34: 5 | N34: 5 | O34: 5 | P34: 10 | Q34: 4 | R34: 4 | S34: 10 | T34: 5 | U34: 2
D35: Number of wires down | E35: RFW | F35: 2 | G35: 0 | H35: 1 | I35: 0 | J35: 1 | K35: 0 | L35: 0 | M35: 0 | N35: 0 | O35: 2 | P35: 0 | Q35: 0 | R35: 0 | S35: 0 | T35: 0 | U35: 0
D36: Number of wires down | E36: HWW | F36: 2 | G36: 1 | H36: 1 | I36: 5 | J36: 0 | K36: 0 | L36: 0 | M36: 0 | N36: 0 | O36: 1 | P36: 1 | Q36: 0 | R36: 0 | S36: 0 | T36: 1 | U36: 0
D37: Number of wires down | E37: HWW & RFW | F37: 2 | G37: 0 | H37: 0 | I37: 0 | J37: 0 | K37: 0 | L37: 0 | M37: 0 | N37: 0 | O37: 1 | P37: 0 | Q37: 0 | R37: 0 | S37: 0 | T37: 0 | U37: 0
D38: Number of wires down | E38: HWW & not RFW | F38: 2 | G38: 0 | H38: 0 | I38: 0 | J38: 0 | K38: 0 | L38: 0 | M38: 0 | N38: 0 | O38: 0 | P38: 1 | Q38: 0 | R38: 0 | S38: 0 | T38: 1 | U38: 0
D39: Number of wires down | E39: All | F39: 3 | G39: 12 | H39: 19 | I39: 19 | J39: 10 | K39: 27 | L39: 3 | M39: 2 | N39: 6 | O39: 3 | P39: 4 | Q39: 5 | R39: 2 | S39: 8 | T39: 4 | U39: 2
D40: Number of wires down | E40: RFW | F40: 3 | G40: 0 | H40: 0 | I40: 0 | J40: 0 | K40: 1 | L40: 0 | M40: 0 | N40: 2 | O40: 0 | P40: 0 | Q40: 0 | R40: 0 | S40: 0 | T40: 0 | U40: 0
D41: Number of wires down | E41: HWW | F41: 3 | G41: 1 | H41: 0 | I41: 8 | J41: 0 | K41: 0 | L41: 1 | M41: 0 | N41: 0 | O41: 0 | P41: 0 | Q41: 0 | R41: 0 | S41: 0 | T41: 0 | U41: 0
...

Sheet Table 3
B2: Utility | D2: SDG&E
B3: Table No. | D3: 3
B4: Date Modified | D4: 44774
Q5: Note: These columns are placeholders for future QR submissions.
B6: Table 3: List and description of additional metrics | M6: 1 | N6: 2 | O6: 3 | P6: 4 | Q6: 1 | R6: 2 | S6: 3 | T6: 4 | U6: 1 | V6: 2 | W6: 3 | X6: 4
B7: Metric | C7: # | D7: Definition | E7: Purpose | F7: Assumptions made to connect metric to purpose | G7: Third-party validation (if any) | H7: 2015 | I7: 2016 | J7: 2017 | K7: 2018 | L7: 2019 | M7: 2020 | N7: 2020 | O7: 2020 | P7: 2020 | Q7: 2021 | R7: 2021 | S7: 2021 | T7: 2021 | U7: 2022 | V7: 2022 | W7: 2022 | X7: 2022 | Y7: Unit(s) | Z7: Comments
B8: 1. Elevated FPI and Red Flag Warning Days | C8: 1.a. | D8: Number of elevated or extreme FPI | F8: Elevated or extreme FPI is associated with greater wildfire risk | G8: No | H8: 108 | I8: 138 | J8: 169 | K8: 182 | L8: 137 | M8: 0 | N8: 13 | O8: 92 | P8: 59 | Q8: 7 | R8: 27 | S8: 91 | T8: 44 | U8: 1 | V8: 30 | Y8: Days
C9: 1.b. | D9: Number of RFW days | F9: RFW is associated with greater wildfire risk. | G9: No | H9: 4 | I9: 19 | J9: 22 | K9: 12 | L9: 10 | M9: 0 | N9: 0 | O9: 6 | P9: 13 | Q9: 5 | R9: 0 | S9: 0 | T9: 4 | U9: 0 | V9: 0 | Y9: Days | Z9: Time is not considered when calculating the number of RFW days.
B10: 2. Ignition Events | C10: 2.a. | D10: Vegetation caused ignitons in HFTD with elevated or higher FPI | G10: No | H10: 3 | I10: 1 | J10: 2 | K10: 0 | L10: 0 | M10: 0 | N10: 0 | O10: 1 | P10: 0 | Q10: 0 | R10: 0 | S10: 0 | T10: 0 | U10: 0 | V10: 0 | Y10: Incidents
C11: 2.b. | D11: Vegetation caused ignitons in HFTD with RFW | G11: No | H11: 0 | I11: 0 | J11: 1 | K11: 0 | L11: 0 | M11: 0 | N11: 0 | O11: 1 | P11: 0 | Q11: 0 | R11: 0 | S11: 0 | T11: 0 | U11: 0 | V11: 0 | Y11: Incidents
C12: 2.c. | D12: Equipment caused ignitions in HFTD with elevated or higher FPI | G12: No | H12: 2 | I12: 6 | J12: 4 | K12: 2 | L12: 4 | M12: 0 | N12: 0 | O12: 9 | P12: 3 | Q12: 0 | R12: 2 | S12: 2 | T12: 1 | U12: 0 | V12: 0 | Y12: Incidents
C13: 2.d. | D13: Equipment caused ignitions in HFTD with RFW | G13: No | H13: 0 | I13: 0 | J13: 2 | K13: 1 | L13: 2 | M13: 0 | N13: 0 | O13: 1 | P13: 1 | Q13: 0 | R13: 0 | S13: 0 | T13: 0 | U13: 0 | V13: 0 | Y13: Incidents
C14: 2.e. | D14: Balloons caused ignitions in HFTD with elevated or higher FPI | G14: No | H14: 1 | I14: 0 | J14: 3 | K14: 3 | L14: 0 | M14: 0 | N14: 0 | O14: 0 | P14: 0 | Q14: 0 | R14: 1 | S14: 0 | T14: 1 | U14: 0 | V14: 0 | Y14: Incidents
C15: 2.f. | D15: Balloons caused ignitions in HFTD with RFW | G15: No | H15: 0 | I15: 0 | J15: 0 | K15: 0 | L15: 0 | M15: 0 | N15: 0 | O15: 0 | P15: 0 | Q15: 0 | R15: 0 | S15: 0 | T15: 0 | U15: 0 | V15: 0 | Y15: Incidents
C16: 2.g. | D16: Vehicles caused ignitions in HFTD with elevated or higher FPI | G16: No | H16: 0 | I16: 0 | J16: 1 | K16: 2 | L16: 0 | M16: 0 | N16: 0 | O16: 2 | P16: 0 | Q16: 0 | R16: 0 | S16: 0 | T16: 0 | U16: 0 | V16: 0 | Y16: Incidents
C17: 2.h. | D17: Vehicles caused ignitions in HFTD with RFW | G17: No | H17: 0 | I17: 0 | J17: 0 | K17: 0 | L17: 0 | M17: 0 | N17: 0 | O17: 0 | P17: 0 | Q17: 0 | R17: 0 | S17: 0 | T17: 0 | U17: 0 | V17: 0 | Y17: Incidents
B18: 3. Distribution Outages | C18: 3.a. | D18: Vegetation caused outages in HFTD with Elevated FPI | G18: No | H18: 3 | I18: 5 | J18: 8 | K18: 5 | L18: 2 | M18: 0 | N18: 0 | O18: 1 | P18: 2 | Q18: 0 | R18: 1 | S18: 3 | T18: 0 | U18: 1 | V18: 1 | Y18: Outages
C19: 3.b. | D19: Vegetation caused outages in HFTD with RFW | G19: No | H19: 0 | I19: 0 | J19: 2 | K19: 4 | L19: 0 | M19: 0 | N19: 0 | O19: 1 | P19: 0 | Q19: 0 | R19: 0 | S19: 0 | T19: 0 | U19: 0 | V19: 0 | Y19: Outages
C20: 3.c. | D20: Overhead faults on circuits in HFTD with Elevated or higher FPI | G20: No | H20: 102 | I20: 87 | J20: 116 | K20: 107 | L20: 119 | M20: 0 | N20: 7 | O20: 94 | P20: 49 | Q20: 22 | R20: 15 | S20: 85 | T20: 32 | U20: 1 | V20: 9 | Y20: Outages | Z20: SDG&E has developed a more precise methodology for identifying the HFTD location of outages by utilizing the pole/asset location instead of the overall circuit location in 2021 Q4. 2022 Q2, the method for OH Fault is refined and output in 2015-2020 is updated.
C21: 3.d. | D21: Overhead faults on circuits in HFTD with RFW | G21: No | H21: 1 | I21: 2 | J21: 18 | K21: 21 | L21: 11 | M21: 0 | N21: 0 | O21: 24 | P21: 16 | Q21: 0 | R21: 0 | S21: 0 | T21: 5 | U21: 0 | V21: 0 | Y21: Outages
C22: 3.e. | D22: Energized wire down events in HFTD with Elevated or higher FPI | G22: No | H22: 5 | I22: 8 | J22: 12 | K22: 7 | L22: 9 | M22: 0 | N22: 0 | O22: 8 | P22: 3 | Q22: 0 | R22: 4 | S22: 4 | T22: 1 | U22: 1 | V22: 0 | Y22: Outages | Z22: Wire down query is refined and correction is made for historical years in 2022 Q1.
C23: 3.f. | D23: Energized wire down events in HFTD with RFW | G23: No | H23: 0 | I23: 0 | J23: 0 | K23: 1 | L23: 1 | M23: 0 | N23: 0 | O23: 2 | P23: 2 | Q23: 0 | R23: 0 | S23: 0 | T23: 0 | U23: 0 | V23: 0 | Y23: Outages
C24: 3.g. | D24: Number of non-CALFIRE rated fuse operations in HFTD with Elevated or higher FPI | G24: No | H24: 64 | I24: 61 | J24: 69 | K24: =80-13 -> 67 | L24: =64-12 -> 52 | M24: 0 | N24: =5-1 -> 4 | O24: =49-22 -> 27 | P24: =31-8 -> 23 | Q24: =9-5 -> 4 | R24: =7-4 -> 3 | S24: =65-51 -> 14 | T24: =21-15 -> 6 | U24: 0 | V24: 3 | Y24: Outages
C25: 3.h. | D25: Number of non-CALFIRE rated fuse operations in HFTD with RFW | G25: No | H25: 0 | I25: 3 | J25: 9 | K25: 10 | L25: 2 | M25: 0 | N25: 0 | O25: 1 | P25: 7 | Q25: 0 | R25: 0 | S25: 0 | T25: 0 | U25: 0 | V25: 0 | Y25: Outages

Sheet Table 4
B2: Utility | C2: =IF('Quarterly Submission Guide'!$D$20 = "", "",'Quarterly Submission Guide'!$D$20) -> SDG&E
B3: Table No. | C3: 4
B4: Date Modified | C4: 44774
N5: Note: These columns are placeholders for future QR submissions.
B6: Table 4: Fatalities due to utility wildfire mitigation initiatives | J6: 1 | K6: 2 | L6: 3 | M6: 4 | N6: 1 | O6: 2 | P6: 3 | Q6: 4 | R6: 1 | S6: 2 | T6: 3 | U6: 4
B7: Metric type | C7: # | D7: Outcome metric name | E7: 2015 | F7: 2016 | G7: 2017 | H7: 2018 | I7: 2019 | J7: 2020 | K7: 2020 | L7: 2020 | M7: 2020 | N7: 2021 | O7: 2021 | P7: 2021 | Q7: 2021 | R7: 2022 | S7: 2022 | T7: 2022 | U7: 2022 | V7: Unit(s) | W7: Comments
B8: 1. Fatalities - Full-time Employee | C8: 1.a. | D8: Fatalities due to utility inspection - Full-time employee | E8: 0 | F8: 0 | G8: 0 | H8: 0 | I8: 0 | J8: 0 | K8: 0 | L8: 0 | M8: 0 | N8: 0 | O8: 0 | P8: 0 | Q8: 0 | R8: 0 | S8: 0 | V8: # fatalities
C9: 1.b. | D9: Fatalities due to vegetation management - Full-time employee | E9: 0 | F9: 0 | G9: 0 | H9: 0 | I9: 0 | J9: 0 | K9: 0 | L9: 0 | M9: 0 | N9: 0 | O9: 0 | P9: 0 | Q9: 0 | R9: 0 | S9: 0 | V9: # fatalities
C10: 1.c. | D10: Fatalities due to utility fuel management - Full-time employee | E10: 0 | F10: 0 | G10: 0 | H10: 0 | I10: 0 | J10: 0 | K10: 0 | L10: 0 | M10: 0 | N10: 0 | O10: 0 | P10: 0 | Q10: 0 | R10: 0 | S10: 0 | V10: # fatalities
C11: 1.d. | D11: Fatalities due to grid hardening - Full-time employee | E11: 0 | F11: 0 | G11: 0 | H11: 0 | I11: 0 | J11: 0 | K11: 0 | L11: 0 | M11: 0 | N11: 0 | O11: 0 | P11: 0 | Q11: 0 | R11: 0 | S11: 0 | V11: # fatalities
C12: 1.e. | D12: Fatalities due to other - Full-time employee | E12: 0 | F12: 0 | G12: 0 | H12: 0 | I12: 0 | J12: 0 | K12: 0 | L12: 0 | M12: 0 | N12: 0 | O12: 0 | P12: 0 | Q12: 0 | R12: 0 | S12: 0 | V12: # fatalities
B13: 2. Fatalities - Contractor | C13: 2.a. | D13: Fatalities due to utility inspection - Contractor | E13: 0 | F13: 0 | G13: 0 | H13: 0 | I13: 0 | J13: 0 | K13: 0 | L13: 0 | M13: 0 | N13: 0 | O13: 0 | P13: 0 | Q13: 0 | R13: 0 | S13: 0 | V13: # fatalities
C14: 2.b. | D14: Fatalities due to vegetation management - Contractor | E14: 1 | F14: 0 | G14: 0 | H14: 0 | I14: 0 | J14: 0 | K14: 0 | L14: 0 | M14: 0 | N14: 0 | O14: 0 | P14: 0 | Q14: 0 | R14: 0 | S14: 0 | V14: # fatalities
C15: 2.c. | D15: Fatalities due to utility fuel management - Contractor | E15: 0 | F15: 0 | G15: 0 | H15: 0 | I15: 0 | J15: 0 | K15: 0 | L15: 0 | M15: 0 | N15: 0 | O15: 0 | P15: 0 | Q15: 0 | R15: 0 | S15: 0 | V15: # fatalities
C16: 2.d. | D16: Fatalities due to grid hardening - Contractor | E16: 0 | F16: 0 | G16: 0 | H16: 0 | I16: 0 | J16: 0 | K16: 0 | L16: 0 | M16: 0 | N16: 0 | O16: 0 | P16: 0 | Q16: 0 | R16: 0 | S16: 0 | V16: # fatalities
C17: 2.e. | D17: Fatalities due to other - Contractor | E17: 0 | F17: 0 | G17: 0 | H17: 0 | I17: 0 | J17: 0 | K17: 0 | L17: 0 | M17: 0 | N17: 0 | O17: 0 | P17: 0 | Q17: 0 | R17: 0 | S17: 0 | V17: # fatalities
B18: 3. Fatalities - Member of public | C18: 3.a. | D18: Fatalities due to utility inspection - Public | E18: 0 | F18: 0 | G18: 0 | H18: 0 | I18: 0 | J18: 0 | K18: 0 | L18: 0 | M18: 0 | N18: 0 | O18: 0 | P18: 0 | Q18: 0 | R18: 0 | S18: 0 | V18: # fatalities
C19: 3.b. | D19: Fatalities due to vegetation management - Public | E19: 0 | F19: 0 | G19: 0 | H19: 0 | I19: 0 | J19: 0 | K19: 0 | L19: 0 | M19: 0 | N19: 0 | O19: 0 | P19: 0 | Q19: 0 | R19: 0 | S19: 0 | V19: # fatalities
C20: 3.c. | D20: Fatalities due to utility fuel management - Public | E20: 0 | F20: 0 | G20: 0 | H20: 0 | I20: 0 | J20: 0 | K20: 0 | L20: 0 | M20: 0 | N20: 0 | O20: 0 | P20: 0 | Q20: 0 | R20: 0 | S20: 0 | V20: # fatalities
C21: 3.d. | D21: Fatalities due to grid hardening - Public | E21: 0 | F21: 0 | G21: 0 | H21: 0 | I21: 0 | J21: 0 | K21: 0 | L21: 0 | M21: 0 | N21: 0 | O21: 0 | P21: 0 | Q21: 0 | R21: 0 | S21: 0 | V21: # fatalities
C22: 3.e. | D22: Fatalities due to other - Public | E22: 0 | F22: 0 | G22: 0 | H22: 0 | I22: 0 | J22: 0 | K22: 0 | L22: 0 | M22: 0 | N22: 0 | O22: 0 | P22: 0 | Q22: 0 | R22: 0 | S22: 0 | V22: # fatalities

Sheet Table 5
B2: Utility | C2: =IF('Quarterly Submission Guide'!$D$20 = "", "",'Quarterly Submission Guide'!$D$20) -> SDG&E
B3: Table No. | C3: 5
B4: Date Modified | C4: 44774
N5: Note: These columns are placeholders for future QR submissions.
B6: Table 5: OSHA-reportable injuries due to utility wildfire mitigation initiatives | J6: 1 | K6: 2 | L6: 3 | M6: 4 | N6: 1 | O6: 2 | P6: 3 | Q6: 4 | R6: 1 | S6: 2 | T6: 3 | U6: 4
B7: Metric type | C7: # | D7: Outcome metric name | E7: 2015 | F7: 2016 | G7: 2017 | H7: 2018 | I7: 2019 | J7: 2020 | K7: 2020 | L7: 2020 | M7: 2020 | N7: 2021 | O7: 2021 | P7: 2021 | Q7: 2021 | R7: 2022 | S7: 2022 | T7: 2022 | U7: 2022 | V7: Unit(s) | W7: Comments
B8: 1. OSHA injuries - Full-time Employee | C8: 1.a. | D8: OSHA injuries due to utility inspection - Full-time employee | E8: 0 | F8: 0 | G8: 0 | H8: 0 | I8: 0 | J8: 0 | K8: 0 | L8: 0 | M8: 0 | N8: 0 | O8: 0 | P8: 0 | Q8: 0 | R8: 0 | S8: 0 | V8: # OSHA-reportable injuries
C9: 1.b. | D9: OSHA injuries due to vegetation management - Full-time employee | E9: 0 | F9: 0 | G9: 0 | H9: 0 | I9: 0 | J9: 0 | K9: 0 | L9: 0 | M9: 0 | N9: 0 | O9: 0 | P9: 0 | Q9: 0 | R9: 0 | S9: 0 | V9: # OSHA-reportable injuries
C10: 1.c. | D10: OSHA injuries due to utility fuel management - Full-time employee | E10: 0 | F10: 0 | G10: 0 | H10: 0 | I10: 0 | J10: 0 | K10: 0 | L10: 0 | M10: 0 | N10: 0 | O10: 0 | P10: 0 | Q10: 0 | R10: 0 | S10: 0 | V10: # OSHA-reportable injuries
C11: 1.d. | D11: OSHA injuries due to grid hardening - Full-time employee | E11: 0 | F11: 0 | G11: 0 | H11: 0 | I11: 0 | J11: 0 | K11: 0 | L11: 0 | M11: 0 | N11: 0 | O11: 0 | P11: 0 | Q11: 0 | R11: 1 | S11: 0 | V11: # OSHA-reportable injuries
C12: 1.e. | D12: OSHA injuries due to other - Full-time employee | E12: 0 | F12: 0 | G12: 0 | H12: 0 | I12: 0 | J12: 0 | K12: 0 | L12: 0 | M12: 0 | N12: 0 | O12: 0 | P12: 0 | Q12: 0 | R12: 0 | S12: 0 | V12: # OSHA-reportable injuries
B13: 2. OSHA injuries - Contractor | C13: 2.a. | D13: OSHA injuries due to utility inspection - Contractor | E13: 0 | F13: 0 | G13: 0 | H13: 0 | I13: 0 | J13: 0 | K13: 0 | L13: 0 | M13: 0 | N13: 0 | O13: 0 | P13: 0 | Q13: 0 | R13: 0 | S13: 0 | V13: # OSHA-reportable injuries
C14: 2.b. | D14: OSHA injuries due to vegetation management - Contractor | E14: 0 | F14: 1 | G14: 0 | H14: 0 | I14: 0 | J14: 0 | K14: 0 | L14: 0 | M14: 0 | N14: 0 | O14: 0 | P14: 0 | Q14: 0 | R14: 0 | S14: 0 | V14: # OSHA-reportable injuries
C15: 2.c. | D15: OSHA injuries due to utility fuel management - Contractor | E15: 0 | F15: 0 | G15: 0 | H15: 0 | I15: 0 | J15: 0 | K15: 0 | L15: 0 | M15: 0 | N15: 0 | O15: 0 | P15: 0 | Q15: 0 | R15: 0 | S15: 0 | V15: # OSHA-reportable injuries
C16: 2.d. | D16: OSHA injuries due to grid hardening - Contractor | E16: 0 | F16: 0 | G16: 0 | H16: 0 | I16: 0 | J16: 0 | K16: 0 | L16: 0 | M16: 0 | N16: 0 | O16: 0 | P16: 0 | Q16: 0 | R16: 0 | S16: 0 | V16: # OSHA-reportable injuries
C17: 2.e. | D17: OSHA injuries due to other - Contractor | E17: 0 | F17: 0 | G17: 0 | H17: 0 | I17: 0 | J17: 0 | K17: 0 | L17: 0 | M17: 0 | N17: 0 | O17: 0 | P17: 0 | Q17: 0 | R17: 0 | S17: 0 | V17: # OSHA-reportable injuries
B18: 3. OSHA injuries - Member of public | C18: 3.a. | D18: OSHA injuries due to utility inspection - Public | E18: 0 | F18: 0 | G18: 0 | H18: 0 | I18: 0 | J18: 0 | K18: 0 | L18: 0 | M18: 0 | N18: 0 | O18: 0 | P18: 0 | Q18: 0 | R18: 0 | S18: 0 | V18: # OSHA-reportable injuries
C19: 3.b. | D19: OSHA injuries due to vegetation management - Public | E19: 0 | F19: 0 | G19: 0 | H19: 0 | I19: 0 | J19: 0 | K19: 0 | L19: 0 | M19: 0 | N19: 0 | O19: 0 | P19: 0 | Q19: 0 | R19: 0 | S19: 0 | V19: # OSHA-reportable injuries
C20: 3.c. | D20: OSHA injuries due to utility fuel management - Public | E20: 0 | F20: 0 | G20: 0 | H20: 0 | I20: 0 | J20: 0 | K20: 0 | L20: 0 | M20: 0 | N20: 0 | O20: 0 | P20: 0 | Q20: 0 | R20: 0 | S20: 0 | V20: # OSHA-reportable injuries
C21: 3.d. | D21: OSHA injuries due to grid hardening - Public | E21: 0 | F21: 0 | G21: 0 | H21: 0 | I21: 0 | J21: 0 | K21: 0 | L21: 0 | M21: 0 | N21: 0 | O21: 0 | P21: 0 | Q21: 0 | R21: 0 | S21: 0 | V21: # OSHA-reportable injuries
C22: 3.e. | D22: OSHA injuries due to other - Public | E22: 0 | F22: 0 | G22: 0 | H22: 0 | I22: 0 | J22: 0 | K22: 0 | L22: 0 | M22: 0 | N22: 0 | O22: 0 | P22: 0 | Q22: 0 | R22: 0 | S22: 0 | V22: # OSHA-reportable injuries

Sheet Table 6
B2: Utility | C2: =IF('Quarterly Submission Guide'!$D$20 = "", "",'Quarterly Submission Guide'!$D$20) -> SDG&E
B3: Table No. | C3: 6
B4: Date Modified | C4: 44774
N5: Note: These columns are placeholders for future QR submissions.
B6: Table 6: Weather patterns | J6: 1 | K6: 2 | L6: 3 | M6: 4 | N6: 1 | O6: 2 | P6: 3 | Q6: 4 | R6: 1 | S6: 2 | T6: 3 | U6: 4
B7: Metric type | C7: # | D7: Outcome metric name | E7: 2015 | F7: 2016 | G7: 2017 | H7: 2018 | I7: 2019 | J7: 2020 | K7: 2020 | L7: 2020 | M7: 2020 | N7: 2021 | O7: 2021 | P7: 2021 | Q7: 2021 | R7: 2022 | S7: 2022 | T7: 2022 | U7: 2022 | V7: Unit(s) | W7: Comments
B8: 1. Red Flag Warning Overhead circuit mile Days | C8: 1.a. | D8: Red Flag Warning Overhead circuit mile days - entire utility territory | E8: 16938.551 | F8: 53147.861 | G8: 190407.17 | H8: 125739.06 | I8: 53502.252 | J8: 0 | K8: 0 | L8: 34879.055 | M8: 62127.922 | N8: 3185.6182 | O8: 0 | P8: 0 | Q8: 19756.136 | R8: 0 | S8: 0 | V8: Sum of overhead circuit miles of utility grid subject to Red Flag Warning each day within a given time period, calculated as the number of overhead circuit miles that were under an RFW multiplied by the number of days those circuit miles were under said RFW. For example, if 100 overhead circuit miles were under an RFW for 1 day, and 10 of those miles were under RFW for an additional day, then the total RFW OH circuit mile days would be 110.
C9: 1.b. | D9: Red Flag Warning Overhead circuit mile days - HFTD Zone 1 | E9: NA | F9: NA | G9: NA | H9: NA | I9: NA | J9: NA | K9: NA | L9: NA | M9: NA | N9: NA | O9: NA | P9: NA | Q9: NA | R9: 0 | S9: 0 | V9: Red Flag Warning Overhead circuit mile days, see above for definition
C10: 1.c. | D10: Red Flag Warning Overhead circuit mile days - HFTD Tier 2 | E10: 6485.1058 | F10: 20011.163 | G10: 55256.332 | H10: 38664.976 | I10: 20055.183 | J10: 0 | K10: 0 | L10: 12875.28 | M10: 23534.831 | N10: 1455.4705 | O10: 0 | P10: 0 | Q10: 7406.522 | R10: 0 | S10: 0 | V10: Red Flag Warning Overhead circuit mile days, see above for definition
C11: 1.d. | D11: Red Flag Warning Overhead circuit mile days - HFTD Tier 3 | E11: 3730.7747 | F11: 14904.535 | G11: 30735.984 | H11: 22286.47 | I11: 12370.464 | J11: 0 | K11: 0 | L11: 9106.0357 | M11: 14432.208 | N11: 0 | O11: 0 | P11: 0 | Q11: 4432.5405 | R11: 0 | S11: 0 | V11: Red Flag Warning Overhead circuit mile days, see above for definition | W11: circuit/tieline spans that cross tier 2 and tier 3 are grouped in tier 3
C12: 1.e. | D12: Red Flag Warning Overhead circuit mile days - Non-HFTD | E12: 6722.6708 | F12: 18232.163 | G12: 104414.85 | H12: 64787.609 | I12: 21076.606 | J12: 0 | K12: 0 | L12: 12897.74 | M12: 24160.883 | N12: 1730.1477 | O12: 0 | P12: 0 | Q12: 7917.0734 | R12: 0 | S12: 0 | V12: Red Flag Warning Overhead circuit mile days, see above for definition
B13: 2. Wind conditions | C13: 2.a. | D13: High wind warning overhead circuit mile days | E13: 51231.922 | F13: 13751.869 | G13: 107921.7 | H13: 53297.725 | I13: 26851.752 | J13: 8646.8868 | K13: 0 | L13: 0 | M13: 17019.784 | N13: 38371.807 | O13: 0 | P13: 0 | Q13: 6137.6083 | R13: 15074.712 | S13: 1542.0265 | V13: Sum of overhead circuit miles of utility grid subject to High Wind Warnings (HWW, as defined by the National Weather Service) each day within a given time period, calculated as the number of overhead circuit miles that were under an HWW multiplied by the number of days those miles were under said HWW. For example, if 100 overhead circuit miles were under an HWW for 1 day, and 10 of those miles were under HWW for an additional day, then the total HWW OH circuit mile days would be 110.
B14: 3. Other | C14: 3.a. | D14: Other relevant weather pattern metrics tracked (add additional rows as needed)

Sheet Table 7.1
B2: Utility | C2: =IF('Quarterly Submission Guide'!$D$20 = "", "",'Quarterly Submission Guide'!$D$20) -> SDG&E | D2: Notes:
B3: Table No. | C3: 7.1 | D3: Transmission lines refer to all lines at or above 65kV, and distribution lines refer to all lines below 65kV.
B4: Date Modified | C4: 2022 08 01 | D4: Data from 2015 - 2021 Q4 should be actual numbers. 2022 Q1 - 2024 should be projected. In future submissions update projected numbers with actuals
G5: Number of risk events | V5: Projected risk events
B6: Table 7.1: Key recent and projected drivers of risk events | L6: 1 | M6: 2 | N6: 3 | O6: 4 | P6: 1 | Q6: 2 | R6: 3 | S6: 4 | T6: 1 | U6: 2 | V6: 3 | W6: 4 | X6: 1 | Y6: 2 | Z6: 3 | AA6: 4
B7: Risk Event category | C7: Cause category | D7: # | E7: Sub-cause category | F7: Are risk events tracked for ignition driver? (yes / no) | G7: 2015 | H7: 2016 | I7: 2017 | J7: 2018 | K7: 2019 | L7: 2020 | M7: 2020 | N7: 2020 | O7: 2020 | P7: 2021 | Q7: 2021 | R7: 2021 | S7: 2021 | T7: 2022 | U7: 2022 | V7: 2022 | W7: 2022 | X7: 2023 | Y7: 2023 | Z7: 2023 | AA7: 2023 | AB7: Unit(s) | AC7: Comments
A8: x | B8: Wire down event - Distribution | C8: 1. Contact from object - Distribution | D8: 1.a. | E8: Veg. contact- Distribution | F8: Yes | G8: 10 | H8: 22 | I8: 31 | J8: 13 | K8: 12 | L8: 3 | M8: 4 | N8: 2 | O8: 4 | P8: 4 | Q8: 2 | R8: 3 | S8: 3 | T8: 3 | U8: 1 | V8: 3.886 | W8: 3.886 | X8: 3.262 | Y8: 3.262 | Z8: 3.262 | AA8: 3.262 | AB8: # risk events | AC8: Correction 2022Q1: 2018: 13-->12;2019:12-->11
D9: 1.b. | E9: Animal contact- Distribution | F9: Yes | G9: 0 | H9: 8 | I9: 2 | J9: 2 | K9: 0 | L9: 1 | M9: 1 | N9: 1 | O9: 0 | P9: 0 | Q9: 2 | R9: 0 | S9: 2 | T9: 2 | U9: 0 | V9: 0.542 | W9: 0.542 | X9: 0.472 | Y9: 0.472 | Z9: 0.472 | AA9: 0.472 | AB9: # risk events
D10: 1.c. | E10: Balloon contact- Distribution | F10: Yes | G10: 1 | H10: 5 | I10: 8 | J10: 3 | K10: 5 | L10: 1 | M10: 2 | N10: 1 | O10: 1 | P10: 0 | Q10: 3 | R10: 0 | S10: 1 | T10: 0 | U10: 1 | V10: 1.183 | W10: 1.183 | X10: 1.031 | Y10: 1.031 | Z10: 1.031 | AA10: 1.031 | AB10: # risk events
D11: 1.d. | E11: Vehicle contact- Distribution | F11: Yes | G11: 6 | H11: 13 | I11: 17 | J11: 23 | K11: 28 | L11: 11 | M11: 6 | N11: 7 | O11: 9 | P11: 6 | Q11: 5 | R11: 3 | S11: 9 | T11: 10 | U11: 4 | V11: 6.099 | W11: 6.099 | X11: 5.302 | Y11: 5.302 | Z11: 5.302 | AA11: 5.302 | AB11: # risk events
D12: 1.e. | E12: Other contact from object - Distribution | F12: Yes | G12: 8 | H12: 15 | I12: 18 | J12: 6 | K12: 13 | L12: 2 | M12: 0 | N12: 1 | O12: 0 | P12: 0 | Q12: 1 | R12: 0 | S12: 2 | T12: 1 | U12: 0 | V12: 2.072 | W12: 2.072 | X12: 1.813 | Y12: 1.813 | Z12: 1.813 | AA12: 1.813 | AB12: # risk events
C13: 2. Equipment / facility failure - Distribution | D13: 2.a. | E13: Connector damage or failure- Distribution | F13: Yes | G13: 7 | H13: 2 | I13: 0 | J13: 7 | K13: 6 | L13: 4 | M13: 2 | N13: 2 | O13: 3 | P13: 6 | Q13: 4 | R13: 3 | S13: 2 | T13: 0 | U13: 1 | V13: 1.473 | W13: 1.473 | X13: 1.103 | Y13: 1.103 | Z13: 1.103 | AA13: 1.103 | AB13: # risk events
D14: 2.b. | E14: Splice damage or failure — Distribution | F14: No | G14: 0 | H14: 0 | I14: 0 | J14: 0 | K14: 0 | L14: 0 | M14: 0 | N14: 0 | O14: 0 | P14: 0 | Q14: 0 | R14: 0 | S14: 0 | T14: 0 | U14: 0 | V14: 0 | W14: 0 | X14: 0 | Y14: 0 | Z14: 0 | AA14: 0 | AB14: # risk events
D15: 2.c. | E15: Crossarm damage or failure - Distribution | F15: Yes | G15: 0 | H15: 1 | I15: 0 | J15: 1 | K15: 3 | L15: 0 | M15: 0 | N15: 1 | O15: 0 | P15: 0 | Q15: 1 | R15: 1 | S15: 0 | T15: 2 | U15: 2 | V15: 0.227 | W15: 0.227 | X15: 0.168 | Y15: 0.168 | Z15: 0.168 | AA15: 0.168 | AB15: # risk events
D16: 2.d. | E16: Insulator damage or failure- Distribution | F16: Yes | G16: 0 | H16: 1 | I16: 0 | J16: 0 | K16: 0 | L16: 1 | M16: 0 | N16: 0 | O16: 0 | P16: 0 | Q16: 0 | R16: 0 | S16: 0 | T16: 0 | U16: 0 | V16: 0.038 | W16: 0.038 | X16: 0.029 | Y16: 0.029 | Z16: 0.029 | AA16: 0.029 | AB16: # risk events
D17: 2.e. | E17: Lightning arrestor damage or failure- Distribution | F17: Yes | G17: 0 | H17: 1 | I17: 0 | J17: 0 | K17: 1 | L17: 0 | M17: 0 | N17: 0 | O17: 0 | P17: 0 | Q17: 0 | R17: 0 | S17: 0 | T17: 0 | U17: 0 | V17: 0.038 | W17: 0.038 | X17: 0.028 | Y17: 0.028 | Z17: 0.028 | AA17: 0.028 | AB17: # risk events
D18: 2.f. | E18: Tap damage or failure - Distribution | F18: No | G18: 0 | H18: 0 | I18: 0 | J18: 0 | K18: 0 | L18: 0 | M18: 0 | N18: 0 | O18: 0 | P18: 0 | Q18: 0 | R18: 0 | S18: 0 | T18: 0 | U18: 0 | V18: 0 | W18: 0 | X18: 0 | Y18: 0 | Z18: 0 | AA18: 0 | AB18: # risk events
D19: 2.g. | E19: Tie wire damage or failure - Distribution | F19: No | G19: 0 | H19: 0 | I19: 0 | J19: 0 | K19: 0 | L19: 0 | M19: 0 | N19: 0 | O19: 0 | P19: 0 | Q19: 0 | R19: 0 | S19: 0 | T19: 0 | U19: 0 | V19: 0 | W19: 0 | X19: 0 | Y19: 0 | Z19: 0 | AA19: 0 | AB19: # risk events
D20: 2.h. | E20: Other - Distribution | F20: Yes | G20: 27 | H20: 71 | I20: 60 | J20: 37 | K20: 42 | L20: 4 | M20: 4 | N20: 3 | O20: 7 | P20: 8 | Q20: 4 | R20: 4 | S20: 22 | T20: 10 | U20: 4 | V20: 7.829 | W20: 7.829 | X20: 6.253 | Y20: 6.253 | Z20: 6.253 | AA20: 6.253 | AB20: # risk events
C21: 3. Wire-to-wire contact - Distribution | D21: 3.a. | E21: Wire-to-wire contact / contamination- Distribution | F21: Yes | G21: 0 | H21: 0 | I21: 0 | J21: 0 | K21: 0 | L21: 0 | M21: 0 | N21: 0 | O21: 0 | P21: 0 | Q21: 0 | R21: 0 | S21: 0 | T21: 0 | U21: 0 | V21: 0.049 | W21: 0.049 | X21: 0.043 | Y21: 0.043 | Z21: 0.043 | AA21: 0.043 | AB21: # risk events
C22: 4. Contamination - Distribution | D22: 4.a. | E22: Contamination - Distribution | F22: Yes | G22: 0 | H22: 0 | I22: 0 | J22: 0 | K22: 1 | L22: 0 | M22: 0 | N22: 0 | O22: 0 | P22: 0 | Q22: 0 | R22: 0 | S22: 0 | T22: 0 | U22: 0 | V22: 0.396 | W22: 0.396 | X22: 0.36 | Y22: 0.36 | Z22: 0.36 | AA22: 0.36 | AB22: # risk events
C23: 5. Utility work / Operation | D23: 5.a. | E23: Utility work / Operation | F23: Yes | G23: 1 | H23: 1 | I23: 1 | J23: 2 | K23: 2 | L23: 1 | M23: 0 | N23: 1 | O23: 2 | P23: 0 | Q23: 1 | R23: 1 | S23: 1 | T23: 0 | U23: 0 | V23: 0.25 | W23: 0.25 | X23: 0.25 | Y23: 0.25 | Z23: 0.25 | AA23: 0.25 | AB23: # risk events
C24: 6. Vandalism / Theft - Distribution | D24: 6.a. | E24: Vandalism / Theft - Distribution | F24: Yes | G24: 0 | H24: 2 | I24: 0 | J24: 2 | K24: 1 | L24: 0 | M24: 0 | N24: 0 | O24: 0 | P24: 2 | Q24: 0 | R24: 1 | S24: 1 | T24: 0 | U24: 0 | V24: 0.396 | W24: 0.396 | X24: 0.383 | Y24: 0.383 | Z24: 0.383 | AA24: 0.383 | AB24: # risk events
C25: 7. Other- Distribution | D25: 7.a. | E25: All Other- Distribution | F25: No | G25: 1 | H25: 0 | I25: 0 | J25: 1 | K25: 1 | L25: 0 | M25: 0 | N25: 2 | O25: 0 | P25: 0 | Q25: 0 | R25: 0 | S25: 0 | T25: 0 | U25: 0 | V25: 0 | W25: 0 | X25: 0 | Y25: 0 | Z25: 0 | AA25: 0 | AB25: # risk events
C26: 8. Unknown- Distribution | D26: 8.a. | E26: Unknown - Distribution | F26: Yes | G26: 0 | H26: 1 | I26: 0 | J26: 0 | K26: 0 | L26: 0 | M26: 0 | N26: 0 | O26: 0 | P26: 0 | Q26: 0 | R26: 0 | S26: 0 | T26: 0 | U26: 3 | V26: 0 | W26: 0 | X26: 0 | Y26: 0 | Z26: 0 | AA26: 0 | AB26: # risk events
A27: x | B27: Wire down event - Transmission | C27: 9. Contact from object - Transmission | D27: 9.a. | E27: Veg. contact- Transmission | F27: Yes | G27: 0 | H27: 0 | I27: 0 | J27: 0 | K27: 0 | L27: 0 | M27: 0 | N27: 0 | O27: 0 | P27: 0 | Q27: 0 | R27: 0 | S27: 0 | T27: 0 | U27: 0 | V27: 0 | W27: 0 | X27: 0 | Y27: 0 | Z27: 0 | AA27: 0 | AB27: # risk events
D28: 9.b. | E28: Animal contact- Transmission | F28: Yes | G28: 0 | H28: 0 | I28: 0 | J28: 0 | K28: 0 | L28: 0 | M28: 0 | N28: 0 | O28: 0 | P28: 0 | Q28: 0 | R28: 0 | S28: 0 | T28: 0 | U28: 0 | V28: 0 | W28: 0 | X28: 0 | Y28: 0 | Z28: 0 | AA28: 0 | AB28: # risk events
D29: 9.c. | E29: Balloon contact- Transmission | F29: Yes | G29: 0 | H29: 0 | I29: 0 | J29: 0 | K29: 0 | L29: 0 | M29: 0 | N29: 0 | O29: 0 | P29: 0 | Q29: 0 | R29: 0 | S29: 0 | T29: 0 | U29: 0 | V29: 0 | W29: 0 | X29: 0 | Y29: 0 | Z29: 0 | AA29: 0 | AB29: # risk events
D30: 9.d. | E30: Vehicle contact- Transmission | F30: Yes | G30: 0 | H30: 0 | I30: 0 | J30: 0 | K30: 0 | L30: 0 | M30: 0 | N30: 0 | O30: 0 | P30: 0 | Q30: 0 | R30: 0 | S30: 0 | T30: 0 | U30: 0 | V30: 0 | W30: 0 | X30: 0 | Y30: 0 | Z30: 0 | AA30: 0 | AB30: # risk events
D31: 9.e. | E31: Other contact from object - Transmission | F31: Yes | G31: 0 | H31: 0 | I31: 0 | J31: 0 | K31: 0 | L31: 0 | M31: 0 | N31: 0 | O31: 0 | P31: 0 | Q31: 0 | R31: 0 | S31: 0 | T31: 0 | U31: 0 | V31: 0 | W31: 0 | X31: 0 | Y31: 0 | Z31: 0 | AA31: 0 | AB31: # risk events
C32: 10. Equipment / facility failure - Transmission | D32: 10.a. | E32: Connector damage or failure- Transmission | F32: Yes | G32: 0 | H32: 0 | I32: 0 | J32: 0 | K32: 0 | L32: 0 | M32: 0 | N32: 0 | O32: 0 | P32: 0 | Q32: 0 | R32: 0 | S32: 0 | T32: 0 | U32: 0 | V32: 0 | W32: 0 | X32: 0 | Y32: 0 | Z32: 0 | AA32: 0 | AB32: # risk events
D33: 10.b. | E33: Splice damage or failure — Transmission | F33: No | G33: 0 | H33: 1 | I33: 0 | J33: 0 | K33: 0 | L33: 0 | M33: 0 | N33: 0 | O33: 0 | P33: 0 | Q33: 0 | R33: 0 | S33: 0 | T33: 0 | U33: 0 | V33: 0 | W33: 0 | X33: 0 | Y33: 0 | Z33: 0 | AA33: 0 | AB33: # risk events
D34: 10.c. | E34: Crossarm damage or failure - Transmission | F34: Yes | G34: 0 | H34: 0 | I34: 0 | J34: 0 | K34: 0 | L34: 0 | M34: 0 | N34: 0 | O34: 0 | P34: 0 | Q34: 0 | R34: 0 | S34: 0 | T34: 0 | U34: 0 | V34: 0 | W34: 0 | X34: 0 | Y34: 0 | Z34: 0 | AA34: 0 | AB34: # risk events
D35: 10.d. | E35: Insulator damage or failure- Transmission | F35: Yes | G35: 0 | H35: 0 | I35: 0 | J35: 0 | K35: 0 | L35: 0 | M35: 0 | N35: 0 | O35: 0 | P35: 0 | Q35: 0 | R35: 0 | S35: 0 | T35: 0 | U35: 0 | V35: 0 | W35: 0 | X35: 0 | Y35: 0 | Z35: 0 | AA35: 0 | AB35: # risk events
D36: 10.e. | E36: Lightning arrestor damage or failure- Transmission | F36: No | G36: 0 | H36: 0 | I36: 0 | J36: 0 | K36: 0 | L36: 0 | M36: 0 | N36: 0 | O36: 0 | P36: 0 | Q36: 0 | R36: 0 | S36: 0 | T36: 0 | U36: 0 | V36: 0 | W36: 0 | X36: 0 | Y36: 0 | Z36: 0 | AA36: 0 | AB36: # risk events
D37: 10.f. | E37: Tap damage or failure - Transmission | F37: No | G37: 0 | H37: 0 | I37: 0 | J37: 0 | K37: 0 | L37: 0 | M37: 0 | N37: 0 | O37: 0 | P37: 0 | Q37: 0 | R37: 0 | S37: 0 | T37: 0 | U37: 0 | V37: 0 | W37: 0 | X37: 0 | Y37: 0 | Z37: 0 | AA37: 0 | AB37: # risk events
D38: 10.g. | E38: Tie wire damage or failure - Transmission | F38: No | G38: 0 | H38: 0 | I38: 0 | J38: 0 | K38: 0 | L38: 0 | M38: 0 | N38: 0 | O38: 0 | P38: 0 | Q38: 0 | R38: 0 | S38: 0 | T38: 0 | U38: 0 | V38: 0 | W38: 0 | X38: 0 | Y38: 0 | Z38: 0 | AA38: 0 | AB38: # risk events
D39: 10.h. | E39: Other - Transmission | F39: Yes | G39: 0 | H39: 0 | I39: 1 | J39: 0 | K39: 0 | L39: 1 | M39: 0 | N39: 0 | O39: 0 | P39: 0 | Q39: 0 | R39: 0 | S39: 0 | T39: 0 | U39: 0 | V39: 0.096 | W39: 0.096 | X39: 0.296 | Y39: 0.296 | Z39: 0.296 | AA39: 0.296 | AB39: # risk events
C40: 11. Wire-to-wire contact - Transmission | D40: 11.a. | E40: Wire-to-wire contact / contamination- Transmission | F40: Yes | G40: 0 | H40: 0 | I40: 0 | J40: 0 | K40: 0 | L40: 0 | M40: 0 | N40: 0 | O40: 0 | P40: 0 | Q40: 0 | R40: 0 | S40: 0 | T40: 0 | U40: 0 | V40: 0 | W40: 0 | X40: 0 | Y40: 0 | Z40: 0 | AA40: 0 | AB40: # risk events
C41: 12. Contamination - Transmission | D41: 12.a. | E41: Contamination - Transmission | F41: Yes | G41: 0 | H41: 0 | I41: 0 | J41: 0 | K41: 0 | L41: 0 | M41: 0 | N41: 0 | O41: 0 | P41: 0 | Q41: 0 | R41: 0 | S41: 0 | T41: 0 | U41: 0 | V41: 0 | W41: 0 | X41: 0 | Y41: 0 | Z41: 0 | AA41: 0 | AB41: # risk events
...

Sheet Table 7.2
B2: Utility | C2: =IF('Quarterly Submission Guide'!$D$20 = "", "",'Quarterly Submission Guide'!$D$20) -> SDG&E | D2: Notes:
B3: Table No. | C3: 7.2 | D3: Transmission lines refer to all lines at or above 65kV, and distribution lines refer to all lines below 65kV.
B4: Date Modified | C4: 2022 02 09 | D4: Data from 2015 - 2021 should be actual numbers. 2022 and 2023 should be projected. In future submissions update projected numbers with actuals
B6: Table 7.2: Key recent and projected drivers of ignitions | H6: Number of ignitions | O6: Projected ignitions
B7: Metric type | C7: # | D7: Ignition driver | E7: Line Type | F7: HFTD tier | G7: Are ignitions tracked for ignition driver? (yes / no) | H7: 2015 | I7: 2016 | J7: 2017 | K7: 2018 | L7: 2019 | M7: 2020 | N7: 2021 | O7: 2022 | P7: 2023 | Q7: Unit(s) | R7: Comments
A8: x | B8: 1. Contact from object | C8: 1.a.i | D8: Veg. contact | E8: Distribution | F8: Non-HFTD | G8: Yes | H8: 0 | I8: 2 | J8: 1 | K8: 3 | L8: 0 | M8: 0 | N8: 0 | O8: 0.8 | P8: 0.8 | Q8: # ignitions
C9: 1.a.ii | D9: Veg. contact | E9: Distribution | F9: HFTD Zone 1 | G9: Yes | H9: 0 | I9: 0 | J9: 0 | K9: 0 | L9: 0 | M9: 0 | Q9: # ignitions
C10: 1.a.iii | D10: Veg. contact | E10: Distribution | F10: HFTD Tier 2 | G10: Yes | H10: 2 | I10: 2 | J10: 0 | K10: 0 | L10: 1 | M10: 0 | N10: 0 | O10: 0 | P10: 0 | Q10: # ignitions
C11: 1.a.iv | D11: Veg. contact | E11: Distribution | F11: HFTD Tier 3 | G11: Yes | H11: 3 | I11: 0 | J11: 2 | K11: 0 | L11: 0 | M11: 0 | N11: 0 | O11: 0.103 | P11: 0 | Q11: # ignitions
C12: 1.a.v | D12: Veg. contact | E12: Distribution | F12: System | G12: Yes | H12: =SUM(H8:H11) -> 5 | I12: =SUM(I8:I11) -> 4 | J12: =SUM(J8:J11) -> 3 | K12: =SUM(K8:K11) -> 3 | L12: =SUM(L8:L11) -> 1 | M12: =SUM(M8:M11) -> 0 | N12: =SUM(N8:N11) -> 0 | O12: =SUM($O8,$O10,$O11) -> 0.903 | P12: =SUM($P8,$P10,$P11) -> 0.8 | Q12: # ignitions
C13: 1.a.vi | D13: Veg. contact | E13: Transmission | F13: Non-HFTD | G13: Yes | H13: 0 | I13: 0 | J13: 0 | K13: 0 | L13: 0 | M13: 0 | N13: 0 | O13: 0 | P13: 0 | Q13: # ignitions
C14: 1.a.vii | D14: Veg. contact | E14: Transmission | F14: HFTD Zone 1 | G14: Yes | O14: 0 | P14: 0 | Q14: # ignitions
C15: 1.a.viii | D15: Veg. contact | E15: Transmission | F15: HFTD Tier 2 | G15: Yes | H15: 0 | I15: 0 | J15: 0 | K15: 0 | L15: 0 | M15: 0 | N15: 0 | O15: 0 | P15: 0 | Q15: # ignitions
C16: 1.a.ix | D16: Veg. contact | E16: Transmission | F16: HFTD Tier 3 | G16: Yes | H16: 0 | I16: 0 | J16: 0 | K16: 0 | L16: 0 | M16: 0 | N16: 0 | O16: 0 | P16: 0 | Q16: # ignitions
