Workbook

Sheet Quarterly Submission Guide
C1: Yes | D1: No | E1: <-- for dropdowns
B3: Wildfire Safety Division Attachment 2.3
B4: Wildifire Mitigation Plan Quarterly report - non-spatial data template
B5: Resolution WSD-011 Attachment 2.3
B6: Instructions for use | J6: Relevant options for mitigations table: Table 12
B7: 1 | C7: Fill out the tan cells (color represented here) starting with the cell below (D17: Utility). The Utility name will populate the Table tabs to follow. Date modified will vary by table.
B8: 2 | C8: Cells will only accept valid entries. For most cells, this is positive numbers
B9: 3 | C9: For each Table tab, after a modification is made, denote the date of the change in cell C4 for each Table tab. | K9: Initiative categories | L9: WMP Maturity model Categories | M9: Driver options
B10: 4 | C10: Some columns have an additional header in row 5 to serve as clarification for several columns. With the exception of projected data, row 5 will be highlighted in blue (color represented here) | K10: Vegetation inspection | L10: Risk Assessment & Mapping | M10: 1. Ignitions | N10: Contact with vegetation
B11: 5 | C11: Some required metrics are future projections. For these, row 5, above the projections will be highlighted light green (color represented here) | K11: Vegetation management project | L11: Situational Awareness & Forecasting | N11: Other contact with object
C12: In future submissions, report updated projected numbers if / when projections have changed, and report actuals once the quarter / year has passed. | K12: Asset inspection | L12: Grid Design & System Hardening | N12: Equipment failure
B13: 6 | C13: For data required annually rather than quarterly (see Tables 7.3 - 10), report for entire year even if part of the year is projected. Once year has passed, update cell with actuals | K13: Grid hardening | L13: Asset Management & Inspections | N13: Wire-to-wire contact
B14: 7 | C14: Some tables will have additional instructions provided in a Notes box located in cells D2 - D4 | K14: Other | L14: Vegetation Management & Inspections | N14: Contamination
C15: Notes will explain terms, signal where projections are required, and provide other useful information. | L15: Grid Operations & Operating Protocols | N15: Vandalism / Theft
B16: 8 | C16: For the initial quarterly submission, utilities are required to submit data on annual metrics for 2015 - 2020, which should represent the most updated data from the 2020 WMP for years 2015-2019 | L16: Data Governance | M16: 2. PSPS | N16: PSPS - for sectionalization, etc.
B17: * | C17: Do not add or manipulate the template for any of the tabs | L17: Resource Allocation Methodology
L18: Emergency Planning & Preparedness
B19: Update the below table to establish which year, quarter of the WMP cycle this submission this represents. | L19: Stakeholder Cooperation & Community Engagement
B20: Utility | D20: Liberty
B21: First year of 3-year WMP cycle | D21: 2020
B22: Submission year | D22: 2021
B23: Submission quarter | D23: Q3
B24: Date Modified | D24: 44501

Sheet Table 1
B2: Utility | C2: =IF('[1]Quarterly Submission Guide'!$D$20 = "", "",'[1]Quarterly Submission Guide'!$D$20) -> Liberty | D2: Notes:
B3: Table No. | C3: 1 | D3: Transmission lines refer to all lines at or above 65kV, and distribution lines refer to all lines below 65kV.
B4: Date Modified | C4: ='Quarterly Submission Guide'!D24 -> 44501
N5: Note: These columns are placeholders for future QR submissions.
B6: Table 1: Recent performance on progress metrics | J6: 1 | K6: 2 | L6: 3 | M6: 4 | N6: 1 | O6: 2 | P6: 3 | Q6: 4 | R6: 1 | S6: 2 | T6: 3 | U6: 4
B7: Metric type | C7: # | D7: Progress metric name | E7: 2015 | F7: 2016 | G7: 2017 | H7: 2018 | I7: 2019 | J7: 2020 | K7: 2020 | L7: 2020 | M7: 2020 | N7: 2021 | O7: 2021 | P7: 2021 | Q7: 2021 | R7: 2022 | S7: 2022 | T7: 2022 | U7: 2022 | V7: Unit(s) | W7: Comments
B8: 1. Grid condition findings from inspection - Distribution lines in HFTD | C8: 1.a. | D8: Number of circuit miles inspected from patrol inspections in HFTD - Distribution lines | E8: 0 | F8: 0 | G8: 0 | H8: 0 | I8: 0 | J8: 0 | K8: 0 | L8: 0 | M8: 0 | N8: 0 | O8: 0 | P8: 0 | V8: # circuit miles
C9: 1.b. | D9: Number of circuit miles inspected from detailed inspections in HFTD - Distribution lines | E9: 16 | F9: 140 | G9: 392 | H9: 80.9 | I9: 51.4 | J9: 0 | K9: 361 | L9: 457.7 | M9: 163 | N9: 0 | O9: 67 | P9: 0 | V9: # circuit miles
C10: 1.c. | D10: Number of circuit miles inspected from other inspections (list types of "other" inspections in comments) in HFTD - Distribution lines | E10: 0 | F10: 0 | G10: 0 | H10: 0 | I10: 0 | J10: 0 | K10: 0 | L10: 0 | M10: 0 | N10: 0 | O10: 0 | P10: 0 | V10: # circuit miles
C11: 1.d. | D11: Level 1 findings in HFTD for patrol inspections - Distribution lines | E11: 0 | F11: 0 | G11: 0 | H11: 0 | I11: 0 | J11: 0 | K11: 0 | L11: 0 | M11: 0 | N11: 0 | O11: 0 | P11: 0 | V11: # findings
C12: 1.e. | D12: Level 1 findings in HFTD for detailed inspections - Distribution lines | E12: 0 | F12: 0 | G12: 3 | H12: 0 | I12: 0 | J12: 0 | K12: 19 | L12: 37 | M12: 0 | N12: 0 | O12: 1 | P12: 0 | V12: # findings
C13: 1.f. | D13: Level 1 findings in HFTD for other inspections (list types of "other" inspections in comments) - Distribution lines | E13: 0 | F13: 0 | G13: 0 | H13: 0 | I13: 0 | J13: 0 | K13: 0 | L13: 0 | M13: 0 | N13: 0 | O13: 0 | P13: 0 | V13: # findings
C14: 1.g. | D14: Level 2 findings in HFTD for patrol inspections - Distribution lines | E14: 0 | F14: 0 | G14: 0 | H14: 0 | I14: 0 | J14: 0 | K14: 0 | L14: 0 | M14: 0 | N14: 0 | O14: 0 | P14: 0 | V14: # findings
C15: 1.h. | D15: Level 2 findings in HFTD for detailed inspections - Distribution lines | E15: 0 | F15: 98 | G15: 17 | H15: 8 | I15: 43 | J15: 0 | K15: 316 | L15: 1102 | M15: 7 | N15: 0 | O15: 7 | P15: 0 | V15: # findings
C16: 1.i. | D16: Level 2 findings in HFTD for other inspections (list types of "other" inspections in comments) - Distribution lines | E16: 0 | F16: 0 | G16: 0 | H16: 0 | I16: 0 | J16: 0 | K16: 0 | L16: 0 | M16: 0 | N16: 0 | O16: 0 | P16: 0 | V16: # findings
C17: 1.j. | D17: Level 3 findings in HFTD for patrol inspections - Distribution lines | E17: 0 | F17: 0 | G17: 0 | H17: 0 | I17: 0 | J17: 0 | K17: 0 | L17: 0 | M17: 0 | N17: 0 | O17: 0 | P17: 0 | V17: # findings
C18: 1.k. | D18: Level 3 findings in HFTD for detailed inspections - Distribution lines | E18: 148 | F18: 728 | G18: 2375 | H18: 523 | I18: 776 | J18: 0 | K18: 2895 | L18: 7020 | M18: 171 | N18: 0 | O18: 83 | P18: 0 | V18: # findings
C19: 1.l. | D19: Level 3 findings in HFTD for other inspections (list types of "other" inspections in comments) - Distribution lines | E19: 0 | F19: 0 | G19: 0 | H19: 0 | I19: 0 | J19: 0 | K19: 0 | L19: 0 | M19: 0 | N19: 0 | O19: 0 | P19: 0 | V19: # findings
B20: 1. Grid condition findings from inspection - Distribution lines total | C20: =C8&"ii." -> 1.a.ii. | D20: Number of total circuit miles inspected from patrol inspections - Distribution lines | E20: 0 | F20: 0 | G20: 0 | H20: 0 | I20: 0 | J20: 0 | K20: 0 | L20: 0 | M20: 0 | N20: 0 | O20: 0 | P20: 0 | V20: # circuit miles
C21: =C9&"ii." -> 1.b.ii. | D21: Number of total circuit miles inspected from detailed inspections - Distribution lines | E21: 16 | F21: 140 | G21: 392 | H21: 80.9 | I21: 51.4 | J21: 0 | K21: 361 | L21: 457.7 | M21: 163 | N21: 0 | O21: 67 | P21: 0 | V21: # circuit miles
C22: =C10&"ii." -> 1.c.ii. | D22: Number of total circuit miles inspected from other inspections (list types of "other" inspections in comments) - Distribution lines | E22: 0 | F22: 0 | G22: 0 | H22: 0 | I22: 0 | J22: 0 | K22: 0 | L22: 0 | M22: 0 | N22: 0 | O22: 0 | P22: 0 | V22: # circuit miles
C23: =C11&"ii." -> 1.d.ii. | D23: Level 1 findings for patrol inspections - Distribution lines | E23: 0 | F23: 0 | G23: 0 | H23: 0 | I23: 0 | J23: 0 | K23: 0 | L23: 0 | M23: 0 | N23: 0 | O23: 0 | P23: 0 | V23: # findings
C24: =C12&"ii." -> 1.e.ii. | D24: Level 1 findings for detailed inspections - Distribution lines | E24: 0 | F24: 0 | G24: 3 | H24: 0 | I24: 0 | J24: 0 | K24: 19 | L24: 37 | M24: 0 | N24: 0 | O24: 1 | P24: 0 | V24: # findings
C25: =C13&"ii." -> 1.f.ii. | D25: Level 1 findings for other inspections (list types of "other" inspections in comments) - Distribution lines | E25: 0 | F25: 0 | G25: 0 | H25: 0 | I25: 0 | J25: 0 | K25: 0 | L25: 0 | M25: 0 | N25: 0 | O25: 0 | P25: 0 | V25: # findings
C26: =C14&"ii." -> 1.g.ii. | D26: Level 2 findings for patrol inspections - Distribution lines | E26: 0 | F26: 0 | G26: 0 | H26: 0 | I26: 0 | J26: 0 | K26: 0 | L26: 0 | M26: 0 | N26: 0 | O26: 0 | P26: 0 | V26: # findings
C27: =C15&"ii." -> 1.h.ii. | D27: Level 2 findings for detailed inspections - Distribution lines | E27: 0 | F27: 98 | G27: 17 | H27: 8 | I27: 43 | J27: 0 | K27: 316 | L27: 1102 | M27: 7 | N27: 0 | O27: 7 | P27: 0 | V27: # findings
C28: =C16&"ii." -> 1.i.ii. | D28: Level 2 findings for other inspections (list types of "other" inspections in comments) - Distribution lines | E28: 0 | F28: 0 | G28: 0 | H28: 0 | I28: 0 | J28: 0 | K28: 0 | L28: 0 | M28: 0 | N28: 0 | O28: 0 | P28: 0 | V28: # findings
C29: =C17&"ii." -> 1.j.ii. | D29: Level 3 findings for patrol inspections - Distribution lines | E29: 0 | F29: 0 | G29: 0 | H29: 0 | I29: 0 | J29: 0 | K29: 0 | L29: 0 | M29: 0 | N29: 0 | O29: 0 | P29: 0 | V29: # findings
C30: =C18&"ii." -> 1.k.ii. | D30: Level 3 findings for detailed inspections - Distribution lines | E30: 148 | F30: 728 | G30: 2375 | H30: 523 | I30: 776 | J30: 0 | K30: 2895 | L30: 7020 | M30: 171 | N30: 0 | O30: 83 | P30: 0 | V30: # findings
C31: =C19&"ii." -> 1.l.ii. | D31: Level 3 findings for other inspections (list types of "other" inspections in comments) - Distribution lines | E31: 0 | F31: 0 | G31: 0 | H31: 0 | I31: 0 | J31: 0 | K31: 0 | L31: 0 | M31: 0 | N31: 0 | O31: 0 | P31: 0 | V31: # findings
B32: 1. Grid condition findings from inspection - Transmission lines in HFTD | C32: =C8&"iii." -> 1.a.iii. | D32: Number of circuit miles inspected from patrol inspections in HFTD - Transmission lines | E32: 0 | F32: 0 | G32: 0 | H32: 0 | I32: 0 | J32: 0 | K32: 0 | L32: 0 | M32: 0 | N32: 0 | O32: 0 | P32: 0 | V32: # circuit miles
C33: =C9&"iii." -> 1.b.iii. | D33: Number of circuit miles inspected from detailed inspections in HFTD - Transmission lines | E33: 0 | F33: 0 | G33: 47.7 | H33: 14.5 | I33: 0 | J33: 0 | K33: 6.4 | L33: 17.1 | M33: 17.28 | N33: 0 | O33: 0 | P33: 0 | V33: # circuit miles
C34: =C10&"iii." -> 1.c.iii. | D34: Number of circuit miles inspected from other inspections (list types of "other" inspections in comments) in HFTD - Transmission lines | E34: 0 | F34: 0 | G34: 0 | H34: 0 | I34: 0 | J34: 0 | K34: 0 | L34: 0 | M34: 0 | N34: 0 | O34: 0 | P34: 0 | V34: # circuit miles
C35: =C11&"iii." -> 1.d.iii. | D35: Level 1 findings in HFTD for patrol inspections - Transmission lines | E35: 0 | F35: 0 | G35: 0 | H35: 0 | I35: 0 | J35: 0 | K35: 0 | L35: 0 | M35: 0 | N35: 0 | O35: 0 | P35: 0 | V35: # findings
C36: =C12&"iii." -> 1.e.iii. | D36: Level 1 findings in HFTD for detailed inspections - Transmission lines | E36: 0 | F36: 0 | G36: 0 | H36: 0 | I36: 0 | J36: 0 | K36: 2 | L36: 0 | M36: 0 | N36: 0 | O36: 0 | P36: 0 | V36: # findings
C37: =C13&"iii." -> 1.f.iii. | D37: Level 1 findings in HFTD for other inspections (list types of "other" inspections in comments) - Transmission lines | E37: 0 | F37: 0 | G37: 0 | H37: 0 | I37: 0 | J37: 0 | K37: 0 | L37: 0 | M37: 0 | N37: 0 | O37: 0 | P37: 0 | V37: # findings
C38: =C14&"iii." -> 1.g.iii. | D38: Level 2 findings in HFTD for patrol inspections - Transmission lines | E38: 0 | F38: 0 | G38: 0 | H38: 0 | I38: 0 | J38: 0 | K38: 0 | L38: 0 | M38: 0 | N38: 0 | O38: 0 | P38: 0 | V38: # findings
C39: =C15&"iii." -> 1.h.iii. | D39: Level 2 findings in HFTD for detailed inspections - Transmission lines | E39: 0 | F39: 0 | G39: 0 | H39: 0 | I39: 0 | J39: 0 | K39: 0 | L39: 1 | M39: 0 | N39: 0 | O39: 0 | P39: 0 | V39: # findings
C40: =C16&"iii." -> 1.i.iii. | D40: Level 2 findings in HFTD for other inspections (list types of "other" inspections in comments) - Transmission lines | E40: 0 | F40: 0 | G40: 0 | H40: 0 | I40: 0 | J40: 0 | K40: 0 | L40: 0 | M40: 0 | N40: 0 | O40: 0 | P40: 0 | V40: # findings
C41: =C17&"iii." -> 1.j.iii. | D41: Level 3 findings in HFTD for patrol inspections - Transmission lines | E41: 0 | F41: 0 | G41: 0 | H41: 0 | I41: 0 | J41: 0 | K41: 0 | L41: 0 | M41: 0 | N41: 0 | O41: 0 | P41: 0 | V41: # findings
...

Sheet Table 2
B2: Utility | C2: =IF('[1]Quarterly Submission Guide'!$D$20 = "", "",'[1]Quarterly Submission Guide'!$D$20) -> Liberty | D2: Notes:
B3: Table No. | C3: 2 | D3: Transmission lines refer to all lines at or above 65kV, and distribution lines refer to all lines below 65kV.
B4: Date Modified | C4: ='Quarterly Submission Guide'!D24 -> 44501
N5: Note: These columns are placeholders for future QR submissions.
B6: Table 2: Recent performance on outcome metrics | J6: 1 | K6: 2 | L6: 3 | M6: 4 | N6: 1 | O6: 2 | P6: 3 | Q6: 4 | R6: 1 | S6: 2 | T6: 3 | U6: 4
B7: Metric type | C7: # | D7: Outcome metric name | E7: 2015 | F7: 2016 | G7: 2017 | H7: 2018 | I7: 2019 | J7: 2020 | K7: 2020 | L7: 2020 | M7: 2020 | N7: 2021 | O7: 2021 | P7: 2021 | Q7: 2021 | R7: 2022 | S7: 2022 | T7: 2022 | U7: 2022 | V7: Unit(s) | W7: Comments
B8: 1. Risk events | C8: 1.a. | D8: Number of all events with probability of ignition, including wires down, contacts with objects, line slap, events with evidence of heat generation, and other events that cause sparking or have the potential to cause ignition | E8: 99 | F8: 111 | G8: 137 | H8: 115 | I8: 278 | J8: 22 | K8: 17 | L8: 31 | M8: 54 | N8: 22 | O8: 19 | P8: 13 | V8: Number per year
C9: 1.b. | D9: Number of wires down (total) | E9: 5 | F9: 10 | G9: 3 | H9: 4 | I9: 5 | J9: 2 | K9: 1 | L9: 2 | M9: 1 | N9: 6 | O9: 3 | P9: 3 | V9: Number of wires down per year
C10: 1.c. | D10: Number of outage events not caused by contact with vegetation (total) | E10: 16 | F10: 10 | G10: 19 | H10: 5 | I10: 25 | J10: 8 | K10: 5 | L10: 15 | M10: 14 | N10: 72 | O10: 40 | P10: 55 | V10: Number of outage events per year
C11: 1.d. | D11: Number of outage events caused by contact with vegetation (total) | E11: 21 | F11: 17 | G11: 15 | H11: 14 | I11: 35 | J11: 5 | K11: 7 | L11: 12 | M11: 23 | N11: 9 | O11: 9 | P11: 3 | V11: Number of outage events per year
B12: 2. Utility inspection findings - Distribution | C12: 2.a. | D12: Number of Level 1 findings (distribution - total) | E12: 0 | F12: 0 | G12: 3 | H12: 0 | I12: 0 | J12: 0 | K12: 19 | L12: 37 | M12: 0 | N12: 0 | O12: 1 | P12: 0 | V12: # findings
C13: 2.b. | D13: Number of Level 2 findings (distribution - total) | E13: 0 | F13: 98 | G13: 17 | H13: 8 | I13: 43 | J13: 0 | K13: 316 | L13: 1102 | M13: 7 | N13: 0 | O13: 7 | P13: 0 | V13: # findings
C14: 2.c. | D14: Number of Level 3 findings (distribution - total) | E14: 148 | F14: 728 | G14: 2375 | H14: 523 | I14: 776 | J14: 0 | K14: 2895 | L14: 7020 | M14: 171 | N14: 0 | O14: 83 | P14: 0 | V14: # findings
C15: 2.d. | D15: Number of distribution circuit miles inspected | E15: 43 | F15: 280 | G15: 698.4 | H15: 173.8 | I15: 137.2 | J15: 0 | K15: 740 | L15: 1161.4 | M15: 370.6 | N15: 0 | O15: 67 | P15: 0 | V15: # circuit miles
B16: 2. Utility inspection findings - Transmission | C16: 2.a.ii | D16: Number of Level 1 findings (transmission - total) | E16: 0 | F16: 0 | G16: 0 | H16: 0 | I16: 0 | J16: 0 | K16: 2 | L16: 0 | M16: 0 | N16: 0 | O16: 0 | P16: 0 | V16: # findings
C17: 2.b.ii | D17: Number of Level 2 findings (transmission - total) | E17: 0 | F17: 0 | G17: 0 | H17: 0 | I17: 0 | J17: 0 | K17: 0 | L17: 1 | M17: 0 | N17: 0 | O17: 0 | P17: 0 | V17: # findings
C18: 2.c.ii | D18: Number of Level 3 findings (transmission - total) | E18: 0 | F18: 0 | G18: 386 | H18: 152 | I18: 0 | J18: 0 | K18: 0 | L18: 7 | M18: 19 | N18: 0 | O18: 0 | P18: 0 | V18: # findings
C19: 2.d.ii | D19: Number of transmission circuit miles inspected | E19: 0 | F19: 0 | G19: 45.26 | H19: 14.48 | I19: 0 | J19: 0 | K19: 6.4 | L19: 17.1 | M19: 17.28 | N19: 0 | O19: 0 | P19: 0 | V19: # circuit miles
B20: 3. Utility ignited wildfire fatalities | C20: 3.a. | D20: Fatalities due to utility-ignited wildfire (total) | E20: 0 | F20: 0 | G20: 0 | H20: 0 | I20: 0 | J20: 0 | K20: 0 | L20: 0 | M20: 0 | N20: 0 | O20: 0 | P20: 0 | V20: Number of fatalities per year
C21: 3.b. | D21: Injuries due to utility-ignited wildfire (total) | E21: 0 | F21: 0 | G21: 0 | H21: 0 | I21: 0 | J21: 0 | K21: 0 | L21: 0 | M21: 0 | N21: 0 | O21: 0 | P21: 0 | V21: Number of injuries per year
B22: 4. Value of assets destroyed by utility-ignited wildfire, listed by asset type | C22: 4.a. | D22: Value of assets destroyed by utility-ignited wildfire (total) | E22: 0 | F22: 315649.02 | G22: 0 | H22: 0 | I22: 9855.29 | J22: 0 | K22: 0 | L22: 0 | M22: 0 | N22: 0 | O22: 71000 | P22: 0 | V22: Dollars of damage or destruction per year
B23: 5. Structures damaged or destroyed by utility-ignited wildfire | C23: 5.a. | D23: Number of structures destroyed by utility-ignited wildfire (total) | E23: 0 | F23: 18 | G23: 0 | H23: 0 | I23: 0 | J23: 0 | K23: 0 | L23: 0 | M23: 0 | N23: 0 | O23: 0 | P23: 0 | V23: Number of structures destroyed per year
C24: 5.b. | D24: Critical infrastructure damaged/destroyed by utility-ignited wildfire (total) | E24: 0 | F24: 0 | G24: 0 | H24: 0 | I24: 0 | J24: 0 | K24: 0 | L24: 0 | M24: 0 | N24: 0 | O24: 0 | P24: 0 | V24: Number of critical infrastructure damaged/destroyed per year
B25: 6. Acreage burned by utility-ignited wildfire | C25: 6.a. | D25: Acreage burned by utility-ignited wildfire (total) | E25: 10.25 | F25: 196 | G25: 0 | H25: 0 | I25: 0.5 | J25: 0 | K25: 0 | L25: 0 | M25: 0 | N25: 0 | O25: 2.5 | P25: 0 | V25: Acres burned per year
B26: 7. Number of utility wildfire ignitons | C26: 7.a. | D26: Number of ignitions (total) according to existing ignition data reporting requirement | E26: 2 | F26: 1 | G26: 0 | H26: 0 | I26: 1 | J26: 0 | K26: 0 | L26: 0 | M26: 2 | N26: 0 | O26: 1 | P26: 0 | V26: Number per year
C27: 7.b. | D27: Number of ignitions in HFTD (subtotal) | E27: 2 | F27: 1 | G27: 0 | H27: 0 | I27: 1 | J27: 0 | K27: 0 | L27: 0 | M27: 0 | N27: 0 | O27: 1 | P27: 0 | V27: Number in HFTD per year
C28: 7.c. | D28: Number of ignitions in HFTD Zone 1 | E28: 0 | F28: 0 | G28: 0 | H28: 0 | I28: 0 | J28: 0 | K28: 0 | L28: 0 | M28: 0 | N28: 0 | O28: 0 | P28: 0 | V28: Number in HFTD Zone 1 per year
C29: 7.c.ii. | D29: Number of ignitions in HFTD Tier 2 | E29: 2 | F29: 1 | G29: 0 | H29: 0 | I29: 1 | J29: 0 | K29: 0 | L29: 0 | M29: 2 | N29: 0 | O29: 1 | P29: 0 | V29: Number in HFTD Tier 2 per year
C30: 7.c.iii. | D30: Number of ignitions in HFTD Tier 3 | E30: 0 | F30: 0 | G30: 0 | H30: 0 | I30: 0 | J30: 0 | K30: 0 | L30: 0 | M30: 0 | N30: 0 | O30: 0 | P30: 0 | V30: Number in HFTD Tier 3 per year
C31: 7.d. | D31: Number of ignitions in non-HFTD (subtotal) | E31: 0 | F31: 0 | G31: 0 | H31: 0 | I31: 0 | J31: 0 | K31: 0 | L31: 0 | M31: 0 | N31: 0 | O31: 0 | P31: 0 | V31: Number in non-HFTD per year
B32: 8. Fatalities resulting from utility wildfire mitigation initiatives | C32: 8.a. | D32: Fatalities due to utility wildfire mitigation activities (total) - "activities" defined as all activities accounted for in the 2020 WMP proposed WMP spend | E32: 0 | F32: 0 | G32: 0 | H32: 0 | I32: 0 | J32: 0 | K32: 0 | L32: 0 | M32: 0 | N32: 0 | O32: 0 | P32: 0 | V32: Number of fatalities per year
B33: 9. OSHA-reportable injuries from utility wildfire mitigation initiatives | C33: 9.a. | D33: OSHA-reportable injuries due to utility wildfire mitigation activities (total) - "activities" defined as all activities accounted for in the 2020 WMP proposed WMP spend | E33: 0 | F33: 0 | G33: 0 | H33: 0 | I33: 0 | J33: 0 | K33: 0 | L33: 0 | M33: 0 | N33: 0 | O33: 0 | P33: 0 | V33: Number of OSHA-reportable injuries per year
C61: Vegetation Management & Inspections

Sheet Table 3
B2: Utility | C2: =IF('Quarterly Submission Guide'!$D$20 = "", "",'Quarterly Submission Guide'!$D$20) -> Liberty
B3: Table No. | C3: 3
B4: Date Modified | C4: ='Quarterly Submission Guide'!D24 -> 44501
P5: Note: These columns are placeholders for future QR submissions.
B6: Table 3: List and description of additional metrics | L6: 1 | M6: 2 | N6: 3 | O6: 4 | P6: 1 | Q6: 2 | R6: 3 | S6: 4 | T6: 1 | U6: 2 | V6: 3 | W6: 4
B7: Metric | C7: Definition | D7: Purpose | E7: Assumptions made to connect metric to purpose | F7: Third-party validation (if any) | G7: 2015 | H7: 2016 | I7: 2017 | J7: 2018 | K7: 2019 | L7: 2020 | M7: 2020 | N7: 2020 | O7: 2020 | P7: 2021 | Q7: 2021 | R7: 2021 | S7: 2021 | T7: 2022 | U7: 2022 | V7: 2022 | W7: 2022 | X7: Unit(s) | Y7: Comments
C61: Vegetation Management & Inspections

Sheet Table 4
B2: Utility | C2: =IF('Quarterly Submission Guide'!$D$20 = "", "",'Quarterly Submission Guide'!$D$20) -> Liberty
B3: Table No. | C3: 4
B4: Date Modified | C4: ='Quarterly Submission Guide'!D24 -> 44501
N5: Note: These columns are placeholders for future QR submissions.
B6: Table 4: Fatalities due to utility wildfire mitigation initiatives | J6: 1 | K6: 2 | L6: 3 | M6: 4 | N6: 1 | O6: 2 | P6: 3 | Q6: 4 | R6: 1 | S6: 2 | T6: 3 | U6: 4
B7: Metric type | C7: # | D7: Outcome metric name | E7: 2015 | F7: 2016 | G7: 2017 | H7: 2018 | I7: 2019 | J7: 2020 | K7: 2020 | L7: 2020 | M7: 2020 | N7: 2021 | O7: 2021 | P7: 2021 | Q7: 2021 | R7: 2022 | S7: 2022 | T7: 2022 | U7: 2022 | V7: Unit(s) | W7: Comments
B8: 1. Fatalities - Full-time Employee | C8: 1.a. | D8: Fatalities due to utility inspection - Full-time employee | E8: 0 | F8: 0 | G8: 0 | H8: 0 | I8: 0 | J8: 0 | K8: 0 | L8: 0 | M8: 0 | N8: 0 | O8: 0 | P8: 0 | V8: # fatalities
C9: 1.b. | D9: Fatalities due to vegetation management - Full-time employee | E9: 0 | F9: 0 | G9: 0 | H9: 0 | I9: 0 | J9: 0 | K9: 0 | L9: 0 | M9: 0 | N9: 0 | O9: 0 | P9: 0 | V9: # fatalities
C10: 1.c. | D10: Fatalities due to utility fuel management - Full-time employee | E10: 0 | F10: 0 | G10: 0 | H10: 0 | I10: 0 | J10: 0 | K10: 0 | L10: 0 | M10: 0 | N10: 0 | O10: 0 | P10: 0 | V10: # fatalities
C11: 1.d. | D11: Fatalities due to grid hardening - Full-time employee | E11: 0 | F11: 0 | G11: 0 | H11: 0 | I11: 0 | J11: 0 | K11: 0 | L11: 0 | M11: 0 | N11: 0 | O11: 0 | P11: 0 | V11: # fatalities
C12: 1.e. | D12: Fatalities due to other - Full-time employee | E12: 0 | F12: 0 | G12: 0 | H12: 0 | I12: 0 | J12: 0 | K12: 0 | L12: 0 | M12: 0 | N12: 0 | O12: 0 | P12: 0 | V12: # fatalities
B13: 2. Fatalities - Contractor | C13: 2.a. | D13: Fatalities due to utility inspection - Contractor | E13: 0 | F13: 0 | G13: 0 | H13: 0 | I13: 0 | J13: 0 | K13: 0 | L13: 0 | M13: 0 | N13: 0 | O13: 0 | P13: 0 | V13: # fatalities
C14: 2.b. | D14: Fatalities due to vegetation management - Contractor | E14: 0 | F14: 0 | G14: 0 | H14: 0 | I14: 0 | J14: 0 | K14: 0 | L14: 0 | M14: 0 | N14: 0 | O14: 0 | P14: 0 | V14: # fatalities
C15: 2.c. | D15: Fatalities due to utility fuel management - Contractor | E15: 0 | F15: 0 | G15: 0 | H15: 0 | I15: 0 | J15: 0 | K15: 0 | L15: 0 | M15: 0 | N15: 0 | O15: 0 | P15: 0 | V15: # fatalities
C16: 2.d. | D16: Fatalities due to grid hardening - Contractor | E16: 0 | F16: 0 | G16: 0 | H16: 0 | I16: 0 | J16: 0 | K16: 0 | L16: 0 | M16: 0 | N16: 0 | O16: 0 | P16: 0 | V16: # fatalities
C17: 2.e. | D17: Fatalities due to other - Contractor | E17: 0 | F17: 0 | G17: 0 | H17: 0 | I17: 0 | J17: 0 | K17: 0 | L17: 0 | M17: 0 | N17: 0 | O17: 0 | P17: 0 | V17: # fatalities
B18: 3. Fatalities - Member of public | C18: 3.a. | D18: Fatalities due to utility inspection - Public | E18: 0 | F18: 0 | G18: 0 | H18: 0 | I18: 0 | J18: 0 | K18: 0 | L18: 0 | M18: 0 | N18: 0 | O18: 0 | P18: 0 | V18: # fatalities
C19: 3.b. | D19: Fatalities due to vegetation management - Public | E19: 0 | F19: 0 | G19: 0 | H19: 0 | I19: 0 | J19: 0 | K19: 0 | L19: 0 | M19: 0 | N19: 0 | O19: 0 | P19: 0 | V19: # fatalities
C20: 3.c. | D20: Fatalities due to utility fuel management - Public | E20: 0 | F20: 0 | G20: 0 | H20: 0 | I20: 0 | J20: 0 | K20: 0 | L20: 0 | M20: 0 | N20: 0 | O20: 0 | P20: 0 | V20: # fatalities
C21: 3.d. | D21: Fatalities due to grid hardening - Public | E21: 0 | F21: 0 | G21: 0 | H21: 0 | I21: 0 | J21: 0 | K21: 0 | L21: 0 | M21: 0 | N21: 0 | O21: 0 | P21: 0 | V21: # fatalities
C22: 3.e. | D22: Fatalities due to other - Public | E22: 0 | F22: 0 | G22: 0 | H22: 0 | I22: 0 | J22: 0 | K22: 0 | L22: 0 | M22: 0 | N22: 0 | O22: 0 | P22: 0 | V22: # fatalities
C61: Vegetation Management & Inspections

Sheet Table 5
B2: Utility | C2: =IF('Quarterly Submission Guide'!$D$20 = "", "",'Quarterly Submission Guide'!$D$20) -> Liberty
B3: Table No. | C3: 5
B4: Date Modified | C4: ='Quarterly Submission Guide'!D24 -> 44501
N5: Note: These columns are placeholders for future QR submissions.
B6: Table 5: OSHA-reportable injuries due to utility wildfire mitigation initiatives | J6: 1 | K6: 2 | L6: 3 | M6: 4 | N6: 1 | O6: 2 | P6: 3 | Q6: 4 | R6: 1 | S6: 2 | T6: 3 | U6: 4
B7: Metric type | C7: # | D7: Outcome metric name | E7: 2015 | F7: 2016 | G7: 2017 | H7: 2018 | I7: 2019 | J7: 2020 | K7: 2020 | L7: 2020 | M7: 2020 | N7: 2021 | O7: 2021 | P7: 2021 | Q7: 2021 | R7: 2022 | S7: 2022 | T7: 2022 | U7: 2022 | V7: Unit(s) | W7: Comments
B8: 1. OSHA injuries - Full-time Employee | C8: 1.a. | D8: OSHA injuries due to utility inspection - Full-time employee | E8: 0 | F8: 0 | G8: 0 | H8: 0 | I8: 0 | J8: 0 | K8: 0 | L8: 0 | M8: 0 | N8: 0 | O8: 0 | P8: 0 | V8: # OSHA-reportable injuries
C9: 1.b. | D9: OSHA injuries due to vegetation management - Full-time employee | E9: 0 | F9: 0 | G9: 0 | H9: 0 | I9: 0 | J9: 0 | K9: 0 | L9: 0 | M9: 0 | N9: 0 | O9: 0 | P9: 0 | V9: # OSHA-reportable injuries
C10: 1.c. | D10: OSHA injuries due to utility fuel management - Full-time employee | E10: 0 | F10: 0 | G10: 0 | H10: 0 | I10: 0 | J10: 0 | K10: 0 | L10: 0 | M10: 0 | N10: 0 | O10: 0 | P10: 0 | V10: # OSHA-reportable injuries
C11: 1.d. | D11: OSHA injuries due to grid hardening - Full-time employee | E11: 0 | F11: 0 | G11: 0 | H11: 0 | I11: 0 | J11: 0 | K11: 0 | L11: 0 | M11: 0 | N11: 0 | O11: 0 | P11: 0 | V11: # OSHA-reportable injuries
C12: 1.e. | D12: OSHA injuries due to other - Full-time employee | E12: 0 | F12: 0 | G12: 0 | H12: 0 | I12: 0 | J12: 0 | K12: 0 | L12: 0 | M12: 0 | N12: 0 | O12: 0 | P12: 0 | V12: # OSHA-reportable injuries
B13: 2. OSHA injuries - Contractor | C13: 2.a. | D13: OSHA injuries due to utility inspection - Contractor | E13: 0 | F13: 0 | G13: 0 | H13: 0 | I13: 0 | J13: 0 | K13: 0 | L13: 0 | M13: 0 | N13: 0 | O13: 0 | P13: 0 | V13: # OSHA-reportable injuries
C14: 2.b. | D14: OSHA injuries due to vegetation management - Contractor | E14: 0 | F14: 0 | G14: 0 | H14: 0 | I14: 0 | J14: 0 | K14: 0 | L14: 0 | M14: 0 | N14: 0 | O14: 0 | P14: 0 | V14: # OSHA-reportable injuries
C15: 2.c. | D15: OSHA injuries due to utility fuel management - Contractor | E15: 0 | F15: 0 | G15: 0 | H15: 0 | I15: 0 | J15: 0 | K15: 0 | L15: 0 | M15: 0 | N15: 0 | O15: 0 | P15: 0 | V15: # OSHA-reportable injuries
C16: 2.d. | D16: OSHA injuries due to grid hardening - Contractor | E16: 0 | F16: 0 | G16: 0 | H16: 0 | I16: 0 | J16: 0 | K16: 0 | L16: 0 | M16: 0 | N16: 0 | O16: 0 | P16: 0 | V16: # OSHA-reportable injuries
C17: 2.e. | D17: OSHA injuries due to other - Contractor | E17: 0 | F17: 0 | G17: 0 | H17: 0 | I17: 0 | J17: 0 | K17: 0 | L17: 0 | M17: 0 | N17: 0 | O17: 0 | P17: 0 | V17: # OSHA-reportable injuries
B18: 3. OSHA injuries - Member of public | C18: 3.a. | D18: OSHA injuries due to utility inspection - Public | E18: 0 | F18: 0 | G18: 0 | H18: 0 | I18: 0 | J18: 0 | K18: 0 | L18: 0 | M18: 0 | N18: 0 | O18: 0 | P18: 0 | V18: # OSHA-reportable injuries
C19: 3.b. | D19: OSHA injuries due to vegetation management - Public | E19: 0 | F19: 0 | G19: 0 | H19: 0 | I19: 0 | J19: 0 | K19: 0 | L19: 0 | M19: 0 | N19: 0 | O19: 0 | P19: 0 | V19: # OSHA-reportable injuries
C20: 3.c. | D20: OSHA injuries due to utility fuel management - Public | E20: 0 | F20: 0 | G20: 0 | H20: 0 | I20: 0 | J20: 0 | K20: 0 | L20: 0 | M20: 0 | N20: 0 | O20: 0 | P20: 0 | V20: # OSHA-reportable injuries
C21: 3.d. | D21: OSHA injuries due to grid hardening - Public | E21: 0 | F21: 0 | G21: 0 | H21: 0 | I21: 0 | J21: 0 | K21: 0 | L21: 0 | M21: 0 | N21: 0 | O21: 0 | P21: 0 | V21: # OSHA-reportable injuries
C22: 3.e. | D22: OSHA injuries due to other - Public | E22: 0 | F22: 0 | G22: 0 | H22: 0 | I22: 0 | J22: 0 | K22: 0 | L22: 0 | M22: 0 | N22: 0 | O22: 0 | P22: 0 | V22: # OSHA-reportable injuries
C61: Vegetation Management & Inspections

Sheet Table 6
B2: Utility | C2: =IF('Quarterly Submission Guide'!$D$20 = "", "",'Quarterly Submission Guide'!$D$20) -> Liberty
B3: Table No. | C3: 6
B4: Date Modified | C4: ='Quarterly Submission Guide'!D24 -> 44501
N5: Note: These columns are placeholders for future QR submissions.
B6: Table 6: Weather patterns | J6: 1 | K6: 2 | L6: 3 | M6: 4 | N6: 1 | O6: 2 | P6: 3 | Q6: 4 | R6: 1 | S6: 2 | T6: 3 | U6: 4
B7: Metric type | C7: # | D7: Outcome metric name | E7: 2015 | F7: 2016 | G7: 2017 | H7: 2018 | I7: 2019 | J7: 2020 | K7: 2020 | L7: 2020 | M7: 2020 | N7: 2021 | O7: 2021 | P7: 2021 | Q7: 2021 | R7: 2022 | S7: 2022 | T7: 2022 | U7: 2022 | V7: Unit(s) | W7: Comments
B8: 1. Red Flag Warning Overhead circuit mile Days | C8: 1.a. | D8: Red Flag Warning Overhead circuit mile days - entire utility territory | E8: 271.585 | F8: 94.404 | G8: 193.355 | H8: 3133.77 | I8: 869.136 | J8: 0 | K8: 100.796 | L8: 4679.067 | M8: 2092.98 | N8: 0 | O8: 1162.37 | P8: 4945.561 | V8: Sum of overhead circuit miles of utility grid subject to Red Flag Warning each day within a given time period, calculated as the number of overhead circuit miles that were under an RFW multiplied by the number of days those circuit miles were under said RFW. For example, if 100 overhead circuit miles were under an RFW for 1 day, and 10 of those miles were under RFW for an additional day, then the total RFW OH circuit mile days would be 110.
C9: 1.b. | D9: Red Flag Warning Overhead circuit mile days - HFTD Zone 1 | E9: 0 | F9: 0 | G9: 0 | H9: 0 | I9: 0.59 | J9: 0 | K9: 0 | L9: 3.386 | M9: 1.628 | N9: 0 | O9: 0.83 | P9: 0.062 | V9: Red Flag Warning Overhead circuit mile days, see above for definition
C10: 1.c. | D10: Red Flag Warning Overhead circuit mile days - HFTD Tier 2 | E10: 139.955 | F10: 78.058 | G10: 117.51 | H10: 2592.623 | I10: 727.118 | J10: 0 | K10: 98.678 | L10: 3821.844 | M10: 1737.163 | N10: 0 | O10: 982.6 | P10: 4302.865 | V10: Red Flag Warning Overhead circuit mile days, see above for definition
C11: 1.d. | D11: Red Flag Warning Overhead circuit mile days - HFTD Tier 3 | E11: 0 | F11: 0 | G11: 0 | H11: 306.203 | I11: 77.074 | J11: 0 | K11: 0 | L11: 441.767 | M11: 212.254 | N11: 0 | O11: 107.87 | P11: 519.015 | V11: Red Flag Warning Overhead circuit mile days, see above for definition
C12: 1.e. | D12: Red Flag Warning Overhead circuit mile days - Non-HFTD | E12: 111.863 | F12: 13.895 | G12: 64.498 | H12: 170.614 | I12: 48.2 | J12: 0 | K12: 2.087 | L12: 313.361 | M12: 101.23 | N12: 0 | O12: 71.07 | P12: 123.619 | V12: Red Flag Warning Overhead circuit mile days, see above for definition
B13: 2. Wind conditions | C13: 2.a. | D13: High wind warning overhead circuit mile days | E13: 863.59 | F13: 3507.79 | G13: 179.58 | H13: 125.72 | I13: 107.54 | J13: 11.27 | K13: 0 | L13: 0 | M13: 861.704 | N13: 763.162 | O13: 0 | P13: 0 | V13: Sum of overhead circuit miles of utility grid subject to High Wind Warnings (HWW, as defined by the National Weather Service) each day within a given time period, calculated as the number of overhead circuit miles that were under an HWW multiplied by the number of days those miles were under said HWW. For example, if 100 overhead circuit miles were under an HWW for 1 day, and 10 of those miles were under HWW for an additional day, then the total HWW OH circuit mile days would be 110.
B14: 3. Other | C14: 3.a. | D14: Other relevant weather pattern metrics tracked (add additional rows as needed)
C61: Vegetation Management & Inspections

Sheet Table 7.1
B2: Utility | C2: =IF('Quarterly Submission Guide'!$D$20 = "", "",'Quarterly Submission Guide'!$D$20) -> Liberty | D2: Notes:
B3: Table No. | C3: 7.1 | D3: Transmission lines refer to all lines at or above 65kV, and distribution lines refer to all lines below 65kV.
B4: Date Modified | C4: ='Quarterly Submission Guide'!D24 -> 44501 | D4: Data from 2015 - 2020 Q2 should be actual numbers. 2020 Q3 - 2023 should be projected. In future submissions update projected numbers with actuals
G5: Number of risk events | S5: Projected risk events
B6: Table 7.1: Key recent and projected drivers of risk events | L6: 1 | M6: 2 | N6: 3 | O6: 4 | P6: 1 | Q6: 2 | R6: 3 | S6: 4 | T6: 1 | U6: 2 | V6: 3 | W6: 4
B7: Risk Event category | C7: Cause category | D7: # | E7: Sub-cause category | F7: Are risk events tracked for ignition driver? (yes / no) | G7: 2015 | H7: 2016 | I7: 2017 | J7: 2018 | K7: 2019 | L7: 2020 | M7: 2020 | N7: 2020 | O7: 2020 | P7: 2021 | Q7: 2021 | R7: 2021 | S7: 2021 | T7: 2022 | U7: 2022 | V7: 2022 | W7: 2022 | X7: Unit(s) | Y7: Comments
A8: x | B8: Wire down event - Distribution | C8: 1. Contact from object - Distribution | D8: 1.a. | E8: Veg. contact- Distribution | F8: Yes | H8: 1 | I8: 1 | J8: 1 | L8: 1 | M8: 1 | N8: 2 | O8: 1 | P8: 3 | Q8: 0 | R8: 1 | S8: 1 | T8: 1 | U8: 1 | V8: 1 | X8: # risk events (excluding ignitions)
D9: 1.b. | E9: Animal contact- Distribution | F9: Yes | X9: # risk events (excluding ignitions)
D10: 1.c. | E10: Balloon contact- Distribution | F10: Yes | X10: # risk events (excluding ignitions)
D11: 1.d. | E11: Vehicle contact- Distribution | F11: Yes | N11: 1 | Q11: 1 | R11: 1 | V11: 1 | X11: # risk events (excluding ignitions)
D12: 1.e. | E12: Other contact from object - Distribution | F12: Yes | X12: # risk events (excluding ignitions)
C13: 2. Equipment / facility failure - Distribution | D13: 2.a. | E13: Connector damage or failure- Distribution | F13: Yes | M13: 1 | X13: # risk events (excluding ignitions)
D14: 2.b. | E14: Splice damage or failure — Distribution | F14: Yes | X14: # risk events (excluding ignitions)
D15: 2.c. | E15: Crossarm damage or failure - Distribution | F15: Yes | I15: 1 | X15: # risk events (excluding ignitions)
D16: 2.d. | E16: Insulator damage or failure- Distribution | F16: Yes | X16: # risk events (excluding ignitions)
D17: 2.e. | E17: Lightning arrestor damage or failure- Distribution | F17: Yes | X17: # risk events (excluding ignitions)
D18: 2.f. | E18: Tap damage or failure - Distribution | F18: Yes | X18: # risk events (excluding ignitions)
D19: 2.g. | E19: Tie wire damage or failure - Distribution | F19: Yes | X19: # risk events (excluding ignitions)
D20: 2.h. | E20: Other - Distribution | F20: Yes | H20: 1 | K20: 2 | P20: 2 | U20: 1 | X20: # risk events (excluding ignitions)
C21: 3. Wire-to-wire contact - Distribution | D21: 3.a. | E21: Wire-to-wire contact / contamination- Distribution | F21: Yes | N21: 2 | R21: 1 | V21: 1 | X21: # risk events (excluding ignitions)
C22: 4. Contamination - Distribution | D22: 4.a. | E22: Contamination - Distribution | F22: Yes | X22: # risk events (excluding ignitions)
C23: 5. Utility work / Operation | D23: 5.a. | E23: Utility work / Operation | F23: Yes | X23: # risk events (excluding ignitions)
C24: 6. Vandalism / Theft - Distribution | D24: 6.a. | E24: Vandalism / Theft - Distribution | F24: Yes | X24: # risk events (excluding ignitions)
C25: 7. Other- Distribution | D25: 7.a. | E25: All Other- Distribution | F25: Yes | P25: 1 | X25: # risk events (excluding ignitions)
C26: 8. Unknown- Distribution | D26: 8.a. | E26: Unknown - Distribution | F26: Yes | G26: 9 | H26: 3 | I26: 1 | J26: 5 | T26: 1 | X26: # risk events (excluding ignitions)
A27: x | B27: Wire down event - Transmission | C27: 9. Contact from object - Transmission | D27: 9.a. | E27: Veg. contact- Transmission | X27: # risk events (excluding ignitions)
D28: 9.b. | E28: Animal contact- Transmission | X28: # risk events (excluding ignitions)
D29: 9.c. | E29: Balloon contact- Transmission | X29: # risk events (excluding ignitions)
D30: 9.d. | E30: Vehicle contact- Transmission | X30: # risk events (excluding ignitions)
D31: 9.e. | E31: Other contact from object - Transmission | X31: # risk events (excluding ignitions)
C32: 10. Equipment / facility failure - Transmission | D32: 10.a. | E32: Connector damage or failure- Transmission | X32: # risk events (excluding ignitions)
D33: 10.b. | E33: Splice damage or failure — Transmission | X33: # risk events (excluding ignitions)
D34: 10.c. | E34: Crossarm damage or failure - Transmission | X34: # risk events (excluding ignitions)
D35: 10.d. | E35: Insulator damage or failure- Transmission | X35: # risk events (excluding ignitions)
D36: 10.e. | E36: Lightning arrestor damage or failure- Transmission | X36: # risk events (excluding ignitions)
D37: 10.f. | E37: Tap damage or failure - Transmission | X37: # risk events (excluding ignitions)
D38: 10.g. | E38: Tie wire damage or failure - Transmission | X38: # risk events (excluding ignitions)
D39: 10.h. | E39: Other - Transmission | X39: # risk events (excluding ignitions)
C40: 11. Wire-to-wire contact - Transmission | D40: 11.a. | E40: Wire-to-wire contact / contamination- Transmission | X40: # risk events (excluding ignitions)
C41: 12. Contamination - Transmission | D41: 12.a. | E41: Contamination - Transmission | X41: # risk events (excluding ignitions)
...

Sheet Table 7.2
B2: Utility | C2: =IF('Quarterly Submission Guide'!$D$20 = "", "",'Quarterly Submission Guide'!$D$20) -> Liberty | D2: Notes:
B3: Table No. | C3: 7.2 | D3: Transmission lines refer to all lines at or above 65kV, and distribution lines refer to all lines below 65kV.
B4: Date Modified | C4: ='Quarterly Submission Guide'!D24 -> 44501 | D4: Data from 2015 - 2019 should be actual numbers. 2020 - 2023 should be projected. In future submissions update projected numbers with actuals
G5: Number of ignitions by HFTD tier | AI5: Projected ignitions by HFTD tier
B6: Table 7.2: Key recent and projected drivers of ignitions by HFTD region | G6: Non-HFTD | H6: HFTD Zone 1 | I6: HFTD Tier 2 | J6: HFTD Tier 3 | K6: Non-HFTD | L6: HFTD Zone 1 | M6: HFTD Tier 2 | N6: HFTD Tier 3 | O6: Non-HFTD | P6: HFTD Zone 1 | Q6: HFTD Tier 2 | R6: HFTD Tier 3 | S6: Non-HFTD | T6: HFTD Zone 1 | U6: HFTD Tier 2 | V6: HFTD Tier 3 | W6: Non-HFTD | X6: HFTD Zone 1 | Y6: HFTD Tier 2 | Z6: HFTD Tier 3 | AA6: Non-HFTD | AB6: HFTD Zone 1 | AC6: HFTD Tier 2 | AD6: HFTD Tier 3 | AE6: Non-HFTD | AF6: HFTD Zone 1 | AG6: HFTD Tier 2 | AH6: HFTD Tier 3 | AI6: Non-HFTD | AJ6: HFTD Zone 1 | AK6: HFTD Tier 2 | AL6: HFTD Tier 3
C7: Metric type | D7: # | E7: Ignition driver | F7: Are ignitions tracked for ignition driver? (yes / no) | G7: 2015 | H7: 2015 | I7: 2015 | J7: 2015 | K7: 2016 | L7: 2016 | M7: 2016 | N7: 2016 | O7: 2017 | P7: 2017 | Q7: 2017 | R7: 2017 | S7: 2018 | T7: 2018 | U7: 2018 | V7: 2018 | W7: 2019 | X7: 2019 | Y7: 2019 | Z7: 2019 | AA7: 2020 | AB7: 2020 | AC7: 2020 | AD7: 2020 | AE7: 2021 | AF7: 2021 | AG7: 2021 | AH7: 2021 | AI7: 2022 | AJ7: 2022 | AK7: 2022 | AL7: 2022 | AM7: Unit(s) | AN7: Comments
A8: x | B8: Ignition - Distribution | C8: 1. Contact from object - Distribution | D8: 1.a. | E8: Veg. contact- Distribution | F8: Yes | Y8: 1 | AC8: 3 | AK8: 1 | AM8: # ignitions
D9: 1.b. | E9: Animal contact- Distribution | F9: Yes | AM9: # ignitions
D10: 1.c. | E10: Balloon contact- Distribution | F10: Yes | AM10: # ignitions
D11: 1.d. | E11: Vehicle contact- Distribution | F11: Yes | AM11: # ignitions
D12: 1.e. | E12: Other contact from object - Distribution | F12: Yes | AM12: # ignitions
C13: 2. Equipment / facility failure - Distribution | D13: 2.a. | E13: Capacitor bank damage or failure- Distribution | F13: Yes | AM13: # ignitions
D14: 2.b. | E14: Conductor damage or failure — Distribution | F14: Yes | AC14: 1 | AM14: # ignitions
D15: 2.c. | E15: Fuse damage or failure - Distribution | F15: Yes | U15: 1 | Y15: 2 | AC15: 2 | AK15: 1 | AM15: # ignitions
D16: 2.d. | E16: Lightning arrestor damage or failure- Distribution | F16: Yes | AM16: # ignitions
D17: 2.e. | E17: Switch damage or failure- Distribution | F17: Yes | AM17: # ignitions
D18: 2.f. | E18: Pole damage or failure - Distribution | F18: Yes | AM18: # ignitions
D19: 2.g. | E19: Insulator and brushing damage or failure - Distribution | F19: Yes | AM19: # ignitions
D20: 2.h. | E20: Crossarm damage or failure - Distribution | F20: Yes | AM20: # ignitions
D21: 2.i. | E21: Voltage regulator / booster damage or failure - Distribution | F21: Yes | AM21: # ignitions
D22: 2.j. | E22: Recloser damage or failure - Distribution | F22: Yes | AM22: # ignitions
D23: 2.k. | E23: Anchor / guy damage or failure - Distribution | F23: Yes | AM23: # ignitions
D24: 2.l. | E24: Sectionalizer damage or failure - Distribution | F24: Yes | AM24: # ignitions
D25: 2.m. | E25: Connection device damage or failure - Distribution | F25: Yes | AM25: # ignitions
D26: 2.n. | E26: Transformer damage or failure - Distribution | F26: Yes | U26: 2 | AC26: 2 | AM26: # ignitions
D27: 2.o. | E27: Other - Distribution | F27: Yes | U27: 2 | Y27: 6 | AC27: 5 | AK27: 3 | AM27: # ignitions
C28: 3. Wire-to-wire contact - Distribution | D28: 3.a. | E28: Wire-to-wire contact / contamination- Distribution | F28: Yes | AM28: # ignitions
C29: 4. Contamination - Distribution | D29: 4.a. | E29: Contamination - Distribution | F29: Yes | AM29: # ignitions
C30: 5. Utility work / Operation | D30: 5.a. | E30: Utility work / Operation | F30: Yes | AM30: # ignitions
C31: 6. Vandalism / Theft - Distribution | D31: 6.a. | E31: Vandalism / Theft - Distribution | F31: Yes | AM31: # ignitions
C32: 7. Other- Distribution | D32: 7.a. | E32: All Other- Distribution | F32: Yes | AM32: # ignitions
C33: 8. Unknown- Distribution | D33: 8.a. | E33: Unknown - Distribution | F33: Yes | AM33: # ignitions
A34: x | B34: Ignition - Transmission | C34: 9. Contact from object - Transmission | D34: 9.a. | E34: Veg. contact- Transmission | AM34: # ignitions
D35: 9.b. | E35: Animal contact- Transmission | AM35: # ignitions
D36: 9.c. | E36: Balloon contact- Transmission | AM36: # ignitions
D37: 9.d. | E37: Vehicle contact- Transmission | AM37: # ignitions
D38: 9.e. | E38: Other contact from object - Transmission | AM38: # ignitions
C39: 10. Equipment / facility failure - Transmission | D39: 10.a. | E39: Capacitor bank damage or failure- Transmission | AM39: # ignitions
D40: 10.b. | E40: Conductor damage or failure — Transmission | AM40: # ignitions
D41: 10.c. | E41: Fuse damage or failure - Transmission | AM41: # ignitions
...

Sheet Table 8
B2: Utility | C2: =IF('Quarterly Submission Guide'!$D$20 = "", "",'Quarterly Submission Guide'!$D$20) -> Liberty
B3: Table No. | C3: 8
B4: Date Modified | C4: ='Quarterly Submission Guide'!D24 -> 44501
AC5: Note: These columns are placeholders for future QR submissions.
B6: Table 8: State of service territory and utility equipment | E6: Non-HFTD | F6: HFTD Zone 1 | G6: HFTD Tier 2 | H6: HFTD Tier 3 | I6: Non-HFTD | J6: HFTD Zone 1 | K6: HFTD Tier 2 | L6: HFTD Tier 3 | M6: Non-HFTD | N6: HFTD Zone 1 | O6: HFTD Tier 2 | P6: HFTD Tier 3 | Q6: Non-HFTD | R6: HFTD Zone 1 | S6: HFTD Tier 2 | T6: HFTD Tier 3 | U6: Non-HFTD | V6: HFTD Zone 1 | W6: HFTD Tier 2 | X6: HFTD Tier 3 | Y6: Non-HFTD | Z6: HFTD Zone 1 | AA6: HFTD Tier 2 | AB6: HFTD Tier 3 | AC6: Non-HFTD | AD6: HFTD Zone 1 | AE6: HFTD Tier 2 | AF6: HFTD Tier 3 | AG6: Non-HFTD | AH6: HFTD Zone 1 | AI6: HFTD Tier 2 | AJ6: HFTD Tier 3
B7: Metric type | C7: # | D7: Outcome metric name | E7: 2015 | F7: 2015 | G7: 2015 | H7: 2015 | I7: 2016 | J7: 2016 | K7: 2016 | L7: 2016 | M7: 2017 | N7: 2017 | O7: 2017 | P7: 2017 | Q7: 2018 | R7: 2018 | S7: 2018 | T7: 2018 | U7: 2019 | V7: 2019 | W7: 2019 | X7: 2019 | Y7: 2020 | Z7: 2020 | AA7: 2020 | AB7: 2020 | AC7: 2021 | AD7: 2021 | AE7: 2021 | AF7: 2021 | AG7: 2022 | AH7: 2022 | AI7: 2022 | AJ7: 2022 | AK7: Unit(s) | AL7: Comments
A8: x | B8: 1. State of service territory and equipment in urban areas | C8: 1.a. | D8: Circuit miles (including WUI and non-WUI) | Y8: 29.559609 | AA8: 429.10247 | AB8: 0.025762 | AC8: 29.272421 | AE8: 428.31806 | AF8: 0.025757 | AK8: Circuit miles
C9: 1.b. | D9: Circuit miles in WUI | Y9: 27.134978 | AA9: 400.50219 | AB9: 0.025762 | AC9: 26.875999 | AE9: 399.71343 | AF9: 0.025762 | AK9: Circuit miles in WUI
C10: 1.c. | D10: Number of critical facilities (including WUI and non-WUI) | AA10: 138 | AB10: 3 | AE10: 21 | AK10: Number of critical facilities | AL10: Liberty updated its methodology for identifying critical facilities; new methodology is now based on ESRI data
C11: 1.d. | D11: Number of critical facilities in WUI | AA11: 79 | AB11: 3 | AE11: 17 | AK11: Number of critical facilities in WUI | AL11: Liberty updated its methodology for identifying critical facilities; new methodology is now based on ESRI data
C12: 1.e. | D12: Number of customers (including WUI and non-WUI) | Y12: 1214 | AA12: 16521 | AB12: 1 | AC12: 1214 | AE12: 16521 | AF12: 1 | AK12: Number of customers
C13: 1.f. | D13: Number of customers in WUI | Y13: 1191 | AA13: 16194 | AB13: 1 | AC13: 1191 | AE13: 16194 | AF13: 1 | AK13: Number of customers in WUI
C14: 1.g. | D14: Number of customers belonging to access and functional needs populations (including WUI and non-WUI) | Y14: 5 | AA14: 124 | AC14: 5 | AE14: 125 | AK14: Number of customers belonging to access and functional needs populations
C15: 1.h. | D15: Number of customers belonging to access and functional needs populations in WUI | Y15: 4 | AA15: 123 | AC15: 5 | AE15: 124 | AK15: Number of customers belonging to access and functional needs populations in WUI
C16: 1.i. | D16: Circuit miles of overhead transmission lines (including WUI and non-WUI) | Y16: 0.615654 | AA16: 0.925111 | AC16: 0.615654 | AE16: 0.925111 | AK16: Circuit miles of overhead transmission lines
C17: 1.j. | D17: Circuit miles of overhead transmission lines in WUI | Y17: 0.494737 | AA17: 0.841776 | AC17: 0.494737 | AE17: 0.841776 | AK17: Circuit miles of overhead transmission lines in WUI
C18: 1.k. | D18: Circuit miles of overhead distribution lines (including WUI and non-WUI) | Y18: 6.473681 | AA18: 323.62815 | AB18: 0.025762 | AC18: 6.473681 | AE18: 323.22208 | AF18: 0.025757 | AK18: Circuit miles of overhead distribution lines
C19: 1.l. | D19: Circuit miles of overhead distribution lines in WUI | Y19: 5.322374 | AA19: 305.93205 | AB19: 0.025762 | AC19: 5.322374 | AE19: 305.52598 | AF19: 0.025762 | AK19: Circuit miles of overhead distribution lines in WUI
C20: 1.m. | D20: Number of substations (including WUI and non-WUI) | AA20: 3 | AE20: 3 | AK20: Number of substations
C21: 1.n | D21: Number of substations in WUI | AA21: 2 | AE21: 2 | AK21: Number of substations in WUI
C22: 1.o. | D22: Number of weather stations (including WUI and non-WUI) | AA22: 1 | AE22: 1 | AK22: Number of weather stations
C23: 1.p. | D23: Number of weather stations in WUI | AK23: Number of weather stations in WUI
A24: x | B24: 2. State of service territory and equipment in rural areas | C24: 2.a. | D24: Circuit miles (including WUI and non-WUI) | Y24: 23.60683 | AA24: 1134.8534 | AB24: 135.67385 | AC24: 23.559601 | AE24: 1126.9433 | AF24: 135.51628 | AK24: Circuit miles
C25: 2.b. | D25: Circuit miles in WUI | Y25: 15.75039 | AA25: 873.881 | AB25: 116.27463 | AC25: 15.706307 | AE25: 869.60256 | AF25: 116.11706 | AK25: Circuit miles in WUI
C26: 2.c. | D26: Number of critical facilities (including WUI and non-WUI) | AA26: 138 | AB26: 1 | AC26: 3 | AE26: 38 | AF26: 3 | AK26: Number of critical facilities | AL26: Liberty updated its methodology for identifying critical facilities; new methodology is now based on ESRI data
C27: 2.d. | D27: Number of critical facilities in WUI | AA27: 49 | AB27: 1 | AC27: 1 | AE27: 29 | AF27: 3 | AK27: Number of critical facilities in WUI | AL27: Liberty updated its methodology for identifying critical facilities; new methodology is now based on ESRI data
C28: 2.e. | D28: Number of customers (including WUI and non-WUI) | Y28: 574 | AA28: 23260 | AB28: 2961 | AC28: 574 | AE28: 23260 | AF28: 2961 | AK28: Number of customers
C29: 2.f. | D29: Number of customers in WUI | Y29: 447 | AA29: 21705 | AB29: 2816 | AC29: 447 | AE29: 21705 | AF29: 2816 | AK29: Number of customers in WUI
C30: 2.g. | D30: Number of customers belonging to access and functional needs populations (including WUI and non-WUI) | Y30: 3 | AA30: 34 | AB30: 24 | AC30: 4 | AE30: 38 | AF30: 23 | AK30: Number of customers belonging to access and functional needs populations
C31: 2.h. | D31: Number of customers belonging to access and functional needs populations in WUI | Y31: 3 | AA31: 32 | AB31: 20 | AC31: 4 | AE31: 35 | AF31: 21 | AK31: Number of customers belonging to access and functional needs populations in WUI
C32: 2.i. | D32: Circuit miles of overhead transmission lines (including WUI and non-WUI) | Y32: 0.292338 | AA32: 14.947906 | AB32: 2.354766 | AC32: 0.292338 | AE32: 14.947906 | AF32: 2.354766 | AK32: Circuit miles of overhead transmission lines
C33: 2.j. | D33: Circuit miles of overhead transmission lines in WUI | Y33: 0.186249 | AA33: 2.982314 | AB33: 0.033126 | AC33: 0.186249 | AE33: 2.982314 | AF33: 0.033126 | AK33: Circuit miles of overhead transmission lines in WUI
C34: 2.k. | D34: Circuit miles of overhead distribution lines (including WUI and non-WUI) | Y34: 18.809435 | AA34: 756.52635 | AB34: 123.22161 | AC34: 18.78575 | AE34: 750.64758 | AF34: 123.06405 | AK34: Circuit miles of overhead distribution lines
C35: 2.l. | D35: Circuit miles of overhead distribution lines in WUI | Y35: 13.008702 | AA35: 582.89851 | AB35: 107.60706 | AC35: 12.988163 | AE35: 580.59588 | AF35: 107.44949 | AK35: Circuit miles of overhead distribution lines in WUI
C36: 2.m. | D36: Number of substations (including WUI and non-WUI) | AA36: 7 | AB36: 1 | AE36: 7 | AF36: 1 | AK36: Number of substations
C37: 2.n | D37: Number of substations in WUI | AA37: 3 | AE37: 3 | AK37: Number of substations in WUI
C38: 2.o. | D38: Number of weather stations (including WUI and non-WUI) | AA38: 15 | AB38: 1 | AE38: 15 | AF38: 1 | AK38: Number of weather stations
C39: 2.p. | D39: Number of weather stations in WUI | AK39: Number of weather stations in WUI
A40: x | B40: 3. State of service territory and equipment in highly rural areas | C40: 3.a. | D40: Circuit miles (including WUI and non-WUI) | Y40: 79.448879 | AA40: 227.75786 | AC40: 78.35105 | AE40: 226.52271 | AK40: Circuit miles
C41: 3.b. | D41: Circuit miles in WUI | Y41: 61.498245 | AA41: 145.98253 | AC41: 60.998904 | AE41: 145.66751 | AK41: Circuit miles in WUI
...

Sheet Table 9
B2: Utility | C2: =IF('Quarterly Submission Guide'!$D$20 = "", "",'Quarterly Submission Guide'!$D$20) -> Liberty | D2: Notes:
B3: Table No. | C3: 9 | D3: Transmission lines refer to all lines at or above 65kV, and distribution lines refer to all lines below 65kV. Report net additions using positive numbers and net removals and undergrounding using negative numbers for circuit miles and numbers of substations. Only report changes expected within the target year.
B4: Date Modified | C4: ='Quarterly Submission Guide'!D24 -> 44501 | D4: For example, if 20 net overhead circuit miles are planned for addition by 2023, with 15 being added by 2022 and 5 more added by 2023, then report “15” for 2022 and “5” for 2023. Do not report cumulative change across years. In this case, do not report “20” for 2023, but instead the number planned to be added for just that year, which is “5”.
E5: Actual | I5: Projected
B6: Table 9: Location of actual and planned utility equipment additions or removal year over year | E6: Non-HFTD | F6: HFTD Zone 1 | G6: HFTD Tier 2 | H6: HFTD Tier 3 | I6: Non-HFTD | J6: HFTD Zone 1 | K6: HFTD Tier 2 | L6: HFTD Tier 3 | M6: Non-HFTD | N6: HFTD Zone 1 | O6: HFTD Tier 2 | P6: HFTD Tier 3
B7: Metric type | C7: # | D7: Outcome metric name | E7: 2020 | F7: 2020 | G7: 2020 | H7: 2020 | I7: 2021 | J7: 2021 | K7: 2021 | L7: 2021 | M7: 2022 | N7: 2022 | O7: 2022 | P7: 2022 | Q7: Unit(s) | R7: Comments
A8: x | B8: 1. Planned utility equipment net addition (or removal) year over year - in urban areas | C8: 1.a. | D8: Circuit miles of overhead transmission lines (including WUI and non-WUI) | Q8: Circuit miles
C9: 1.b. | D9: Circuit miles of overhead distribution lines (including WUI and non-WUI) | Q9: Circuit miles
C10: 1.c. | D10: Circuit miles of overhead transmission lines in WUI | Q10: Circuit miles in WUI
C11: 1.d. | D11: Circuit miles of overhead distribution lines in WUI | Q11: Circuit miles in WUI
C12: 1.e. | D12: Number of substations (including WUI and non-WUI) | E12: 0 | F12: 0 | G12: 0 | H12: 0 | I12: 0 | J12: 0 | K12: -1 | L12: 0 | M12: 0 | N12: 0 | O12: 0 | P12: 0 | Q12: Number of substations
C13: 1.f. | D13: Number of substations in WUI | E13: 0 | F13: 0 | G13: 0 | H13: 0 | I13: 0 | J13: 0 | K13: -1 | L13: 0 | M13: 0 | N13: 0 | O13: 0 | P13: 0 | Q13: Number of substations in WUI
C14: 1.g. | D14: Number of weather stations (including WUI and non-WUI) | E14: 0 | F14: 0 | G14: 1 | H14: 0 | Q14: Number of weather stations | R14: TBD
C15: 1.h. | D15: Number of weather stations in WUI | E15: 0 | F15: 0 | G15: 1 | H15: 0 | Q15: Number of weather stations in WUI | R15: TBD
A16: x | B16: 2. Planned utility equipment net addition (or removal) year over year - in rural areas | C16: 2.a. | D16: Circuit miles of overhead transmission lines (including WUI and non-WUI) | Q16: Circuit miles
C17: 2.b. | D17: Circuit miles of overhead distribution lines (including WUI and non-WUI) | Q17: Circuit miles
C18: 2.c. | D18: Circuit miles of overhead transmission lines in WUI | Q18: Circuit miles in WUI
C19: 2.d. | D19: Circuit miles of overhead distribution lines in WUI | Q19: Circuit miles in WUI
C20: 2.e. | D20: Number of substations (including WUI and non-WUI) | E20: 0 | F20: 0 | G20: 0 | H20: 0 | I20: 0 | J20: 0 | K20: 0 | L20: 0 | M20: 0 | N20: 0 | O20: 0 | P20: 0 | Q20: Number of substations
C21: 2.f. | D21: Number of substations in WUI | E21: 0 | F21: 0 | G21: 0 | H21: 0 | I21: 0 | J21: 0 | K21: 0 | L21: 0 | M21: 0 | N21: 0 | O21: 0 | P21: 0 | Q21: Number of substations in WUI
C22: 2.g. | D22: Number of weather stations (including WUI and non-WUI) | E22: 0 | F22: 0 | G22: 8 | H22: 0 | Q22: Number of weather stations | R22: TBD
C23: 2.h. | D23: Number of weather stations in WUI | E23: 0 | F23: 0 | G23: 8 | H23: 0 | Q23: Number of weather stations in WUI | R23: TBD
A24: x | B24: 3. Planned utility equipment net addition (or removal) year over year - in highly rural areas | C24: 3.a. | D24: Circuit miles of overhead transmission lines (including WUI and non-WUI) | Q24: Circuit miles
C25: 3.b. | D25: Circuit miles of overhead distribution lines (including WUI and non-WUI) | Q25: Circuit miles
C26: 3.c. | D26: Circuit miles of overhead transmission lines in WUI | Q26: Circuit miles in WUI
C27: 3.d. | D27: Circuit miles of overhead distribution lines in WUI | Q27: Circuit miles in WUI
C28: 3.e. | D28: Number of substations (including WUI and non-WUI) | E28: 0 | F28: 0 | G28: 0 | H28: 0 | I28: 0 | J28: 0 | K28: 0 | L28: 0 | M28: 0 | N28: 0 | O28: 0 | P28: 0 | Q28: Number of substations
C29: 3.f. | D29: Number of substations in WUI | E29: 0 | F29: 0 | G29: 0 | H29: 0 | I29: 0 | J29: 0 | K29: 0 | L29: 0 | M29: 0 | N29: 0 | O29: 0 | P29: 0 | Q29: Number of substations in WUI
C30: 3.g. | D30: Number of weather stations (including WUI and non-WUI) | E30: 2 | F30: 0 | G30: 8 | H30: 0 | Q30: Number of weather stations | R30: TBD
C31: 3.h. | D31: Number of weather stations in WUI | E31: 0 | F31: 0 | G31: 0 | H31: 0 | Q31: Number of weather stations in WUI | R31: TBD
C61: Vegetation Management & Inspections

Sheet Table 10
B2: Utility | C2: =IF('Quarterly Submission Guide'!$D$20 = "", "",'Quarterly Submission Guide'!$D$20) -> Liberty | D2: Notes:
B3: Table No. | C3: 10 | D3: Transmission lines refer to all lines at or above 65kV, and distribution lines refer to all lines below 65kV.
B4: Date Modified | C4: ='Quarterly Submission Guide'!D24 -> 44501 | D4: In future submissions update planned upgrade numbers with actuals
D5: In the comments column on the far-right, enter the relevant program target(s) associated | E5: Actual | I5: Projected
B6: Table 10: Location of actual and planned utility infrastructure upgrades year over year | E6: Non-HFTD | F6: HFTD Zone 1 | G6: HFTD Tier 2 | H6: HFTD Tier 3 | I6: Non-HFTD | J6: HFTD Zone 1 | K6: HFTD Tier 2 | L6: HFTD Tier 3 | M6: Non-HFTD | N6: HFTD Zone 1 | O6: HFTD Tier 2 | P6: HFTD Tier 3
B7: Metric type | C7: # | D7: Outcome metric name | E7: 2020 | F7: 2020 | G7: 2020 | H7: 2020 | I7: 2021 | J7: 2021 | K7: 2021 | L7: 2021 | M7: 2022 | N7: 2022 | O7: 2022 | P7: 2022 | Q7: Unit(s) | R7: Comments
A8: x | B8: 1. Planned utility infrastructure upgrades year over year - in urban areas | C8: 1.a. | D8: Circuit miles of overhead transmission lines planned for upgrades (including WUI and non-WUI) | I8: 0 | J8: 0 | K8: 0 | L8: 0 | M8: 0 | N8: 0 | O8: 0 | P8: 0 | Q8: Circuit miles
C9: 1.b. | D9: Circuit miles of overhead distribution lines planned for upgrades (including WUI and non-WUI) | I9: 0 | J9: 0 | K9: 0.893162 | L9: 0 | M9: 0 | N9: 0 | O9: 0.585024 | P9: 0 | Q9: Circuit miles
C10: 1.c. | D10: Circuit miles of overhead transmission lines planned for upgrades in WUI | I10: 0 | J10: 0 | K10: 0 | L10: 0 | M10: 0 | N10: 0 | O10: 0 | P10: 0 | Q10: Circuit miles in WUI
C11: 1.d. | D11: Circuit miles of overhead distribution lines planned for upgrades in WUI | I11: 0 | J11: 0 | K11: 0.893162 | L11: 0 | M11: 0 | N11: 0 | O11: 0.585024 | P11: 0 | Q11: Circuit miles in WUI
C12: 1.e. | D12: Number of substations planned for upgrades (including WUI and non-WUI) | E12: 0 | F12: 0 | G12: 1 | H12: 0 | I12: 0 | J12: 0 | K12: 1 | L12: 0 | M12: 0 | N12: 0 | O12: 0 | P12: 0 | Q12: Number of substations
C13: 1.f. | D13: Number of substations planned for upgrades in WUI | E13: 0 | F13: 0 | G13: 1 | H13: 0 | I13: 0 | J13: 0 | K13: 1 | L13: 0 | M13: 0 | N13: 0 | O13: 0 | P13: 0 | Q13: Number of substations in WUI
C14: 1.g. | D14: Number of weather stations planned for upgrades (including WUI and non-WUI) | E14: 0 | F14: 0 | G14: 1 | H14: 0 | I14: 0 | J14: 0 | K14: 1 | L14: 0 | M14: 0 | N14: 0 | O14: 0 | P14: 0 | Q14: Number of weather stations
C15: 1.h. | D15: Number of weather stations planned for upgrades in WUI | E15: 0 | F15: 0 | G15: 1 | H15: 0 | I15: 0 | J15: 0 | K15: 1 | L15: 0 | M15: 0 | N15: 0 | O15: 0 | P15: 0 | Q15: Number of weather stations in WUI
A16: x | B16: 2. Planned utility infrastructure upgrades year over year - in rural areas | C16: 2.a. | D16: Circuit miles of overhead transmission lines planned for upgrades (including WUI and non-WUI) | I16: 0 | J16: 0 | K16: 0 | L16: 0 | M16: 0 | N16: 0 | O16: 0.009297 | P16: 3.310733 | Q16: Circuit miles
C17: 2.b. | D17: Circuit miles of overhead distribution lines planned for upgrades (including WUI and non-WUI) | I17: 0 | J17: 0 | K17: 9.946695 | L17: 0 | M17: 0 | N17: 0 | O17: 17.868234 | P17: 6.514635 | Q17: Circuit miles
C18: 2.c. | D18: Circuit miles of overhead transmission lines planned for upgrades in WUI | I18: 0 | J18: 0 | K18: 0 | L18: 0 | M18: 0 | N18: 0 | O18: 0 | P18: 0.167006 | Q18: Circuit miles in WUI
C19: 2.d. | D19: Circuit miles of overhead distribution lines planned for upgrades in WUI | I19: 0 | J19: 0 | K19: 3.900175 | L19: 0 | M19: 0 | N19: 0 | O19: 12.028377 | P19: 0.319571 | Q19: Circuit miles in WUI
C20: 2.e. | D20: Number of substations planned for upgrades (including WUI and non-WUI) | E20: 0 | F20: 0 | G20: 0 | H20: 0 | I20: 0 | J20: 0 | K20: 2 | L20: 1 | M20: 1 | N20: 0 | O20: 0 | P20: 0 | Q20: Number of substations
C21: 2.f. | D21: Number of substations planned for upgrades in WUI | E21: 0 | F21: 0 | G21: 0 | H21: 0 | I21: 0 | J21: 0 | K21: 2 | L21: 1 | M21: 1 | N21: 0 | O21: 0 | P21: 0 | Q21: Number of substations in WUI
