Workbook

Sheet Quarterly Submission Guide
C1: Yes | D1: No | E1: <-- for dropdowns
B3: Wildfire Safety Division Attachment 2.3
B4: Wildifire Mitigation Plan Quarterly report - non-spatial data template
B5: Resolution WSD-011 Attachment 2.3
B6: Instructions for use | J6: Relevant options for mitigations table: Table 12
B7: 1 | C7: Fill out the tan cells (color represented here) starting with the cell below (D17: Utility). The Utility name will populate the Table tabs to follow. Date modified will vary by table.
B8: 2 | C8: Cells will only accept valid entries. For most cells, this is positive numbers
B9: 3 | C9: For each Table tab, after a modification is made, denote the date of the change in cell C4 for each Table tab. | K9: Initiative categories | L9: WMP Maturity model Categories | M9: Driver options
B10: 4 | C10: Some columns have an additional header in row 5 to serve as clarification for several columns. With the exception of projected data, row 5 will be highlighted in blue (color represented here) | K10: Vegetation inspection | L10: Risk Assessment & Mapping | M10: 1. Ignitions | N10: Contact with vegetation
B11: 5 | C11: Some required metrics are future projections. For these, row 5, above the projections will be highlighted light green (color represented here) | K11: Vegetation management project | L11: Situational Awareness & Forecasting | N11: Other contact with object
C12: In future submissions, report updated projected numbers if / when projections have changed, and report actuals once the quarter / year has passed. | K12: Asset inspection | L12: Grid Design & System Hardening | N12: Equipment failure
B13: 6 | C13: For data required annually rather than quarterly (see Tables 7.3 - 10), report for entire year even if part of the year is projected. Once year has passed, update cell with actuals | K13: Grid hardening | L13: Asset Management & Inspections | N13: Wire-to-wire contact
B14: 7 | C14: Some tables will have additional instructions provided in a Notes box located in cells D2 - D4 | K14: Other | L14: Vegetation Management & Inspections | N14: Contamination
C15: Notes will explain terms, signal where projections are required, and provide other useful information. | L15: Grid Operations & Operating Protocols | N15: Vandalism / Theft
B16: 8 | C16: For the initial quarterly submission, utilities are required to submit data on annual metrics for 2015 - 2020, which should represent the most updated data from the 2020 WMP for years 2015-2019 | L16: Data Governance | M16: 2. PSPS | N16: PSPS - for sectionalization, etc.
B17: * | C17: Do not add or manipulate the template for any of the tabs | L17: Resource Allocation Methodology
L18: Emergency Planning & Preparedness
B19: Update the below table to establish which year, quarter of the WMP cycle this submission this represents. | L19: Stakeholder Cooperation & Community Engagement
B20: Utility | D20: SDG&E
B21: First year of 3-year WMP cycle | D21: 2020
B22: Submission year | D22: 2021
B23: Submission quarter | D23: Q1
B24: Date Modified | D24: 44319

Sheet Table 1
B2: Utility | C2: =IF('Quarterly Submission Guide'!$D$20 = "", "",'Quarterly Submission Guide'!$D$20) -> SDG&E | D2: Notes:
B3: Table No. | C3: 1 | D3: Transmission lines refer to all lines at or above 65kV, and distribution lines refer to all lines below 65kV.
B4: Date Modified | C4: 44501
N5: Note: These columns are placeholders for future QR submissions.
B6: Table 1: Recent performance on progress metrics | J6: 1 | K6: 2 | L6: 3 | M6: 4 | N6: 1 | O6: 2 | P6: 3 | Q6: 4 | R6: 1 | S6: 2 | T6: 3 | U6: 4
B7: Metric type | C7: # | D7: Progress metric name | E7: 2015 | F7: 2016 | G7: 2017 | H7: 2018 | I7: 2019 | J7: 2020 | K7: 2020 | L7: 2020 | M7: 2020 | N7: 2021 | O7: 2021 | P7: 2021 | Q7: 2021 | R7: 2022 | S7: 2022 | T7: 2022 | U7: 2022 | V7: Unit(s) | W7: Comments
B8: 1. Grid condition findings from inspection - Distribution lines in HFTD | C8: 1.a. | D8: Number of circuit miles inspected from patrol inspections in HFTD - Distribution lines | E8: 3443 | F8: 3443 | G8: 3443 | H8: 3443 | I8: 3443 | J8: 1295 | K8: 1246 | L8: 800 | M8: 102 | N8: 973 | O8: 1040 | P8: 821 | V8: # circuit miles
C9: 1.b. | D9: Number of circuit miles inspected from detailed inspections in HFTD - Distribution lines | E9: 756 | F9: 880 | G9: 692 | H9: 510 | I9: 680 | J9: 361 | K9: 289 | L9: 90 | M9: 20 | N9: 813 | O9: 222 | P9: 137 | V9: # circuit miles
C10: 1.c. | D10: Number of circuit miles inspected from other inspections (list types of "other" inspections in comments) in HFTD - Distribution lines | E10: 766 | F10: 542 | G10: 644 | H10: 948 | I10: 261 | J10: 490 | K10: 0 | L10: 0 | M10: 0 | N10: 143 | O10: 56 | P10: 31 | V10: # circuit miles
C11: 1.d. | D11: Level 1 findings in HFTD for patrol inspections - Distribution lines | E11: 15 | F11: 3 | G11: 4 | H11: 8 | I11: 8 | J11: 1 | K11: 4 | L11: 1 | M11: 0 | N11: 0 | O11: 0 | P11: 3 | V11: # findings
C12: 1.e. | D12: Level 1 findings in HFTD for detailed inspections - Distribution lines | E12: 235 | F12: 192 | G12: 11 | H12: 67 | I12: 8 | J12: 8 | K12: 9 | L12: 2 | M12: 0 | N12: 1 | O12: 1 | P12: 4 | V12: # findings
C13: 1.f. | D13: Level 1 findings in HFTD for other inspections (list types of "other" inspections in comments) - Distribution lines | E13: 11 | F13: 5 | G13: 34 | H13: 10 | I13: 13 | J13: 2 | K13: 1 | L13: 0 | M13: 0 | N13: 3 | O13: 1 | P13: 0 | V13: # findings
C14: 1.g. | D14: Level 2 findings in HFTD for patrol inspections - Distribution lines | E14: 175 | F14: 212 | G14: 234 | H14: 171 | I14: 240 | J14: 71 | K14: 66 | L14: 51 | M14: 16 | N14: 67 | O14: 117 | P14: 51 | V14: # findings
C15: 1.h. | D15: Level 2 findings in HFTD for detailed inspections - Distribution lines | E15: 1066 | F15: 952 | G15: 638 | H15: 737 | I15: 666 | J15: 654 | K15: 303 | L15: 81 | M15: 6 | N15: 512 | O15: 149 | P15: 20 | V15: # findings
C16: 1.i. | D16: Level 2 findings in HFTD for other inspections (list types of "other" inspections in comments) - Distribution lines | E16: 73 | F16: 82 | G16: 313 | H16: 234 | I16: 255 | J16: 7 | K16: 25 | L16: 9 | M16: 23 | N16: 54 | O16: 34 | P16: 2 | V16: # findings
C17: 1.j. | D17: Level 3 findings in HFTD for patrol inspections - Distribution lines | E17: N/A | F17: N/A | G17: N/A | H17: N/A | I17: N/A | J17: N/A | K17: N/A | L17: N/A | M17: N/A | N17: N/A | O17: N/A | P17: N/A | V17: # findings
C18: 1.k. | D18: Level 3 findings in HFTD for detailed inspections - Distribution lines | E18: N/A | F18: N/A | G18: N/A | H18: N/A | I18: N/A | J18: N/A | K18: N/A | L18: N/A | M18: N/A | N18: N/A | O18: N/A | P18: N/A | V18: # findings
C19: 1.l. | D19: Level 3 findings in HFTD for other inspections (list types of "other" inspections in comments) - Distribution lines | E19: N/A | F19: N/A | G19: N/A | H19: N/A | I19: N/A | J19: N/A | K19: N/A | L19: N/A | M19: N/A | N19: N/A | O19: N/A | P19: N/A | V19: # findings
B20: 1. Grid condition findings from inspection - Distribution lines total | C20: =C8&"ii." -> 1.a.ii. | D20: Number of total circuit miles inspected from patrol inspections - Distribution lines | E20: 6445 | F20: 6445 | G20: 6445 | H20: 6445 | I20: 6445 | J20: 2242 | K20: 2188 | L20: 1564 | M20: 451 | N20: 1667 | O20: 1839 | P20: 1780 | V20: # circuit miles
C21: =C9&"ii." -> 1.b.ii. | D21: Number of total circuit miles inspected from detailed inspections - Distribution lines | E21: 756 | F21: 880 | G21: 692 | H21: 510 | I21: 680 | J21: 361 | K21: 289 | L21: 90 | M21: 20 | N21: 912 | O21: 336 | P21: 287 | V21: # circuit miles
C22: =C10&"ii." -> 1.c.ii. | D22: Number of total circuit miles inspected from other inspections (list types of "other" inspections in comments) - Distribution lines | E22: 766 | F22: 542 | G22: 644 | H22: 948 | I22: 261 | J22: 490 | K22: 0 | L22: 0 | M22: 0 | N22: 155 | O22: 112 | P22: 72 | V22: # circuit miles
C23: =C11&"ii." -> 1.d.ii. | D23: Level 1 findings for patrol inspections - Distribution lines | E23: 49 | F23: 19 | G23: 26 | H23: 24 | I23: 21 | J23: 9 | K23: 16 | L23: 2 | M23: 3 | N23: 4 | O23: 1 | P23: 3 | V23: # findings
C24: =C12&"ii." -> 1.e.ii. | D24: Level 1 findings for detailed inspections - Distribution lines | E24: 261 | F24: 218 | G24: 57 | H24: 101 | I24: 28 | J24: 21 | K24: 18 | L24: 9 | M24: 2 | N24: 12 | O24: 9 | P24: 4 | V24: # findings
C25: =C13&"ii." -> 1.f.ii. | D25: Level 1 findings for other inspections (list types of "other" inspections in comments) - Distribution lines | E25: 53 | F25: 18 | G25: 57 | H25: 13 | I25: 14 | J25: 6 | K25: 2 | L25: 0 | M25: 2 | N25: 6 | O25: 2 | P25: 0 | V25: # findings
C26: =C14&"ii." -> 1.g.ii. | D26: Level 2 findings for patrol inspections - Distribution lines | E26: 704 | F26: 1130 | G26: 1005 | H26: 969 | I26: 933 | J26: 387 | K26: 345 | L26: 213 | M26: 129 | N26: 263 | O26: 289 | P26: 233 | V26: # findings
C27: =C15&"ii." -> 1.h.ii. | D27: Level 2 findings for detailed inspections - Distribution lines | E27: 2553 | F27: 2314 | G27: 1966 | H27: 1746 | I27: 1760 | J27: 1006 | K27: 670 | L27: 349 | M27: 77 | N27: 874 | O27: 573 | P27: 353 | V27: # findings
C28: =C16&"ii." -> 1.i.ii. | D28: Level 2 findings for other inspections (list types of "other" inspections in comments) - Distribution lines | E28: 1793 | F28: 1153 | G28: 1162 | H28: 364 | I28: 351 | J28: 23 | K28: 50 | L28: 26 | M28: 42 | N28: 78 | O28: 86 | P28: 10 | V28: # findings
C29: =C17&"ii." -> 1.j.ii. | D29: Level 3 findings for patrol inspections - Distribution lines | E29: N/A | F29: N/A | G29: N/A | H29: N/A | I29: N/A | J29: N/A | K29: N/A | L29: N/A | M29: N/A | N29: N/A | O29: N/A | P29: N/A | V29: # findings
C30: =C18&"ii." -> 1.k.ii. | D30: Level 3 findings for detailed inspections - Distribution lines | E30: N/A | F30: N/A | G30: N/A | H30: N/A | I30: N/A | J30: N/A | K30: N/A | L30: N/A | M30: N/A | N30: N/A | O30: N/A | P30: N/A | V30: # findings
C31: =C19&"ii." -> 1.l.ii. | D31: Level 3 findings for other inspections (list types of "other" inspections in comments) - Distribution lines | E31: N/A | F31: N/A | G31: N/A | H31: N/A | I31: N/A | J31: N/A | K31: N/A | L31: N/A | M31: N/A | N31: N/A | O31: N/A | P31: N/A | V31: # findings
B32: 1. Grid condition findings from inspection - Transmission lines in HFTD | C32: =C8&"iii." -> 1.a.iii. | D32: Number of circuit miles inspected from patrol inspections in HFTD - Transmission lines | E32: 915.4 | F32: 945.9 | G32: 945.9 | H32: 960.9 | I32: 973.8 | J32: 696.4 | K32: 176.1 | L32: 101.3 | M32: 0 | N32: 496.5 | O32: 346.1 | P32: 100.97 | V32: # circuit miles
C33: =C9&"iii." -> 1.b.iii. | D33: Number of circuit miles inspected from detailed inspections in HFTD - Transmission lines | E33: 353.9 | F33: 263.6 | G33: 328.4 | H33: 332.9 | I33: 285.9 | J33: 40.6 | K33: 97.3 | L33: 84.1 | M33: 133.1 | N33: 89.7 | O33: 64.5 | P33: 138.97 | V33: # circuit miles
C34: =C10&"iii." -> 1.c.iii. | D34: Number of circuit miles inspected from other inspections (list types of "other" inspections in comments) in HFTD - Transmission lines | E34: 958.7 | F34: 933.7 | G34: 933.7 | H34: 961.1 | I34: 961.6 | J34: 0 | K34: 0 | L34: 473.3 | M34: 469.45 | N34: 0 | O34: 0 | P34: 829.19 | V34: # circuit miles
C35: =C11&"iii." -> 1.d.iii. | D35: Level 1 findings in HFTD for patrol inspections - Transmission lines | E35: 0 | F35: 0 | G35: 0 | H35: 0 | I35: 0 | J35: 0 | K35: 0 | L35: 0 | M35: 0 | N35: 0 | O35: 0 | P35: 0 | V35: # findings
C36: =C12&"iii." -> 1.e.iii. | D36: Level 1 findings in HFTD for detailed inspections - Transmission lines | E36: 0 | F36: 0 | G36: 0 | H36: 2 | I36: 0 | J36: 0 | K36: 0 | L36: 0 | M36: 0 | N36: 0 | O36: 0 | P36: 0 | V36: # findings
C37: =C13&"iii." -> 1.f.iii. | D37: Level 1 findings in HFTD for other inspections (list types of "other" inspections in comments) - Transmission lines | E37: 0 | F37: 0 | G37: 0 | H37: 0 | I37: 0 | J37: 0 | K37: 0 | L37: 0 | M37: 1 | N37: 0 | O37: 0 | P37: 0 | V37: # findings
C38: =C14&"iii." -> 1.g.iii. | D38: Level 2 findings in HFTD for patrol inspections - Transmission lines | E38: 25 | F38: 19 | G38: 8 | H38: 9 | I38: 4 | J38: 0 | K38: 2 | L38: 0 | M38: 0 | N38: 1 | O38: 1 | P38: 0 | V38: # findings
C39: =C15&"iii." -> 1.h.iii. | D39: Level 2 findings in HFTD for detailed inspections - Transmission lines | E39: 469 | F39: 100 | G39: 156 | H39: 451 | I39: 226 | J39: 116 | K39: 122 | L39: 56 | M39: 63 | N39: 115 | O39: 99 | P39: 79 | V39: # findings
C40: =C16&"iii." -> 1.i.iii. | D40: Level 2 findings in HFTD for other inspections (list types of "other" inspections in comments) - Transmission lines | E40: 30 | F40: 22 | G40: 9 | H40: 6 | I40: 9 | J40: 0 | K40: 0 | L40: 10 | M40: 4 | N40: 0 | O40: 2 | P40: 5 | V40: # findings
C41: =C17&"iii." -> 1.j.iii. | D41: Level 3 findings in HFTD for patrol inspections - Transmission lines | E41: 0 | F41: 0 | G41: 0 | H41: 0 | I41: 0 | J41: 0 | K41: 0 | L41: 0 | M41: 0 | N41: 0 | O41: 0 | P41: 0 | V41: # findings
...

Sheet Table 2
B2: Utility | C2: =IF('Quarterly Submission Guide'!$D$20 = "", "",'Quarterly Submission Guide'!$D$20) -> SDG&E | D2: Notes:
B3: Table No. | C3: 2 | D3: Transmission lines refer to all lines at or above 65kV, and distribution lines refer to all lines below 65kV.
B4: Date Modified | C4: 44501
N5: Note: These columns are placeholders for future QR submissions.
B6: Table 2: Recent performance on outcome metrics | J6: 1 | K6: 2 | L6: 3 | M6: 4 | N6: 1 | O6: 2 | P6: 3 | Q6: 4 | R6: 1 | S6: 2 | T6: 3 | U6: 4
B7: Metric type | C7: # | D7: Outcome metric name | E7: 2015 | F7: 2016 | G7: 2017 | H7: 2018 | I7: 2019 | J7: 2020 | K7: 2020 | L7: 2020 | M7: 2020 | N7: 2021 | O7: 2021 | P7: 2021 | Q7: 2021 | R7: 2022 | S7: 2022 | T7: 2022 | U7: 2022 | V7: Unit(s) | W7: Comments
B8: 1. Risk events | C8: 1.a. | D8: Number of all events with probability of ignition, including wires down, contacts with objects, line slap, events with evidence of heat generation, and other events that cause sparking or have the potential to cause ignition | E8: 1065 | F8: 1294 | G8: 1167 | H8: 1068 | I8: 1148 | J8: 234 | K8: 263 | L8: 347 | M8: 268 | N8: 328 | O8: =SUM('Table 7.1'!Q46:'Table 7.1'!Q97) -> 273 | P8: 311 | V8: Number per year
C9: 1.b. | D9: Number of wires down (total) | E9: 61 | F9: 143 | G9: 138 | H9: 96 | I9: 114 | J9: 29 | K9: 19 | L9: 21 | M9: 26 | N9: 24 | O9: =SUM('Table 7.1'!Q8:Q45) -> 23 | P9: 12 | V9: Number of wires down per year
C10: 1.c. | D10: Number of outage events not caused by contact with vegetation (total) | E10: =E8-E11 -> 1037 | F10: =F8-F11 -> 1232 | G10: =G8-G11 -> 1097 | H10: =H8-H11 -> 1033 | I10: =I8-I11 -> 1121 | J10: =J8-J11 -> 223 | K10: =K8-K11 -> 256 | L10: =L8-L11 -> 342 | ... P10: =P8-P11 -> 303 | V10: Number of outage events per year
C11: 1.d. | D11: Number of outage events caused by contact with vegetation (total) | E11: 28 | F11: 62 | G11: 70 | H11: 35 | I11: 27 | J11: 11 | K11: 7 | L11: 5 | M11: 8 | N11: 17 | O11: ='Table 7.1'!Q46+'Table 7.1'!Q72 -> 4 | P11: 8 | V11: Number of outage events per year
B12: 2. Utility inspection findings - Distribution | C12: 2.a. | D12: Number of Level 1 findings (distribution - total) | E12: 363 | F12: 255 | G12: 140 | H12: 138 | I12: 63 | J12: 36 | K12: 36 | L12: 11 | M12: 7 | N12: 22 | O12: 12 | P12: 7 | V12: # findings
C13: 2.b. | D13: Number of Level 2 findings (distribution - total) | E13: 1018 | F13: 1366 | G13: 1119 | H13: 1083 | I13: 975 | J13: 414 | K13: 365 | L13: 222 | M13: 133 | N13: 281 | O13: 498 | P13: 596 | V13: # findings
C14: 2.c. | D14: Number of Level 3 findings (distribution - total) | E14: NA | F14: NA | G14: NA | H14: NA | I14: NA | J14: NA | K14: NA | L14: NA | M14: NA | N14: NA | O14: NA | P14: NA | V14: # findings
C15: 2.d. | D15: Number of distribution circuit miles inspected | E15: 7967 | F15: 7867 | G15: 7781 | H15: 7903 | I15: 7386 | J15: 3093 | K15: 2477 | L15: 1654 | M15: 471 | N15: 743 | O15: 2287 | P15: 2139 | V15: # circuit miles
B16: 2. Utility inspection findings - Transmission | C16: 2.a.ii | D16: Number of Level 1 findings (transmission - total) | E16: 10 | F16: 2 | G16: 4 | H16: 9 | I16: 10 | J16: 0 | K16: 0 | L16: 1 | M16: 1 | N16: 1 | O16: 0 | P16: 0 | V16: # findings
C17: 2.b.ii | D17: Number of Level 2 findings (transmission - total) | E17: 1161 | F17: 422 | G17: 476 | H17: 930 | I17: 578 | J17: 323 | K17: 247 | L17: 165 | M17: 158 | N17: 262 | O17: 421 | P17: 226 | V17: # findings
C18: 2.c.ii | D18: Number of Level 3 findings (transmission - total) | E18: 60 | F18: 63 | G18: 84 | H18: 65 | I18: 51 | J18: 12 | K18: 9 | L18: 2 | M18: 38 | N18: 5 | O18: 54 | P18: 3 | V18: # findings
C19: 2.d.ii | D19: Number of transmission circuit miles inspected | E19: 3989.9 | F19: 3895.8 | G19: 3935.2 | H19: 4006.8 | I19: 3972.1 | J19: 1250.6 | K19: 679.7 | L19: 1219.8 | M19: 899.9 | N19: 1136.2 | O19: 779.1 | P19: 1826 | V19: # circuit miles
B20: 3. Utility ignited wildfire fatalities | C20: 3.a. | D20: Fatalities due to utility-ignited wildfire (total) | E20: 0 | F20: 0 | G20: 0 | H20: 0 | I20: 0 | J20: 0 | K20: 0 | L20: 0 | M20: 0 | N20: 0 | O20: 0 | P20: 0 | V20: Number of fatalities per year
C21: 3.b. | D21: Injuries due to utility-ignited wildfire (total) | E21: 0 | F21: 0 | G21: 0 | H21: 0 | I21: 0 | J21: 0 | K21: 0 | L21: 0 | M21: 0 | N21: 0 | O21: 0 | P21: 0 | V21: Number of injuries per year
B22: 4. Value of assets destroyed by utility-ignited wildfire, listed by asset type | C22: 4.a. | D22: Value of assets destroyed by utility-ignited wildfire (total) | E22: 0 | F22: 0 | G22: 0 | H22: 2900 | I22: 0 | J22: 0 | K22: 0 | L22: 0 | M22: 0 | N22: 0 | O22: 0 | P22: 0 | V22: Dollars of damage or destruction per year
B23: 5. Structures damaged or destroyed by utility-ignited wildfire | C23: 5.a. | D23: Number of structures destroyed by utility-ignited wildfire (total) | E23: 0 | F23: 0 | G23: 0 | H23: 1 | I23: 0 | J23: 0 | K23: 0 | L23: 0 | M23: 0 | N23: 0 | O23: 0 | P23: 0 | V23: Number of structures destroyed per year | W23: Structure count in 2018 is changed from 0.0437292 to 1
C24: 5.b. | D24: Critical infrastructure damaged/destroyed by utility-ignited wildfire (total) | N24: 0.0121 | O24: 0.3481 | P24: 0 | V24: Number of critical infrastructure damaged/destroyed per year
B25: 6. Acreage burned by utility-ignited wildfire | C25: 6.a. | D25: Acreage burned by utility-ignited wildfire (total) | E25: 213 | F25: 7 | G25: 16 | H25: 28 | I25: 8 | J25: 0.25 | K25: 0.26 | L25: 7.69 | M25: 4.37 | N25: 0.0121 | O25: 0.3481 | P25: 1.0087 | V25: Acres burned per year
B26: 7. Number of utility wildfire ignitons | C26: 7.a. | D26: Number of ignitions (total) according to existing ignition data reporting requirement | E26: 32 | F26: 30 | G26: 23 | H26: 26 | I26: 21 | J26: 3 | K26: 5 | L26: 16 | M26: 5 | N26: 3 | O26: 9 | P26: 9 | V26: Number per year
C27: 7.b. | D27: Number of ignitions in HFTD (subtotal) | E27: =E29+E30 -> 19 | F27: =F29+F30 -> 18 | G27: 15 | H27: =H29+H30 -> 13 | I27: =I29+I30 -> 12 | J27: =J29+J30 -> 2 | K27: =K29+K30 -> 4 | L27: =L29+L30 -> 12 | M27: =M29+M30 -> 5 | N27: 2 | O27: 5 | P27: 6 | V27: Number in HFTD per year
C28: 7.c. | D28: Number of ignitions in HFTD Zone 1 | E28: NA | F28: NA | G28: NA | H28: NA | I28: NA | J28: NA | K28: NA | L28: NA | M28: NA | N28: NA | O28: NA | P28: NA | V28: Number in HFTD Zone 1 per year
C29: 7.c.ii. | D29: Number of ignitions in HFTD Tier 2 | E29: 13 | F29: 11 | G29: 7 | H29: 7 | I29: 9 | J29: 1 | K29: 2 | L29: 5 | M29: 3 | N29: 2 | O29: 2 | P29: 3 | V29: Number in HFTD Tier 2 per year
C30: 7.c.iii. | D30: Number of ignitions in HFTD Tier 3 | E30: 6 | F30: 7 | G30: 8 | H30: 6 | I30: 3 | J30: 1 | K30: 2 | L30: 7 | M30: 2 | N30: 0 | O30: 3 | P30: 3 | V30: Number in HFTD Tier 3 per year
C31: 7.d. | D31: Number of ignitions in non-HFTD (subtotal) | E31: 13 | F31: 12 | G31: 8 | H31: 13 | I31: 9 | J31: 1 | K31: 1 | L31: 4 | M31: 0 | N31: 1 | O31: 4 | P31: 3 | V31: Number in non-HFTD per year
B32: 8. Fatalities resulting from utility wildfire mitigation initiatives | C32: 8.a. | D32: Fatalities due to utility wildfire mitigation activities (total) - "activities" defined as all activities accounted for in the 2020 WMP proposed WMP spend | E32: 1 | F32: 0 | G32: 0 | H32: 0 | I32: 0 | J32: 0 | K32: 0 | L32: 0 | M32: 0 | N32: 0 | O32: 0 | P32: 0 | V32: Number of fatalities per year
B33: 9. OSHA-reportable injuries from utility wildfire mitigation initiatives | C33: 9.a. | D33: OSHA-reportable injuries due to utility wildfire mitigation activities (total) - "activities" defined as all activities accounted for in the 2020 WMP proposed WMP spend | E33: 0 | F33: 1 | G33: 0 | H33: 0 | I33: 0 | J33: 0 | K33: 0 | L33: 0 | M33: 0 | N33: 0 | O33: 0 | P33: 0 | V33: Number of OSHA-reportable injuries per year

Sheet Table 3
B2: Utility | C2: =IF('Quarterly Submission Guide'!$D$20 = "", "",'Quarterly Submission Guide'!$D$20) -> SDG&E | E2: =IF('Quarterly Submission Guide'!$D$20 = "", "",'Quarterly Submission Guide'!$D$20) -> SDG&E
B3: Table No. | C3: 3 | E3: 3
B4: Date Modified | C4: 44501 | E4: 44317
R5: Note: These columns are placeholders for future QR submissions.
B6: Table 3: List and description of additional metrics | N6: 1 | O6: 2 | P6: 3 | Q6: 4 | R6: 1 | S6: 2 | T6: 3 | U6: 4 | V6: 1 | W6: 2 | X6: 3 | Y6: 4
B7: Metric | C7: # | D7: Metric Name | E7: Definition | F7: Purpose | G7: Assumptions made to connect metric to purpose | H7: Third-party validation (if any) | I7: 2015 | J7: 2016 | K7: 2017 | L7: 2018 | M7: 2019 | N7: 2020 | O7: 2020 | P7: 2020 | Q7: 2020 | R7: 2021 | S7: 2021 | T7: 2021 | U7: 2021 | V7: 2022 | W7: 2022 | X7: 2022 | Y7: 2022 | Z7: Unit(s) | AA7: Comments
B8: 1. Elevated FPI and Red Flag Warning Days | C8: 1.a. | D8: Number of elevated or extreme FPI | G8: Elevated or extreme FPI is associated with greater wildfire risk | H8: No | I8: 108 | J8: 138 | K8: 169 | L8: 182 | M8: 137 | N8: 0 | O8: 13 | P8: 92 | Q8: 59 | R8: 7 | S8: 27 | T8: 91 | Z8: Days
C9: 1.b. | D9: Number of RFW days | G9: RFW is associated with greater wildfire risk. | H9: No | I9: 4 | J9: 19 | K9: 22 | L9: 12 | M9: 10 | N9: 0 | O9: 0 | P9: 6 | Q9: 13 | R9: 5 | S9: 0 | T9: 0 | Z9: Days | AA9: Time is not included when calculating the number of RFW days.
B10: 2. Ignition Events | C10: 2.a. | D10: Vegetation caused ignitons in HFTD with elevated or higher FPI | H10: No | I10: 3 | J10: 1 | K10: 2 | L10: 0 | M10: 0 | N10: 0 | O10: 0 | P10: 1 | Q10: 0 | R10: 0 | S10: 0 | T10: 0 | Z10: Incidents
C11: 2.b. | D11: Vegetation caused ignitons in HFTD with RFW | H11: No | I11: 0 | J11: 0 | K11: 1 | L11: 0 | M11: 0 | N11: 0 | O11: 0 | P11: 1 | Q11: 0 | R11: 0 | S11: 0 | T11: 0 | Z11: Incidents
C12: 2.c. | D12: Equipment caused ignitions in HFTD with elevated or higher FPI | H12: No | I12: 2 | J12: 6 | K12: 4 | L12: 2 | M12: 4 | N12: 0 | O12: 0 | P12: 9 | Q12: 3 | R12: 0 | S12: 2 | T12: 2 | Z12: Incidents
C13: 2.d. | D13: Equipment caused ignitions in HFTD with RFW | H13: No | I13: 0 | J13: 0 | K13: 2 | L13: 1 | M13: 2 | N13: 0 | O13: 0 | P13: 1 | Q13: 1 | R13: 0 | S13: 0 | T13: 0 | Z13: Incidents
C14: 2.e. | D14: Balloons caused ignitions in HFTD with elevated or higher FPI | H14: No | I14: 1 | J14: 0 | K14: 3 | L14: 3 | M14: 0 | N14: 0 | O14: 0 | P14: 0 | Q14: 0 | R14: 0 | S14: 1 | T14: 0 | Z14: Incidents
C15: 2.f. | D15: Balloons caused ignitions in HFTD with RFW | H15: No | I15: 0 | J15: 0 | K15: 0 | L15: 0 | M15: 0 | N15: 0 | O15: 0 | P15: 0 | Q15: 0 | R15: 0 | S15: 0 | T15: 0 | Z15: Incidents
C16: 2.g. | D16: Vehicles caused ignitions in HFTD with elevated or higher FPI | H16: No | I16: 0 | J16: 0 | K16: 1 | L16: 2 | M16: 0 | N16: 0 | O16: 0 | P16: 2 | Q16: 0 | R16: 0 | S16: 0 | T16: 0 | Z16: Incidents
C17: 2.h. | D17: Vehicles caused ignitions in HFTD with RFW | H17: No | I17: 0 | J17: 0 | K17: 0 | L17: 0 | M17: 0 | N17: 0 | O17: 0 | P17: 0 | Q17: 0 | R17: 0 | S17: 0 | T17: 0 | Z17: Incidents
B18: 3. Distribution Outages | C18: 3.a. | D18: Vegetation caused outages in HFTD with Elevated FPI | H18: No | I18: 3 | J18: 5 | K18: 8 | L18: 5 | M18: 2 | N18: 0 | O18: 0 | P18: 1 | Q18: 2 | R18: 0 | S18: 1 | T18: 3 | Z18: Outages
C19: 3.b. | D19: Vegetation caused outages in HFTD with RFW | H19: No | I19: 0 | J19: 0 | K19: 2 | L19: 4 | M19: 0 | N19: 0 | O19: 0 | P19: 1 | Q19: 0 | R19: 0 | S19: 0 | T19: 0 | Z19: Outages
C20: 3.c. | D20: Overhead faults on circuits in HFTD with Elevated FPI | H20: No | I20: 114 | J20: 104 | K20: 133 | L20: 134 | M20: 132 | N20: 0 | O20: 7 | P20: 111 | Q20: 51 | R20: 23 | S20: 17 | T20: 90 | Z20: Outages | AA20: SDG&E has developed a more precise methodology for identifying the HFTD location of outages by utilizing the pole/asset location instead of the overall circuit location.
C21: 3.d. | D21: Overhead faults on circuits in HFTD with RFW | H21: No | I21: 1 | J21: 2 | K21: 20 | L21: 25 | M21: 13 | N21: 0 | O21: 0 | P21: 28 | Q21: 17 | R21: 0 | S21: 0 | T21: 0 | Z21: Outages
C22: 3.e. | D22: Energized wire down events in HFTD with Elevated FPI | H22: No | I22: 3 | J22: 7 | K22: 9 | L22: 6 | M22: 8 | N22: 0 | O22: 0 | P22: 5 | Q22: 2 | R22: 0 | S22: 3 | T22: 3 | Z22: Outages
C23: 3.f. | D23: Energized wire down events in HFTD with RFW | H23: No | I23: 0 | J23: 0 | K23: 0 | L23: 1 | M23: 1 | N23: 0 | O23: 0 | P23: 0 | Q23: 0 | R23: 0 | S23: 0 | T23: 0 | Z23: Outages
C24: 3.g. | D24: Number of non-CALFIRE rated fuse operations in HFTD with Elevated FPI | H24: No | I24: 67 | J24: 64 | K24: 70 | L24: 72 | M24: 50 | N24: 0 | O24: 5 | P24: 28 | Q24: 19 | R24: 4 | S24: 2 | T24: 19 | Z24: Outages
C25: 3.h. | D25: Number of non-CALFIRE rated fuse operations in HFTD with RFW | H25: No | I25: 1 | J25: 3 | K25: 9 | L25: 10 | M25: 3 | N25: 0 | O25: 0 | P25: 1 | Q25: 4 | R25: 0 | S25: 0 | T25: 0 | Z25: Outages

Sheet Table 4
B2: Utility | C2: =IF('Quarterly Submission Guide'!$D$20 = "", "",'Quarterly Submission Guide'!$D$20) -> SDG&E
B3: Table No. | C3: 4
B4: Date Modified | C4: 44501
N5: Note: These columns are placeholders for future QR submissions.
B6: Table 4: Fatalities due to utility wildfire mitigation initiatives | J6: 1 | K6: 2 | L6: 3 | M6: 4 | N6: 1 | O6: 2 | P6: 3 | Q6: 4 | R6: 1 | S6: 2 | T6: 3 | U6: 4
B7: Metric type | C7: # | D7: Outcome metric name | E7: 2015 | F7: 2016 | G7: 2017 | H7: 2018 | I7: 2019 | J7: 2020 | K7: 2020 | L7: 2020 | M7: 2020 | N7: 2021 | O7: 2021 | P7: 2021 | Q7: 2021 | R7: 2022 | S7: 2022 | T7: 2022 | U7: 2022 | V7: Unit(s) | W7: Comments
B8: 1. Fatalities - Full-time Employee | C8: 1.a. | D8: Fatalities due to utility inspection - Full-time employee | E8: 0 | F8: 0 | G8: 0 | H8: 0 | I8: 0 | J8: 0 | K8: 0 | L8: 0 | M8: 0 | N8: 0 | O8: 0 | P8: 0 | V8: # fatalities
C9: 1.b. | D9: Fatalities due to vegetation management - Full-time employee | E9: 0 | F9: 0 | G9: 0 | H9: 0 | I9: 0 | J9: 0 | K9: 0 | L9: 0 | M9: 0 | N9: 0 | O9: 0 | P9: 0 | V9: # fatalities
C10: 1.c. | D10: Fatalities due to utility fuel management - Full-time employee | E10: 0 | F10: 0 | G10: 0 | H10: 0 | I10: 0 | J10: 0 | K10: 0 | L10: 0 | M10: 0 | N10: 0 | O10: 0 | P10: 0 | V10: # fatalities
C11: 1.d. | D11: Fatalities due to grid hardening - Full-time employee | E11: 0 | F11: 0 | G11: 0 | H11: 0 | I11: 0 | J11: 0 | K11: 0 | L11: 0 | M11: 0 | N11: 0 | O11: 0 | P11: 0 | V11: # fatalities
C12: 1.e. | D12: Fatalities due to other - Full-time employee | E12: 0 | F12: 0 | G12: 0 | H12: 0 | I12: 0 | J12: 0 | K12: 0 | L12: 0 | M12: 0 | N12: 0 | O12: 0 | P12: 0 | V12: # fatalities
B13: 2. Fatalities - Contractor | C13: 2.a. | D13: Fatalities due to utility inspection - Contractor | E13: 0 | F13: 0 | G13: 0 | H13: 0 | I13: 0 | J13: 0 | K13: 0 | L13: 0 | M13: 0 | N13: 0 | O13: 0 | P13: 0 | V13: # fatalities
C14: 2.b. | D14: Fatalities due to vegetation management - Contractor | E14: 1 | F14: 0 | G14: 0 | H14: 0 | I14: 0 | J14: 0 | K14: 0 | L14: 0 | M14: 0 | N14: 0 | O14: 0 | P14: 0 | V14: # fatalities
C15: 2.c. | D15: Fatalities due to utility fuel management - Contractor | E15: 0 | F15: 0 | G15: 0 | H15: 0 | I15: 0 | J15: 0 | K15: 0 | L15: 0 | M15: 0 | N15: 0 | O15: 0 | P15: 0 | V15: # fatalities
C16: 2.d. | D16: Fatalities due to grid hardening - Contractor | E16: 0 | F16: 0 | G16: 0 | H16: 0 | I16: 0 | J16: 0 | K16: 0 | L16: 0 | M16: 0 | N16: 0 | O16: 0 | P16: 0 | V16: # fatalities
C17: 2.e. | D17: Fatalities due to other - Contractor | E17: 0 | F17: 0 | G17: 0 | H17: 0 | I17: 0 | J17: 0 | K17: 0 | L17: 0 | M17: 0 | N17: 0 | O17: 0 | P17: 0 | V17: # fatalities
B18: 3. Fatalities - Member of public | C18: 3.a. | D18: Fatalities due to utility inspection - Public | E18: 0 | F18: 0 | G18: 0 | H18: 0 | I18: 0 | J18: 0 | K18: 0 | L18: 0 | M18: 0 | N18: 0 | O18: 0 | P18: 0 | V18: # fatalities
C19: 3.b. | D19: Fatalities due to vegetation management - Public | E19: 0 | F19: 0 | G19: 0 | H19: 0 | I19: 0 | J19: 0 | K19: 0 | L19: 0 | M19: 0 | N19: 0 | O19: 0 | P19: 0 | V19: # fatalities
C20: 3.c. | D20: Fatalities due to utility fuel management - Public | E20: 0 | F20: 0 | G20: 0 | H20: 0 | I20: 0 | J20: 0 | K20: 0 | L20: 0 | M20: 0 | N20: 0 | O20: 0 | P20: 0 | V20: # fatalities
C21: 3.d. | D21: Fatalities due to grid hardening - Public | E21: 0 | F21: 0 | G21: 0 | H21: 0 | I21: 0 | J21: 0 | K21: 0 | L21: 0 | M21: 0 | N21: 0 | O21: 0 | P21: 0 | V21: # fatalities
C22: 3.e. | D22: Fatalities due to other - Public | E22: 0 | F22: 0 | G22: 0 | H22: 0 | I22: 0 | J22: 0 | K22: 0 | L22: 0 | M22: 0 | N22: 0 | O22: 0 | P22: 0 | V22: # fatalities

Sheet Table 5
B2: Utility | C2: =IF('Quarterly Submission Guide'!$D$20 = "", "",'Quarterly Submission Guide'!$D$20) -> SDG&E
B3: Table No. | C3: 5
B4: Date Modified | C4: 44501
N5: Note: These columns are placeholders for future QR submissions.
B6: Table 5: OSHA-reportable injuries due to utility wildfire mitigation initiatives | J6: 1 | K6: 2 | L6: 3 | M6: 4 | N6: 1 | O6: 2 | P6: 3 | Q6: 4 | R6: 1 | S6: 2 | T6: 3 | U6: 4
B7: Metric type | C7: # | D7: Outcome metric name | E7: 2015 | F7: 2016 | G7: 2017 | H7: 2018 | I7: 2019 | J7: 2020 | K7: 2020 | L7: 2020 | M7: 2020 | N7: 2021 | O7: 2021 | P7: 2021 | Q7: 2021 | R7: 2022 | S7: 2022 | T7: 2022 | U7: 2022 | V7: Unit(s) | W7: Comments
B8: 1. OSHA injuries - Full-time Employee | C8: 1.a. | D8: OSHA injuries due to utility inspection - Full-time employee | E8: 0 | F8: 0 | G8: 0 | H8: 0 | I8: 0 | J8: 0 | K8: 0 | L8: 0 | M8: 0 | N8: 0 | O8: 0 | P8: 0 | V8: # OSHA-reportable injuries
C9: 1.b. | D9: OSHA injuries due to vegetation management - Full-time employee | E9: 0 | F9: 0 | G9: 0 | H9: 0 | I9: 0 | J9: 0 | K9: 0 | L9: 0 | M9: 0 | N9: 0 | O9: 0 | P9: 0 | V9: # OSHA-reportable injuries
C10: 1.c. | D10: OSHA injuries due to utility fuel management - Full-time employee | E10: 0 | F10: 0 | G10: 0 | H10: 0 | I10: 0 | J10: 0 | K10: 0 | L10: 0 | M10: 0 | N10: 0 | O10: 0 | P10: 0 | V10: # OSHA-reportable injuries
C11: 1.d. | D11: OSHA injuries due to grid hardening - Full-time employee | E11: 0 | F11: 0 | G11: 0 | H11: 0 | I11: 0 | J11: 0 | K11: 0 | L11: 0 | M11: 0 | N11: 0 | O11: 0 | P11: 0 | V11: # OSHA-reportable injuries
C12: 1.e. | D12: OSHA injuries due to other - Full-time employee | E12: 0 | F12: 0 | G12: 0 | H12: 0 | I12: 0 | J12: 0 | K12: 0 | L12: 0 | M12: 0 | N12: 0 | O12: 0 | P12: 0 | V12: # OSHA-reportable injuries
B13: 2. OSHA injuries - Contractor | C13: 2.a. | D13: OSHA injuries due to utility inspection - Contractor | E13: 0 | F13: 0 | G13: 0 | H13: 0 | I13: 0 | J13: 0 | K13: 0 | L13: 0 | M13: 0 | N13: 0 | O13: 0 | P13: 0 | V13: # OSHA-reportable injuries
C14: 2.b. | D14: OSHA injuries due to vegetation management - Contractor | E14: 0 | F14: 1 | G14: 0 | H14: 0 | I14: 0 | J14: 0 | K14: 0 | L14: 0 | M14: 0 | N14: 0 | O14: 0 | P14: 0 | V14: # OSHA-reportable injuries
C15: 2.c. | D15: OSHA injuries due to utility fuel management - Contractor | E15: 0 | F15: 0 | G15: 0 | H15: 0 | I15: 0 | J15: 0 | K15: 0 | L15: 0 | M15: 0 | N15: 0 | O15: 0 | P15: 0 | V15: # OSHA-reportable injuries
C16: 2.d. | D16: OSHA injuries due to grid hardening - Contractor | E16: 0 | F16: 0 | G16: 0 | H16: 0 | I16: 0 | J16: 0 | K16: 0 | L16: 0 | M16: 0 | N16: 0 | O16: 0 | P16: 0 | V16: # OSHA-reportable injuries
C17: 2.e. | D17: OSHA injuries due to other - Contractor | E17: 0 | F17: 0 | G17: 0 | H17: 0 | I17: 0 | J17: 0 | K17: 0 | L17: 0 | M17: 0 | N17: 0 | O17: 0 | P17: 0 | V17: # OSHA-reportable injuries
B18: 3. OSHA injuries - Member of public | C18: 3.a. | D18: OSHA injuries due to utility inspection - Public | E18: 0 | F18: 0 | G18: 0 | H18: 0 | I18: 0 | J18: 0 | K18: 0 | L18: 0 | M18: 0 | N18: 0 | O18: 0 | P18: 0 | V18: # OSHA-reportable injuries
C19: 3.b. | D19: OSHA injuries due to vegetation management - Public | E19: 0 | F19: 0 | G19: 0 | H19: 0 | I19: 0 | J19: 0 | K19: 0 | L19: 0 | M19: 0 | N19: 0 | O19: 0 | P19: 0 | V19: # OSHA-reportable injuries
C20: 3.c. | D20: OSHA injuries due to utility fuel management - Public | E20: 0 | F20: 0 | G20: 0 | H20: 0 | I20: 0 | J20: 0 | K20: 0 | L20: 0 | M20: 0 | N20: 0 | O20: 0 | P20: 0 | V20: # OSHA-reportable injuries
C21: 3.d. | D21: OSHA injuries due to grid hardening - Public | E21: 0 | F21: 0 | G21: 0 | H21: 0 | I21: 0 | J21: 0 | K21: 0 | L21: 0 | M21: 0 | N21: 0 | O21: 0 | P21: 0 | V21: # OSHA-reportable injuries
C22: 3.e. | D22: OSHA injuries due to other - Public | E22: 0 | F22: 0 | G22: 0 | H22: 0 | I22: 0 | J22: 0 | K22: 0 | L22: 0 | M22: 0 | N22: 0 | O22: 0 | P22: 0 | V22: # OSHA-reportable injuries

Sheet Table 6
B2: Utility | C2: =IF('Quarterly Submission Guide'!$D$20 = "", "",'Quarterly Submission Guide'!$D$20) -> SDG&E
B3: Table No. | C3: 6
B4: Date Modified | C4: 44501
N5: Note: These columns are placeholders for future QR submissions.
B6: Table 6: Weather patterns | J6: 1 | K6: 2 | L6: 3 | M6: 4 | N6: 1 | O6: 2 | P6: 3 | Q6: 4 | R6: 1 | S6: 2 | T6: 3 | U6: 4
B7: Metric type | C7: # | D7: Outcome metric name | E7: 2015 | F7: 2016 | G7: 2017 | H7: 2018 | I7: 2019 | J7: 2020 | K7: 2020 | L7: 2020 | M7: 2020 | N7: 2021 | O7: 2021 | P7: 2021 | Q7: 2021 | R7: 2022 | S7: 2022 | T7: 2022 | U7: 2022 | V7: Unit(s) | W7: Comments
B8: 1. Red Flag Warning Overhead circuit mile Days | C8: 1.a. | D8: Red Flag Warning Overhead circuit mile days - entire utility territory | E8: 16938.551 | F8: 53147.861 | G8: 190407.17 | H8: 125739.06 | I8: 53502.252 | J8: 0 | K8: 0 | L8: 34879.055 | M8: 62127.922 | N8: 3185.6182 | O8: 0 | P8: 0 | V8: Sum of overhead circuit miles of utility grid subject to Red Flag Warning each day within a given time period, calculated as the number of overhead circuit miles that were under an RFW multiplied by the number of days those circuit miles were under said RFW. For example, if 100 overhead circuit miles were under an RFW for 1 day, and 10 of those miles were under RFW for an additional day, then the total RFW OH circuit mile days would be 110.
C9: 1.b. | D9: Red Flag Warning Overhead circuit mile days - HFTD Zone 1 | E9: NA | F9: NA | G9: NA | H9: NA | I9: NA | J9: NA | K9: NA | L9: NA | M9: NA | N9: NA | O9: 0 | P9: 0 | V9: Red Flag Warning Overhead circuit mile days, see above for definition
C10: 1.c. | D10: Red Flag Warning Overhead circuit mile days - HFTD Tier 2 | E10: 6485.1058 | F10: 20011.163 | G10: 55256.332 | H10: 38664.976 | I10: 20055.183 | J10: 0 | K10: 0 | L10: 12875.28 | M10: 23534.831 | N10: 1455.4705 | O10: 0 | P10: 0 | V10: Red Flag Warning Overhead circuit mile days, see above for definition
C11: 1.d. | D11: Red Flag Warning Overhead circuit mile days - HFTD Tier 3 | E11: 3730.7747 | F11: 14904.535 | G11: 30735.984 | H11: 22286.47 | I11: 12370.464 | J11: 0 | K11: 0 | L11: 9106.0357 | M11: 14432.208 | N11: 0 | O11: 0 | P11: 0 | V11: Red Flag Warning Overhead circuit mile days, see above for definition | W11: circuit/tieline spans that cross tier 2 and tier 3 are grouped in tier 3
C12: 1.e. | D12: Red Flag Warning Overhead circuit mile days - Non-HFTD | E12: 6722.6708 | F12: 18232.163 | G12: 104414.85 | H12: 64787.609 | I12: 21076.606 | J12: 0 | K12: 0 | L12: 12897.74 | M12: 24160.883 | N12: 1730.1477 | O12: 0 | P12: 0 | V12: Red Flag Warning Overhead circuit mile days, see above for definition
B13: 2. Wind conditions | C13: 2.a. | D13: High wind warning overhead circuit mile days | E13: 51231.922 | F13: 13751.869 | G13: 107921.7 | H13: 53297.725 | I13: 26851.752 | J13: 8646.8868 | K13: 0 | L13: 0 | M13: 17019.784 | N13: 38371.807 | O13: 0 | P13: 0 | V13: Sum of overhead circuit miles of utility grid subject to High Wind Warnings (HWW, as defined by the National Weather Service) each day within a given time period, calculated as the number of overhead circuit miles that were under an HWW multiplied by the number of days those miles were under said HWW. For example, if 100 overhead circuit miles were under an HWW for 1 day, and 10 of those miles were under HWW for an additional day, then the total HWW OH circuit mile days would be 110.
B14: 3. Other | C14: 3.a. | D14: Other relevant weather pattern metrics tracked (add additional rows as needed)

Sheet Table 7.1
B2: Utility | C2: =IF('Quarterly Submission Guide'!$D$20 = "", "",'Quarterly Submission Guide'!$D$20) -> SDG&E | D2: Notes:
B3: Table No. | C3: 7.1 | D3: Transmission lines refer to all lines at or above 65kV, and distribution lines refer to all lines below 65kV.
B4: Date Modified | C4: 44501 | D4: Data from 2015 - 2020 Q2 should be actual numbers. 2020 Q3 - 2023 should be projected. In future submissions update projected numbers with actuals
G5: Number of risk events | S5: Projected
B6: Table 7.1: Key recent and projected drivers of risk events | L6: 1 | M6: 2 | N6: 3 | O6: 4 | P6: 1 | Q6: Q2 | R6: 3 | S6: 4 | T6: 1 | U6: 2 | V6: 3 | W6: 4
B7: Risk Event category | C7: Cause category | D7: # | E7: Sub-cause category | F7: Are risk events tracked for ignition driver? (yes / no) | G7: 2015 | H7: 2016 | I7: 2017 | J7: 2018 | K7: 2019 | L7: 2020 | M7: 2020 | N7: 2020 | O7: 2020 | P7: 2021 | Q7: 2021 | R7: 2021 | S7: 2021 | T7: 2022 | U7: 2022 | V7: 2022 | W7: 2022 | X7: Unit(s) | Y7: Comments
A8: x | B8: Wire down event - Distribution | C8: 1. Contact from object - Distribution | D8: 1.a. | E8: Veg. contact- Distribution | F8: Yes | G8: 10 | H8: 22 | I8: 31 | J8: 13 | K8: 12 | L8: 3 | M8: 4 | N8: 2 | O8: 4 | P8: 4 | Q8: 2 | R8: 3 | S8: 4.3599766 | T8: 4.1764531 | U8: 4.1764531 | V8: 4.1764531 | W8: 4.1764531 | X8: # risk events (excluding ignitions)
D9: 1.b. | E9: Animal contact- Distribution | F9: Yes | G9: 0 | H9: 8 | I9: 2 | J9: 2 | K9: 0 | L9: 1 | M9: 1 | N9: 1 | O9: 0 | P9: 0 | Q9: 2 | R9: 0 | S9: 0.74097289 | T9: 0.73319277 | U9: 0.73319277 | V9: 0.73319277 | W9: 0.73319277 | X9: # risk events (excluding ignitions)
D10: 1.c. | E10: Balloon contact- Distribution | F10: Yes | G10: 1 | H10: 5 | I10: 8 | J10: 3 | K10: 5 | L10: 1 | M10: 2 | N10: 1 | O10: 1 | P10: 0 | Q10: 3 | R10: 0 | S10: 1.2953536 | T10: 1.2895549 | U10: 1.2895549 | V10: 1.2895549 | W10: 1.2895549 | X10: # risk events (excluding ignitions)
D11: 1.d. | E11: Vehicle contact- Distribution | F11: Yes | G11: 6 | H11: 13 | I11: 17 | J11: 23 | K11: 28 | L11: 11 | M11: 6 | N11: 7 | O11: 9 | P11: 6 | Q11: 5 | R11: 3 | S11: 5.6793462 | T11: 5.6620962 | U11: 5.6620962 | V11: 5.6620962 | W11: 5.6620962 | X11: # risk events (excluding ignitions)
D12: 1.e. | E12: Other contact from object - Distribution | F12: Yes | G12: 8 | H12: 15 | I12: 18 | J12: 6 | K12: 13 | L12: 2 | M12: 0 | N12: 1 | O12: 0 | P12: 0 | Q12: 1 | R12: 0 | S12: 2.9927326 | T12: 2.9836628 | U12: 2.9836628 | V12: 2.9836628 | W12: 2.9836628 | X12: # risk events (excluding ignitions)
C13: 2. Equipment / facility failure - Distribution | D13: 2.a. | E13: Connector damage or failure- Distribution | F13: Yes | G13: 7 | H13: 2 | I13: 0 | J13: 7 | K13: 6 | L13: 4 | M13: 2 | N13: 2 | O13: 3 | P13: 6 | Q13: 4 | R13: 3 | S13: 1.21875 | T13: 1.1983972 | U13: 1.1983972 | V13: 1.1983972 | W13: 1.1983972 | X13: # risk events (excluding ignitions)
D14: 2.b. | E14: Splice damage or failure — Distribution | F14: No | G14: 0 | H14: 0 | I14: 0 | J14: 0 | K14: 0 | L14: 0 | M14: 0 | N14: 0 | O14: 0 | P14: 0 | Q14: 0 | R14: 0 | S14: 0 | T14: 0 | U14: 0 | V14: 0 | W14: 0 | X14: # risk events (excluding ignitions)
D15: 2.c. | E15: Crossarm damage or failure - Distribution | F15: Yes | G15: 0 | H15: 0 | I15: 0 | J15: 1 | K15: 3 | L15: 0 | M15: 0 | N15: 1 | O15: 0 | P15: 0 | Q15: 1 | R15: 0 | S15: 0.048336066 | T15: 0.047881148 | U15: 0.047881148 | V15: 0.047881148 | W15: 0.047881148 | X15: # risk events (excluding ignitions)
D16: 2.d. | E16: Insulator damage or failure- Distribution | F16: Yes | G16: 0 | H16: 0 | I16: 0 | J16: 0 | K16: 0 | L16: 1 | M16: 0 | N16: 0 | O16: 0 | P16: 0 | Q16: 0 | R16: 0 | S16: 0 | T16: 0 | U16: 0 | V16: 0 | W16: 0 | X16: # risk events (excluding ignitions)
D17: 2.e. | E17: Lightning arrestor damage or failure- Distribution | F17: Yes | G17: 0 | H17: 1 | I17: 0 | J17: 0 | K17: 1 | L17: 0 | M17: 0 | N17: 0 | O17: 0 | P17: 0 | Q17: 0 | R17: 0 | S17: 0.096012 | T17: 0.09492 | U17: 0.09492 | V17: 0.09492 | W17: 0.09492 | X17: # risk events (excluding ignitions)
D18: 2.f. | E18: Tap damage or failure - Distribution | F18: No | G18: 0 | H18: 1 | I18: 0 | J18: 0 | K18: 0 | L18: 0 | M18: 0 | N18: 0 | O18: 0 | P18: 0 | Q18: 0 | R18: 0 | S18: 0 | T18: 0 | U18: 0 | V18: 0 | W18: 0 | X18: # risk events (excluding ignitions)
D19: 2.g. | E19: Tie wire damage or failure - Distribution | F19: No | G19: 0 | H19: 1 | I19: 0 | J19: 0 | K19: 0 | L19: 0 | M19: 0 | N19: 0 | O19: 0 | P19: 0 | Q19: 0 | R19: 0 | S19: 0 | T19: 0 | U19: 0 | V19: 0 | W19: 0 | X19: # risk events (excluding ignitions)
D20: 2.h. | E20: Other - Distribution | F20: Yes | G20: 27 | H20: 71 | I20: 60 | J20: 35 | K20: 40 | L20: 4 | M20: 4 | N20: 3 | O20: 7 | P20: 8 | Q20: 4 | R20: 2 | S20: 11.215887 | T20: 11.110648 | U20: 11.110648 | V20: 11.110648 | W20: 11.110648 | X20: # risk events (excluding ignitions)
C21: 3. Wire-to-wire contact - Distribution | D21: 3.a. | E21: Wire-to-wire contact / contamination- Distribution | F21: Yes | G21: 0 | H21: 0 | I21: 0 | J21: 0 | K21: 1 | L21: 0 | M21: 0 | N21: 0 | O21: 0 | P21: 0 | Q21: 0 | R21: 0 | S21: 0 | T21: 0 | U21: 0 | V21: 0 | W21: 0 | X21: # risk events (excluding ignitions)
C22: 4. Contamination - Distribution | D22: 4.a. | E22: Contamination - Distribution | F22: Yes | G22: 0 | H22: 0 | I22: 0 | J22: 2 | K22: 2 | L22: 1 | M22: 0 | N22: 1 | O22: 2 | P22: 0 | Q22: 0 | R22: 0 | S22: 0.04975 | T22: 0.049375 | U22: 0.049375 | V22: 0.049375 | W22: 0.049375 | X22: # risk events (excluding ignitions)
C23: 5. Utility work / Operation | D23: 5.a. | E23: Utility work / Operation | F23: Yes | G23: 1 | H23: 1 | I23: 1 | J23: 2 | K23: 1 | L23: 0 | M23: 0 | N23: 0 | O23: 0 | P23: 0 | Q23: 1 | R23: 0 | S23: 0.5 | T23: 0.5 | U23: 0.5 | V23: 0.5 | W23: 0.5 | X23: # risk events (excluding ignitions)
C24: 6. Vandalism / Theft - Distribution | D24: 6.a. | E24: Vandalism / Theft - Distribution | F24: Yes | G24: 0 | H24: 0 | I24: 0 | J24: 1 | K24: 1 | L24: 0 | M24: 0 | N24: 2 | O24: 0 | P24: 2 | Q24: 0 | R24: 1 | S24: 0 | T24: 0 | U24: 0 | V24: 0 | W24: 0 | X24: # risk events (excluding ignitions)
C25: 7. Other- Distribution | D25: 7.a. | E25: All Other- Distribution | F25: No | G25: 1 | H25: 0 | I25: 0 | J25: 0 | K25: 0 | L25: 0 | M25: 0 | N25: 0 | O25: 0 | P25: 0 | Q25: 0 | R25: 0 | S25: 0.19933333 | T25: 0.19866667 | U25: 0.19866667 | V25: 0.19866667 | W25: 0.19866667 | X25: # risk events (excluding ignitions)
C26: 8. Unknown- Distribution | D26: 8.a. | E26: Unknown - Distribution | F26: Yes | G26: 0 | H26: 2 | I26: 0 | J26: 0 | K26: 0 | L26: 0 | M26: 0 | N26: 0 | O26: 0 | P26: 0 | Q26: 0 | R26: 0 | S26: 0.049347724 | T26: 0.048764963 | U26: 0.048764963 | V26: 0.048764963 | W26: 0.048764963 | X26: # risk events (excluding ignitions)
A27: x | B27: Wire down event - Transmission | C27: 9. Contact from object - Transmission | D27: 9.a. | E27: Veg. contact- Transmission | F27: Yes | G27: 0 | H27: 0 | I27: 0 | J27: 0 | K27: 0 | L27: 0 | M27: 0 | N27: 0 | O27: 0 | P27: 0 | Q27: 0 | R27: 0 | S27: 0 | T27: 0 | U27: 0 | V27: 0 | W27: 0 | X27: # risk events (excluding ignitions)
D28: 9.b. | E28: Animal contact- Transmission | F28: Yes | G28: 0 | H28: 0 | I28: 0 | J28: 0 | K28: 0 | L28: 0 | M28: 0 | N28: 0 | O28: 0 | P28: 0 | Q28: 0 | R28: 0 | S28: 0 | T28: 0 | U28: 0 | V28: 0 | W28: 0 | X28: # risk events (excluding ignitions)
D29: 9.c. | E29: Balloon contact- Transmission | F29: Yes | G29: 0 | H29: 0 | I29: 0 | J29: 0 | K29: 0 | L29: 0 | M29: 0 | N29: 0 | O29: 0 | P29: 0 | Q29: 0 | R29: 0 | S29: 0 | T29: 0 | U29: 0 | V29: 0 | W29: 0 | X29: # risk events (excluding ignitions)
D30: 9.d. | E30: Vehicle contact- Transmission | F30: Yes | G30: 0 | H30: 0 | I30: 0 | J30: 0 | K30: 0 | L30: 0 | M30: 0 | N30: 0 | O30: 0 | P30: 0 | Q30: 0 | R30: 0 | S30: 0 | T30: 0 | U30: 0 | V30: 0 | W30: 0 | X30: # risk events (excluding ignitions)
D31: 9.e. | E31: Other contact from object - Transmission | F31: Yes | G31: 0 | H31: 0 | I31: 0 | J31: 0 | K31: 0 | L31: 0 | M31: 0 | N31: 0 | O31: 0 | P31: 0 | Q31: 0 | R31: 0 | S31: 0 | T31: 0 | U31: 0 | V31: 0 | W31: 0 | X31: # risk events (excluding ignitions)
C32: 10. Equipment / facility failure - Transmission | D32: 10.a. | E32: Connector damage or failure- Transmission | F32: Yes | G32: 0 | H32: 0 | I32: 0 | J32: 0 | K32: 0 | L32: 0 | M32: 0 | N32: 0 | O32: 0 | P32: 0 | Q32: 0 | R32: 0 | S32: 0 | T32: 0 | U32: 0 | V32: 0 | W32: 0 | X32: # risk events (excluding ignitions)
D33: 10.b. | E33: Splice damage or failure — Transmission | F33: No | G33: 0 | H33: 1 | I33: 0 | J33: 0 | K33: 0 | L33: 0 | M33: 0 | N33: 0 | O33: 0 | P33: 0 | Q33: 0 | R33: 0 | S33: 0.0482875 | T33: 0.0480625 | U33: 0.0480625 | V33: 0.0480625 | W33: 0.0480625 | X33: # risk events (excluding ignitions)
D34: 10.c. | E34: Crossarm damage or failure - Transmission | F34: Yes | G34: 0 | H34: 0 | I34: 0 | J34: 0 | K34: 0 | L34: 0 | M34: 0 | N34: 0 | O34: 0 | P34: 0 | Q34: 0 | R34: 0 | S34: 0 | T34: 0 | U34: 0 | V34: 0 | W34: 0 | X34: # risk events (excluding ignitions)
D35: 10.d. | E35: Insulator damage or failure- Transmission | F35: Yes | G35: 0 | H35: 0 | I35: 0 | J35: 0 | K35: 0 | L35: 0 | M35: 0 | N35: 0 | O35: 0 | P35: 0 | Q35: 0 | R35: 0 | S35: 0 | T35: 0 | U35: 0 | V35: 0 | W35: 0 | X35: # risk events (excluding ignitions)
D36: 10.e. | E36: Lightning arrestor damage or failure- Transmission | F36: No | G36: 0 | H36: 0 | I36: 0 | J36: 0 | K36: 0 | L36: 0 | M36: 0 | N36: 0 | O36: 0 | P36: 0 | Q36: 0 | R36: 0 | S36: 0 | T36: 0 | U36: 0 | V36: 0 | W36: 0 | X36: # risk events (excluding ignitions)
D37: 10.f. | E37: Tap damage or failure - Transmission | F37: No | G37: 0 | H37: 0 | I37: 0 | J37: 0 | K37: 0 | L37: 0 | M37: 0 | N37: 0 | O37: 0 | P37: 0 | Q37: 0 | R37: 0 | S37: 0 | T37: 0 | U37: 0 | V37: 0 | W37: 0 | X37: # risk events (excluding ignitions)
D38: 10.g. | E38: Tie wire damage or failure - Transmission | F38: No | G38: 0 | H38: 0 | I38: 0 | J38: 0 | K38: 0 | L38: 0 | M38: 0 | N38: 0 | O38: 0 | P38: 0 | Q38: 0 | R38: 0 | S38: 0 | T38: 0 | U38: 0 | V38: 0 | W38: 0 | X38: # risk events (excluding ignitions)
D39: 10.h. | E39: Other - Transmission | F39: Yes | G39: 0 | H39: 0 | I39: 1 | J39: 0 | K39: 0 | L39: 1 | M39: 0 | N39: 0 | O39: 0 | P39: 0 | Q39: 0 | R39: 0 | S39: 0.0961 | T39: 0.0956 | U39: 0.0956 | V39: 0.0956 | W39: 0.0956 | X39: # risk events (excluding ignitions)
C40: 11. Wire-to-wire contact - Transmission | D40: 11.a. | E40: Wire-to-wire contact / contamination- Transmission | F40: Yes | G40: 0 | H40: 0 | I40: 0 | J40: 0 | K40: 0 | L40: 0 | M40: 0 | N40: 0 | O40: 0 | P40: 0 | Q40: 0 | R40: 0 | S40: 0 | T40: 0 | U40: 0 | V40: 0 | W40: 0 | X40: # risk events (excluding ignitions)
C41: 12. Contamination - Transmission | D41: 12.a. | E41: Contamination - Transmission | F41: Yes | G41: 0 | H41: 0 | I41: 0 | J41: 0 | K41: 0 | L41: 0 | M41: 0 | N41: 0 | O41: 0 | P41: 0 | Q41: 0 | R41: 0 | S41: 0 | T41: 0 | U41: 0 | V41: 0 | W41: 0 | X41: # risk events (excluding ignitions)
...

Sheet Table 7.2
B2: Utility | C2: =IF('Quarterly Submission Guide'!$D$20 = "", "",'Quarterly Submission Guide'!$D$20) -> SDG&E | D2: Notes:
B3: Table No. | C3: 7.2 | D3: Transmission lines refer to all lines at or above 65kV, and distribution lines refer to all lines below 65kV.
B4: Date Modified | C4: 44410 | D4: Data from 2015 - 2019 should be actual numbers. 2020 - 2023 should be projected. In future submissions update projected numbers with actuals
G5: Number of ignitions by HFTD tier | AE5: Projected ignitions by HFTD tier
B6: Table 7.2: Key recent and projected drivers of ignitions by HFTD region | G6: Non-HFTD | H6: HFTD Zone 1 | I6: HFTD Tier 2 | J6: HFTD Tier 3 | K6: Non-HFTD | L6: HFTD Zone 1 | M6: HFTD Tier 2 | N6: HFTD Tier 3 | O6: Non-HFTD | P6: HFTD Zone 1 | Q6: HFTD Tier 2 | R6: HFTD Tier 3 | S6: Non-HFTD | T6: HFTD Zone 1 | U6: HFTD Tier 2 | V6: HFTD Tier 3 | W6: Non-HFTD | X6: HFTD Zone 1 | Y6: HFTD Tier 2 | Z6: HFTD Tier 3 | AA6: Non-HFTD | AB6: HFTD Zone 1 | AC6: HFTD Tier 2 | AD6: HFTD Tier 3 | AE6: Non-HFTD | AF6: HFTD Zone 1 | AG6: HFTD Tier 2 | AH6: HFTD Tier 3 | AI6: Non-HFTD | AJ6: HFTD Zone 1 | AK6: HFTD Tier 2 | AL6: HFTD Tier 3
C7: Metric type | D7: # | E7: Ignition driver | F7: Are ignitions tracked for ignition driver? (yes / no) | G7: 2015 | H7: 2015 | I7: 2015 | J7: 2015 | K7: 2016 | L7: 2016 | M7: 2016 | N7: 2016 | O7: 2017 | P7: 2017 | Q7: 2017 | R7: 2017 | S7: 2018 | T7: 2018 | U7: 2018 | V7: 2018 | W7: 2019 | X7: 2019 | Y7: 2019 | Z7: 2019 | AA7: 2020 | AB7: 2020 | AC7: 2020 | AD7: 2020 | AE7: 2021 | AF7: 2021 | AG7: 2021 | AH7: 2021 | AI7: 2022 | AJ7: 2022 | AK7: 2022 | AL7: 2022 | AM7: Unit(s) | AN7: Comments
A8: x | B8: Ignition - Distribution | C8: 1. Contact from object - Distribution | D8: 1.a. | E8: Veg. contact- Distribution | F8: Yes | G8: 0 | H8: 0 | I8: 2 | J8: 3 | K8: 2 | L8: 0 | M8: 2 | N8: 0 | O8: 1 | P8: 0 | Q8: 0 | R8: 2 | S8: 3 | T8: 0 | U8: 0 | V8: 0 | W8: 0 | X8: 0 | Y8: 1 | Z8: 0 | AA8: 0 | AB8: 0 | AC8: 0 | AD8: 0 | AE8: 1.19955 | AG8: 0.5609 | AH8: 0.3627 | AI8: 1.19905 | AK8: 0.5231 | AL8: 0.3096 | AM8: # ignitions
D9: 1.b. | E9: Animal contact- Distribution | F9: Yes | G9: 0 | H9: 0 | I9: 0 | J9: 0 | K9: 1 | L9: 0 | M9: 1 | N9: 0 | O9: 1 | P9: 0 | Q9: 0 | R9: 0 | S9: 0 | T9: 0 | U9: 0 | V9: 1 | W9: 0 | X9: 0 | Y9: 1 | Z9: 0 | AA9: 0 | AB9: 0 | AC9: 0 | AD9: 2 | AE9: 0.3998 | AG9: 0.3928 | AH9: 0.596 | AI9: 0.3996 | AK9: 0.3861 | AL9: 0.5887 | AM9: # ignitions
D10: 1.c. | E10: Balloon contact- Distribution | F10: Yes | G10: 2 | H10: 0 | I10: 0 | J10: 0 | K10: 3 | L10: 0 | M10: 0 | N10: 0 | O10: 3 | P10: 0 | Q10: 1 | R10: 1 | S10: 3 | T10: 0 | U10: 2 | V10: 3 | W10: 0 | X10: 0 | Y10: 0 | Z10: 0 | AA10: 1 | AB10: 0 | AC10: 1 | AD10: 0 | AE10: 2 | AG10: 0.7982 | AH10: 0.7938 | AI10: 2 | AK10: 0.7948 | AL10: 0.7786 | AM10: # ignitions
D11: 1.d. | E11: Vehicle contact- Distribution | F11: Yes | G11: 2 | H11: 0 | I11: 3 | J11: 1 | K11: 2 | L11: 0 | M11: 1 | N11: 1 | O11: 1 | P11: 0 | Q11: 2 | R11: 1 | S11: 0 | T11: 0 | U11: 1 | V11: 0 | W11: 1 | X11: 0 | Y11: 2 | Z11: 0 | AA11: 0 | AB11: 0 | AC11: 1 | AD11: 1 | AE11: 0.8 | AG11: 1.3951 | AH11: 0.5958 | AI11: 0.8 | AK11: 1.386 | AL11: 0.5895 | AM11: # ignitions
D12: 1.e. | E12: Other contact from object - Distribution | F12: Yes | G12: 2 | H12: 0 | I12: 1 | J12: 0 | K12: 1 | L12: 0 | M12: 1 | N12: 0 | O12: 0 | P12: 0 | Q12: 1 | R12: 1 | S12: 1 | T12: 0 | U12: 0 | V12: 0 | W12: 0 | X12: 0 | Y12: 0 | Z12: 0 | AA12: 0 | AB12: 0 | AC12: 0 | AD12: 0 | AE12: 0.4 | AG12: 0.3976 | AH12: 0.1985 | AI12: 0.4 | AK12: 0.3931 | AL12: 0.1947 | AM12: # ignitions
C13: 2. Equipment / facility failure - Distribution | D13: 2.a. | E13: Capacitor bank damage or failure- Distribution | F13: Yes | G13: 0 | H13: 0 | I13: 0 | J13: 0 | K13: 0 | L13: 0 | M13: 1 | N13: 0 | O13: 0 | P13: 0 | Q13: 0 | R13: 0 | S13: 0 | T13: 0 | U13: 0 | V13: 0 | W13: 0 | X13: 0 | Y13: 0 | Z13: 0 | AA13: 0 | AB13: 0 | AC13: 0 | AD13: 1 | AE13: 0 | AG13: 0.153 | AH13: 0.172 | AI13: 0 | AK13: 0.103 | AL13: 0.145 | AM13: # ignitions
D14: 2.b. | E14: Conductor damage or failure — Distribution | F14: Yes | G14: 1 | H14: 0 | I14: 1 | J14: 0 | K14: 1 | L14: 0 | M14: 1 | N14: 1 | O14: 0 | P14: 0 | Q14: 0 | R14: 1 | S14: 0 | T14: 0 | U14: 1 | V14: 0 | W14: 0 | X14: 0 | Y14: 0 | Z14: 0 | AA14: 0 | AB14: 0 | AC14: 0 | AD14: 1 | AE14: 0.198 | AG14: 0.3928 | AH14: 0.5432 | AI14: 0.1978 | AK14: 0.3861 | AL14: 0.5287 | AM14: # ignitions
D15: 2.c. | E15: Fuse damage or failure - Distribution | F15: Yes | G15: 0 | H15: 0 | I15: 0 | J15: 0 | K15: 0 | L15: 0 | M15: 0 | N15: 0 | O15: 1 | P15: 0 | Q15: 0 | R15: 0 | S15: 0 | T15: 0 | U15: 0 | V15: 0 | W15: 0 | X15: 0 | Y15: 0 | Z15: 1 | AA15: 1 | AB15: 0 | AC15: 0 | AD15: 0 | AE15: 0.4 | AG15: 0 | AH15: 0.066 | AI15: 0.4 | AK15: 0 | AL15: 0 | AM15: # ignitions
D16: 2.d. | E16: Lightning arrestor damage or failure- Distribution | F16: Yes | G16: 0 | H16: 0 | I16: 0 | J16: 0 | K16: 0 | L16: 0 | M16: 1 | N16: 1 | O16: 0 | P16: 0 | Q16: 0 | R16: 1 | S16: 0 | T16: 0 | U16: 0 | V16: 0 | W16: 0 | X16: 0 | Y16: 0 | Z16: 0 | AA16: 0 | AB16: 0 | AC16: 2 | AD16: 3 | AE16: 0 | AG16: 0.6 | AH16: 1 | AI16: 0 | AK16: 0.6 | AL16: 0.39 | AM16: # ignitions
D17: 2.e. | E17: Switch damage or failure- Distribution | F17: Yes | G17: 0 | H17: 0 | I17: 0 | J17: 1 | K17: 0 | L17: 0 | M17: 0 | N17: 0 | O17: 0 | P17: 0 | Q17: 0 | R17: 0 | S17: 0 | T17: 0 | U17: 1 | V17: 0 | W17: 0 | X17: 0 | Y17: 1 | Z17: 0 | AA17: 1 | AB17: 0 | AC17: 0 | AD17: 0 | AE17: 0.2 | AG17: 0.3928 | AH17: 0 | AI17: 0.2 | AK17: 0.3861 | AL17: 0 | AM17: # ignitions
D18: 2.f. | E18: Pole damage or failure - Distribution | F18: Yes | G18: 0 | H18: 0 | I18: 0 | J18: 0 | K18: 0 | L18: 0 | M18: 0 | N18: 0 | O18: 0 | P18: 0 | Q18: 0 | R18: 0 | S18: 0 | T18: 0 | U18: 0 | V18: 0 | W18: 0 | X18: 0 | Y18: 0 | Z18: 0 | AA18: 0 | AB18: 0 | AC18: 1 | AD18: 0 | AE18: 0 | AG18: 0.2 | AH18: 0 | AI18: 0 | AK18: 0.2 | AL18: 0 | AM18: # ignitions
D19: 2.g. | E19: Insulator and brushing damage or failure - Distribution | F19: No | G19: 0 | H19: 0 | I19: 0 | J19: 0 | K19: 0 | L19: 0 | M19: 0 | N19: 0 | O19: 0 | P19: 0 | Q19: 0 | R19: 0 | S19: 0 | T19: 0 | U19: 0 | V19: 0 | W19: 0 | X19: 0 | Y19: 0 | Z19: 0 | AA19: 0 | AB19: 0 | AC19: 0 | AD19: 0 | AE19: 0 | AF19: 0 | AG19: 0 | AH19: 0 | AI19: 0 | AJ19: 0 | AK19: 0 | AL19: 0 | AM19: # ignitions
D20: 2.h. | E20: Crossarm damage or failure - Distribution | F20: Yes | G20: 0 | H20: 0 | I20: 0 | J20: 0 | K20: 0 | L20: 0 | M20: 0 | N20: 0 | O20: 0 | P20: 0 | Q20: 0 | R20: 0 | S20: 1 | T20: 0 | U20: 0 | V20: 0 | W20: 1 | X20: 0 | Y20: 0 | Z20: 0 | AA20: 0 | AB20: 0 | AC20: 0 | AD20: 0 | AE20: 0.3999 | AG20: 0 | AH20: 0 | AI20: 0.3998 | AK20: 0 | AL20: 0 | AM20: # ignitions
D21: 2.i. | E21: Voltage regulator / booster damage or failure - Distribution | F21: No | G21: 0 | H21: 0 | I21: 0 | J21: 0 | K21: 0 | L21: 0 | M21: 0 | N21: 0 | O21: 0 | P21: 0 | Q21: 0 | R21: 0 | S21: 0 | T21: 0 | U21: 0 | V21: 0 | W21: 0 | X21: 0 | Y21: 0 | Z21: 0 | AA21: 0 | AB21: 0 | AC21: 0 | AD21: 0 | AE21: 0 | AG21: 0 | AH21: 0 | AI21: 0 | AK21: 0 | AL21: 0 | AM21: # ignitions
D22: 2.j. | E22: Recloser damage or failure - Distribution | F22: No | G22: 0 | H22: 0 | I22: 0 | J22: 0 | K22: 0 | L22: 0 | M22: 0 | N22: 0 | O22: 0 | P22: 0 | Q22: 0 | R22: 0 | S22: 0 | T22: 0 | U22: 0 | V22: 0 | W22: 0 | X22: 0 | Y22: 0 | Z22: 0 | AA22: 0 | AB22: 0 | AC22: 0 | AD22: 0 | AE22: 0 | AG22: 0 | AH22: 0 | AI22: 0 | AK22: 0 | AL22: 0 | AM22: # ignitions
D23: 2.k. | E23: Anchor / guy damage or failure - Distribution | F23: Yes | G23: 0 | H23: 0 | I23: 0 | J23: 0 | K23: 0 | L23: 0 | M23: 0 | N23: 0 | O23: 0 | P23: 0 | Q23: 0 | R23: 0 | S23: 1 | T23: 0 | U23: 0 | V23: 0 | W23: 1 | X23: 0 | Y23: 0 | Z23: 0 | AA23: 0 | AB23: 0 | AC23: 0 | AD23: 1 | AE23: 0.3998 | AG23: 0 | AH23: 0.2 | AI23: 0.3996 | AK23: 0 | AL23: 0.2 | AM23: # ignitions
D24: 2.l. | E24: Sectionalizer damage or failure - Distribution | F24: No | G24: 0 | H24: 0 | I24: 0 | J24: 0 | K24: 0 | L24: 0 | M24: 0 | N24: 0 | O24: 0 | P24: 0 | Q24: 0 | R24: 0 | S24: 0 | T24: 0 | U24: 0 | V24: 0 | W24: 0 | X24: 0 | Y24: 0 | Z24: 0 | AA24: 0 | AB24: 0 | AC24: 0 | AD24: 0 | AE24: 0 | AG24: 0 | AH24: 0 | AI24: 0 | AK24: 0 | AL24: 0 | AM24: # ignitions
D25: 2.m. | E25: Connection device damage or failure - Distribution | F25: Yes | G25: 2 | H25: 0 | I25: 0 | J25: 0 | K25: 1 | L25: 0 | M25: 1 | N25: 1 | O25: 0 | P25: 0 | Q25: 0 | R25: 0 | S25: 0 | T25: 0 | U25: 0 | V25: 0 | W25: 1 | X25: 0 | Y25: 0 | Z25: 0 | AA25: 1 | AB25: 0 | AC25: 0 | AD25: 2 | AE25: 0.5997 | AG25: 0.194 | AH25: 0.5681 | AI25: 0.5994 | AK25: 0.1876 | AL25: 0.5602 | AM25: # ignitions
D26: 2.n. | E26: Transformer damage or failure - Distribution | F26: Yes | G26: 1 | H26: 0 | I26: 0 | J26: 0 | K26: 0 | L26: 0 | M26: 1 | N26: 1 | O26: 0 | P26: 0 | Q26: 0 | R26: 0 | S26: 0 | T26: 0 | U26: 0 | V26: 1 | W26: 0 | X26: 0 | Y26: 0 | Z26: 0 | AA26: 0 | AB26: 0 | AC26: 0 | AD26: 0 | AE26: 0 | AG26: 0.1964 | AH26: 0.3432 | AI26: 0 | AK26: 0.1931 | AL26: 0.3287 | AM26: # ignitions
D27: 2.o. | E27: Other - Distribution | F27: Yes | G27: 0 | H27: 0 | I27: 0 | J27: 0 | K27: 0 | L27: 0 | M27: 0 | N27: 1 | O27: 0 | P27: 0 | Q27: 1 | R27: 0 | S27: 1 | T27: 0 | U27: 0 | V27: 0 | W27: 1 | X27: 0 | Y27: 1 | Z27: 1 | AA27: 1 | AB27: 0 | AC27: 1 | AD27: 0 | AE27: 0.5998 | AG27: 0.5892 | AH27: 0.3432 | AI27: 0.5996 | AK27: 0.5792 | AL27: 0.3287 | AM27: # ignitions
C28: 3. Wire-to-wire contact - Distribution | D28: 3.a. | E28: Wire-to-wire contact / contamination- Distribution | F28: Yes | G28: 0 | H28: 0 | I28: 0 | J28: 0 | K28: 0 | L28: 0 | M28: 0 | N28: 0 | O28: 0 | P28: 0 | Q28: 0 | R28: 0 | S28: 1 | T28: 0 | U28: 0 | V28: 0 | W28: 1 | X28: 0 | Y28: 1 | Z28: 0 | AA28: 0 | AB28: 0 | AC28: 0 | AD28: 0 | AE28: 0.3998 | AG28: 0.1964 | AH28: 0 | AI28: 0.3996 | AK28: 0.1931 | AL28: 0 | AM28: # ignitions
C29: 4. Contamination - Distribution | D29: 4.a. | E29: Contamination - Distribution | F29: No | G29: 0 | H29: 0 | I29: 0 | J29: 0 | K29: 0 | L29: 0 | M29: 0 | N29: 0 | O29: 0 | P29: 0 | Q29: 0 | R29: 0 | S29: 0 | T29: 0 | U29: 0 | V29: 0 | W29: 0 | X29: 0 | Y29: 0 | Z29: 0 | AA29: 0 | AB29: 0 | AC29: 0 | AD29: 0 | AE29: 0 | AG29: 0 | AH29: 0 | AI29: 0 | AK29: 0 | AL29: 0 | AM29: # ignitions
C30: 5. Utility work / Operation | D30: 5.a. | E30: Utility work / Operation | F30: No | G30: 0 | H30: 0 | I30: 0 | J30: 0 | K30: 0 | L30: 0 | M30: 0 | N30: 0 | O30: 0 | P30: 0 | Q30: 0 | R30: 0 | S30: 0 | T30: 0 | U30: 0 | V30: 0 | W30: 0 | X30: 0 | Y30: 0 | Z30: 0 | AA30: 0 | AB30: 0 | AC30: 0 | AD30: 0 | AE30: 0 | AG30: 0 | AH30: 0 | AI30: 0 | AK30: 0 | AL30: 0 | AM30: # ignitions
C31: 6. Vandalism / Theft - Distribution | D31: 6.a. | E31: Vandalism / Theft - Distribution | F31: Yes | G31: 0 | H31: 0 | I31: 0 | J31: 0 | K31: 0 | L31: 0 | M31: 0 | N31: 1 | O31: 1 | P31: 0 | Q31: 0 | R31: 0 | S31: 0 | T31: 0 | U31: 0 | V31: 0 | W31: 0 | X31: 0 | Y31: 0 | Z31: 0 | AA31: 0 | AB31: 0 | AC31: 0 | AD31: 0 | AE31: 0.2 | AG31: 0 | AH31: 0.1986 | AI31: 0.2 | AK31: 0 | AL31: 0.1965 | AM31: # ignitions
C32: 7. Other- Distribution | D32: 7.a. | E32: All Other- Distribution | F32: No | G32: 0 | H32: 0 | I32: 0 | J32: 0 | K32: 0 | L32: 0 | M32: 0 | N32: 0 | O32: 0 | P32: 0 | Q32: 0 | R32: 0 | S32: 0 | T32: 0 | U32: 0 | V32: 0 | W32: 0 | X32: 0 | Y32: 0 | Z32: 0 | AA32: 0 | AB32: 0 | AC32: 0 | AD32: 0 | AE32: 0 | AG32: 0 | AH32: 0 | AI32: 0 | AK32: 0 | AL32: 0 | AM32: # ignitions
C33: 8. Unknown- Distribution | D33: 8.a. | E33: Unknown - Distribution | F33: Yes | G33: 0 | H33: 0 | I33: 1 | J33: 1 | K33: 0 | L33: 0 | M33: 0 | N33: 0 | O33: 0 | P33: 0 | Q33: 1 | R33: 0 | S33: 0 | T33: 0 | U33: 0 | V33: 0 | W33: 0 | X33: 0 | Y33: 0 | Z33: 0 | AA33: 0 | AB33: 0 | AC33: 0 | AD33: 0 | AE33: 0 | AG33: 0.1928 | AH33: 0 | AI33: 0 | AK33: 0.1861 | AL33: 0 | AM33: # ignitions
